{"text_format":"3","workbook":"xlsx","n_sheets":5,"sheets":["법정동(2014.12월말)","행정동(2014.12월말)","2013년대비","법정동(2013년말)","행정동(2013년말)"],"not_rendered":{"defined_names":4},"read":"whole","date_system":"1900"}

{"sheet":"법정동(2014.12월말)","index":0,"n_rows":120,"n_cols":59,"rows_kept":120,"merged":[[0,0,0,12],[3,0,4,0],[3,1,3,2],[3,3,3,4],[3,5,3,6],[3,7,3,8],[3,9,3,10],[3,11,3,12],[3,13,3,14],[3,15,3,16],[3,17,3,18],[3,19,3,20],[3,21,3,22],[3,23,3,24],[3,27,3,28],[3,29,3,30],[3,31,3,32],[3,33,3,34],[3,35,3,36],[3,37,3,38],[3,39,3,40],[3,41,3,42],[3,43,3,44],[3,45,3,46],[3,47,3,48],[3,49,3,50],[3,51,3,52],[3,53,3,54],[3,55,3,56],[3,57,3,58]]}
["여수시 지적(地籍) 통계 현황"]
[]
["(기준일자 : 2014. 12. 31. /  단위 : 필지, ㎡)"]
["구    분","계",null,"전",null,"답",null,"과수원",null,"목장용지",null,"임야",null,"광천지",null,"염전",null,"대",null,"공장용지",null,"학교용지",null,"주차장",null,"주유소용지",null,"창고용지",null,"도로",null,"철도용지",null,"제방",null,"하천",null,"구거",null,"유지",null,"양어장",null,"수도용지",null,"공원",null,"체육용지",null,"유원지",null,"종교용지",null,"사적지",null,"묘지",null,"잡종지"]
[null,"면  적","지번수","면  적","지번수","면  적","지번수","면  적","지번수","면  적","지번수","면  적","지번수","면  적","지번수","면  적","지번수","면  적","지번수","면  적","지번수","면  적","지번수","면  적","지번수","면  적","지번수","면  적","지번수","면  적","지번수","면  적","지번수","면  적","지번수","면  적","지번수","면  적","지번수","면  적","지번수","면  적","지번수","면  적","지번수","면  적","지번수","면  적","지번수","면  적","지번수","면  적","지번수","면  적","지번수","면  적","지번수","면  적","지번수"]
["합  계",{"v":508836884.3,"d":"508,836,884.3"},{"v":309282,"d":"309,282"},{"v":66385322.5,"d":"66,385,322.5"},{"v":74227,"d":"74,227"},{"v":41244470.8,"d":"41,244,470.8"},{"v":46273,"d":"46,273"},{"v":561258,"d":"561,258.0"},203,{"v":1855401,"d":"1,855,401.0"},516,{"v":305225765.5,"d":"305,225,765.5"},{"v":54199,"d":"54,199"},0,0,{"v":10562,"d":"10,562.0"},6,{"v":22213345.1,"d":"22,213,345.1"},{"v":65905,"d":"65,905"},{"v":19766125.3,"d":"19,766,125.3"},{"v":1268,"d":"1,268"},{"v":2005052.1,"d":"2,005,052.1"},369,{"v":421874.3,"d":"421,874.3"},430,{"v":504572.2,"d":"504,572.2"},246,{"v":272901.6,"d":"272,901.6"},402,{"v":20346112.8,"d":"20,346,112.8"},{"v":48670,"d":"48,670"},{"v":1029622.2,"d":"1,029,622.2"},884,{"v":661176.9,"d":"661,176.9"},782,{"v":2524558.9,"d":"2,524,558.9"},962,{"v":4663201.7,"d":"4,663,201.7"},{"v":4774,"d":"4,774"},{"v":2805965.9,"d":"2,805,965.9"},{"v":1416,"d":"1,416"},{"v":238838.1,"d":"238,838.1"},157,{"v":464351.9,"d":"464,351.9"},399,{"v":1803193.5,"d":"1,803,193.5"},307,{"v":1595435.1,"d":"1,595,435.1"},50,{"v":263794.9,"d":"263,794.9"},4,{"v":420205.1,"d":"420,205.1"},449,{"v":20795,"d":"20,795.0"},15,{"v":1816520,"d":"1,816,520.0"},{"v":1911,"d":"1,911"},{"v":9716461.9,"d":"9,716,461.9"},{"v":4458,"d":"4,458"}]
["종화동",{"v":402812,"d":"402,812.0"},{"v":1646,"d":"1,646"},{"v":67025,"d":"67,025.0"},198,{"v":1267,"d":"1,267.0"},12,0,0,0,0,{"v":22714,"d":"22,714.0"},48,0,0,0,0,{"v":110404,"d":"110,404.0"},{"v":1027,"d":"1,027"},0,0,{"v":16641,"d":"16,641.0"},1,{"v":60,"d":"60.0"},1,0,0,0,0,{"v":77340,"d":"77,340.0"},295,0,0,{"v":2134,"d":"2,134.0"},5,0,0,{"v":2501,"d":"2,501.0"},12,0,0,0,0,{"v":985,"d":"985.0"},2,{"v":84607,"d":"84,607.0"},15,0,0,0,0,{"v":676,"d":"676.0"},3,0,0,{"v":3587,"d":"3,587.0"},12,{"v":12871,"d":"12,871.0"},15]
["수정동",{"v":636365.5,"d":"636,365.5"},{"v":1294,"d":"1,294"},{"v":37186,"d":"37,186.0"},200,0,0,0,0,0,0,{"v":131491,"d":"131,491.0"},50,0,0,0,0,{"v":177346.3,"d":"177,346.3"},725,0,0,{"v":37527,"d":"37,527.0"},2,{"v":12434.8,"d":"12,434.8"},7,0,0,0,0,{"v":128681.9,"d":"128,681.9"},272,{"v":22,"d":"22.0"},2,{"v":11759,"d":"11,759.0"},4,0,0,0,0,0,0,0,0,0,0,{"v":69680.8,"d":"69,680.8"},6,0,0,0,0,0,0,0,0,{"v":1128,"d":"1,128.0"},5,{"v":29108.7,"d":"29,108.7"},21]
["공화동",{"v":313483.2,"d":"313,483.2"},{"v":1746,"d":"1,746"},{"v":3371,"d":"3,371.0"},35,0,0,0,0,0,0,{"v":388,"d":"388.0"},1,0,0,0,0,{"v":140339.5,"d":"140,339.5"},{"v":1392,"d":"1,392"},0,0,{"v":51511,"d":"51,511.0"},5,{"v":2236,"d":"2,236.0"},5,{"v":1141,"d":"1,141.0"},4,0,0,{"v":91613.4,"d":"91,613.4"},241,{"v":3836,"d":"3,836.0"},26,0,0,0,0,{"v":3500,"d":"3,500.0"},23,0,0,0,0,0,0,{"v":4034.8,"d":"4,034.8"},2,0,0,0,0,{"v":6337,"d":"6,337.0"},9,0,0,0,0,{"v":5175.5,"d":"5,175.5"},3]
["관문동",{"v":248473,"d":"248,473.0"},{"v":1567,"d":"1,567"},{"v":4326,"d":"4,326.0"},57,{"v":221,"d":"221.0"},5,0,0,0,0,{"v":5182,"d":"5,182.0"},27,0,0,0,0,{"v":143816,"d":"143,816.0"},{"v":1214,"d":"1,214"},0,0,{"v":48685,"d":"48,685.0"},6,{"v":1009,"d":"1,009.0"},6,0,0,0,0,{"v":43201,"d":"43,201.0"},241,0,0,0,0,0,0,{"v":139,"d":"139.0"},5,0,0,0,0,0,0,0,0,0,0,0,0,{"v":1704,"d":"1,704.0"},4,0,0,0,0,{"v":190,"d":"190.0"},2]
["고소동",{"v":176521,"d":"176,521.0"},{"v":1324,"d":"1,324"},{"v":16236,"d":"16,236.0"},99,0,0,0,0,0,0,{"v":496,"d":"496.0"},7,0,0,0,0,{"v":117389,"d":"117,389.0"},896,0,0,0,0,{"v":324,"d":"324.0"},2,0,0,0,0,{"v":35633,"d":"35,633.0"},306,0,0,0,0,0,0,0,0,0,0,0,0,{"v":671,"d":"671.0"},1,0,0,0,0,0,0,{"v":3526,"d":"3,526.0"},4,{"v":1583,"d":"1,583.0"},1,{"v":78,"d":"78.0"},3,{"v":585,"d":"585.0"},5]
["동산동",{"v":279543,"d":"279,543.0"},{"v":1227,"d":"1,227"},{"v":32423,"d":"32,423.0"},77,{"v":2765,"d":"2,765.0"},6,0,0,0,0,{"v":125534,"d":"125,534.0"},27,0,0,0,0,{"v":85938,"d":"85,938.0"},927,0,0,{"v":10782,"d":"10,782.0"},1,{"v":556,"d":"556.0"},4,0,0,0,0,{"v":13199,"d":"13,199.0"},173,0,0,0,0,0,0,{"v":2688,"d":"2,688.0"},4,0,0,0,0,{"v":4960,"d":"4,960.0"},4,0,0,0,0,0,0,{"v":662,"d":"662.0"},3,0,0,0,0,{"v":36,"d":"36.0"},1]
["중앙동",{"v":159282,"d":"159,282.0"},801,{"v":52,"d":"52.0"},4,0,0,0,0,0,0,{"v":20706,"d":"20,706.0"},17,0,0,0,0,{"v":65799,"d":"65,799.0"},586,0,0,0,0,{"v":1679,"d":"1,679.0"},1,0,0,0,0,{"v":49561,"d":"49,561.0"},182,0,0,0,0,0,0,0,0,0,0,0,0,0,0,{"v":9732,"d":"9,732.0"},1,0,0,0,0,0,0,0,0,0,0,{"v":11753,"d":"11,753.0"},10]
["교동",{"v":166086.2,"d":"166,086.2"},{"v":1170,"d":"1,170"},0,0,0,0,0,0,0,0,0,0,0,0,0,0,{"v":96868,"d":"96,868.0"},{"v":1079,"d":"1,079"},0,0,0,0,{"v":4238.2,"d":"4,238.2"},4,0,0,0,0,{"v":50034,"d":"50,034.0"},76,0,0,{"v":800,"d":"800.0"},2,{"v":9005,"d":"9,005.0"},1,{"v":445,"d":"445.0"},5,0,0,0,0,0,0,0,0,0,0,0,0,0,0,0,0,0,0,{"v":4696,"d":"4,696.0"},3]
["군자동",{"v":121235,"d":"121,235.0"},645,{"v":34418,"d":"34,418.0"},77,0,0,0,0,0,0,0,0,0,0,0,0,{"v":53813,"d":"53,813.0"},493,0,0,{"v":7308,"d":"7,308.0"},1,{"v":827,"d":"827.0"},4,0,0,0,0,{"v":14973,"d":"14,973.0"},57,0,0,0,0,0,0,{"v":1068,"d":"1,068.0"},3,0,0,0,0,{"v":363,"d":"363.0"},2,0,0,0,0,0,0,{"v":2650,"d":"2,650.0"},2,{"v":5642,"d":"5,642.0"},4,0,0,{"v":173,"d":"173.0"},2]
["충무동",{"v":144556,"d":"144,556.0"},996,{"v":2822,"d":"2,822.0"},21,{"v":2141,"d":"2,141.0"},12,0,0,0,0,0,0,0,0,0,0,{"v":93681,"d":"93,681.0"},834,0,0,0,0,{"v":1690,"d":"1,690.0"},7,0,0,0,0,{"v":36048,"d":"36,048.0"},103,0,0,0,0,{"v":5576,"d":"5,576.0"},2,{"v":271,"d":"271.0"},1,0,0,0,0,0,0,0,0,0,0,0,0,{"v":1799,"d":"1,799.0"},10,0,0,0,0,{"v":528,"d":"528.0"},6]
["연등동",{"v":1081869.5,"d":"1,081,869.5"},{"v":2154,"d":"2,154"},{"v":193912,"d":"193,912.0"},417,{"v":43758,"d":"43,758.0"},70,0,0,0,0,{"v":447669.8,"d":"447,669.8"},157,0,0,0,0,{"v":160817.1,"d":"160,817.1"},{"v":1137,"d":"1,137"},696.7,1,{"v":14194,"d":"14,194.0"},2,{"v":321,"d":"321.0"},1,{"v":1946.1,"d":"1,946.1"},7,{"v":2638.4,"d":"2,638.4"},3,{"v":151149,"d":"151,149.0"},288,0,0,0,0,{"v":12654,"d":"12,654.0"},21,{"v":32734.4,"d":"32,734.4"},22,0,0,0,0,{"v":1826.1,"d":"1,826.1"},2,991.9,1,0,0,0,0,{"v":4986,"d":"4,986.0"},5,{"v":76,"d":"76.0"},1,{"v":5021,"d":"5,021.0"},9,{"v":6478,"d":"6,478.0"},10]
["광무동",{"v":1266051.4,"d":"1,266,051.4"},{"v":2923,"d":"2,923"},{"v":224167,"d":"224,167.0"},432,{"v":6722,"d":"6,722.0"},36,0,0,0,0,{"v":624287,"d":"624,287.0"},95,0,0,0,0,{"v":233793.4,"d":"233,793.4"},{"v":1799,"d":"1,799"},0,0,{"v":19814,"d":"19,814.0"},5,{"v":2331,"d":"2,331.0"},4,695.8,1,0,0,{"v":121915.7,"d":"121,915.7"},477,0,0,0,0,{"v":8810,"d":"8,810.0"},10,{"v":3739.9,"d":"3,739.9"},10,0,0,0,0,{"v":3837,"d":"3,837.0"},11,{"v":616,"d":"616.0"},1,0,0,0,0,{"v":5548,"d":"5,548.0"},9,0,0,{"v":4347,"d":"4,347.0"},16,{"v":5427.6,"d":"5,427.6"},17]
["서교동",{"v":169257,"d":"169,257.0"},{"v":1153,"d":"1,153"},{"v":136,"d":"136.0"},2,{"v":378,"d":"378.0"},7,0,0,0,0,0,0,0,0,0,0,{"v":84959,"d":"84,959.0"},853,0,0,{"v":19165,"d":"19,165.0"},1,{"v":6975,"d":"6,975.0"},5,0,0,0,0,{"v":43029,"d":"43,029.0"},264,0,0,0,0,{"v":8724,"d":"8,724.0"},4,{"v":753,"d":"753.0"},13,0,0,0,0,0,0,{"v":143,"d":"143.0"},1,0,0,0,0,{"v":4598,"d":"4,598.0"},2,0,0,0,0,{"v":397,"d":"397.0"},1]
["봉강동",{"v":486141.5,"d":"486,141.5"},{"v":1593,"d":"1,593"},{"v":79362,"d":"79,362.0"},166,{"v":26972,"d":"26,972.0"},51,0,0,0,0,{"v":156344,"d":"156,344.0"},55,0,0,0,0,{"v":122269.2,"d":"122,269.2"},907,0,0,{"v":35979,"d":"35,979.0"},2,{"v":578,"d":"578.0"},2,0,0,0,0,{"v":52513.7,"d":"52,513.7"},368,0,0,0,0,0,0,{"v":3404,"d":"3,404.0"},13,0,0,0,0,0,0,{"v":1906.9,"d":"1,906.9"},1,0,0,0,0,{"v":3652,"d":"3,652.0"},6,0,0,0,0,{"v":3160.7,"d":"3,160.7"},22]
["봉산동",{"v":1213833.7,"d":"1,213,833.7"},{"v":2907,"d":"2,907"},{"v":145978,"d":"145,978.0"},307,{"v":42678,"d":"42,678.0"},98,0,0,0,0,{"v":352775,"d":"352,775.0"},63,0,0,0,0,{"v":413999.1,"d":"413,999.1"},{"v":1934,"d":"1,934"},353.1,1,{"v":29460,"d":"29,460.0"},6,560.1,3,{"v":2234.6,"d":"2,234.6"},4,{"v":1877.1,"d":"1,877.1"},5,{"v":185425.7,"d":"185,425.7"},451,0,0,0,0,0,0,{"v":3826,"d":"3,826.0"},10,{"v":27,"d":"27.0"},2,0,0,0,0,0,0,0,0,0,0,{"v":7586,"d":"7,586.0"},6,0,0,{"v":2507,"d":"2,507.0"},9,{"v":24547,"d":"24,547.0"},8]
["남산동",{"v":400273,"d":"400,273.0"},{"v":1871,"d":"1,871"},{"v":95695,"d":"95,695.0"},217,{"v":83,"d":"83.0"},3,0,0,0,0,{"v":32758,"d":"32,758.0"},32,0,0,0,0,{"v":131740,"d":"131,740.0"},{"v":1218,"d":"1,218"},0,0,{"v":4469,"d":"4,469.0"},2,{"v":3833,"d":"3,833.0"},8,0,0,0,0,{"v":99871,"d":"99,871.0"},346,0,0,{"v":273,"d":"273.0"},4,{"v":9140,"d":"9,140.0"},1,{"v":595,"d":"595.0"},6,0,0,0,0,{"v":283,"d":"283.0"},2,0,0,0,0,0,0,0,0,0,0,{"v":58,"d":"58.0"},2,{"v":21475,"d":"21,475.0"},30]
["국동",{"v":1533342.3,"d":"1,533,342.3"},{"v":3193,"d":"3,193"},{"v":94774,"d":"94,774.0"},441,{"v":14589,"d":"14,589.0"},71,{"v":815,"d":"815.0"},1,0,0,{"v":485995,"d":"485,995.0"},90,0,0,0,0,{"v":527682.2,"d":"527,682.2"},{"v":1868,"d":"1,868"},{"v":6735,"d":"6,735.0"},12,{"v":125624.2,"d":"125,624.2"},28,{"v":6061,"d":"6,061.0"},6,{"v":1291,"d":"1,291.0"},2,{"v":912,"d":"912.0"},5,{"v":176536.6,"d":"176,536.6"},573,0,0,{"v":2006,"d":"2,006.0"},1,0,0,{"v":15756,"d":"15,756.0"},13,0,0,0,0,{"v":3092,"d":"3,092.0"},6,0,0,{"v":1163,"d":"1,163.0"},1,0,0,{"v":7538.5,"d":"7,538.5"},14,0,0,{"v":760,"d":"760.0"},5,{"v":62011.8,"d":"62,011.8"},56]
["신월동",{"v":3713031.5,"d":"3,713,031.5"},{"v":2504,"d":"2,504"},{"v":610939,"d":"610,939.0"},835,{"v":117843,"d":"117,843.0"},184,0,0,0,0,{"v":1401195,"d":"1,401,195.0"},326,0,0,0,0,{"v":241223.5,"d":"241,223.5"},495,{"v":851758,"d":"851,758.0"},132,{"v":7970,"d":"7,970.0"},1,{"v":1587,"d":"1,587.0"},1,{"v":2571,"d":"2,571.0"},10,{"v":1810,"d":"1,810.0"},2,{"v":205289,"d":"205,289.0"},327,0,0,{"v":5881,"d":"5,881.0"},19,0,0,{"v":45454,"d":"45,454.0"},20,0,0,0,0,0,0,0,0,0,0,0,0,{"v":9241,"d":"9,241.0"},9,0,0,{"v":6008,"d":"6,008.0"},26,{"v":204262,"d":"204,262.0"},117]
["여서동",{"v":2575285.9,"d":"2,575,285.9"},{"v":1928,"d":"1,928"},{"v":203915,"d":"203,915.0"},277,{"v":116410,"d":"116,410.0"},188,0,0,0,0,{"v":1223622,"d":"1,223,622.0"},293,0,0,0,0,{"v":562646.2,"d":"562,646.2"},755,0,0,{"v":58011,"d":"58,011.0"},4,{"v":2518,"d":"2,518.0"},14,{"v":1488,"d":"1,488.0"},1,{"v":741,"d":"741.0"},1,{"v":291367.5,"d":"291,367.5"},283,0,0,0,0,0,0,{"v":15119.9,"d":"15,119.9"},20,{"v":958,"d":"958.0"},2,0,0,{"v":11855,"d":"11,855.0"},5,{"v":32420.4,"d":"32,420.4"},8,{"v":9361,"d":"9,361.0"},5,0,0,{"v":15908.4,"d":"15,908.4"},22,0,0,{"v":2630,"d":"2,630.0"},8,{"v":26314.5,"d":"26,314.5"},42]
["문수동",{"v":2244118.3,"d":"2,244,118.3"},{"v":3182,"d":"3,182"},{"v":174533,"d":"174,533.0"},317,{"v":33691,"d":"33,691.0"},92,0,0,0,0,{"v":836075.7,"d":"836,075.7"},315,0,0,0,0,{"v":717070.5,"d":"717,070.5"},{"v":1895,"d":"1,895"},0,0,{"v":122894.6,"d":"122,894.6"},10,{"v":13625.4,"d":"13,625.4"},46,{"v":1109.1,"d":"1,109.1"},2,{"v":205,"d":"205.0"},1,{"v":225536.9,"d":"225,536.9"},373,0,0,0,0,{"v":8513,"d":"8,513.0"},5,{"v":9438.4,"d":"9,438.4"},13,0,0,0,0,{"v":31,"d":"31.0"},1,{"v":54362.1,"d":"54,362.1"},21,0,0,0,0,{"v":25861,"d":"25,861.0"},15,0,0,{"v":3861,"d":"3,861.0"},19,{"v":17310.6,"d":"17,310.6"},57]
["오림동",{"v":2129905.7,"d":"2,129,905.7"},{"v":1657,"d":"1,657"},{"v":149027,"d":"149,027.0"},268,{"v":58336,"d":"58,336.0"},115,0,0,0,0,{"v":1139109,"d":"1,139,109.0"},295,0,0,0,0,{"v":177334.6,"d":"177,334.6"},554,{"v":895,"d":"895.0"},2,{"v":25821,"d":"25,821.0"},2,65.3,1,{"v":2939.8,"d":"2,939.8"},8,{"v":894,"d":"894.0"},2,{"v":143273.1,"d":"143,273.1"},291,{"v":33331,"d":"33,331.0"},33,0,0,{"v":17042.4,"d":"17,042.4"},6,{"v":15312.2,"d":"15,312.2"},33,{"v":10,"d":"10.0"},1,0,0,{"v":9101,"d":"9,101.0"},5,{"v":1699.4,"d":"1,699.4"},1,{"v":310227,"d":"310,227.0"},14,0,0,{"v":3107.9,"d":"3,107.9"},3,0,0,{"v":35390,"d":"35,390.0"},11,{"v":6990,"d":"6,990.0"},12]
["미평동",{"v":3088607.9,"d":"3,088,607.9"},{"v":2704,"d":"2,704"},{"v":139407,"d":"139,407.0"},326,{"v":94931,"d":"94,931.0"},229,0,0,0,0,{"v":1766916,"d":"1,766,916.0"},209,0,0,0,0,{"v":473837.1,"d":"473,837.1"},{"v":1180,"d":"1,180"},{"v":1501,"d":"1,501.0"},3,{"v":64631.1,"d":"64,631.1"},10,{"v":6876.8,"d":"6,876.8"},15,{"v":1804.2,"d":"1,804.2"},3,177.4,1,{"v":285308.4,"d":"285,308.4"},541,{"v":53203,"d":"53,203.0"},33,0,0,{"v":9529.4,"d":"9,529.4"},3,{"v":25651,"d":"25,651.0"},50,0,0,0,0,{"v":91230.5,"d":"91,230.5"},57,{"v":16700.4,"d":"16,700.4"},10,0,0,0,0,{"v":8992.4,"d":"8,992.4"},9,0,0,{"v":5712,"d":"5,712.0"},7,{"v":42199.2,"d":"42,199.2"},18]
["둔덕동",{"v":4075966.1,"d":"4,075,966.1"},{"v":2319,"d":"2,319"},{"v":177878,"d":"177,878.0"},286,{"v":425547,"d":"425,547.0"},480,0,0,0,0,{"v":2180556,"d":"2,180,556.0"},333,0,0,0,0,{"v":475353.9,"d":"475,353.9"},646,{"v":362,"d":"362.0"},1,{"v":722,"d":"722.0"},1,{"v":2833.7,"d":"2,833.7"},6,{"v":10143.9,"d":"10,143.9"},8,{"v":6602.7,"d":"6,602.7"},10,{"v":383823.6,"d":"383,823.6"},417,{"v":22933,"d":"22,933.0"},33,0,0,{"v":9119.1,"d":"9,119.1"},3,{"v":21254,"d":"21,254.0"},11,0,0,0,0,{"v":72838,"d":"72,838.0"},4,{"v":18073.4,"d":"18,073.4"},8,{"v":166279,"d":"166,279.0"},6,0,0,{"v":14763.3,"d":"14,763.3"},10,0,0,{"v":3315,"d":"3,315.0"},9,{"v":83568.5,"d":"83,568.5"},47]
["오천동",{"v":5604875.9,"d":"5,604,875.9"},{"v":1308,"d":"1,308"},{"v":269255,"d":"269,255.0"},320,{"v":95900,"d":"95,900.0"},149,0,0,0,0,{"v":3739230.6,"d":"3,739,230.6"},172,0,0,0,0,{"v":513754.4,"d":"513,754.4"},302,{"v":91583.9,"d":"91,583.9"},58,0,0,{"v":25,"d":"25.0"},1,0,0,{"v":288,"d":"288.0"},1,{"v":99142.7,"d":"99,142.7"},232,0,0,{"v":1109,"d":"1,109.0"},2,{"v":5346.3,"d":"5,346.3"},3,{"v":19327.9,"d":"19,327.9"},30,0,0,0,0,{"v":921,"d":"921.0"},18,{"v":372271.6,"d":"372,271.6"},5,{"v":388946.5,"d":"388,946.5"},1,0,0,{"v":1566,"d":"1,566.0"},1,0,0,{"v":2428,"d":"2,428.0"},7,{"v":3780,"d":"3,780.0"},6]
["만흥동",{"v":7434058.5,"d":"7,434,058.5"},{"v":3938,"d":"3,938"},{"v":832179,"d":"832,179.0"},{"v":1050,"d":"1,050"},{"v":628153,"d":"628,153.0"},716,0,0,0,0,{"v":5047718,"d":"5,047,718.0"},694,0,0,0,0,{"v":138979,"d":"138,979.0"},417,{"v":45135,"d":"45,135.0"},22,{"v":11073,"d":"11,073.0"},1,{"v":2793,"d":"2,793.0"},3,{"v":1185,"d":"1,185.0"},3,{"v":3536,"d":"3,536.0"},7,{"v":367782.6,"d":"367,782.6"},732,{"v":107838,"d":"107,838.0"},71,{"v":927,"d":"927.0"},3,{"v":7761,"d":"7,761.0"},5,{"v":71514.9,"d":"71,514.9"},56,0,0,0,0,{"v":8882,"d":"8,882.0"},33,0,0,0,0,0,0,{"v":3841,"d":"3,841.0"},2,0,0,{"v":20885,"d":"20,885.0"},47,{"v":133876,"d":"133,876.0"},76]
["덕충동",{"v":2921653.4,"d":"2,921,653.4"},{"v":3013,"d":"3,013"},{"v":349264,"d":"349,264.0"},705,{"v":70403,"d":"70,403.0"},145,0,0,0,0,{"v":1121120,"d":"1,121,120.0"},361,0,0,0,0,{"v":573484.2,"d":"573,484.2"},{"v":1050,"d":"1,050"},{"v":17722,"d":"17,722.0"},9,{"v":55703.1,"d":"55,703.1"},6,{"v":32438.8,"d":"32,438.8"},6,{"v":2745,"d":"2,745.0"},4,{"v":429,"d":"429.0"},2,{"v":243366.1,"d":"243,366.1"},461,{"v":63179,"d":"63,179.0"},111,{"v":12306.4,"d":"12,306.4"},6,{"v":6663.6,"d":"6,663.6"},1,{"v":21495,"d":"21,495.0"},23,0,0,0,0,{"v":9638.7,"d":"9,638.7"},13,{"v":136370.2,"d":"136,370.2"},27,{"v":400,"d":"400.0"},3,0,0,{"v":15792.8,"d":"15,792.8"},18,0,0,{"v":22244,"d":"22,244.0"},35,{"v":166888.5,"d":"166,888.5"},27]
["경호동",{"v":3082493,"d":"3,082,493.0"},{"v":3909,"d":"3,909"},{"v":1125433,"d":"1,125,433.0"},{"v":1376,"d":"1,376"},{"v":158586,"d":"158,586.0"},264,0,0,0,0,{"v":1527859,"d":"1,527,859.0"},899,0,0,0,0,{"v":145262.7,"d":"145,262.7"},722,0,0,{"v":11350,"d":"11,350.0"},2,821.6,8,0,0,0,0,{"v":55796.1,"d":"55,796.1"},516,0,0,{"v":11307,"d":"11,307.0"},27,{"v":1220,"d":"1,220.0"},5,{"v":107,"d":"107.0"},1,{"v":2473,"d":"2,473.0"},2,{"v":1601,"d":"1,601.0"},1,0,0,{"v":7918.6,"d":"7,918.6"},11,0,0,0,0,{"v":1216,"d":"1,216.0"},3,0,0,{"v":11777,"d":"11,777.0"},26,{"v":19765,"d":"19,765.0"},46]
["학동",{"v":1429258.9,"d":"1,429,258.9"},{"v":1774,"d":"1,774"},{"v":7488,"d":"7,488.0"},30,{"v":646,"d":"646.0"},8,0,0,0,0,{"v":79011.2,"d":"79,011.2"},34,0,0,0,0,{"v":807109.1,"d":"807,109.1"},{"v":1499,"d":"1,499"},0,0,{"v":23943,"d":"23,943.0"},2,{"v":10098.3,"d":"10,098.3"},15,{"v":2423,"d":"2,423.0"},4,{"v":299,"d":"299.0"},1,{"v":360678.8,"d":"360,678.8"},150,0,0,0,0,0,0,830.7,9,{"v":7506.5,"d":"7,506.5"},1,0,0,0,0,{"v":115353.4,"d":"115,353.4"},14,{"v":10945.6,"d":"10,945.6"},1,{"v":66,"d":"66.0"},1,{"v":1125,"d":"1,125.0"},1,0,0,0,0,{"v":1735.3,"d":"1,735.3"},4]
["학용동",{"v":966619,"d":"966,619.0"},574,{"v":129040,"d":"129,040.0"},235,{"v":11542,"d":"11,542.0"},26,{"v":3486,"d":"3,486.0"},3,0,0,{"v":672245,"d":"672,245.0"},145,0,0,0,0,{"v":2737,"d":"2,737.0"},6,0,0,0,0,0,0,{"v":3215,"d":"3,215.0"},3,0,0,{"v":21192,"d":"21,192.0"},35,{"v":73480,"d":"73,480.0"},71,0,0,{"v":5158,"d":"5,158.0"},12,{"v":3960,"d":"3,960.0"},9,0,0,0,0,{"v":20058,"d":"20,058.0"},3,{"v":2489,"d":"2,489.0"},5,0,0,0,0,0,0,0,0,{"v":18017,"d":"18,017.0"},21,0,0]
["안산동",{"v":1468379.8,"d":"1,468,379.8"},{"v":1534,"d":"1,534"},{"v":53240,"d":"53,240.0"},124,{"v":23047,"d":"23,047.0"},46,0,0,0,0,{"v":523049.6,"d":"523,049.6"},154,0,0,0,0,{"v":587516.5,"d":"587,516.5"},{"v":1032,"d":"1,032"},0,0,{"v":38644.1,"d":"38,644.1"},4,{"v":2124.9,"d":"2,124.9"},5,440.2,2,{"v":363,"d":"363.0"},1,{"v":196504.1,"d":"196,504.1"},133,0,0,{"v":1296.4,"d":"1,296.4"},1,{"v":1060,"d":"1,060.0"},2,{"v":4498.8,"d":"4,498.8"},10,0,0,0,0,0,0,{"v":21255.1,"d":"21,255.1"},3,0,0,0,0,{"v":14502.1,"d":"14,502.1"},12,0,0,{"v":317,"d":"317.0"},2,{"v":521,"d":"521.0"},3]
["소호동",{"v":3301703.2,"d":"3,301,703.2"},{"v":2205,"d":"2,205"},{"v":311970,"d":"311,970.0"},393,{"v":307763,"d":"307,763.0"},312,{"v":340,"d":"340.0"},1,0,0,{"v":1508412.4,"d":"1,508,412.4"},325,0,0,0,0,{"v":681584.7,"d":"681,584.7"},682,{"v":12954,"d":"12,954.0"},11,{"v":30757.4,"d":"30,757.4"},3,{"v":14595.6,"d":"14,595.6"},14,{"v":1526,"d":"1,526.0"},1,{"v":2480,"d":"2,480.0"},2,{"v":293093.1,"d":"293,093.1"},362,0,0,{"v":5785.8,"d":"5,785.8"},6,{"v":144,"d":"144.0"},2,{"v":17152,"d":"17,152.0"},10,{"v":3942,"d":"3,942.0"},2,0,0,0,0,{"v":4193,"d":"4,193.0"},2,0,0,{"v":49588.3,"d":"49,588.3"},1,{"v":6488,"d":"6,488.0"},6,0,0,{"v":13896,"d":"13,896.0"},30,{"v":35037.9,"d":"35,037.9"},40]
["시전동",{"v":1851919.4,"d":"1,851,919.4"},976,{"v":272258,"d":"272,258.0"},319,{"v":89758,"d":"89,758.0"},120,0,0,0,0,{"v":1206490,"d":"1,206,490.0"},319,0,0,0,0,{"v":38328.4,"d":"38,328.4"},58,0,0,0,0,0,0,{"v":3904,"d":"3,904.0"},4,0,0,{"v":41468,"d":"41,468.0"},94,0,0,0,0,{"v":177,"d":"177.0"},2,{"v":13583,"d":"13,583.0"},25,0,0,0,0,{"v":9,"d":"9.0"},1,0,0,{"v":157345,"d":"157,345.0"},4,0,0,{"v":13946,"d":"13,946.0"},3,0,0,{"v":8810,"d":"8,810.0"},22,{"v":5843,"d":"5,843.0"},5]
["신기동",{"v":984004,"d":"984,004.0"},{"v":1489,"d":"1,489"},0,0,0,0,0,0,0,0,{"v":43922.6,"d":"43,922.6"},15,0,0,0,0,{"v":615116.7,"d":"615,116.7"},{"v":1402,"d":"1,402"},0,0,{"v":34096.3,"d":"34,096.3"},2,{"v":3549.1,"d":"3,549.1"},11,661.2,1,0,0,{"v":261986.2,"d":"261,986.2"},42,0,0,0,0,0,0,0,0,0,0,0,0,0,0,{"v":19675.2,"d":"19,675.2"},11,0,0,0,0,{"v":4996.7,"d":"4,996.7"},5,0,0,0,0,0,0]
["웅천동",{"v":3421085.4,"d":"3,421,085.4"},{"v":3895,"d":"3,895"},{"v":781202,"d":"781,202.0"},{"v":1009,"d":"1,009"},{"v":363582,"d":"363,582.0"},603,{"v":4119,"d":"4,119.0"},4,0,0,{"v":1165846,"d":"1,165,846.0"},621,0,0,0,0,{"v":453229.2,"d":"453,229.2"},946,0,0,{"v":30448.7,"d":"30,448.7"},2,{"v":23241.5,"d":"23,241.5"},12,0,0,{"v":350,"d":"350.0"},1,{"v":301800.7,"d":"301,800.7"},551,0,0,{"v":1881.6,"d":"1,881.6"},6,{"v":378,"d":"378.0"},2,{"v":34973,"d":"34,973.0"},23,{"v":22484,"d":"22,484.0"},30,0,0,{"v":3733.1,"d":"3,733.1"},12,{"v":156130.5,"d":"156,130.5"},30,0,0,0,0,{"v":2475.9,"d":"2,475.9"},3,0,0,{"v":15241,"d":"15,241.0"},28,{"v":59969.2,"d":"59,969.2"},12]
["선원동",{"v":2552162.3,"d":"2,552,162.3"},{"v":2824,"d":"2,824"},{"v":287205,"d":"287,205.0"},379,{"v":319501,"d":"319,501.0"},384,{"v":5341,"d":"5,341.0"},4,0,0,{"v":715447,"d":"715,447.0"},299,0,0,0,0,{"v":663797,"d":"663,797.0"},{"v":1348,"d":"1,348"},{"v":2149,"d":"2,149.0"},1,{"v":79321.7,"d":"79,321.7"},4,{"v":14773.8,"d":"14,773.8"},18,{"v":2143,"d":"2,143.0"},6,{"v":7380,"d":"7,380.0"},3,{"v":329587.7,"d":"329,587.7"},262,{"v":46158,"d":"46,158.0"},33,0,0,{"v":23299,"d":"23,299.0"},5,{"v":29266.8,"d":"29,266.8"},49,{"v":20,"d":"20.0"},1,0,0,0,0,{"v":5252,"d":"5,252.0"},5,0,0,0,0,{"v":10177.2,"d":"10,177.2"},6,0,0,{"v":8214,"d":"8,214.0"},12,{"v":3129.1,"d":"3,129.1"},5]
["여천동",{"v":2390634,"d":"2,390,634.0"},{"v":1892,"d":"1,892"},{"v":322986,"d":"322,986.0"},370,{"v":705096,"d":"705,096.0"},699,0,0,{"v":1905,"d":"1,905.0"},4,{"v":912524,"d":"912,524.0"},97,0,0,0,0,{"v":79564,"d":"79,564.0"},181,{"v":5478,"d":"5,478.0"},4,0,0,{"v":7304,"d":"7,304.0"},11,{"v":6626,"d":"6,626.0"},9,{"v":9641,"d":"9,641.0"},13,{"v":149823,"d":"149,823.0"},316,0,0,0,0,{"v":49201,"d":"49,201.0"},40,{"v":51312,"d":"51,312.0"},83,{"v":23868,"d":"23,868.0"},16,{"v":1016,"d":"1,016.0"},1,{"v":30576,"d":"30,576.0"},9,0,0,0,0,0,0,{"v":9967,"d":"9,967.0"},6,{"v":6450,"d":"6,450.0"},2,{"v":2113,"d":"2,113.0"},9,{"v":15184,"d":"15,184.0"},22]
["화장동",{"v":2588568.3,"d":"2,588,568.3"},{"v":2708,"d":"2,708"},{"v":211626,"d":"211,626.0"},250,{"v":204625,"d":"204,625.0"},233,{"v":12103,"d":"12,103.0"},1,{"v":1758,"d":"1,758.0"},2,{"v":806963.5,"d":"806,963.5"},209,0,0,0,0,{"v":579407,"d":"579,407.0"},{"v":1651,"d":"1,651"},{"v":307,"d":"307.0"},1,{"v":83225.7,"d":"83,225.7"},4,{"v":20608.1,"d":"20,608.1"},20,{"v":5317.7,"d":"5,317.7"},3,{"v":2156,"d":"2,156.0"},2,{"v":386462,"d":"386,462.0"},223,{"v":29038,"d":"29,038.0"},23,0,0,{"v":14754,"d":"14,754.0"},7,{"v":9251.1,"d":"9,251.1"},32,0,0,0,0,{"v":2005,"d":"2,005.0"},4,{"v":171055.4,"d":"171,055.4"},22,{"v":28326,"d":"28,326.0"},3,0,0,{"v":1189.8,"d":"1,189.8"},3,0,0,{"v":4377,"d":"4,377.0"},6,{"v":14013,"d":"14,013.0"},9]
["주삼동",{"v":3678065.1,"d":"3,678,065.1"},{"v":3094,"d":"3,094"},{"v":386675,"d":"386,675.0"},429,{"v":974676,"d":"974,676.0"},926,0,0,{"v":2919,"d":"2,919.0"},5,{"v":1331401,"d":"1,331,401.0"},344,0,0,0,0,{"v":175920,"d":"175,920.0"},359,{"v":132724.9,"d":"132,724.9"},48,{"v":22025,"d":"22,025.0"},2,{"v":62095.9,"d":"62,095.9"},9,{"v":13248,"d":"13,248.0"},8,{"v":3032,"d":"3,032.0"},6,{"v":392455.7,"d":"392,455.7"},806,{"v":11899,"d":"11,899.0"},14,{"v":4129,"d":"4,129.0"},7,{"v":10347,"d":"10,347.0"},9,{"v":83827,"d":"83,827.0"},56,{"v":4734,"d":"4,734.0"},9,0,0,0,0,0,0,{"v":6682,"d":"6,682.0"},1,0,0,0,0,0,0,{"v":7583,"d":"7,583.0"},5,{"v":51691.6,"d":"51,691.6"},51]
["봉계동",{"v":5349147,"d":"5,349,147.0"},{"v":2660,"d":"2,660"},{"v":352400,"d":"352,400.0"},443,{"v":373490,"d":"373,490.0"},402,0,0,{"v":993,"d":"993.0"},1,{"v":3275182,"d":"3,275,182.0"},503,0,0,0,0,{"v":314084,"d":"314,084.0"},422,{"v":13882,"d":"13,882.0"},7,{"v":62850,"d":"62,850.0"},1,{"v":10250,"d":"10,250.0"},8,{"v":5879,"d":"5,879.0"},7,{"v":7597,"d":"7,597.0"},13,{"v":222278,"d":"222,278.0"},705,0,0,{"v":536,"d":"536.0"},1,{"v":5447,"d":"5,447.0"},8,{"v":68612,"d":"68,612.0"},51,{"v":92036,"d":"92,036.0"},35,0,0,0,0,0,0,{"v":508106,"d":"508,106.0"},1,0,0,{"v":9549,"d":"9,549.0"},7,0,0,{"v":1452,"d":"1,452.0"},3,{"v":24524,"d":"24,524.0"},42]
["해산동",{"v":2501363,"d":"2,501,363.0"},{"v":2512,"d":"2,512"},{"v":290377,"d":"290,377.0"},434,{"v":662143.4,"d":"662,143.4"},743,{"v":3307,"d":"3,307.0"},1,{"v":1746,"d":"1,746.0"},3,{"v":841745,"d":"841,745.0"},238,0,0,0,0,{"v":102083.7,"d":"102,083.7"},213,{"v":4976,"d":"4,976.0"},3,0,0,{"v":4614,"d":"4,614.0"},4,{"v":7656,"d":"7,656.0"},9,{"v":5300,"d":"5,300.0"},6,{"v":325287.7,"d":"325,287.7"},551,{"v":48430.2,"d":"48,430.2"},64,{"v":4536,"d":"4,536.0"},3,{"v":93230,"d":"93,230.0"},41,{"v":49375,"d":"49,375.0"},124,{"v":23174,"d":"23,174.0"},14,0,0,{"v":3567,"d":"3,567.0"},7,0,0,0,0,0,0,0,0,0,0,{"v":2891,"d":"2,891.0"},10,{"v":26924,"d":"26,924.0"},44]
["화치동",{"v":6912484.7,"d":"6,912,484.7"},892,{"v":108739,"d":"108,739.0"},100,{"v":129425.5,"d":"129,425.5"},128,0,0,0,0,{"v":1624727.6,"d":"1,624,727.6"},250,0,0,0,0,{"v":180722.9,"d":"180,722.9"},42,{"v":3867778.5,"d":"3,867,778.5"},155,0,0,{"v":3683,"d":"3,683.0"},1,769.9,1,{"v":11159.4,"d":"11,159.4"},2,{"v":447391.6,"d":"447,391.6"},80,{"v":4905,"d":"4,905.0"},4,{"v":21555.6,"d":"21,555.6"},15,{"v":370946.2,"d":"370,946.2"},14,{"v":28459.3,"d":"28,459.3"},54,{"v":2313,"d":"2,313.0"},5,0,0,{"v":13143,"d":"13,143.0"},10,{"v":4064.2,"d":"4,064.2"},1,0,0,0,0,0,0,0,0,{"v":11217,"d":"11,217.0"},3,{"v":81484,"d":"81,484.0"},27]
["월하동",{"v":2833857.4,"d":"2,833,857.4"},615,{"v":32141,"d":"32,141.0"},56,{"v":6152,"d":"6,152.0"},18,0,0,0,0,{"v":782238.3,"d":"782,238.3"},80,0,0,0,0,{"v":59451.8,"d":"59,451.8"},47,{"v":1493000.6,"d":"1,493,000.6"},77,0,0,999.9,1,{"v":3085,"d":"3,085.0"},10,{"v":4004,"d":"4,004.0"},2,{"v":253147.5,"d":"253,147.5"},229,{"v":29456,"d":"29,456.0"},6,0,0,{"v":44367,"d":"44,367.0"},13,{"v":29379.9,"d":"29,379.9"},25,0,0,0,0,{"v":7282,"d":"7,282.0"},2,0,0,0,0,0,0,0,0,0,0,0,0,{"v":89152.4,"d":"89,152.4"},49]
["평여동",{"v":6851431.4,"d":"6,851,431.4"},721,{"v":41946,"d":"41,946.0"},61,{"v":28288,"d":"28,288.0"},59,0,0,0,0,{"v":4317786.1,"d":"4,317,786.1"},317,0,0,0,0,{"v":16392.7,"d":"16,392.7"},32,{"v":1860078.2,"d":"1,860,078.2"},47,0,0,0,0,{"v":2739,"d":"2,739.0"},2,0,0,{"v":250444,"d":"250,444.0"},72,{"v":69285,"d":"69,285.0"},14,0,0,{"v":52523.4,"d":"52,523.4"},13,{"v":33233.8,"d":"33,233.8"},24,{"v":64841,"d":"64,841.0"},30,0,0,{"v":28134,"d":"28,134.0"},4,{"v":4556.2,"d":"4,556.2"},1,0,0,0,0,0,0,0,0,{"v":123,"d":"123.0"},2,{"v":81061,"d":"81,061.0"},43]
["중흥동",{"v":13748951.9,"d":"13,748,951.9"},{"v":2860,"d":"2,860"},{"v":169258,"d":"169,258.0"},373,{"v":100059,"d":"100,059.0"},201,{"v":8766,"d":"8,766.0"},3,{"v":250,"d":"250.0"},1,{"v":5806317.9,"d":"5,806,317.9"},401,0,0,0,0,{"v":414365.7,"d":"414,365.7"},659,{"v":5600375.9,"d":"5,600,375.9"},153,{"v":27075,"d":"27,075.0"},6,{"v":4867.8,"d":"4,867.8"},2,{"v":9239,"d":"9,239.0"},7,{"v":5826,"d":"5,826.0"},3,{"v":659164.7,"d":"659,164.7"},637,{"v":94385,"d":"94,385.0"},92,{"v":30997.4,"d":"30,997.4"},12,{"v":205133.6,"d":"205,133.6"},72,{"v":101052.8,"d":"101,052.8"},51,{"v":10299,"d":"10,299.0"},14,0,0,{"v":10112.2,"d":"10,112.2"},7,{"v":79298.7,"d":"79,298.7"},6,{"v":1544,"d":"1,544.0"},2,0,0,{"v":29235,"d":"29,235.0"},16,0,0,{"v":24262,"d":"24,262.0"},18,{"v":357067.2,"d":"357,067.2"},124]
["적량동",{"v":4970447.4,"d":"4,970,447.4"},{"v":1166,"d":"1,166"},{"v":267187,"d":"267,187.0"},281,{"v":180823,"d":"180,823.0"},222,{"v":5808,"d":"5,808.0"},3,0,0,{"v":2177017.8,"d":"2,177,017.8"},311,0,0,0,0,{"v":18697,"d":"18,697.0"},62,{"v":1969023.7,"d":"1,969,023.7"},40,{"v":9924,"d":"9,924.0"},2,0,0,0,0,0,0,{"v":138417.5,"d":"138,417.5"},107,{"v":29159,"d":"29,159.0"},14,{"v":5385.1,"d":"5,385.1"},3,{"v":25378,"d":"25,378.0"},15,{"v":40515.3,"d":"40,515.3"},24,{"v":42003,"d":"42,003.0"},37,0,0,0,0,{"v":14667.2,"d":"14,667.2"},2,0,0,0,0,{"v":290,"d":"290.0"},1,0,0,{"v":3358,"d":"3,358.0"},5,{"v":42793.8,"d":"42,793.8"},37]
["월내동",{"v":5489996,"d":"5,489,996.0"},{"v":1177,"d":"1,177"},{"v":201089,"d":"201,089.0"},202,{"v":185570,"d":"185,570.0"},202,0,0,0,0,{"v":2150061.9,"d":"2,150,061.9"},262,0,0,0,0,{"v":105304,"d":"105,304.0"},24,{"v":1917085.3,"d":"1,917,085.3"},53,{"v":1103,"d":"1,103.0"},1,0,0,0,0,0,0,{"v":191210.6,"d":"191,210.6"},171,{"v":44995,"d":"44,995.0"},54,{"v":14333,"d":"14,333.0"},7,{"v":10172,"d":"10,172.0"},23,{"v":37258.4,"d":"37,258.4"},54,{"v":11926,"d":"11,926.0"},15,0,0,0,0,0,0,0,0,0,0,0,0,0,0,{"v":3705,"d":"3,705.0"},18,{"v":616182.8,"d":"616,182.8"},91]
["묘도동",{"v":11515923.6,"d":"11,515,923.6"},{"v":5960,"d":"5,960"},{"v":1320764,"d":"1,320,764.0"},{"v":1335,"d":"1,335"},{"v":932873,"d":"932,873.0"},{"v":1115,"d":"1,115"},{"v":3155,"d":"3,155.0"},3,{"v":1592,"d":"1,592.0"},4,{"v":5651723,"d":"5,651,723.0"},{"v":1728,"d":"1,728"},0,0,0,0,{"v":183133,"d":"183,133.0"},669,0,0,{"v":18801,"d":"18,801.0"},4,{"v":28,"d":"28.0"},1,{"v":589,"d":"589.0"},2,{"v":3651,"d":"3,651.0"},8,{"v":137631,"d":"137,631.0"},922,0,0,{"v":113676.6,"d":"113,676.6"},14,{"v":15454,"d":"15,454.0"},7,{"v":64259,"d":"64,259.0"},28,{"v":22036,"d":"22,036.0"},27,0,0,0,0,0,0,0,0,0,0,{"v":3681,"d":"3,681.0"},3,0,0,{"v":29108,"d":"29,108.0"},39,{"v":3013769,"d":"3,013,769.0"},51]
["낙포동",{"v":8489546.2,"d":"8,489,546.2"},{"v":1846,"d":"1,846"},{"v":343422,"d":"343,422.0"},386,{"v":164211,"d":"164,211.0"},216,0,0,0,0,{"v":4611110.6,"d":"4,611,110.6"},375,0,0,0,0,{"v":119017.4,"d":"119,017.4"},40,{"v":1103012.4,"d":"1,103,012.4"},192,0,0,0,0,{"v":180944.8,"d":"180,944.8"},18,0,0,{"v":300375.8,"d":"300,375.8"},197,{"v":2969,"d":"2,969.0"},1,{"v":55471,"d":"55,471.0"},31,{"v":101731,"d":"101,731.0"},33,{"v":21570,"d":"21,570.0"},50,{"v":8417,"d":"8,417.0"},1,0,0,{"v":6417.5,"d":"6,417.5"},5,0,0,0,0,0,0,{"v":264,"d":"264.0"},1,0,0,{"v":3588,"d":"3,588.0"},10,{"v":1467024.7,"d":"1,467,024.7"},290]
["신덕동",{"v":5668176.4,"d":"5,668,176.4"},{"v":1819,"d":"1,819"},{"v":254304,"d":"254,304.0"},363,{"v":171741,"d":"171,741.0"},239,{"v":11302,"d":"11,302.0"},4,0,0,{"v":4560715,"d":"4,560,715.0"},403,0,0,0,0,{"v":65616,"d":"65,616.0"},251,0,0,{"v":4555,"d":"4,555.0"},1,{"v":2843,"d":"2,843.0"},2,{"v":141181.2,"d":"141,181.2"},2,0,0,{"v":242230.4,"d":"242,230.4"},465,0,0,{"v":1518.1,"d":"1,518.1"},2,{"v":51435,"d":"51,435.0"},33,{"v":1084,"d":"1,084.0"},5,{"v":7634,"d":"7,634.0"},17,0,0,0,0,{"v":2677.7,"d":"2,677.7"},3,0,0,0,0,{"v":1185,"d":"1,185.0"},1,0,0,{"v":6720,"d":"6,720.0"},11,{"v":141435,"d":"141,435.0"},17]
["상암동",{"v":6714977,"d":"6,714,977.0"},{"v":4342,"d":"4,342"},{"v":706552,"d":"706,552.0"},833,{"v":1119193,"d":"1,119,193.0"},{"v":1226,"d":"1,226"},{"v":2815,"d":"2,815.0"},3,0,0,{"v":4209198,"d":"4,209,198.0"},411,0,0,0,0,{"v":228371,"d":"228,371.0"},598,{"v":9844,"d":"9,844.0"},10,{"v":19951,"d":"19,951.0"},2,{"v":5479,"d":"5,479.0"},11,{"v":3690,"d":"3,690.0"},3,{"v":1046,"d":"1,046.0"},3,{"v":199369,"d":"199,369.0"},{"v":1012,"d":"1,012"},0,0,{"v":149,"d":"149.0"},1,{"v":78697,"d":"78,697.0"},65,{"v":55186,"d":"55,186.0"},52,{"v":28805,"d":"28,805.0"},39,0,0,0,0,0,0,0,0,0,0,{"v":3728,"d":"3,728.0"},8,0,0,{"v":11711,"d":"11,711.0"},22,{"v":31193,"d":"31,193.0"},43]
["호명동",{"v":10859052,"d":"10,859,052.0"},{"v":3815,"d":"3,815"},{"v":679401,"d":"679,401.0"},764,{"v":1065388,"d":"1,065,388.0"},992,{"v":7648,"d":"7,648.0"},1,{"v":7221,"d":"7,221.0"},4,{"v":8408378,"d":"8,408,378.0"},665,0,0,0,0,{"v":190412,"d":"190,412.0"},388,0,0,0,0,0,0,{"v":3982,"d":"3,982.0"},6,{"v":2312,"d":"2,312.0"},2,{"v":270427,"d":"270,427.0"},831,0,0,0,0,{"v":78165,"d":"78,165.0"},64,{"v":70219,"d":"70,219.0"},25,{"v":25005,"d":"25,005.0"},29,0,0,0,0,0,0,0,0,0,0,{"v":2634,"d":"2,634.0"},3,0,0,{"v":22113,"d":"22,113.0"},20,{"v":25747,"d":"25,747.0"},21]
["돌산읍 군내리",{"v":3830439,"d":"3,830,439.0"},{"v":3490,"d":"3,490"},{"v":1060702,"d":"1,060,702.0"},{"v":1259,"d":"1,259"},{"v":68622,"d":"68,622.0"},136,{"v":3389,"d":"3,389.0"},2,0,0,{"v":2255493,"d":"2,255,493.0"},645,0,0,0,0,{"v":134612,"d":"134,612.0"},733,{"v":3276,"d":"3,276.0"},3,{"v":50877,"d":"50,877.0"},9,0,0,{"v":947,"d":"947.0"},4,{"v":2294,"d":"2,294.0"},5,{"v":123257,"d":"123,257.0"},454,0,0,{"v":3736,"d":"3,736.0"},19,{"v":3154,"d":"3,154.0"},4,{"v":33389,"d":"33,389.0"},48,{"v":4553,"d":"4,553.0"},13,{"v":18436,"d":"18,436.0"},7,0,0,0,0,0,0,0,0,{"v":6538,"d":"6,538.0"},10,{"v":883,"d":"883.0"},4,{"v":19273,"d":"19,273.0"},39,{"v":37008,"d":"37,008.0"},96]
["돌산읍 신복리",{"v":8278502.4,"d":"8,278,502.4"},{"v":4202,"d":"4,202"},{"v":1003487,"d":"1,003,487.0"},914,{"v":606508,"d":"606,508.0"},748,0,0,{"v":16201,"d":"16,201.0"},8,{"v":5962933,"d":"5,962,933.0"},760,0,0,0,0,{"v":113269,"d":"113,269.0"},493,{"v":10525,"d":"10,525.0"},5,{"v":11467,"d":"11,467.0"},1,0,0,0,0,{"v":5983,"d":"5,983.0"},13,{"v":170852.7,"d":"170,852.7"},859,0,0,{"v":23510.9,"d":"23,510.9"},38,{"v":3568,"d":"3,568.0"},16,{"v":73212,"d":"73,212.0"},79,{"v":113200,"d":"113,200.0"},160,{"v":38569,"d":"38,569.0"},20,{"v":99,"d":"99.0"},1,0,0,0,0,0,0,{"v":7667,"d":"7,667.0"},4,0,0,{"v":65591,"d":"65,591.0"},21,{"v":51859.8,"d":"51,859.8"},62]
["돌산읍 금성리",{"v":5508147,"d":"5,508,147.0"},{"v":2428,"d":"2,428"},{"v":835939,"d":"835,939.0"},868,{"v":53662,"d":"53,662.0"},127,0,0,{"v":387,"d":"387.0"},1,{"v":4330530,"d":"4,330,530.0"},608,0,0,0,0,{"v":80378,"d":"80,378.0"},343,0,0,{"v":6963,"d":"6,963.0"},1,0,0,0,0,{"v":740,"d":"740.0"},2,{"v":151614,"d":"151,614.0"},405,0,0,{"v":2067,"d":"2,067.0"},5,{"v":1852,"d":"1,852.0"},11,{"v":14698,"d":"14,698.0"},10,{"v":149,"d":"149.0"},1,{"v":3627,"d":"3,627.0"},6,0,0,0,0,0,0,0,0,{"v":796,"d":"796.0"},2,0,0,{"v":7022,"d":"7,022.0"},12,{"v":17723,"d":"17,723.0"},26]
["돌산읍 율림리",{"v":7065517,"d":"7,065,517.0"},{"v":2977,"d":"2,977"},{"v":761438,"d":"761,438.0"},885,{"v":69152,"d":"69,152.0"},128,0,0,{"v":1140,"d":"1,140.0"},1,{"v":5739039,"d":"5,739,039.0"},700,0,0,0,0,{"v":124845,"d":"124,845.0"},412,0,0,{"v":6136,"d":"6,136.0"},8,{"v":435,"d":"435.0"},2,{"v":796,"d":"796.0"},1,{"v":6325,"d":"6,325.0"},5,{"v":217071,"d":"217,071.0"},727,0,0,{"v":1292,"d":"1,292.0"},4,{"v":442,"d":"442.0"},7,{"v":52129,"d":"52,129.0"},39,0,0,{"v":23086,"d":"23,086.0"},6,0,0,0,0,0,0,0,0,{"v":860,"d":"860.0"},2,0,0,{"v":8182,"d":"8,182.0"},9,{"v":53149,"d":"53,149.0"},41]
["돌산읍 죽포리",{"v":5934132,"d":"5,934,132.0"},{"v":4917,"d":"4,917"},{"v":1068969,"d":"1,068,969.0"},{"v":1241,"d":"1,241"},{"v":793983,"d":"793,983.0"},{"v":1058,"d":"1,058"},0,0,{"v":11612,"d":"11,612.0"},3,{"v":3503905,"d":"3,503,905.0"},513,0,0,0,0,{"v":176304,"d":"176,304.0"},624,{"v":3760,"d":"3,760.0"},2,{"v":16300,"d":"16,300.0"},3,0,0,{"v":1221,"d":"1,221.0"},4,{"v":5017,"d":"5,017.0"},10,{"v":182389,"d":"182,389.0"},{"v":1193,"d":"1,193"},0,0,{"v":4534,"d":"4,534.0"},12,{"v":14195,"d":"14,195.0"},9,{"v":72158,"d":"72,158.0"},134,{"v":2083,"d":"2,083.0"},2,{"v":4713,"d":"4,713.0"},5,0,0,0,0,0,0,0,0,{"v":1781,"d":"1,781.0"},2,0,0,{"v":25252,"d":"25,252.0"},51,{"v":45956,"d":"45,956.0"},51]
["돌산읍 서덕리",{"v":4662413,"d":"4,662,413.0"},{"v":3260,"d":"3,260"},{"v":733376,"d":"733,376.0"},853,{"v":492285,"d":"492,285.0"},718,0,0,{"v":119707,"d":"119,707.0"},12,{"v":2955177,"d":"2,955,177.0"},573,0,0,0,0,{"v":65815,"d":"65,815.0"},264,{"v":2118,"d":"2,118.0"},1,0,0,0,0,0,0,{"v":1020,"d":"1,020.0"},2,{"v":69735,"d":"69,735.0"},587,0,0,{"v":25372,"d":"25,372.0"},69,{"v":105,"d":"105.0"},4,{"v":39026,"d":"39,026.0"},69,{"v":125530,"d":"125,530.0"},61,0,0,{"v":734,"d":"734.0"},1,0,0,0,0,0,0,{"v":632,"d":"632.0"},2,0,0,{"v":25844,"d":"25,844.0"},28,{"v":5937,"d":"5,937.0"},16]
["돌산읍 금봉리",{"v":8262636,"d":"8,262,636.0"},{"v":5115,"d":"5,115"},{"v":1249829,"d":"1,249,829.0"},{"v":1345,"d":"1,345"},{"v":759443,"d":"759,443.0"},976,{"v":5767,"d":"5,767.0"},4,{"v":10002,"d":"10,002.0"},2,{"v":5661483,"d":"5,661,483.0"},975,0,0,0,0,{"v":166535,"d":"166,535.0"},526,{"v":5255,"d":"5,255.0"},6,{"v":3285,"d":"3,285.0"},5,0,0,0,0,{"v":4720,"d":"4,720.0"},10,{"v":167335,"d":"167,335.0"},879,0,0,{"v":2744,"d":"2,744.0"},4,{"v":771,"d":"771.0"},9,{"v":83341,"d":"83,341.0"},64,{"v":15733,"d":"15,733.0"},36,{"v":27521,"d":"27,521.0"},18,0,0,0,0,0,0,0,0,{"v":3791,"d":"3,791.0"},4,0,0,{"v":26883,"d":"26,883.0"},27,{"v":68198,"d":"68,198.0"},225]
["돌산읍 둔전리",{"v":5391243.2,"d":"5,391,243.2"},{"v":3744,"d":"3,744"},{"v":681575,"d":"681,575.0"},828,{"v":912651,"d":"912,651.0"},869,{"v":6852,"d":"6,852.0"},2,{"v":33087,"d":"33,087.0"},10,{"v":3269377,"d":"3,269,377.0"},600,0,0,0,0,{"v":112433,"d":"112,433.0"},332,{"v":4370.7,"d":"4,370.7"},5,{"v":26614,"d":"26,614.0"},9,0,0,0,0,{"v":2515,"d":"2,515.0"},7,{"v":174210.9,"d":"174,210.9"},907,0,0,0,0,{"v":545,"d":"545.0"},3,{"v":114016.5,"d":"114,016.5"},93,{"v":27550,"d":"27,550.0"},36,{"v":3253.1,"d":"3,253.1"},4,0,0,0,0,0,0,0,0,{"v":980,"d":"980.0"},2,0,0,{"v":5621,"d":"5,621.0"},16,{"v":15592,"d":"15,592.0"},21]
["돌산읍 평사리",{"v":15229810.9,"d":"15,229,810.9"},{"v":8194,"d":"8,194"},{"v":1794310,"d":"1,794,310.0"},{"v":1832,"d":"1,832"},{"v":735033.2,"d":"735,033.2"},954,{"v":75756,"d":"75,756.0"},14,{"v":813335,"d":"813,335.0"},26,{"v":10445480,"d":"10,445,480.0"},{"v":1974,"d":"1,974"},0,0,0,0,{"v":376206,"d":"376,206.0"},985,{"v":9737,"d":"9,737.0"},17,{"v":13092,"d":"13,092.0"},3,{"v":2297,"d":"2,297.0"},6,{"v":2939,"d":"2,939.0"},4,{"v":8523,"d":"8,523.0"},15,{"v":529755,"d":"529,755.0"},{"v":1874,"d":"1,874"},0,0,{"v":18673,"d":"18,673.0"},24,{"v":34879.3,"d":"34,879.3"},24,{"v":58965.8,"d":"58,965.8"},117,{"v":116024,"d":"116,024.0"},19,0,0,0,0,0,0,0,0,{"v":38544.6,"d":"38,544.6"},1,{"v":19021,"d":"19,021.0"},10,0,0,{"v":26784,"d":"26,784.0"},25,{"v":110456,"d":"110,456.0"},270]
["돌산읍 우두리",{"v":7749834.1,"d":"7,749,834.1"},{"v":6844,"d":"6,844"},{"v":1261062.7,"d":"1,261,062.7"},{"v":1364,"d":"1,364"},{"v":494594,"d":"494,594.0"},602,{"v":3347,"d":"3,347.0"},3,{"v":2124,"d":"2,124.0"},2,{"v":3981557,"d":"3,981,557.0"},{"v":1513,"d":"1,513"},0,0,0,0,{"v":879659.9,"d":"879,659.9"},{"v":2312,"d":"2,312"},{"v":17238,"d":"17,238.0"},16,{"v":37447.5,"d":"37,447.5"},4,{"v":4358.6,"d":"4,358.6"},5,{"v":1981,"d":"1,981.0"},4,{"v":12489.6,"d":"12,489.6"},16,{"v":558430.1,"d":"558,430.1"},659,0,0,{"v":12894.4,"d":"12,894.4"},16,0,0,{"v":36651,"d":"36,651.0"},37,{"v":22150,"d":"22,150.0"},24,{"v":6892,"d":"6,892.0"},7,0,0,{"v":56646.3,"d":"56,646.3"},12,0,0,{"v":175596,"d":"175,596.0"},1,{"v":16061.8,"d":"16,061.8"},10,0,0,{"v":8479,"d":"8,479.0"},21,{"v":160174.2,"d":"160,174.2"},216]
["소라면 덕양리",{"v":6256830.3,"d":"6,256,830.3"},{"v":5506,"d":"5,506"},{"v":869250,"d":"869,250.0"},{"v":1237,"d":"1,237"},{"v":903946.8,"d":"903,946.8"},{"v":1057,"d":"1,057"},0,0,{"v":6256,"d":"6,256.0"},13,{"v":3193672,"d":"3,193,672.0"},532,0,0,0,0,{"v":368226,"d":"368,226.0"},{"v":1246,"d":"1,246"},{"v":11311,"d":"11,311.0"},7,{"v":35902,"d":"35,902.0"},8,{"v":6521,"d":"6,521.0"},8,{"v":12478,"d":"12,478.0"},16,{"v":14582,"d":"14,582.0"},18,{"v":416605.7,"d":"416,605.7"},{"v":1042,"d":"1,042"},{"v":64766,"d":"64,766.0"},34,{"v":7630,"d":"7,630.0"},3,{"v":124055,"d":"124,055.0"},26,{"v":120189.8,"d":"120,189.8"},127,{"v":21372,"d":"21,372.0"},1,0,0,{"v":3552,"d":"3,552.0"},25,{"v":1111,"d":"1,111.0"},1,0,0,0,0,{"v":7592,"d":"7,592.0"},11,0,0,{"v":11159,"d":"11,159.0"},14,{"v":56653,"d":"56,653.0"},80]
["소라면 죽림리",{"v":4051859.8,"d":"4,051,859.8"},{"v":3397,"d":"3,397"},{"v":517855,"d":"517,855.0"},729,{"v":584483.8,"d":"584,483.8"},703,{"v":1653,"d":"1,653.0"},5,{"v":6724,"d":"6,724.0"},3,{"v":1731779,"d":"1,731,779.0"},929,0,0,0,0,{"v":373278.1,"d":"373,278.1"},481,{"v":229,"d":"229.0"},1,{"v":19658.7,"d":"19,658.7"},2,{"v":8031.1,"d":"8,031.1"},12,675.7,1,{"v":200,"d":"200.0"},1,{"v":309454.5,"d":"309,454.5"},385,0,0,0,0,{"v":14425,"d":"14,425.0"},8,{"v":39893.8,"d":"39,893.8"},28,{"v":263646,"d":"263,646.0"},18,0,0,0,0,{"v":144569.8,"d":"144,569.8"},51,{"v":6110,"d":"6,110.0"},8,0,0,{"v":6224.3,"d":"6,224.3"},4,0,0,{"v":13542,"d":"13,542.0"},21,{"v":9427,"d":"9,427.0"},7]
["소라면 관기리",{"v":4106573.9,"d":"4,106,573.9"},{"v":4099,"d":"4,099"},{"v":624485.6,"d":"624,485.6"},803,{"v":1758159.3,"d":"1,758,159.3"},{"v":1510,"d":"1,510"},0,0,0,0,{"v":1099669,"d":"1,099,669.0"},716,0,0,0,0,{"v":130793,"d":"130,793.0"},342,0,0,{"v":10598,"d":"10,598.0"},2,{"v":3451,"d":"3,451.0"},3,{"v":3407,"d":"3,407.0"},2,{"v":2589,"d":"2,589.0"},4,{"v":260461.4,"d":"260,461.4"},593,0,0,{"v":8113.4,"d":"8,113.4"},3,{"v":63689.5,"d":"63,689.5"},18,{"v":99370.7,"d":"99,370.7"},67,{"v":14736,"d":"14,736.0"},1,0,0,0,0,0,0,0,0,0,0,{"v":2112,"d":"2,112.0"},2,0,0,{"v":14568,"d":"14,568.0"},24,{"v":10371,"d":"10,371.0"},9]
["소라면 현천리",{"v":5577256.6,"d":"5,577,256.6"},{"v":3007,"d":"3,007"},{"v":754887,"d":"754,887.0"},758,{"v":1252755.4,"d":"1,252,755.4"},731,0,0,{"v":9881,"d":"9,881.0"},11,{"v":2763843,"d":"2,763,843.0"},470,0,0,0,0,{"v":184341,"d":"184,341.0"},351,{"v":2736,"d":"2,736.0"},2,{"v":9141,"d":"9,141.0"},1,0,0,0,0,{"v":3790,"d":"3,790.0"},10,{"v":187126.2,"d":"187,126.2"},516,0,0,{"v":19477.2,"d":"19,477.2"},7,{"v":38076,"d":"38,076.0"},8,{"v":107108.2,"d":"107,108.2"},81,{"v":211411.6,"d":"211,411.6"},9,0,0,0,0,0,0,0,0,0,0,{"v":2258,"d":"2,258.0"},5,0,0,{"v":14906,"d":"14,906.0"},18,{"v":15519,"d":"15,519.0"},29]
["소라면 복산리",{"v":10087782.4,"d":"10,087,782.4"},{"v":6075,"d":"6,075"},{"v":1648535,"d":"1,648,535.0"},{"v":1546,"d":"1,546"},{"v":1415150.9,"d":"1,415,150.9"},{"v":1145,"d":"1,145"},{"v":22480,"d":"22,480.0"},3,{"v":89388,"d":"89,388.0"},35,{"v":5704489,"d":"5,704,489.0"},{"v":1184,"d":"1,184"},0,0,0,0,{"v":241379,"d":"241,379.0"},571,{"v":27187,"d":"27,187.0"},8,{"v":14027,"d":"14,027.0"},2,{"v":10816,"d":"10,816.0"},11,{"v":4120,"d":"4,120.0"},3,{"v":18407,"d":"18,407.0"},18,{"v":429668.1,"d":"429,668.1"},{"v":1252,"d":"1,252"},0,0,{"v":11412,"d":"11,412.0"},16,{"v":52341,"d":"52,341.0"},1,{"v":158626.4,"d":"158,626.4"},104,{"v":114331,"d":"114,331.0"},62,{"v":1375,"d":"1,375.0"},1,0,0,0,0,0,0,0,0,{"v":4486,"d":"4,486.0"},6,0,0,{"v":55922,"d":"55,922.0"},53,{"v":63642,"d":"63,642.0"},54]
["소라면 사곡리",{"v":6380570,"d":"6,380,570.0"},{"v":3486,"d":"3,486"},{"v":1006700,"d":"1,006,700.0"},979,{"v":487320,"d":"487,320.0"},602,0,0,{"v":42091,"d":"42,091.0"},22,{"v":4243337,"d":"4,243,337.0"},648,0,0,0,0,{"v":163694,"d":"163,694.0"},415,{"v":2082,"d":"2,082.0"},2,{"v":6591,"d":"6,591.0"},1,{"v":2164,"d":"2,164.0"},3,{"v":2599,"d":"2,599.0"},4,{"v":1621,"d":"1,621.0"},4,{"v":274920,"d":"274,920.0"},689,0,0,{"v":3338,"d":"3,338.0"},6,0,0,{"v":91805,"d":"91,805.0"},44,{"v":19679,"d":"19,679.0"},22,0,0,0,0,0,0,0,0,0,0,{"v":821,"d":"821.0"},2,0,0,{"v":9582,"d":"9,582.0"},12,{"v":22226,"d":"22,226.0"},31]
["소라면 봉두리",{"v":13498698,"d":"13,498,698.0"},{"v":3426,"d":"3,426"},{"v":668451,"d":"668,451.0"},636,{"v":831767,"d":"831,767.0"},748,{"v":11874,"d":"11,874.0"},4,{"v":6946,"d":"6,946.0"},7,{"v":11087222,"d":"11,087,222.0"},852,0,0,0,0,{"v":110816,"d":"110,816.0"},288,{"v":10965,"d":"10,965.0"},4,{"v":6193,"d":"6,193.0"},1,{"v":2120,"d":"2,120.0"},4,0,0,{"v":5331,"d":"5,331.0"},11,{"v":230967,"d":"230,967.0"},691,0,0,0,0,{"v":116321,"d":"116,321.0"},10,{"v":99855,"d":"99,855.0"},78,{"v":41516,"d":"41,516.0"},11,0,0,0,0,0,0,0,0,0,0,{"v":1154,"d":"1,154.0"},3,0,0,{"v":221487,"d":"221,487.0"},27,{"v":45713,"d":"45,713.0"},51]
["소라면 대포리",{"v":10605629.2,"d":"10,605,629.2"},{"v":5738,"d":"5,738"},{"v":741544,"d":"741,544.0"},{"v":1155,"d":"1,155"},{"v":2440723.8,"d":"2,440,723.8"},{"v":1699,"d":"1,699"},0,0,{"v":378,"d":"378.0"},2,{"v":5674287,"d":"5,674,287.0"},582,0,0,0,0,{"v":254735,"d":"254,735.0"},711,{"v":14827,"d":"14,827.0"},14,0,0,{"v":18473,"d":"18,473.0"},14,{"v":8162,"d":"8,162.0"},10,{"v":13994,"d":"13,994.0"},18,{"v":344179.4,"d":"344,179.4"},916,{"v":30277,"d":"30,277.0"},26,{"v":13561,"d":"13,561.0"},5,{"v":383937,"d":"383,937.0"},49,{"v":232086.2,"d":"232,086.2"},334,{"v":264724,"d":"264,724.0"},64,0,0,{"v":21162.8,"d":"21,162.8"},34,0,0,0,0,0,0,{"v":4225,"d":"4,225.0"},7,0,0,{"v":7437,"d":"7,437.0"},15,{"v":136916,"d":"136,916.0"},83]
["율촌면 조화리",{"v":3209412.7,"d":"3,209,412.7"},{"v":3670,"d":"3,670"},{"v":376441,"d":"376,441.0"},564,{"v":928215,"d":"928,215.0"},{"v":1228,"d":"1,228"},{"v":30833,"d":"30,833.0"},18,{"v":2898,"d":"2,898.0"},2,{"v":235380,"d":"235,380.0"},138,0,0,0,0,{"v":212847,"d":"212,847.0"},747,{"v":158390.4,"d":"158,390.4"},8,{"v":30492,"d":"30,492.0"},3,{"v":20263.8,"d":"20,263.8"},5,{"v":7590,"d":"7,590.0"},10,{"v":7017,"d":"7,017.0"},11,{"v":405194,"d":"405,194.0"},660,{"v":60135,"d":"60,135.0"},31,{"v":15512,"d":"15,512.0"},6,{"v":31101,"d":"31,101.0"},4,{"v":74960.3,"d":"74,960.3"},89,{"v":72259,"d":"72,259.0"},17,{"v":2992,"d":"2,992.0"},2,{"v":28082,"d":"28,082.0"},47,{"v":177938.1,"d":"177,938.1"},15,0,0,0,0,{"v":7727,"d":"7,727.0"},4,0,0,{"v":14765,"d":"14,765.0"},11,{"v":308380.1,"d":"308,380.1"},50]
["율촌면 월산리",{"v":4433447.7,"d":"4,433,447.7"},{"v":4152,"d":"4,152"},{"v":493493,"d":"493,493.0"},590,{"v":861687,"d":"861,687.0"},{"v":1082,"d":"1,082"},{"v":58546,"d":"58,546.0"},21,{"v":4665,"d":"4,665.0"},4,{"v":2283524.7,"d":"2,283,524.7"},904,0,0,0,0,{"v":267079.6,"d":"267,079.6"},545,{"v":10477,"d":"10,477.0"},5,{"v":7621,"d":"7,621.0"},2,{"v":6522.7,"d":"6,522.7"},9,{"v":1445,"d":"1,445.0"},3,{"v":7048,"d":"7,048.0"},4,{"v":302950.8,"d":"302,950.8"},775,0,0,0,0,{"v":18988,"d":"18,988.0"},10,{"v":71366,"d":"71,366.0"},132,{"v":1528,"d":"1,528.0"},6,0,0,0,0,{"v":9716.8,"d":"9,716.8"},3,0,0,0,0,{"v":4634,"d":"4,634.0"},6,0,0,{"v":2184,"d":"2,184.0"},10,{"v":19971.1,"d":"19,971.1"},41]
["율촌면 산수리",{"v":5323241,"d":"5,323,241.0"},{"v":3843,"d":"3,843"},{"v":499065,"d":"499,065.0"},611,{"v":1066353,"d":"1,066,353.0"},{"v":1084,"d":"1,084"},{"v":9349,"d":"9,349.0"},2,{"v":18129,"d":"18,129.0"},17,{"v":3252657,"d":"3,252,657.0"},958,0,0,0,0,{"v":151190,"d":"151,190.0"},399,{"v":1200,"d":"1,200.0"},1,{"v":8387,"d":"8,387.0"},3,0,0,0,0,0,0,{"v":141417,"d":"141,417.0"},626,0,0,0,0,{"v":10955,"d":"10,955.0"},4,{"v":112127,"d":"112,127.0"},71,{"v":25680,"d":"25,680.0"},25,0,0,{"v":549,"d":"549.0"},1,0,0,0,0,0,0,{"v":2870,"d":"2,870.0"},4,0,0,{"v":5413,"d":"5,413.0"},14,{"v":17900,"d":"17,900.0"},23]
["율촌면 가장리",{"v":9705370.7,"d":"9,705,370.7"},{"v":4411,"d":"4,411"},{"v":811753,"d":"811,753.0"},716,{"v":1562305,"d":"1,562,305.0"},{"v":1255,"d":"1,255"},{"v":32100,"d":"32,100.0"},5,{"v":212239,"d":"212,239.0"},36,{"v":6334322.4,"d":"6,334,322.4"},{"v":1020,"d":"1,020"},0,0,0,0,{"v":181742.9,"d":"181,742.9"},391,0,0,0,0,{"v":5035,"d":"5,035.0"},3,0,0,{"v":516,"d":"516.0"},1,{"v":214200,"d":"214,200.0"},709,0,0,0,0,{"v":61605,"d":"61,605.0"},18,{"v":198676,"d":"198,676.0"},181,{"v":51340,"d":"51,340.0"},34,0,0,0,0,{"v":1015.4,"d":"1,015.4"},1,0,0,0,0,{"v":3845,"d":"3,845.0"},5,0,0,{"v":16248,"d":"16,248.0"},17,{"v":18428,"d":"18,428.0"},19]
["율촌면 봉전리",{"v":4094245,"d":"4,094,245.0"},{"v":2194,"d":"2,194"},{"v":608026,"d":"608,026.0"},635,{"v":385783,"d":"385,783.0"},358,0,0,{"v":2789,"d":"2,789.0"},2,{"v":2791828,"d":"2,791,828.0"},496,0,0,{"v":1937,"d":"1,937.0"},4,{"v":73744,"d":"73,744.0"},190,{"v":7693,"d":"7,693.0"},2,0,0,0,0,0,0,{"v":1179,"d":"1,179.0"},3,{"v":95667,"d":"95,667.0"},401,0,0,{"v":4488,"d":"4,488.0"},6,{"v":777,"d":"777.0"},1,{"v":34686,"d":"34,686.0"},20,{"v":16514,"d":"16,514.0"},9,0,0,0,0,0,0,0,0,0,0,{"v":1740,"d":"1,740.0"},5,0,0,{"v":17603,"d":"17,603.0"},40,{"v":49791,"d":"49,791.0"},22]
["율촌면 반월리",{"v":2277936,"d":"2,277,936.0"},{"v":1309,"d":"1,309"},{"v":320434,"d":"320,434.0"},337,{"v":306616,"d":"306,616.0"},290,0,0,{"v":5573,"d":"5,573.0"},2,{"v":1450667,"d":"1,450,667.0"},243,0,0,0,0,{"v":45965,"d":"45,965.0"},147,0,0,0,0,0,0,{"v":618,"d":"618.0"},1,{"v":306,"d":"306.0"},2,{"v":56906,"d":"56,906.0"},215,0,0,{"v":1679,"d":"1,679.0"},2,0,0,{"v":53541,"d":"53,541.0"},22,{"v":23227,"d":"23,227.0"},18,0,0,0,0,0,0,0,0,0,0,{"v":607,"d":"607.0"},1,0,0,{"v":6884,"d":"6,884.0"},17,{"v":4913,"d":"4,913.0"},12]
["율촌면 취적리",{"v":7664357,"d":"7,664,357.0"},{"v":4229,"d":"4,229"},{"v":790456,"d":"790,456.0"},860,{"v":975988,"d":"975,988.0"},{"v":1054,"d":"1,054"},{"v":4732,"d":"4,732.0"},1,{"v":601,"d":"601.0"},1,{"v":5025631,"d":"5,025,631.0"},699,0,0,0,0,{"v":213790,"d":"213,790.0"},457,{"v":15602,"d":"15,602.0"},6,0,0,{"v":3780,"d":"3,780.0"},7,{"v":11117,"d":"11,117.0"},5,{"v":1403,"d":"1,403.0"},2,{"v":257136,"d":"257,136.0"},781,{"v":51732,"d":"51,732.0"},59,{"v":3356,"d":"3,356.0"},4,{"v":7481,"d":"7,481.0"},12,{"v":120720,"d":"120,720.0"},122,{"v":41915,"d":"41,915.0"},41,0,0,{"v":36527,"d":"36,527.0"},33,0,0,0,0,0,0,0,0,0,0,{"v":28898,"d":"28,898.0"},31,{"v":73492,"d":"73,492.0"},54]
["율촌면 신풍리",{"v":6263166.6,"d":"6,263,166.6"},{"v":4945,"d":"4,945"},{"v":570363,"d":"570,363.0"},763,{"v":1408600,"d":"1,408,600.0"},{"v":1352,"d":"1,352"},{"v":76011,"d":"76,011.0"},29,{"v":91478,"d":"91,478.0"},158,{"v":2537113,"d":"2,537,113.0"},486,0,0,0,0,{"v":408359.4,"d":"408,359.4"},802,{"v":20943,"d":"20,943.0"},11,{"v":15992,"d":"15,992.0"},3,{"v":3368,"d":"3,368.0"},4,{"v":1840,"d":"1,840.0"},1,{"v":4952,"d":"4,952.0"},8,{"v":226436.8,"d":"226,436.8"},880,{"v":54211,"d":"54,211.0"},35,{"v":7354,"d":"7,354.0"},7,{"v":52152,"d":"52,152.0"},13,{"v":163272,"d":"163,272.0"},134,{"v":108889,"d":"108,889.0"},41,0,0,{"v":25685,"d":"25,685.0"},22,0,0,0,0,0,0,{"v":3814,"d":"3,814.0"},4,0,0,{"v":18554,"d":"18,554.0"},19,{"v":463779.4,"d":"463,779.4"},173]
["율촌면 상봉리",{"v":3343442,"d":"3,343,442.0"},{"v":1928,"d":"1,928"},{"v":441974,"d":"441,974.0"},442,{"v":357019,"d":"357,019.0"},360,{"v":1693,"d":"1,693.0"},1,{"v":27928,"d":"27,928.0"},16,{"v":2175694,"d":"2,175,694.0"},368,0,0,0,0,{"v":80120,"d":"80,120.0"},188,{"v":8952,"d":"8,952.0"},3,{"v":12729,"d":"12,729.0"},2,{"v":1358,"d":"1,358.0"},1,{"v":331,"d":"331.0"},1,{"v":7898,"d":"7,898.0"},9,{"v":143230,"d":"143,230.0"},465,0,0,{"v":1263,"d":"1,263.0"},2,{"v":869,"d":"869.0"},1,{"v":61606,"d":"61,606.0"},48,0,0,0,0,0,0,0,0,0,0,0,0,{"v":3436,"d":"3,436.0"},2,0,0,{"v":11675,"d":"11,675.0"},6,{"v":5667,"d":"5,667.0"},13]
["율촌면 여동리",{"v":1272931.8,"d":"1,272,931.8"},614,{"v":226722,"d":"226,722.0"},206,{"v":16175,"d":"16,175.0"},30,{"v":14883,"d":"14,883.0"},2,{"v":1011,"d":"1,011.0"},1,{"v":723461,"d":"723,461.0"},190,0,0,0,0,{"v":28318,"d":"28,318.0"},102,{"v":181217.8,"d":"181,217.8"},17,{"v":7128,"d":"7,128.0"},4,{"v":12483.5,"d":"12,483.5"},2,0,0,0,0,{"v":55666.5,"d":"55,666.5"},46,0,0,{"v":483,"d":"483.0"},5,0,0,{"v":836,"d":"836.0"},1,0,0,0,0,0,0,0,0,0,0,0,0,0,0,0,0,{"v":2585,"d":"2,585.0"},1,{"v":1962,"d":"1,962.0"},7]
["화양면 나진리",{"v":5832098.8,"d":"5,832,098.8"},{"v":3056,"d":"3,056"},{"v":592647,"d":"592,647.0"},608,{"v":425137.4,"d":"425,137.4"},414,{"v":9693,"d":"9,693.0"},3,{"v":6456,"d":"6,456.0"},8,{"v":4248387,"d":"4,248,387.0"},837,0,0,0,0,{"v":145319,"d":"145,319.0"},361,{"v":46586,"d":"46,586.0"},17,{"v":30464,"d":"30,464.0"},11,{"v":647,"d":"647.0"},2,0,0,{"v":4373,"d":"4,373.0"},4,{"v":187747.7,"d":"187,747.7"},644,0,0,{"v":2307,"d":"2,307.0"},12,{"v":393,"d":"393.0"},1,{"v":66371.9,"d":"66,371.9"},74,{"v":11023.8,"d":"11,023.8"},10,{"v":654,"d":"654.0"},1,0,0,0,0,0,0,0,0,{"v":6314,"d":"6,314.0"},9,0,0,{"v":6108,"d":"6,108.0"},8,{"v":41470,"d":"41,470.0"},32]
["화양면 용주리",{"v":4529423,"d":"4,529,423.0"},{"v":3575,"d":"3,575"},{"v":1248686,"d":"1,248,686.0"},{"v":1154,"d":"1,154"},{"v":516443,"d":"516,443.0"},379,{"v":14075,"d":"14,075.0"},26,{"v":26913,"d":"26,913.0"},5,{"v":2104361,"d":"2,104,361.0"},546,0,0,0,0,{"v":171425,"d":"171,425.0"},548,{"v":39150,"d":"39,150.0"},18,{"v":10482,"d":"10,482.0"},2,{"v":330,"d":"330.0"},1,{"v":1123,"d":"1,123.0"},1,{"v":9566,"d":"9,566.0"},13,{"v":197563,"d":"197,563.0"},729,0,0,{"v":8892,"d":"8,892.0"},11,{"v":8213,"d":"8,213.0"},8,{"v":47340,"d":"47,340.0"},21,{"v":19287,"d":"19,287.0"},12,{"v":10905,"d":"10,905.0"},5,0,0,0,0,0,0,0,0,{"v":4604,"d":"4,604.0"},5,{"v":6161,"d":"6,161.0"},3,{"v":26285,"d":"26,285.0"},31,{"v":57619,"d":"57,619.0"},57]
["화양면 창무리",{"v":3959726.3,"d":"3,959,726.3"},{"v":2468,"d":"2,468"},{"v":812889,"d":"812,889.0"},764,{"v":386467,"d":"386,467.0"},323,0,0,{"v":10950,"d":"10,950.0"},3,{"v":2226205,"d":"2,226,205.0"},385,0,0,0,0,{"v":101873,"d":"101,873.0"},286,{"v":9573,"d":"9,573.0"},5,0,0,{"v":1164,"d":"1,164.0"},2,{"v":7189,"d":"7,189.0"},4,{"v":6026,"d":"6,026.0"},11,{"v":104317.7,"d":"104,317.7"},584,0,0,{"v":3438,"d":"3,438.0"},1,{"v":25355.7,"d":"25,355.7"},18,{"v":47501.4,"d":"47,501.4"},42,{"v":194774,"d":"194,774.0"},4,{"v":3193,"d":"3,193.0"},2,0,0,0,0,0,0,0,0,{"v":1103,"d":"1,103.0"},5,0,0,{"v":5902,"d":"5,902.0"},3,{"v":11805.5,"d":"11,805.5"},26]
["화양면 이천리",{"v":3554065,"d":"3,554,065.0"},{"v":2080,"d":"2,080"},{"v":778078,"d":"778,078.0"},763,{"v":111021,"d":"111,021.0"},172,{"v":5849,"d":"5,849.0"},2,{"v":1761,"d":"1,761.0"},1,{"v":2341645,"d":"2,341,645.0"},423,0,0,0,0,{"v":114759,"d":"114,759.0"},310,{"v":444,"d":"444.0"},1,{"v":9352,"d":"9,352.0"},6,{"v":1265,"d":"1,265.0"},2,0,0,{"v":1054,"d":"1,054.0"},2,{"v":146302,"d":"146,302.0"},335,0,0,{"v":4742,"d":"4,742.0"},14,0,0,{"v":19164,"d":"19,164.0"},22,{"v":3481,"d":"3,481.0"},2,0,0,0,0,0,0,0,0,0,0,{"v":992,"d":"992.0"},1,0,0,{"v":1478,"d":"1,478.0"},4,{"v":12678,"d":"12,678.0"},20]
["화양면 옥적리",{"v":11945873.3,"d":"11,945,873.3"},{"v":4845,"d":"4,845"},{"v":1446969,"d":"1,446,969.0"},{"v":1362,"d":"1,362"},{"v":1290014.6,"d":"1,290,014.6"},{"v":1170,"d":"1,170"},{"v":56059,"d":"56,059.0"},9,{"v":31798,"d":"31,798.0"},6,{"v":8301956,"d":"8,301,956.0"},939,0,0,0,0,{"v":124864,"d":"124,864.0"},340,{"v":13000,"d":"13,000.0"},9,{"v":30,"d":"30.0"},1,{"v":2538,"d":"2,538.0"},3,0,0,{"v":4276,"d":"4,276.0"},9,{"v":246392.2,"d":"246,392.2"},712,0,0,{"v":8921,"d":"8,921.0"},5,{"v":60004.4,"d":"60,004.4"},16,{"v":165629.1,"d":"165,629.1"},129,{"v":161919,"d":"161,919.0"},100,0,0,0,0,0,0,0,0,0,0,{"v":1692,"d":"1,692.0"},2,0,0,{"v":16545,"d":"16,545.0"},12,{"v":13266,"d":"13,266.0"},21]
["화양면 화동리",{"v":7419021.7,"d":"7,419,021.7"},{"v":4104,"d":"4,104"},{"v":1061504.7,"d":"1,061,504.7"},{"v":1040,"d":"1,040"},{"v":864472.7,"d":"864,472.7"},822,{"v":1850,"d":"1,850.0"},2,{"v":12543,"d":"12,543.0"},4,{"v":4740885.8,"d":"4,740,885.8"},745,0,0,0,0,{"v":126553.5,"d":"126,553.5"},425,{"v":105496.2,"d":"105,496.2"},24,{"v":33365,"d":"33,365.0"},4,{"v":1088,"d":"1,088.0"},1,{"v":1811,"d":"1,811.0"},1,{"v":5756,"d":"5,756.0"},12,{"v":204779.5,"d":"204,779.5"},683,0,0,0,0,{"v":3568,"d":"3,568.0"},10,{"v":132195.1,"d":"132,195.1"},244,{"v":79538,"d":"79,538.0"},36,0,0,0,0,0,0,0,0,0,0,{"v":2095,"d":"2,095.0"},5,0,0,{"v":22954,"d":"22,954.0"},17,{"v":18566.2,"d":"18,566.2"},29]
["화양면 서촌리",{"v":6223717.7,"d":"6,223,717.7"},{"v":3237,"d":"3,237"},{"v":952353,"d":"952,353.0"},875,{"v":710973,"d":"710,973.0"},693,{"v":10611,"d":"10,611.0"},2,{"v":16806,"d":"16,806.0"},12,{"v":4162365,"d":"4,162,365.0"},556,0,0,0,0,{"v":89299,"d":"89,299.0"},321,{"v":2921,"d":"2,921.0"},1,0,0,0,0,0,0,{"v":1029,"d":"1,029.0"},3,{"v":116996.6,"d":"116,996.6"},580,0,0,{"v":2298,"d":"2,298.0"},1,{"v":1736,"d":"1,736.0"},10,{"v":105848.1,"d":"105,848.1"},137,{"v":18192,"d":"18,192.0"},14,0,0,0,0,0,0,0,0,0,0,{"v":1718,"d":"1,718.0"},5,0,0,{"v":12032,"d":"12,032.0"},12,{"v":18540,"d":"18,540.0"},15]
["화양면 이목리",{"v":8998261,"d":"8,998,261.0"},{"v":4885,"d":"4,885"},{"v":1075545,"d":"1,075,545.0"},{"v":1018,"d":"1,018"},{"v":639652,"d":"639,652.0"},986,0,0,{"v":44312,"d":"44,312.0"},8,{"v":6726583,"d":"6,726,583.0"},{"v":1532,"d":"1,532"},0,0,0,0,{"v":154960,"d":"154,960.0"},434,0,0,{"v":5586,"d":"5,586.0"},7,0,0,0,0,{"v":958,"d":"958.0"},3,{"v":240058,"d":"240,058.0"},783,0,0,{"v":2730,"d":"2,730.0"},16,{"v":205,"d":"205.0"},2,{"v":67408,"d":"67,408.0"},35,{"v":10156,"d":"10,156.0"},8,0,0,0,0,0,0,0,0,0,0,{"v":1344,"d":"1,344.0"},3,0,0,{"v":13686,"d":"13,686.0"},20,{"v":15078,"d":"15,078.0"},30]
["화양면 장수리",{"v":5244685,"d":"5,244,685.0"},{"v":3670,"d":"3,670"},{"v":1164006,"d":"1,164,006.0"},{"v":1169,"d":"1,169"},{"v":301300,"d":"301,300.0"},512,{"v":2420,"d":"2,420.0"},1,{"v":12255,"d":"12,255.0"},10,{"v":3354556,"d":"3,354,556.0"},827,0,0,0,0,{"v":130291,"d":"130,291.0"},431,{"v":370,"d":"370.0"},1,{"v":21516,"d":"21,516.0"},5,0,0,0,0,{"v":1209,"d":"1,209.0"},5,{"v":194783,"d":"194,783.0"},598,0,0,{"v":7575,"d":"7,575.0"},18,0,0,{"v":22526,"d":"22,526.0"},30,0,0,{"v":1524,"d":"1,524.0"},2,0,0,0,0,0,0,0,0,0,0,0,0,{"v":14188,"d":"14,188.0"},23,{"v":16166,"d":"16,166.0"},38]
["화양면 안포리",{"v":12411146.3,"d":"12,411,146.3"},{"v":6879,"d":"6,879"},{"v":1559511.5,"d":"1,559,511.5"},{"v":1765,"d":"1,765"},{"v":783784,"d":"783,784.0"},{"v":1132,"d":"1,132"},{"v":29555,"d":"29,555.0"},7,{"v":51637,"d":"51,637.0"},28,{"v":9127098,"d":"9,127,098.0"},{"v":1801,"d":"1,801"},0,0,0,0,{"v":215543,"d":"215,543.0"},648,{"v":7050,"d":"7,050.0"},2,{"v":6792,"d":"6,792.0"},2,{"v":2857,"d":"2,857.0"},3,{"v":1629,"d":"1,629.0"},1,{"v":8885,"d":"8,885.0"},15,{"v":359752.9,"d":"359,752.9"},{"v":1114,"d":"1,114"},0,0,{"v":7422,"d":"7,422.0"},19,{"v":393,"d":"393.0"},2,{"v":95720.9,"d":"95,720.9"},108,{"v":66302,"d":"66,302.0"},85,{"v":20344,"d":"20,344.0"},13,0,0,0,0,0,0,0,0,{"v":3533,"d":"3,533.0"},5,0,0,{"v":16871,"d":"16,871.0"},31,{"v":46466,"d":"46,466.0"},98]
["남면 우학리",{"v":4512729,"d":"4,512,729.0"},{"v":2773,"d":"2,773"},{"v":1230047,"d":"1,230,047.0"},930,{"v":235308,"d":"235,308.0"},477,0,0,0,0,{"v":2685190,"d":"2,685,190.0"},523,0,0,0,0,{"v":92437,"d":"92,437.0"},346,0,0,{"v":33393,"d":"33,393.0"},6,{"v":54,"d":"54.0"},1,0,0,0,0,{"v":152102,"d":"152,102.0"},420,0,0,{"v":1925,"d":"1,925.0"},8,0,0,{"v":26106,"d":"26,106.0"},20,0,0,{"v":4524,"d":"4,524.0"},3,{"v":926,"d":"926.0"},3,0,0,0,0,0,0,{"v":1523,"d":"1,523.0"},3,0,0,{"v":27528,"d":"27,528.0"},5,{"v":21666,"d":"21,666.0"},28]
["남면 심장리",{"v":4435606,"d":"4,435,606.0"},{"v":2521,"d":"2,521"},{"v":1415368,"d":"1,415,368.0"},955,{"v":122507,"d":"122,507.0"},307,0,0,0,0,{"v":2625292,"d":"2,625,292.0"},423,0,0,0,0,{"v":96108,"d":"96,108.0"},403,{"v":2032,"d":"2,032.0"},1,{"v":4663,"d":"4,663.0"},2,0,0,0,0,{"v":243,"d":"243.0"},1,{"v":113634,"d":"113,634.0"},316,0,0,{"v":4234,"d":"4,234.0"},15,{"v":403,"d":"403.0"},1,{"v":15387,"d":"15,387.0"},16,{"v":582,"d":"582.0"},1,{"v":8684,"d":"8,684.0"},10,0,0,0,0,0,0,0,0,{"v":232,"d":"232.0"},1,0,0,{"v":16265,"d":"16,265.0"},15,{"v":9972,"d":"9,972.0"},54]
["남면 두모리",{"v":11120425,"d":"11,120,425.0"},{"v":3558,"d":"3,558"},{"v":1266068,"d":"1,266,068.0"},{"v":1067,"d":"1,067"},{"v":438058,"d":"438,058.0"},917,0,0,0,0,{"v":9092165,"d":"9,092,165.0"},697,0,0,0,0,{"v":67628,"d":"67,628.0"},254,0,0,{"v":5557,"d":"5,557.0"},5,0,0,0,0,{"v":465,"d":"465.0"},2,{"v":174635,"d":"174,635.0"},471,0,0,{"v":3155,"d":"3,155.0"},9,{"v":12780,"d":"12,780.0"},43,{"v":17309,"d":"17,309.0"},18,{"v":29746,"d":"29,746.0"},40,{"v":400,"d":"400.0"},1,{"v":1484,"d":"1,484.0"},2,0,0,0,0,0,0,{"v":805,"d":"805.0"},1,0,0,{"v":1200,"d":"1,200.0"},3,{"v":8970,"d":"8,970.0"},28]
["남면 유송리",{"v":7687272,"d":"7,687,272.0"},{"v":3247,"d":"3,247"},{"v":1649378,"d":"1,649,378.0"},{"v":1374,"d":"1,374"},{"v":166070,"d":"166,070.0"},423,0,0,0,0,{"v":5615414,"d":"5,615,414.0"},716,0,0,0,0,{"v":90059,"d":"90,059.0"},373,0,0,{"v":12875,"d":"12,875.0"},5,0,0,0,0,{"v":732,"d":"732.0"},2,{"v":94236,"d":"94,236.0"},266,0,0,{"v":7454,"d":"7,454.0"},20,{"v":1015,"d":"1,015.0"},3,{"v":23784,"d":"23,784.0"},29,0,0,0,0,0,0,0,0,0,0,0,0,{"v":317,"d":"317.0"},2,0,0,{"v":12476,"d":"12,476.0"},3,{"v":13462,"d":"13,462.0"},31]
["남면 안도리",{"v":3744761,"d":"3,744,761.0"},{"v":2552,"d":"2,552"},{"v":1131397,"d":"1,131,397.0"},{"v":1212,"d":"1,212"},{"v":55180,"d":"55,180.0"},151,0,0,0,0,{"v":2339157,"d":"2,339,157.0"},566,0,0,0,0,{"v":90524,"d":"90,524.0"},386,0,0,{"v":5182,"d":"5,182.0"},7,0,0,0,0,0,0,{"v":43878,"d":"43,878.0"},142,0,0,{"v":4513,"d":"4,513.0"},5,{"v":390,"d":"390.0"},1,{"v":17466,"d":"17,466.0"},17,0,0,0,0,0,0,0,0,0,0,0,0,{"v":231,"d":"231.0"},1,0,0,{"v":20261,"d":"20,261.0"},40,{"v":36582,"d":"36,582.0"},24]
["남면 연도리",{"v":7097890,"d":"7,097,890.0"},{"v":3485,"d":"3,485"},{"v":1146544,"d":"1,146,544.0"},{"v":1377,"d":"1,377"},{"v":267742,"d":"267,742.0"},626,0,0,{"v":598,"d":"598.0"},1,{"v":5317225,"d":"5,317,225.0"},711,0,0,0,0,{"v":103176,"d":"103,176.0"},469,0,0,{"v":11875,"d":"11,875.0"},9,0,0,0,0,0,0,{"v":108490,"d":"108,490.0"},150,0,0,{"v":3309,"d":"3,309.0"},16,0,0,{"v":21531,"d":"21,531.0"},39,0,0,{"v":9786,"d":"9,786.0"},3,0,0,0,0,0,0,0,0,0,0,0,0,{"v":38318,"d":"38,318.0"},36,{"v":69296,"d":"69,296.0"},48]
["남면 두라리",{"v":1328121,"d":"1,328,121.0"},924,{"v":400690,"d":"400,690.0"},470,{"v":19318,"d":"19,318.0"},58,0,0,0,0,{"v":844388,"d":"844,388.0"},210,0,0,0,0,{"v":30137,"d":"30,137.0"},121,0,0,{"v":6844,"d":"6,844.0"},4,0,0,0,0,0,0,{"v":18156,"d":"18,156.0"},31,0,0,{"v":1233,"d":"1,233.0"},5,0,0,{"v":886,"d":"886.0"},2,{"v":1025,"d":"1,025.0"},3,{"v":195,"d":"195.0"},1,0,0,0,0,0,0,0,0,{"v":1037,"d":"1,037.0"},1,0,0,{"v":1164,"d":"1,164.0"},4,{"v":3048,"d":"3,048.0"},14]
["남면 화태리",{"v":2189331,"d":"2,189,331.0"},{"v":1778,"d":"1,778"},{"v":645342,"d":"645,342.0"},692,{"v":115682,"d":"115,682.0"},225,0,0,0,0,{"v":1252975,"d":"1,252,975.0"},433,0,0,0,0,{"v":59410,"d":"59,410.0"},241,0,0,{"v":12637,"d":"12,637.0"},4,0,0,0,0,0,0,{"v":65315,"d":"65,315.0"},112,0,0,{"v":6159,"d":"6,159.0"},19,0,0,{"v":4965,"d":"4,965.0"},9,{"v":6712,"d":"6,712.0"},9,{"v":2923,"d":"2,923.0"},3,0,0,0,0,0,0,0,0,{"v":544,"d":"544.0"},4,0,0,{"v":6354,"d":"6,354.0"},8,{"v":10313,"d":"10,313.0"},19]
["남면 횡간리",{"v":431660,"d":"431,660.0"},526,{"v":263932,"d":"263,932.0"},308,{"v":7482,"d":"7,482.0"},21,0,0,0,0,{"v":114747,"d":"114,747.0"},32,0,0,0,0,{"v":19294,"d":"19,294.0"},104,0,0,{"v":4408,"d":"4,408.0"},4,0,0,0,0,0,0,{"v":8244,"d":"8,244.0"},9,0,0,{"v":1599,"d":"1,599.0"},7,{"v":129,"d":"129.0"},1,{"v":254,"d":"254.0"},1,{"v":43,"d":"43.0"},1,0,0,0,0,0,0,0,0,0,0,{"v":128,"d":"128.0"},1,0,0,{"v":2942,"d":"2,942.0"},13,{"v":8458,"d":"8,458.0"},24]
["화정면 백야리",{"v":3058890,"d":"3,058,890.0"},{"v":2101,"d":"2,101"},{"v":880672,"d":"880,672.0"},855,{"v":152301,"d":"152,301.0"},204,0,0,{"v":1208,"d":"1,208.0"},1,{"v":1836525,"d":"1,836,525.0"},470,0,0,0,0,{"v":84334,"d":"84,334.0"},268,0,0,{"v":16874,"d":"16,874.0"},4,0,0,0,0,0,0,{"v":51357,"d":"51,357.0"},257,0,0,{"v":3313,"d":"3,313.0"},11,0,0,{"v":1706,"d":"1,706.0"},2,{"v":1513,"d":"1,513.0"},2,{"v":9763,"d":"9,763.0"},3,0,0,0,0,0,0,0,0,{"v":1892,"d":"1,892.0"},4,0,0,{"v":4530,"d":"4,530.0"},4,{"v":12902,"d":"12,902.0"},16]
["화정면 월호리",{"v":2023140,"d":"2,023,140.0"},{"v":1046,"d":"1,046"},{"v":636729,"d":"636,729.0"},514,{"v":41547,"d":"41,547.0"},80,0,0,0,0,{"v":1254387,"d":"1,254,387.0"},240,0,0,0,0,{"v":39814,"d":"39,814.0"},137,0,0,{"v":7999,"d":"7,999.0"},3,0,0,0,0,0,0,{"v":21946,"d":"21,946.0"},34,0,0,{"v":1909,"d":"1,909.0"},10,0,0,{"v":2956,"d":"2,956.0"},6,{"v":40,"d":"40.0"},1,{"v":1561,"d":"1,561.0"},3,0,0,0,0,0,0,0,0,0,0,0,0,{"v":1818,"d":"1,818.0"},4,{"v":12434,"d":"12,434.0"},14]
["화정면 개도리",{"v":9728737,"d":"9,728,737.0"},{"v":4573,"d":"4,573"},{"v":1574114,"d":"1,574,114.0"},{"v":1504,"d":"1,504"},{"v":461036,"d":"461,036.0"},459,0,0,0,0,{"v":7082662,"d":"7,082,662.0"},{"v":1358,"d":"1,358"},0,0,0,0,{"v":139000,"d":"139,000.0"},514,0,0,{"v":19803,"d":"19,803.0"},4,0,0,0,0,0,0,{"v":214861,"d":"214,861.0"},574,0,0,{"v":21970,"d":"21,970.0"},17,0,0,{"v":86466,"d":"86,466.0"},50,{"v":63652,"d":"63,652.0"},19,{"v":19921,"d":"19,921.0"},17,0,0,0,0,0,0,0,0,{"v":1336,"d":"1,336.0"},4,0,0,{"v":12085,"d":"12,085.0"},11,{"v":31831,"d":"31,831.0"},42]
["화정면 제도리",{"v":1098088,"d":"1,098,088.0"},810,{"v":366730,"d":"366,730.0"},308,{"v":51007,"d":"51,007.0"},80,0,0,{"v":1719,"d":"1,719.0"},2,{"v":603017,"d":"603,017.0"},164,0,0,0,0,{"v":34418,"d":"34,418.0"},105,0,0,{"v":81,"d":"81.0"},3,0,0,0,0,0,0,{"v":16816,"d":"16,816.0"},109,0,0,{"v":2932,"d":"2,932.0"},9,0,0,{"v":4572,"d":"4,572.0"},3,{"v":1842,"d":"1,842.0"},1,0,0,0,0,0,0,0,0,0,0,0,0,0,0,{"v":3114,"d":"3,114.0"},10,{"v":11840,"d":"11,840.0"},16]
["화정면 상화리",{"v":672426,"d":"672,426.0"},577,{"v":301408,"d":"301,408.0"},342,{"v":5980,"d":"5,980.0"},17,0,0,0,0,{"v":325737,"d":"325,737.0"},109,0,0,0,0,{"v":20999,"d":"20,999.0"},82,0,0,{"v":54,"d":"54.0"},1,0,0,0,0,0,0,{"v":11087,"d":"11,087.0"},10,0,0,{"v":1519,"d":"1,519.0"},4,0,0,0,0,0,0,0,0,0,0,0,0,0,0,0,0,{"v":1117,"d":"1,117.0"},1,0,0,{"v":2446,"d":"2,446.0"},8,{"v":2079,"d":"2,079.0"},3]
["화정면 하화리",{"v":673278,"d":"673,278.0"},535,{"v":256302,"d":"256,302.0"},288,{"v":2435,"d":"2,435.0"},15,0,0,0,0,{"v":369876,"d":"369,876.0"},116,0,0,0,0,{"v":17529,"d":"17,529.0"},66,0,0,{"v":1908,"d":"1,908.0"},3,0,0,0,0,0,0,{"v":4531,"d":"4,531.0"},12,0,0,{"v":606,"d":"606.0"},5,0,0,{"v":9045,"d":"9,045.0"},8,0,0,0,0,0,0,0,0,0,0,0,0,0,0,0,0,{"v":7061,"d":"7,061.0"},13,{"v":3985,"d":"3,985.0"},9]
["화정면 낭도리",{"v":5608745,"d":"5,608,745.0"},{"v":3251,"d":"3,251"},{"v":1443180,"d":"1,443,180.0"},{"v":1572,"d":"1,572"},{"v":155524,"d":"155,524.0"},209,{"v":1895,"d":"1,895.0"},2,0,0,{"v":3708952,"d":"3,708,952.0"},745,0,0,{"v":8625,"d":"8,625.0"},2,{"v":72869,"d":"72,869.0"},361,0,0,{"v":33324,"d":"33,324.0"},13,0,0,0,0,{"v":395,"d":"395.0"},1,{"v":57290,"d":"57,290.0"},212,0,0,{"v":10962,"d":"10,962.0"},17,{"v":11323,"d":"11,323.0"},5,{"v":25833,"d":"25,833.0"},27,{"v":7590,"d":"7,590.0"},3,0,0,0,0,0,0,0,0,0,0,{"v":753,"d":"753.0"},2,0,0,{"v":20087,"d":"20,087.0"},37,{"v":50143,"d":"50,143.0"},43]
["화정면 조발리",{"v":1941156,"d":"1,941,156.0"},962,{"v":344423,"d":"344,423.0"},409,{"v":17238,"d":"17,238.0"},32,0,0,0,0,{"v":1532129,"d":"1,532,129.0"},339,0,0,0,0,{"v":23495,"d":"23,495.0"},120,0,0,{"v":2465,"d":"2,465.0"},5,0,0,0,0,0,0,{"v":13072,"d":"13,072.0"},26,0,0,{"v":616,"d":"616.0"},6,0,0,{"v":1074,"d":"1,074.0"},5,0,0,0,0,0,0,0,0,0,0,0,0,0,0,0,0,{"v":3829,"d":"3,829.0"},10,{"v":2815,"d":"2,815.0"},10]
["화정면 적금리",{"v":855046,"d":"855,046.0"},{"v":1187,"d":"1,187"},{"v":556292,"d":"556,292.0"},789,{"v":17487,"d":"17,487.0"},24,0,0,0,0,{"v":157636,"d":"157,636.0"},66,0,0,0,0,{"v":48700,"d":"48,700.0"},189,0,0,{"v":4543,"d":"4,543.0"},5,0,0,0,0,0,0,{"v":18639,"d":"18,639.0"},11,0,0,{"v":1318,"d":"1,318.0"},5,{"v":4642,"d":"4,642.0"},11,{"v":790,"d":"790.0"},1,0,0,0,0,0,0,0,0,0,0,0,0,0,0,0,0,{"v":40152,"d":"40,152.0"},72,{"v":4847,"d":"4,847.0"},14]
["화정면 여자리",{"v":694152,"d":"694,152.0"},847,{"v":365177,"d":"365,177.0"},409,{"v":7848,"d":"7,848.0"},10,0,0,0,0,{"v":213155,"d":"213,155.0"},109,0,0,0,0,{"v":45085,"d":"45,085.0"},188,0,0,{"v":8371,"d":"8,371.0"},3,0,0,0,0,0,0,{"v":26673,"d":"26,673.0"},56,0,0,{"v":2998,"d":"2,998.0"},10,0,0,{"v":1656,"d":"1,656.0"},1,0,0,{"v":662,"d":"662.0"},1,0,0,0,0,0,0,0,0,{"v":2273,"d":"2,273.0"},2,0,0,{"v":13946,"d":"13,946.0"},43,{"v":6308,"d":"6,308.0"},15]
["삼산면 거문리",{"v":934124,"d":"934,124.0"},681,{"v":106524,"d":"106,524.0"},157,0,0,0,0,0,0,{"v":737137,"d":"737,137.0"},123,0,0,0,0,{"v":44025,"d":"44,025.0"},347,0,0,{"v":6338,"d":"6,338.0"},2,0,0,0,0,0,0,{"v":14267,"d":"14,267.0"},30,0,0,{"v":4275,"d":"4,275.0"},5,0,0,0,0,0,0,0,0,0,0,0,0,0,0,0,0,{"v":208,"d":"208.0"},1,0,0,{"v":641,"d":"641.0"},2,{"v":20709,"d":"20,709.0"},14]
["삼산면 덕촌리",{"v":3849842,"d":"3,849,842.0"},{"v":2533,"d":"2,533"},{"v":571632,"d":"571,632.0"},801,{"v":22013,"d":"22,013.0"},89,{"v":981,"d":"981.0"},1,0,0,{"v":2795389,"d":"2,795,389.0"},{"v":1101,"d":"1,101"},0,0,0,0,{"v":89867,"d":"89,867.0"},381,0,0,{"v":17072,"d":"17,072.0"},3,0,0,0,0,{"v":612,"d":"612.0"},1,{"v":52240,"d":"52,240.0"},93,0,0,{"v":1687,"d":"1,687.0"},3,{"v":1127,"d":"1,127.0"},6,{"v":6576,"d":"6,576.0"},5,{"v":1404,"d":"1,404.0"},2,0,0,0,0,0,0,0,0,0,0,0,0,0,0,{"v":268109,"d":"268,109.0"},37,{"v":21133,"d":"21,133.0"},10]
["삼산면 서도리",{"v":3430497,"d":"3,430,497.0"},{"v":2500,"d":"2,500"},{"v":704909,"d":"704,909.0"},{"v":1028,"d":"1,028"},{"v":28626,"d":"28,626.0"},93,0,0,0,0,{"v":2426864,"d":"2,426,864.0"},691,0,0,0,0,{"v":71555,"d":"71,555.0"},377,0,0,{"v":7708,"d":"7,708.0"},6,0,0,0,0,0,0,{"v":52908,"d":"52,908.0"},103,0,0,{"v":2707,"d":"2,707.0"},6,0,0,{"v":6271,"d":"6,271.0"},5,{"v":122,"d":"122.0"},1,{"v":3702,"d":"3,702.0"},4,0,0,0,0,0,0,0,0,{"v":539,"d":"539.0"},4,0,0,{"v":55427,"d":"55,427.0"},111,{"v":69159,"d":"69,159.0"},71]
["삼산면 동도리",{"v":4565912,"d":"4,565,912.0"},{"v":2618,"d":"2,618"},{"v":874710,"d":"874,710.0"},{"v":1130,"d":"1,130"},{"v":6382,"d":"6,382.0"},27,0,0,0,0,{"v":3447411,"d":"3,447,411.0"},910,0,0,0,0,{"v":65256,"d":"65,256.0"},336,0,0,{"v":7242,"d":"7,242.0"},5,0,0,0,0,0,0,{"v":34586,"d":"34,586.0"},44,0,0,{"v":11599,"d":"11,599.0"},10,0,0,{"v":12089,"d":"12,089.0"},9,{"v":1878,"d":"1,878.0"},1,{"v":6222,"d":"6,222.0"},5,0,0,0,0,0,0,0,0,{"v":225,"d":"225.0"},1,0,0,{"v":81359,"d":"81,359.0"},105,{"v":16953,"d":"16,953.0"},35]
["삼산면 초도리",{"v":8557524,"d":"8,557,524.0"},{"v":3723,"d":"3,723"},{"v":1642254,"d":"1,642,254.0"},{"v":1569,"d":"1,569"},{"v":186959,"d":"186,959.0"},350,0,0,{"v":61489,"d":"61,489.0"},5,{"v":6270624,"d":"6,270,624.0"},968,0,0,0,0,{"v":124669,"d":"124,669.0"},418,0,0,{"v":23337,"d":"23,337.0"},5,0,0,0,0,{"v":156,"d":"156.0"},1,{"v":177356,"d":"177,356.0"},359,0,0,{"v":7593,"d":"7,593.0"},13,0,0,{"v":10019,"d":"10,019.0"},8,0,0,{"v":794,"d":"794.0"},2,0,0,0,0,0,0,0,0,{"v":793,"d":"793.0"},2,0,0,{"v":12496,"d":"12,496.0"},1,{"v":38985,"d":"38,985.0"},22]
["삼산면 손죽리",{"v":6207214,"d":"6,207,214.0"},{"v":1953,"d":"1,953"},{"v":903206,"d":"903,206.0"},{"v":1014,"d":"1,014"},{"v":41528,"d":"41,528.0"},119,0,0,{"v":20002,"d":"20,002.0"},1,{"v":5058865,"d":"5,058,865.0"},440,0,0,0,0,{"v":86035,"d":"86,035.0"},302,0,0,{"v":10215,"d":"10,215.0"},4,0,0,0,0,0,0,{"v":60428,"d":"60,428.0"},36,0,0,{"v":1024,"d":"1,024.0"},5,{"v":297,"d":"297.0"},2,{"v":13491,"d":"13,491.0"},8,{"v":893,"d":"893.0"},1,0,0,0,0,0,0,0,0,0,0,{"v":198,"d":"198.0"},1,0,0,{"v":3968,"d":"3,968.0"},4,{"v":7064,"d":"7,064.0"},16]

{"sheet":"행정동(2014.12월말)","index":1,"n_rows":33,"n_cols":59,"rows_kept":33,"merged":[[0,0,0,12],[3,0,4,0],[3,1,3,2],[3,3,3,4],[3,5,3,6],[3,7,3,8],[3,9,3,10],[3,11,3,12],[3,13,3,14],[3,15,3,16],[3,17,3,18],[3,19,3,20],[3,21,3,22],[3,23,3,24],[3,27,3,28],[3,29,3,30],[3,31,3,32],[3,33,3,34],[3,35,3,36],[3,37,3,38],[3,39,3,40],[3,41,3,42],[3,43,3,44],[3,45,3,46],[3,47,3,48],[3,49,3,50],[3,51,3,52],[3,53,3,54],[3,55,3,56],[3,57,3,58]]}
["여수시 지적(地籍) 통계 현황"]
[]
["(기준일자 : 2014. 12. 31. /  단위 : 필지, ㎡)"]
["구    분","합      계",null,"전",null,"답",null,"과수원",null,"목장용지",null,"임야",null,"광천지",null,"염전",null,"대",null,"공장용지",null,"학교용지",null,"주차장",null,"주유소용지",null,"창고용지",null,"도로",null,"철도용지",null,"제방",null,"하천",null,"구거",null,"유지",null,"양어장",null,"수도용지",null,"공원",null,"체육용지",null,"유원지",null,"종교용지",null,"사적지",null,"묘지",null,"잡종지"]
[null,"면  적","지번수","면  적","지번수","면  적","지번수","면  적","지번수","면  적","지번수","면  적","지번수","면  적","지번수","면  적","지번수","면  적","지번수","면  적","지번수","면  적","지번수","면  적","지번수","면  적","지번수","면  적","지번수","면  적","지번수","면  적","지번수","면  적","지번수","면  적","지번수","면  적","지번수","면  적","지번수","면  적","지번수","면  적","지번수","면  적","지번수","면  적","지번수","면  적","지번수","면  적","지번수","면  적","지번수","면  적","지번수","면  적","지번수"]
["합  계",{"$f":"SUM(B7:B33)","v":{"v":508836884.3000001,"d":"508,836,884.3"}},{"$f":"SUM(C7:C33)","v":{"v":309282,"d":"309,282"}},{"v":66385322.5,"d":"66,385,322.50"},{"v":74227,"d":"74,227"},{"v":41244470.8,"d":"41,244,470.80"},{"v":46273,"d":"46,273"},{"v":561258,"d":"561,258.00"},203,{"v":1855401,"d":"1,855,401.00"},516,{"v":305225765.49999994,"d":"305,225,765.50"},{"v":54199,"d":"54,199"},0,0,{"v":10562,"d":"10,562.00"},6,{"v":22213345.099999998,"d":"22,213,345.10"},{"v":65905,"d":"65,905"},{"v":19766125.299999997,"d":"19,766,125.30"},{"v":1268,"d":"1,268"},{"v":2005052.1,"d":"2,005,052.10"},369,{"v":421874.3,"d":"421,874.30"},430,{"v":504572.20000000007,"d":"504,572.20"},246,{"v":272901.60000000003,"d":"272,901.60"},402,{"v":20346112.799999997,"d":"20,346,112.80"},{"v":48670,"d":"48,670"},{"v":1029622.2,"d":"1,029,622.20"},884,{"$f":"SUM(AH7:AH33)","v":{"v":661176.9,"d":"661,176.90"}},782,{"v":2524558.9,"d":"2,524,558.90"},962,{"v":4663201.699999999,"d":"4,663,201.70"},{"v":4774,"d":"4,774"},{"v":2805965.9000000004,"d":"2,805,965.90"},{"v":1416,"d":"1,416"},{"v":238838.1,"d":"238,838.10"},157,{"v":464351.9,"d":"464,351.90"},399,{"v":1803193.5,"d":"1,803,193.50"},307,{"v":1595435.1,"d":"1,595,435.10"},50,{"v":263794.9,"d":"263,794.90"},4,{"v":420205.0999999999,"d":"420,205.10"},449,{"v":20795,"d":"20,795.00"},15,{"v":1816520,"d":"1,816,520.00"},{"v":1911,"d":"1,911"},{"v":9716461.900000002,"d":"9,716,461.90"},{"v":4458,"d":"4,458"}]
["돌산읍",{"$f":"SUM('법정동(2014.12월말)'!B58:B67)","v":{"v":71912674.6,"d":"71,912,674.6"}},{"$f":"SUM('법정동(2014.12월말)'!C58:C67)","v":{"v":45171,"d":"45,171"}},{"$f":"SUM('법정동(2014.12월말)'!D58:D67)","v":{"v":10450687.7,"d":"10,450,687.70"}},{"$f":"SUM('법정동(2014.12월말)'!E58:E67)","v":{"v":11389,"d":"11,389"}},{"$f":"SUM('법정동(2014.12월말)'!F58:F67)","v":{"v":4985933.2,"d":"4,985,933.20"}},{"$f":"SUM('법정동(2014.12월말)'!G58:G67)","v":{"v":6316,"d":"6,316"}},{"$f":"SUM('법정동(2014.12월말)'!H58:H67)","v":{"v":95111,"d":"95,111.00"}},{"$f":"SUM('법정동(2014.12월말)'!I58:I67)","v":25},{"$f":"SUM('법정동(2014.12월말)'!J58:J67)","v":{"v":1007595,"d":"1,007,595.00"}},{"$f":"SUM('법정동(2014.12월말)'!K58:K67)","v":65},{"$f":"SUM('법정동(2014.12월말)'!L58:L67)","v":{"v":48104974,"d":"48,104,974.00"}},{"$f":"SUM('법정동(2014.12월말)'!M58:M67)","v":{"v":8861,"d":"8,861"}},{"$f":"SUM('법정동(2014.12월말)'!N58:N67)","v":0},{"$f":"SUM('법정동(2014.12월말)'!O58:O67)","v":0},{"$f":"SUM('법정동(2014.12월말)'!P58:P67)","v":0},{"$f":"SUM('법정동(2014.12월말)'!Q58:Q67)","v":0},{"$f":"SUM('법정동(2014.12월말)'!R58:R67)","v":{"v":2230056.9,"d":"2,230,056.90"}},{"$f":"SUM('법정동(2014.12월말)'!S58:S67)","v":{"v":7024,"d":"7,024"}},{"$f":"SUM('법정동(2014.12월말)'!T58:T67)","v":{"v":56279.7,"d":"56,279.70"}},{"$f":"SUM('법정동(2014.12월말)'!U58:U67)","v":55},{"$f":"SUM('법정동(2014.12월말)'!V58:V67)","v":{"v":172181.5,"d":"172,181.50"}},{"$f":"SUM('법정동(2014.12월말)'!W58:W67)","v":43},{"$f":"SUM('법정동(2014.12월말)'!X58:X67)","v":{"v":7090.6,"d":"7,090.60"}},{"$f":"SUM('법정동(2014.12월말)'!Y58:Y67)","v":13},{"$f":"SUM('법정동(2014.12월말)'!Z58:Z67)","v":{"v":7884,"d":"7,884.00"}},{"$f":"SUM('법정동(2014.12월말)'!AA58:AA67)","v":17},{"$f":"SUM('법정동(2014.12월말)'!AB58:AB67)","v":{"v":49626.6,"d":"49,626.60"}},{"$f":"SUM('법정동(2014.12월말)'!AC58:AC67)","v":85},{"$f":"SUM('법정동(2014.12월말)'!AD58:AD67)","v":{"v":2344649.6999999997,"d":"2,344,649.70"}},{"$f":"SUM('법정동(2014.12월말)'!AE58:AE67)","v":{"v":8544,"d":"8,544"}},{"$f":"SUM('법정동(2014.12월말)'!AF58:AF67)","v":0},{"$f":"SUM('법정동(2014.12월말)'!AG58:AG67)","v":0},{"$f":"SUM('법정동(2014.12월말)'!AH58:AH67)","v":{"v":94823.29999999999,"d":"94,823.30"}},{"$f":"SUM('법정동(2014.12월말)'!AI58:AI67)","v":191},{"$f":"SUM('법정동(2014.12월말)'!AJ58:AJ67)","v":{"v":59511.3,"d":"59,511.30"}},{"$f":"SUM('법정동(2014.12월말)'!AK58:AK67)","v":87},{"$f":"SUM('법정동(2014.12월말)'!AL58:AL67)","v":{"v":577586.3,"d":"577,586.30"}},{"$f":"SUM('법정동(2014.12월말)'!AM58:AM67)","v":690},{"$f":"SUM('법정동(2014.12월말)'!AN58:AN67)","v":{"v":426972,"d":"426,972.00"}},{"$f":"SUM('법정동(2014.12월말)'!AO58:AO67)","v":352},{"$f":"SUM('법정동(2014.12월말)'!AP58:AP67)","v":{"v":126097.1,"d":"126,097.10"}},{"$f":"SUM('법정동(2014.12월말)'!AQ58:AQ67)","v":73},{"$f":"SUM('법정동(2014.12월말)'!AR58:AR67)","v":{"v":833,"d":"833.00"}},{"$f":"SUM('법정동(2014.12월말)'!AS58:AS67)","v":2},{"$f":"SUM('법정동(2014.12월말)'!AT58:AT67)","v":{"v":56646.3,"d":"56,646.30"}},{"$f":"SUM('법정동(2014.12월말)'!AU58:AU67)","v":12},{"$f":"SUM('법정동(2014.12월말)'!AV58:AV67)","v":0},{"$f":"SUM('법정동(2014.12월말)'!AW58:AW67)","v":0},{"$f":"SUM('법정동(2014.12월말)'!AX58:AX67)","v":{"v":214140.6,"d":"214,140.60"}},{"$f":"SUM('법정동(2014.12월말)'!AY58:AY67)","v":2},{"$f":"SUM('법정동(2014.12월말)'!AZ58:AZ67)","v":{"v":58127.8,"d":"58,127.80"}},{"$f":"SUM('법정동(2014.12월말)'!BA58:BA67)","v":48},{"$f":"SUM('법정동(2014.12월말)'!BB58:BB67)","v":{"v":883,"d":"883.00"}},{"$f":"SUM('법정동(2014.12월말)'!BC58:BC67)","v":4},{"$f":"SUM('법정동(2014.12월말)'!BD58:BD67)","v":{"v":218931,"d":"218,931.00"}},{"$f":"SUM('법정동(2014.12월말)'!BE58:BE67)","v":249},{"$f":"SUM('법정동(2014.12월말)'!BF58:BF67)","v":{"v":566053,"d":"566,053.00"}},{"$f":"SUM('법정동(2014.12월말)'!BG58:BG67)","v":{"v":1024,"d":"1,024"}}]
["소라면",{"$f":"SUM('법정동(2014.12월말)'!B68:B75)","v":{"v":60565200.2,"d":"60,565,200.2"}},{"$f":"SUM('법정동(2014.12월말)'!C68:C75)","v":{"v":34734,"d":"34,734"}},{"$f":"SUM('법정동(2014.12월말)'!D68:D75)","v":{"v":6831707.6,"d":"6,831,707.60"}},{"$f":"SUM('법정동(2014.12월말)'!E68:E75)","v":{"v":7843,"d":"7,843"}},{"$f":"SUM('법정동(2014.12월말)'!F68:F75)","v":{"v":9674307,"d":"9,674,307.00"}},{"$f":"SUM('법정동(2014.12월말)'!G68:G75)","v":{"v":8195,"d":"8,195"}},{"$f":"SUM('법정동(2014.12월말)'!H68:H75)","v":{"v":36007,"d":"36,007.00"}},{"$f":"SUM('법정동(2014.12월말)'!I68:I75)","v":12},{"$f":"SUM('법정동(2014.12월말)'!J68:J75)","v":{"v":161664,"d":"161,664.00"}},{"$f":"SUM('법정동(2014.12월말)'!K68:K75)","v":93},{"$f":"SUM('법정동(2014.12월말)'!L68:L75)","v":{"v":35498298,"d":"35,498,298.00"}},{"$f":"SUM('법정동(2014.12월말)'!M68:M75)","v":{"v":5913,"d":"5,913"}},{"$f":"SUM('법정동(2014.12월말)'!N68:N75)","v":0},{"$f":"SUM('법정동(2014.12월말)'!O68:O75)","v":0},{"$f":"SUM('법정동(2014.12월말)'!P68:P75)","v":0},{"$f":"SUM('법정동(2014.12월말)'!Q68:Q75)","v":0},{"$f":"SUM('법정동(2014.12월말)'!R68:R75)","v":{"v":1827262.1,"d":"1,827,262.10"}},{"$f":"SUM('법정동(2014.12월말)'!S68:S75)","v":{"v":4405,"d":"4,405"}},{"$f":"SUM('법정동(2014.12월말)'!T68:T75)","v":{"v":69337,"d":"69,337.00"}},{"$f":"SUM('법정동(2014.12월말)'!U68:U75)","v":38},{"$f":"SUM('법정동(2014.12월말)'!V68:V75)","v":{"v":102110.7,"d":"102,110.70"}},{"$f":"SUM('법정동(2014.12월말)'!W68:W75)","v":17},{"$f":"SUM('법정동(2014.12월말)'!X68:X75)","v":{"v":51576.1,"d":"51,576.10"}},{"$f":"SUM('법정동(2014.12월말)'!Y68:Y75)","v":55},{"$f":"SUM('법정동(2014.12월말)'!Z68:Z75)","v":{"v":31441.7,"d":"31,441.70"}},{"$f":"SUM('법정동(2014.12월말)'!AA68:AA75)","v":36},{"$f":"SUM('법정동(2014.12월말)'!AB68:AB75)","v":{"v":60514,"d":"60,514.00"}},{"$f":"SUM('법정동(2014.12월말)'!AC68:AC75)","v":84},{"$f":"SUM('법정동(2014.12월말)'!AD68:AD75)","v":{"v":2453382.3,"d":"2,453,382.30"}},{"$f":"SUM('법정동(2014.12월말)'!AE68:AE75)","v":{"v":6084,"d":"6,084"}},{"$f":"SUM('법정동(2014.12월말)'!AF68:AF75)","v":{"v":95043,"d":"95,043.00"}},{"$f":"SUM('법정동(2014.12월말)'!AG68:AG75)","v":60},{"$f":"SUM('법정동(2014.12월말)'!AH68:AH75)","v":{"v":63531.6,"d":"63,531.60"}},{"$f":"SUM('법정동(2014.12월말)'!AI68:AI75)","v":40},{"$f":"SUM('법정동(2014.12월말)'!AJ68:AJ75)","v":{"v":792844.5,"d":"792,844.50"}},{"$f":"SUM('법정동(2014.12월말)'!AK68:AK75)","v":120},{"$f":"SUM('법정동(2014.12월말)'!AL68:AL75)","v":{"v":948935.1000000001,"d":"948,935.10"}},{"$f":"SUM('법정동(2014.12월말)'!AM68:AM75)","v":863},{"$f":"SUM('법정동(2014.12월말)'!AN68:AN75)","v":{"v":951415.6,"d":"951,415.60"}},{"$f":"SUM('법정동(2014.12월말)'!AO68:AO75)","v":188},{"$f":"SUM('법정동(2014.12월말)'!AP68:AP75)","v":{"v":1375,"d":"1,375.00"}},{"$f":"SUM('법정동(2014.12월말)'!AQ68:AQ75)","v":1},{"$f":"SUM('법정동(2014.12월말)'!AR68:AR75)","v":{"v":24714.8,"d":"24,714.80"}},{"$f":"SUM('법정동(2014.12월말)'!AS68:AS75)","v":59},{"$f":"SUM('법정동(2014.12월말)'!AT68:AT75)","v":{"v":145680.8,"d":"145,680.80"}},{"$f":"SUM('법정동(2014.12월말)'!AU68:AU75)","v":52},{"$f":"SUM('법정동(2014.12월말)'!AV68:AV75)","v":{"v":6110,"d":"6,110.00"}},{"$f":"SUM('법정동(2014.12월말)'!AW68:AW75)","v":8},{"$f":"SUM('법정동(2014.12월말)'!AX68:AX75)","v":0},{"$f":"SUM('법정동(2014.12월말)'!AY68:AY75)","v":0},{"$f":"SUM('법정동(2014.12월말)'!AZ68:AZ75)","v":{"v":28872.3,"d":"28,872.30"}},{"$f":"SUM('법정동(2014.12월말)'!BA68:BA75)","v":40},{"$f":"SUM('법정동(2014.12월말)'!BB68:BB75)","v":0},{"$f":"SUM('법정동(2014.12월말)'!BC68:BC75)","v":0},{"$f":"SUM('법정동(2014.12월말)'!BD68:BD75)","v":{"v":348603,"d":"348,603.00"}},{"$f":"SUM('법정동(2014.12월말)'!BE68:BE75)","v":184},{"$f":"SUM('법정동(2014.12월말)'!BF68:BF75)","v":{"v":360467,"d":"360,467.00"}},{"$f":"SUM('법정동(2014.12월말)'!BG68:BG75)","v":344}]
["율촌면",{"$f":"SUM('법정동(2014.12월말)'!B76:B85)","v":{"v":47587550.5,"d":"47,587,550.5"}},{"$f":"SUM('법정동(2014.12월말)'!C76:C85)","v":{"v":31295,"d":"31,295"}},{"$f":"SUM('법정동(2014.12월말)'!D76:D85)","v":{"v":5138727,"d":"5,138,727.00"}},{"$f":"SUM('법정동(2014.12월말)'!E76:E85)","v":{"v":5724,"d":"5,724"}},{"$f":"SUM('법정동(2014.12월말)'!F76:F85)","v":{"v":7868741,"d":"7,868,741.00"}},{"$f":"SUM('법정동(2014.12월말)'!G76:G85)","v":{"v":8093,"d":"8,093"}},{"$f":"SUM('법정동(2014.12월말)'!H76:H85)","v":{"v":228147,"d":"228,147.00"}},{"$f":"SUM('법정동(2014.12월말)'!I76:I85)","v":79},{"$f":"SUM('법정동(2014.12월말)'!J76:J85)","v":{"v":367311,"d":"367,311.00"}},{"$f":"SUM('법정동(2014.12월말)'!K76:K85)","v":239},{"$f":"SUM('법정동(2014.12월말)'!L76:L85)","v":{"v":26810278.1,"d":"26,810,278.10"}},{"$f":"SUM('법정동(2014.12월말)'!M76:M85)","v":{"v":5502,"d":"5,502"}},{"$f":"SUM('법정동(2014.12월말)'!N76:N85)","v":0},{"$f":"SUM('법정동(2014.12월말)'!O76:O85)","v":0},{"$f":"SUM('법정동(2014.12월말)'!P76:P85)","v":{"v":1937,"d":"1,937.00"}},{"$f":"SUM('법정동(2014.12월말)'!Q76:Q85)","v":4},{"$f":"SUM('법정동(2014.12월말)'!R76:R85)","v":{"v":1663155.9,"d":"1,663,155.90"}},{"$f":"SUM('법정동(2014.12월말)'!S76:S85)","v":{"v":3968,"d":"3,968"}},{"$f":"SUM('법정동(2014.12월말)'!T76:T85)","v":{"v":404475.19999999995,"d":"404,475.20"}},{"$f":"SUM('법정동(2014.12월말)'!U76:U85)","v":53},{"$f":"SUM('법정동(2014.12월말)'!V76:V85)","v":{"v":82349,"d":"82,349.00"}},{"$f":"SUM('법정동(2014.12월말)'!W76:W85)","v":17},{"$f":"SUM('법정동(2014.12월말)'!X76:X85)","v":{"v":52811,"d":"52,811.00"}},{"$f":"SUM('법정동(2014.12월말)'!Y76:Y85)","v":31},{"$f":"SUM('법정동(2014.12월말)'!Z76:Z85)","v":{"v":22941,"d":"22,941.00"}},{"$f":"SUM('법정동(2014.12월말)'!AA76:AA85)","v":21},{"$f":"SUM('법정동(2014.12월말)'!AB76:AB85)","v":{"v":30319,"d":"30,319.00"}},{"$f":"SUM('법정동(2014.12월말)'!AC76:AC85)","v":40},{"$f":"SUM('법정동(2014.12월말)'!AD76:AD85)","v":{"v":1898804.1,"d":"1,898,804.10"}},{"$f":"SUM('법정동(2014.12월말)'!AE76:AE85)","v":{"v":5558,"d":"5,558"}},{"$f":"SUM('법정동(2014.12월말)'!AF76:AF85)","v":{"v":166078,"d":"166,078.00"}},{"$f":"SUM('법정동(2014.12월말)'!AG76:AG85)","v":125},{"$f":"SUM('법정동(2014.12월말)'!AH76:AH85)","v":{"v":34135,"d":"34,135.00"}},{"$f":"SUM('법정동(2014.12월말)'!AI76:AI85)","v":32},{"$f":"SUM('법정동(2014.12월말)'!AJ76:AJ85)","v":{"v":183928,"d":"183,928.00"}},{"$f":"SUM('법정동(2014.12월말)'!AK76:AK85)","v":63},{"$f":"SUM('법정동(2014.12월말)'!AL76:AL85)","v":{"v":891790.3,"d":"891,790.30"}},{"$f":"SUM('법정동(2014.12월말)'!AM76:AM85)","v":820},{"$f":"SUM('법정동(2014.12월말)'!AN76:AN85)","v":{"v":341352,"d":"341,352.00"}},{"$f":"SUM('법정동(2014.12월말)'!AO76:AO85)","v":191},{"$f":"SUM('법정동(2014.12월말)'!AP76:AP85)","v":{"v":2992,"d":"2,992.00"}},{"$f":"SUM('법정동(2014.12월말)'!AQ76:AQ85)","v":2},{"$f":"SUM('법정동(2014.12월말)'!AR76:AR85)","v":{"v":90843,"d":"90,843.00"}},{"$f":"SUM('법정동(2014.12월말)'!AS76:AS85)","v":103},{"$f":"SUM('법정동(2014.12월말)'!AT76:AT85)","v":{"v":188670.3,"d":"188,670.30"}},{"$f":"SUM('법정동(2014.12월말)'!AU76:AU85)","v":19},{"$f":"SUM('법정동(2014.12월말)'!AV76:AV85)","v":0},{"$f":"SUM('법정동(2014.12월말)'!AW76:AW85)","v":0},{"$f":"SUM('법정동(2014.12월말)'!AX76:AX85)","v":0},{"$f":"SUM('법정동(2014.12월말)'!AY76:AY85)","v":0},{"$f":"SUM('법정동(2014.12월말)'!AZ76:AZ85)","v":{"v":28673,"d":"28,673.00"}},{"$f":"SUM('법정동(2014.12월말)'!BA76:BA85)","v":31},{"$f":"SUM('법정동(2014.12월말)'!BB76:BB85)","v":0},{"$f":"SUM('법정동(2014.12월말)'!BC76:BC85)","v":0},{"$f":"SUM('법정동(2014.12월말)'!BD76:BD85)","v":{"v":124809,"d":"124,809.00"}},{"$f":"SUM('법정동(2014.12월말)'!BE76:BE85)","v":166},{"$f":"SUM('법정동(2014.12월말)'!BF76:BF85)","v":{"v":964283.6,"d":"964,283.60"}},{"$f":"SUM('법정동(2014.12월말)'!BG76:BG85)","v":414}]
["화양면",{"$f":"SUM('법정동(2014.12월말)'!B86:B95)","v":{"v":70118018.10000001,"d":"70,118,018.1"}},{"$f":"SUM('법정동(2014.12월말)'!C86:C95)","v":{"v":38799,"d":"38,799"}},{"$f":"SUM('법정동(2014.12월말)'!D86:D95)","v":{"v":10692189.2,"d":"10,692,189.20"}},{"$f":"SUM('법정동(2014.12월말)'!E86:E95)","v":{"v":10518,"d":"10,518"}},{"$f":"SUM('법정동(2014.12월말)'!F86:F95)","v":{"v":6029264.7,"d":"6,029,264.70"}},{"$f":"SUM('법정동(2014.12월말)'!G86:G95)","v":{"v":6603,"d":"6,603"}},{"$f":"SUM('법정동(2014.12월말)'!H86:H95)","v":{"v":130112,"d":"130,112.00"}},{"$f":"SUM('법정동(2014.12월말)'!I86:I95)","v":52},{"$f":"SUM('법정동(2014.12월말)'!J86:J95)","v":{"v":215431,"d":"215,431.00"}},{"$f":"SUM('법정동(2014.12월말)'!K86:K95)","v":85},{"$f":"SUM('법정동(2014.12월말)'!L86:L95)","v":{"v":47334041.8,"d":"47,334,041.80"}},{"$f":"SUM('법정동(2014.12월말)'!M86:M95)","v":{"v":8591,"d":"8,591"}},{"$f":"SUM('법정동(2014.12월말)'!N86:N95)","v":0},{"$f":"SUM('법정동(2014.12월말)'!O86:O95)","v":0},{"$f":"SUM('법정동(2014.12월말)'!P86:P95)","v":0},{"$f":"SUM('법정동(2014.12월말)'!Q86:Q95)","v":0},{"$f":"SUM('법정동(2014.12월말)'!R86:R95)","v":{"v":1374886.5,"d":"1,374,886.50"}},{"$f":"SUM('법정동(2014.12월말)'!S86:S95)","v":{"v":4104,"d":"4,104"}},{"$f":"SUM('법정동(2014.12월말)'!T86:T95)","v":{"v":224590.2,"d":"224,590.20"}},{"$f":"SUM('법정동(2014.12월말)'!U86:U95)","v":78},{"$f":"SUM('법정동(2014.12월말)'!V86:V95)","v":{"v":117587,"d":"117,587.00"}},{"$f":"SUM('법정동(2014.12월말)'!W86:W95)","v":38},{"$f":"SUM('법정동(2014.12월말)'!X86:X95)","v":{"v":9889,"d":"9,889.00"}},{"$f":"SUM('법정동(2014.12월말)'!Y86:Y95)","v":14},{"$f":"SUM('법정동(2014.12월말)'!Z86:Z95)","v":{"v":11752,"d":"11,752.00"}},{"$f":"SUM('법정동(2014.12월말)'!AA86:AA95)","v":7},{"$f":"SUM('법정동(2014.12월말)'!AB86:AB95)","v":{"v":43132,"d":"43,132.00"}},{"$f":"SUM('법정동(2014.12월말)'!AC86:AC95)","v":77},{"$f":"SUM('법정동(2014.12월말)'!AD86:AD95)","v":{"v":1998692.6,"d":"1,998,692.60"}},{"$f":"SUM('법정동(2014.12월말)'!AE86:AE95)","v":{"v":6762,"d":"6,762"}},{"$f":"SUM('법정동(2014.12월말)'!AF86:AF95)","v":0},{"$f":"SUM('법정동(2014.12월말)'!AG86:AG95)","v":0},{"$f":"SUM('법정동(2014.12월말)'!AH86:AH95)","v":{"v":48325,"d":"48,325.00"}},{"$f":"SUM('법정동(2014.12월말)'!AI86:AI95)","v":97},{"$f":"SUM('법정동(2014.12월말)'!AJ86:AJ95)","v":{"v":99868.1,"d":"99,868.10"}},{"$f":"SUM('법정동(2014.12월말)'!AK86:AK95)","v":67},{"$f":"SUM('법정동(2014.12월말)'!AL86:AL95)","v":{"v":769704.5,"d":"769,704.50"}},{"$f":"SUM('법정동(2014.12월말)'!AM86:AM95)","v":842},{"$f":"SUM('법정동(2014.12월말)'!AN86:AN95)","v":{"v":564672.8,"d":"564,672.80"}},{"$f":"SUM('법정동(2014.12월말)'!AO86:AO95)","v":271},{"$f":"SUM('법정동(2014.12월말)'!AP86:AP95)","v":{"v":36620,"d":"36,620.00"}},{"$f":"SUM('법정동(2014.12월말)'!AQ86:AQ95)","v":23},{"$f":"SUM('법정동(2014.12월말)'!AR86:AR95)","v":0},{"$f":"SUM('법정동(2014.12월말)'!AS86:AS95)","v":0},{"$f":"SUM('법정동(2014.12월말)'!AT86:AT95)","v":0},{"$f":"SUM('법정동(2014.12월말)'!AU86:AU95)","v":0},{"$f":"SUM('법정동(2014.12월말)'!AV86:AV95)","v":0},{"$f":"SUM('법정동(2014.12월말)'!AW86:AW95)","v":0},{"$f":"SUM('법정동(2014.12월말)'!AX86:AX95)","v":0},{"$f":"SUM('법정동(2014.12월말)'!AY86:AY95)","v":0},{"$f":"SUM('법정동(2014.12월말)'!AZ86:AZ95)","v":{"v":23395,"d":"23,395.00"}},{"$f":"SUM('법정동(2014.12월말)'!BA86:BA95)","v":40},{"$f":"SUM('법정동(2014.12월말)'!BB86:BB95)","v":{"v":6161,"d":"6,161.00"}},{"$f":"SUM('법정동(2014.12월말)'!BC86:BC95)","v":3},{"$f":"SUM('법정동(2014.12월말)'!BD86:BD95)","v":{"v":136049,"d":"136,049.00"}},{"$f":"SUM('법정동(2014.12월말)'!BE86:BE95)","v":161},{"$f":"SUM('법정동(2014.12월말)'!BF86:BF95)","v":{"v":251654.7,"d":"251,654.70"}},{"$f":"SUM('법정동(2014.12월말)'!BG86:BG95)","v":366}]
["남   면",{"$f":"SUM('법정동(2014.12월말)'!B96:B104)","v":{"v":42547795,"d":"42,547,795.0"}},{"$f":"SUM('법정동(2014.12월말)'!C96:C104)","v":{"v":21364,"d":"21,364"}},{"$f":"SUM('법정동(2014.12월말)'!D96:D104)","v":{"v":9148766,"d":"9,148,766.00"}},{"$f":"SUM('법정동(2014.12월말)'!E96:E104)","v":{"v":8385,"d":"8,385"}},{"$f":"SUM('법정동(2014.12월말)'!F96:F104)","v":{"v":1427347,"d":"1,427,347.00"}},{"$f":"SUM('법정동(2014.12월말)'!G96:G104)","v":{"v":3205,"d":"3,205"}},{"$f":"SUM('법정동(2014.12월말)'!H96:H104)","v":0},{"$f":"SUM('법정동(2014.12월말)'!I96:I104)","v":0},{"$f":"SUM('법정동(2014.12월말)'!J96:J104)","v":{"v":598,"d":"598.00"}},{"$f":"SUM('법정동(2014.12월말)'!K96:K104)","v":1},{"$f":"SUM('법정동(2014.12월말)'!L96:L104)","v":{"v":29886553,"d":"29,886,553.00"}},{"$f":"SUM('법정동(2014.12월말)'!M96:M104)","v":{"v":4311,"d":"4,311"}},{"$f":"SUM('법정동(2014.12월말)'!N96:N104)","v":0},{"$f":"SUM('법정동(2014.12월말)'!O96:O104)","v":0},{"$f":"SUM('법정동(2014.12월말)'!P96:P104)","v":0},{"$f":"SUM('법정동(2014.12월말)'!Q96:Q104)","v":0},{"$f":"SUM('법정동(2014.12월말)'!R96:R104)","v":{"v":648773,"d":"648,773.00"}},{"$f":"SUM('법정동(2014.12월말)'!S96:S104)","v":{"v":2697,"d":"2,697"}},{"$f":"SUM('법정동(2014.12월말)'!T96:T104)","v":{"v":2032,"d":"2,032.00"}},{"$f":"SUM('법정동(2014.12월말)'!U96:U104)","v":1},{"$f":"SUM('법정동(2014.12월말)'!V96:V104)","v":{"v":97434,"d":"97,434.00"}},{"$f":"SUM('법정동(2014.12월말)'!W96:W104)","v":46},{"$f":"SUM('법정동(2014.12월말)'!X96:X104)","v":{"v":54,"d":"54.00"}},{"$f":"SUM('법정동(2014.12월말)'!Y96:Y104)","v":1},{"$f":"SUM('법정동(2014.12월말)'!Z96:Z104)","v":0},{"$f":"SUM('법정동(2014.12월말)'!AA96:AA104)","v":0},{"$f":"SUM('법정동(2014.12월말)'!AB96:AB104)","v":{"v":1440,"d":"1,440.00"}},{"$f":"SUM('법정동(2014.12월말)'!AC96:AC104)","v":5},{"$f":"SUM('법정동(2014.12월말)'!AD96:AD104)","v":{"v":778690,"d":"778,690.00"}},{"$f":"SUM('법정동(2014.12월말)'!AE96:AE104)","v":{"v":1917,"d":"1,917"}},{"$f":"SUM('법정동(2014.12월말)'!AF96:AF104)","v":0},{"$f":"SUM('법정동(2014.12월말)'!AG96:AG104)","v":0},{"$f":"SUM('법정동(2014.12월말)'!AH96:AH104)","v":{"v":33581,"d":"33,581.00"}},{"$f":"SUM('법정동(2014.12월말)'!AI96:AI104)","v":104},{"$f":"SUM('법정동(2014.12월말)'!AJ96:AJ104)","v":{"v":14717,"d":"14,717.00"}},{"$f":"SUM('법정동(2014.12월말)'!AK96:AK104)","v":49},{"$f":"SUM('법정동(2014.12월말)'!AL96:AL104)","v":{"v":127688,"d":"127,688.00"}},{"$f":"SUM('법정동(2014.12월말)'!AM96:AM104)","v":151},{"$f":"SUM('법정동(2014.12월말)'!AN96:AN104)","v":{"v":38108,"d":"38,108.00"}},{"$f":"SUM('법정동(2014.12월말)'!AO96:AO104)","v":54},{"$f":"SUM('법정동(2014.12월말)'!AP96:AP104)","v":{"v":26512,"d":"26,512.00"}},{"$f":"SUM('법정동(2014.12월말)'!AQ96:AQ104)","v":21},{"$f":"SUM('법정동(2014.12월말)'!AR96:AR104)","v":{"v":2410,"d":"2,410.00"}},{"$f":"SUM('법정동(2014.12월말)'!AS96:AS104)","v":5},{"$f":"SUM('법정동(2014.12월말)'!AT96:AT104)","v":0},{"$f":"SUM('법정동(2014.12월말)'!AU96:AU104)","v":0},{"$f":"SUM('법정동(2014.12월말)'!AV96:AV104)","v":0},{"$f":"SUM('법정동(2014.12월말)'!AW96:AW104)","v":0},{"$f":"SUM('법정동(2014.12월말)'!AX96:AX104)","v":0},{"$f":"SUM('법정동(2014.12월말)'!AY96:AY104)","v":0},{"$f":"SUM('법정동(2014.12월말)'!AZ96:AZ104)","v":{"v":4817,"d":"4,817.00"}},{"$f":"SUM('법정동(2014.12월말)'!BA96:BA104)","v":14},{"$f":"SUM('법정동(2014.12월말)'!BB96:BB104)","v":0},{"$f":"SUM('법정동(2014.12월말)'!BC96:BC104)","v":0},{"$f":"SUM('법정동(2014.12월말)'!BD96:BD104)","v":{"v":126508,"d":"126,508.00"}},{"$f":"SUM('법정동(2014.12월말)'!BE96:BE104)","v":127},{"$f":"SUM('법정동(2014.12월말)'!BF96:BF104)","v":{"v":181767,"d":"181,767.00"}},{"$f":"SUM('법정동(2014.12월말)'!BG96:BG104)","v":270}]
["화정면",{"$f":"SUM('법정동(2014.12월말)'!B105:B114)","v":{"v":26353658,"d":"26,353,658.0"}},{"$f":"SUM('법정동(2014.12월말)'!C105:C114)","v":{"v":15889,"d":"15,889"}},{"$f":"SUM('법정동(2014.12월말)'!D105:D114)","v":{"v":6725027,"d":"6,725,027.00"}},{"$f":"SUM('법정동(2014.12월말)'!E105:E114)","v":{"v":6990,"d":"6,990"}},{"$f":"SUM('법정동(2014.12월말)'!F105:F114)","v":{"v":912403,"d":"912,403.00"}},{"$f":"SUM('법정동(2014.12월말)'!G105:G114)","v":{"v":1130,"d":"1,130"}},{"$f":"SUM('법정동(2014.12월말)'!H105:H114)","v":{"v":1895,"d":"1,895.00"}},{"$f":"SUM('법정동(2014.12월말)'!I105:I114)","v":2},{"$f":"SUM('법정동(2014.12월말)'!J105:J114)","v":{"v":2927,"d":"2,927.00"}},{"$f":"SUM('법정동(2014.12월말)'!K105:K114)","v":3},{"$f":"SUM('법정동(2014.12월말)'!L105:L114)","v":{"v":17084076,"d":"17,084,076.00"}},{"$f":"SUM('법정동(2014.12월말)'!M105:M114)","v":{"v":3716,"d":"3,716"}},{"$f":"SUM('법정동(2014.12월말)'!N105:N114)","v":0},{"$f":"SUM('법정동(2014.12월말)'!O105:O114)","v":0},{"$f":"SUM('법정동(2014.12월말)'!P105:P114)","v":{"v":8625,"d":"8,625.00"}},{"$f":"SUM('법정동(2014.12월말)'!Q105:Q114)","v":2},{"$f":"SUM('법정동(2014.12월말)'!R105:R114)","v":{"v":526243,"d":"526,243.00"}},{"$f":"SUM('법정동(2014.12월말)'!S105:S114)","v":{"v":2030,"d":"2,030"}},{"$f":"SUM('법정동(2014.12월말)'!T105:T114)","v":0},{"$f":"SUM('법정동(2014.12월말)'!U105:U114)","v":0},{"$f":"SUM('법정동(2014.12월말)'!V105:V114)","v":{"v":95422,"d":"95,422.00"}},{"$f":"SUM('법정동(2014.12월말)'!W105:W114)","v":44},{"$f":"SUM('법정동(2014.12월말)'!X105:X114)","v":0},{"$f":"SUM('법정동(2014.12월말)'!Y105:Y114)","v":0},{"$f":"SUM('법정동(2014.12월말)'!Z105:Z114)","v":0},{"$f":"SUM('법정동(2014.12월말)'!AA105:AA114)","v":0},{"$f":"SUM('법정동(2014.12월말)'!AB105:AB114)","v":{"v":395,"d":"395.00"}},{"$f":"SUM('법정동(2014.12월말)'!AC105:AC114)","v":1},{"$f":"SUM('법정동(2014.12월말)'!AD105:AD114)","v":{"v":436272,"d":"436,272.00"}},{"$f":"SUM('법정동(2014.12월말)'!AE105:AE114)","v":{"v":1301,"d":"1,301"}},{"$f":"SUM('법정동(2014.12월말)'!AF105:AF114)","v":0},{"$f":"SUM('법정동(2014.12월말)'!AG105:AG114)","v":0},{"$f":"SUM('법정동(2014.12월말)'!AH105:AH114)","v":{"v":48143,"d":"48,143.00"}},{"$f":"SUM('법정동(2014.12월말)'!AI105:AI114)","v":94},{"$f":"SUM('법정동(2014.12월말)'!AJ105:AJ114)","v":{"v":15965,"d":"15,965.00"}},{"$f":"SUM('법정동(2014.12월말)'!AK105:AK114)","v":16},{"$f":"SUM('법정동(2014.12월말)'!AL105:AL114)","v":{"v":134098,"d":"134,098.00"}},{"$f":"SUM('법정동(2014.12월말)'!AM105:AM114)","v":103},{"$f":"SUM('법정동(2014.12월말)'!AN105:AN114)","v":{"v":74637,"d":"74,637.00"}},{"$f":"SUM('법정동(2014.12월말)'!AO105:AO114)","v":26},{"$f":"SUM('법정동(2014.12월말)'!AP105:AP114)","v":{"v":31907,"d":"31,907.00"}},{"$f":"SUM('법정동(2014.12월말)'!AQ105:AQ114)","v":24},{"$f":"SUM('법정동(2014.12월말)'!AR105:AR114)","v":0},{"$f":"SUM('법정동(2014.12월말)'!AS105:AS114)","v":0},{"$f":"SUM('법정동(2014.12월말)'!AT105:AT114)","v":0},{"$f":"SUM('법정동(2014.12월말)'!AU105:AU114)","v":0},{"$f":"SUM('법정동(2014.12월말)'!AV105:AV114)","v":0},{"$f":"SUM('법정동(2014.12월말)'!AW105:AW114)","v":0},{"$f":"SUM('법정동(2014.12월말)'!AX105:AX114)","v":0},{"$f":"SUM('법정동(2014.12월말)'!AY105:AY114)","v":0},{"$f":"SUM('법정동(2014.12월말)'!AZ105:AZ114)","v":{"v":7371,"d":"7,371.00"}},{"$f":"SUM('법정동(2014.12월말)'!BA105:BA114)","v":13},{"$f":"SUM('법정동(2014.12월말)'!BB105:BB114)","v":0},{"$f":"SUM('법정동(2014.12월말)'!BC105:BC114)","v":0},{"$f":"SUM('법정동(2014.12월말)'!BD105:BD114)","v":{"v":109068,"d":"109,068.00"}},{"$f":"SUM('법정동(2014.12월말)'!BE105:BE114)","v":212},{"$f":"SUM('법정동(2014.12월말)'!BF105:BF114)","v":{"v":139184,"d":"139,184.00"}},{"$f":"SUM('법정동(2014.12월말)'!BG105:BG114)","v":182}]
["삼산면",{"$f":"SUM('법정동(2014.12월말)'!B115:B120)","v":{"v":27545113,"d":"27,545,113.0"}},{"$f":"SUM('법정동(2014.12월말)'!C115:C120)","v":{"v":14008,"d":"14,008"}},{"$f":"SUM('법정동(2014.12월말)'!D115:D120)","v":{"v":4803235,"d":"4,803,235.00"}},{"$f":"SUM('법정동(2014.12월말)'!E115:E120)","v":{"v":5699,"d":"5,699"}},{"$f":"SUM('법정동(2014.12월말)'!F115:F120)","v":{"v":285508,"d":"285,508.00"}},{"$f":"SUM('법정동(2014.12월말)'!G115:G120)","v":678},{"$f":"SUM('법정동(2014.12월말)'!H115:H120)","v":{"v":981,"d":"981.00"}},{"$f":"SUM('법정동(2014.12월말)'!I115:I120)","v":1},{"$f":"SUM('법정동(2014.12월말)'!J115:J120)","v":{"v":81491,"d":"81,491.00"}},{"$f":"SUM('법정동(2014.12월말)'!K115:K120)","v":6},{"$f":"SUM('법정동(2014.12월말)'!L115:L120)","v":{"v":20736290,"d":"20,736,290.00"}},{"$f":"SUM('법정동(2014.12월말)'!M115:M120)","v":{"v":4233,"d":"4,233"}},{"$f":"SUM('법정동(2014.12월말)'!N115:N120)","v":0},{"$f":"SUM('법정동(2014.12월말)'!O115:O120)","v":0},{"$f":"SUM('법정동(2014.12월말)'!P115:P120)","v":0},{"$f":"SUM('법정동(2014.12월말)'!Q115:Q120)","v":0},{"$f":"SUM('법정동(2014.12월말)'!R115:R120)","v":{"v":481407,"d":"481,407.00"}},{"$f":"SUM('법정동(2014.12월말)'!S115:S120)","v":{"v":2161,"d":"2,161"}},{"$f":"SUM('법정동(2014.12월말)'!T115:T120)","v":0},{"$f":"SUM('법정동(2014.12월말)'!U115:U120)","v":0},{"$f":"SUM('법정동(2014.12월말)'!V115:V120)","v":{"v":71912,"d":"71,912.00"}},{"$f":"SUM('법정동(2014.12월말)'!W115:W120)","v":25},{"$f":"SUM('법정동(2014.12월말)'!X115:X120)","v":0},{"$f":"SUM('법정동(2014.12월말)'!Y115:Y120)","v":0},{"$f":"SUM('법정동(2014.12월말)'!Z115:Z120)","v":0},{"$f":"SUM('법정동(2014.12월말)'!AA115:AA120)","v":0},{"$f":"SUM('법정동(2014.12월말)'!AB115:AB120)","v":{"v":768,"d":"768.00"}},{"$f":"SUM('법정동(2014.12월말)'!AC115:AC120)","v":2},{"$f":"SUM('법정동(2014.12월말)'!AD115:AD120)","v":{"v":391785,"d":"391,785.00"}},{"$f":"SUM('법정동(2014.12월말)'!AE115:AE120)","v":665},{"$f":"SUM('법정동(2014.12월말)'!AF115:AF120)","v":0},{"$f":"SUM('법정동(2014.12월말)'!AG115:AG120)","v":0},{"$f":"SUM('법정동(2014.12월말)'!AH115:AH120)","v":{"v":28885,"d":"28,885.00"}},{"$f":"SUM('법정동(2014.12월말)'!AI115:AI120)","v":42},{"$f":"SUM('법정동(2014.12월말)'!AJ115:AJ120)","v":{"v":1424,"d":"1,424.00"}},{"$f":"SUM('법정동(2014.12월말)'!AK115:AK120)","v":8},{"$f":"SUM('법정동(2014.12월말)'!AL115:AL120)","v":{"v":48446,"d":"48,446.00"}},{"$f":"SUM('법정동(2014.12월말)'!AM115:AM120)","v":35},{"$f":"SUM('법정동(2014.12월말)'!AN115:AN120)","v":{"v":4297,"d":"4,297.00"}},{"$f":"SUM('법정동(2014.12월말)'!AO115:AO120)","v":5},{"$f":"SUM('법정동(2014.12월말)'!AP115:AP120)","v":{"v":10718,"d":"10,718.00"}},{"$f":"SUM('법정동(2014.12월말)'!AQ115:AQ120)","v":11},{"$f":"SUM('법정동(2014.12월말)'!AR115:AR120)","v":0},{"$f":"SUM('법정동(2014.12월말)'!AS115:AS120)","v":0},{"$f":"SUM('법정동(2014.12월말)'!AT115:AT120)","v":0},{"$f":"SUM('법정동(2014.12월말)'!AU115:AU120)","v":0},{"$f":"SUM('법정동(2014.12월말)'!AV115:AV120)","v":0},{"$f":"SUM('법정동(2014.12월말)'!AW115:AW120)","v":0},{"$f":"SUM('법정동(2014.12월말)'!AX115:AX120)","v":0},{"$f":"SUM('법정동(2014.12월말)'!AY115:AY120)","v":0},{"$f":"SUM('법정동(2014.12월말)'!AZ115:AZ120)","v":{"v":1963,"d":"1,963.00"}},{"$f":"SUM('법정동(2014.12월말)'!BA115:BA120)","v":9},{"$f":"SUM('법정동(2014.12월말)'!BB115:BB120)","v":0},{"$f":"SUM('법정동(2014.12월말)'!BC115:BC120)","v":0},{"$f":"SUM('법정동(2014.12월말)'!BD115:BD120)","v":{"v":422000,"d":"422,000.00"}},{"$f":"SUM('법정동(2014.12월말)'!BE115:BE120)","v":260},{"$f":"SUM('법정동(2014.12월말)'!BF115:BF120)","v":{"v":174003,"d":"174,003.00"}},{"$f":"SUM('법정동(2014.12월말)'!BG115:BG120)","v":168}]
["동문동",{"$f":"SUM('법정동(2014.12월말)'!B7,'법정동(2014.12월말)'!B10,'법정동(2014.12월말)'!B12)","v":{"v":930828,"d":"930,828.0"}},{"$f":"SUM('법정동(2014.12월말)'!C7,'법정동(2014.12월말)'!C10,'법정동(2014.12월말)'!C12)","v":{"v":4440,"d":"4,440"}},{"$f":"SUM('법정동(2014.12월말)'!D7,'법정동(2014.12월말)'!D10,'법정동(2014.12월말)'!D12)","v":{"v":103774,"d":"103,774.00"}},{"$f":"SUM('법정동(2014.12월말)'!E7,'법정동(2014.12월말)'!E10,'법정동(2014.12월말)'!E12)","v":332},{"$f":"SUM('법정동(2014.12월말)'!F7,'법정동(2014.12월말)'!F10,'법정동(2014.12월말)'!F12)","v":{"v":4253,"d":"4,253.00"}},{"$f":"SUM('법정동(2014.12월말)'!G7,'법정동(2014.12월말)'!G10,'법정동(2014.12월말)'!G12)","v":23},{"$f":"SUM('법정동(2014.12월말)'!H7,'법정동(2014.12월말)'!H10,'법정동(2014.12월말)'!H12)","v":0},{"$f":"SUM('법정동(2014.12월말)'!I7,'법정동(2014.12월말)'!I10,'법정동(2014.12월말)'!I12)","v":0},{"$f":"SUM('법정동(2014.12월말)'!J7,'법정동(2014.12월말)'!J10,'법정동(2014.12월말)'!J12)","v":0},{"$f":"SUM('법정동(2014.12월말)'!K7,'법정동(2014.12월말)'!K10,'법정동(2014.12월말)'!K12)","v":0},{"$f":"SUM('법정동(2014.12월말)'!L7,'법정동(2014.12월말)'!L10,'법정동(2014.12월말)'!L12)","v":{"v":153430,"d":"153,430.00"}},{"$f":"SUM('법정동(2014.12월말)'!M7,'법정동(2014.12월말)'!M10,'법정동(2014.12월말)'!M12)","v":102},{"$f":"SUM('법정동(2014.12월말)'!N7,'법정동(2014.12월말)'!N10,'법정동(2014.12월말)'!N12)","v":0},{"$f":"SUM('법정동(2014.12월말)'!O7,'법정동(2014.12월말)'!O10,'법정동(2014.12월말)'!O12)","v":0},{"$f":"SUM('법정동(2014.12월말)'!P7,'법정동(2014.12월말)'!P10,'법정동(2014.12월말)'!P12)","v":0},{"$f":"SUM('법정동(2014.12월말)'!Q7,'법정동(2014.12월말)'!Q10,'법정동(2014.12월말)'!Q12)","v":0},{"$f":"SUM('법정동(2014.12월말)'!R7,'법정동(2014.12월말)'!R10,'법정동(2014.12월말)'!R12)","v":{"v":340158,"d":"340,158.00"}},{"$f":"SUM('법정동(2014.12월말)'!S7,'법정동(2014.12월말)'!S10,'법정동(2014.12월말)'!S12)","v":{"v":3168,"d":"3,168"}},{"$f":"SUM('법정동(2014.12월말)'!T7,'법정동(2014.12월말)'!T10,'법정동(2014.12월말)'!T12)","v":0},{"$f":"SUM('법정동(2014.12월말)'!U7,'법정동(2014.12월말)'!U10,'법정동(2014.12월말)'!U12)","v":0},{"$f":"SUM('법정동(2014.12월말)'!V7,'법정동(2014.12월말)'!V10,'법정동(2014.12월말)'!V12)","v":{"v":76108,"d":"76,108.00"}},{"$f":"SUM('법정동(2014.12월말)'!W7,'법정동(2014.12월말)'!W10,'법정동(2014.12월말)'!W12)","v":8},{"$f":"SUM('법정동(2014.12월말)'!X7,'법정동(2014.12월말)'!X10,'법정동(2014.12월말)'!X12)","v":{"v":1625,"d":"1,625.00"}},{"$f":"SUM('법정동(2014.12월말)'!Y7,'법정동(2014.12월말)'!Y10,'법정동(2014.12월말)'!Y12)","v":11},{"$f":"SUM('법정동(2014.12월말)'!Z7,'법정동(2014.12월말)'!Z10,'법정동(2014.12월말)'!Z12)","v":0},{"$f":"SUM('법정동(2014.12월말)'!AA7,'법정동(2014.12월말)'!AA10,'법정동(2014.12월말)'!AA12)","v":0},{"$f":"SUM('법정동(2014.12월말)'!AB7,'법정동(2014.12월말)'!AB10,'법정동(2014.12월말)'!AB12)","v":0},{"$f":"SUM('법정동(2014.12월말)'!AC7,'법정동(2014.12월말)'!AC10,'법정동(2014.12월말)'!AC12)","v":0},{"$f":"SUM('법정동(2014.12월말)'!AD7,'법정동(2014.12월말)'!AD10,'법정동(2014.12월말)'!AD12)","v":{"v":133740,"d":"133,740.00"}},{"$f":"SUM('법정동(2014.12월말)'!AE7,'법정동(2014.12월말)'!AE10,'법정동(2014.12월말)'!AE12)","v":709},{"$f":"SUM('법정동(2014.12월말)'!AF7,'법정동(2014.12월말)'!AF10,'법정동(2014.12월말)'!AF12)","v":0},{"$f":"SUM('법정동(2014.12월말)'!AG7,'법정동(2014.12월말)'!AG10,'법정동(2014.12월말)'!AG12)","v":0},{"$f":"SUM('법정동(2014.12월말)'!AH7,'법정동(2014.12월말)'!AH10,'법정동(2014.12월말)'!AH12)","v":{"v":2134,"d":"2,134.00"}},{"$f":"SUM('법정동(2014.12월말)'!AI7,'법정동(2014.12월말)'!AI10,'법정동(2014.12월말)'!AI12)","v":5},{"$f":"SUM('법정동(2014.12월말)'!AJ7,'법정동(2014.12월말)'!AJ10,'법정동(2014.12월말)'!AJ12)","v":0},{"$f":"SUM('법정동(2014.12월말)'!AK7,'법정동(2014.12월말)'!AK10,'법정동(2014.12월말)'!AK12)","v":0},{"$f":"SUM('법정동(2014.12월말)'!AL7,'법정동(2014.12월말)'!AL10,'법정동(2014.12월말)'!AL12)","v":{"v":5328,"d":"5,328.00"}},{"$f":"SUM('법정동(2014.12월말)'!AM7,'법정동(2014.12월말)'!AM10,'법정동(2014.12월말)'!AM12)","v":21},{"$f":"SUM('법정동(2014.12월말)'!AN7,'법정동(2014.12월말)'!AN10,'법정동(2014.12월말)'!AN12)","v":0},{"$f":"SUM('법정동(2014.12월말)'!AO7,'법정동(2014.12월말)'!AO10,'법정동(2014.12월말)'!AO12)","v":0},{"$f":"SUM('법정동(2014.12월말)'!AP7,'법정동(2014.12월말)'!AP10,'법정동(2014.12월말)'!AP12)","v":0},{"$f":"SUM('법정동(2014.12월말)'!AQ7,'법정동(2014.12월말)'!AQ10,'법정동(2014.12월말)'!AQ12)","v":0},{"$f":"SUM('법정동(2014.12월말)'!AR7,'법정동(2014.12월말)'!AR10,'법정동(2014.12월말)'!AR12)","v":{"v":5945,"d":"5,945.00"}},{"$f":"SUM('법정동(2014.12월말)'!AS7,'법정동(2014.12월말)'!AS10,'법정동(2014.12월말)'!AS12)","v":6},{"$f":"SUM('법정동(2014.12월말)'!AT7,'법정동(2014.12월말)'!AT10,'법정동(2014.12월말)'!AT12)","v":{"v":84607,"d":"84,607.00"}},{"$f":"SUM('법정동(2014.12월말)'!AU7,'법정동(2014.12월말)'!AU10,'법정동(2014.12월말)'!AU12)","v":15},{"$f":"SUM('법정동(2014.12월말)'!AV7,'법정동(2014.12월말)'!AV10,'법정동(2014.12월말)'!AV12)","v":0},{"$f":"SUM('법정동(2014.12월말)'!AW7,'법정동(2014.12월말)'!AW10,'법정동(2014.12월말)'!AW12)","v":0},{"$f":"SUM('법정동(2014.12월말)'!AX7,'법정동(2014.12월말)'!AX10,'법정동(2014.12월말)'!AX12)","v":0},{"$f":"SUM('법정동(2014.12월말)'!AY7,'법정동(2014.12월말)'!AY10,'법정동(2014.12월말)'!AY12)","v":0},{"$f":"SUM('법정동(2014.12월말)'!AZ7,'법정동(2014.12월말)'!AZ10,'법정동(2014.12월말)'!AZ12)","v":{"v":3042,"d":"3,042.00"}},{"$f":"SUM('법정동(2014.12월말)'!BA7,'법정동(2014.12월말)'!BA10,'법정동(2014.12월말)'!BA12)","v":10},{"$f":"SUM('법정동(2014.12월말)'!BB7,'법정동(2014.12월말)'!BB10,'법정동(2014.12월말)'!BB12)","v":0},{"$f":"SUM('법정동(2014.12월말)'!BC7,'법정동(2014.12월말)'!BC10,'법정동(2014.12월말)'!BC12)","v":0},{"$f":"SUM('법정동(2014.12월말)'!BD7,'법정동(2014.12월말)'!BD10,'법정동(2014.12월말)'!BD12)","v":{"v":3587,"d":"3,587.00"}},{"$f":"SUM('법정동(2014.12월말)'!BE7,'법정동(2014.12월말)'!BE10,'법정동(2014.12월말)'!BE12)","v":12},{"$f":"SUM('법정동(2014.12월말)'!BF7,'법정동(2014.12월말)'!BF10,'법정동(2014.12월말)'!BF12)","v":{"v":13097,"d":"13,097.00"}},{"$f":"SUM('법정동(2014.12월말)'!BG7,'법정동(2014.12월말)'!BG10,'법정동(2014.12월말)'!BG12)","v":18}]
["한려동",{"$f":"SUM('법정동(2014.12월말)'!B8:B9)","v":{"v":949848.7,"d":"949,848.7"}},{"$f":"SUM('법정동(2014.12월말)'!C8:C9)","v":{"v":3040,"d":"3,040"}},{"$f":"SUM('법정동(2014.12월말)'!D8:D9)","v":{"v":40557,"d":"40,557.00"}},{"$f":"SUM('법정동(2014.12월말)'!E8:E9)","v":235},{"$f":"SUM('법정동(2014.12월말)'!F8:F9)","v":0},{"$f":"SUM('법정동(2014.12월말)'!G8:G9)","v":0},{"$f":"SUM('법정동(2014.12월말)'!H8:H9)","v":0},{"$f":"SUM('법정동(2014.12월말)'!I8:I9)","v":0},{"$f":"SUM('법정동(2014.12월말)'!J8:J9)","v":0},{"$f":"SUM('법정동(2014.12월말)'!K8:K9)","v":0},{"$f":"SUM('법정동(2014.12월말)'!L8:L9)","v":{"v":131879,"d":"131,879.00"}},{"$f":"SUM('법정동(2014.12월말)'!M8:M9)","v":51},{"$f":"SUM('법정동(2014.12월말)'!N8:N9)","v":0},{"$f":"SUM('법정동(2014.12월말)'!O8:O9)","v":0},{"$f":"SUM('법정동(2014.12월말)'!P8:P9)","v":0},{"$f":"SUM('법정동(2014.12월말)'!Q8:Q9)","v":0},{"$f":"SUM('법정동(2014.12월말)'!R8:R9)","v":{"v":317685.8,"d":"317,685.80"}},{"$f":"SUM('법정동(2014.12월말)'!S8:S9)","v":{"v":2117,"d":"2,117"}},{"$f":"SUM('법정동(2014.12월말)'!T8:T9)","v":0},{"$f":"SUM('법정동(2014.12월말)'!U8:U9)","v":0},{"$f":"SUM('법정동(2014.12월말)'!V8:V9)","v":{"v":89038,"d":"89,038.00"}},{"$f":"SUM('법정동(2014.12월말)'!W8:W9)","v":7},{"$f":"SUM('법정동(2014.12월말)'!X8:X9)","v":{"v":14670.8,"d":"14,670.80"}},{"$f":"SUM('법정동(2014.12월말)'!Y8:Y9)","v":12},{"$f":"SUM('법정동(2014.12월말)'!Z8:Z9)","v":{"v":1141,"d":"1,141.00"}},{"$f":"SUM('법정동(2014.12월말)'!AA8:AA9)","v":4},{"$f":"SUM('법정동(2014.12월말)'!AB8:AB9)","v":0},{"$f":"SUM('법정동(2014.12월말)'!AC8:AC9)","v":0},{"$f":"SUM('법정동(2014.12월말)'!AD8:AD9)","v":{"v":220295.3,"d":"220,295.30"}},{"$f":"SUM('법정동(2014.12월말)'!AE8:AE9)","v":513},{"$f":"SUM('법정동(2014.12월말)'!AF8:AF9)","v":{"v":3858,"d":"3,858.00"}},{"$f":"SUM('법정동(2014.12월말)'!AG8:AG9)","v":28},{"$f":"SUM('법정동(2014.12월말)'!AH8:AH9)","v":{"v":11759,"d":"11,759.00"}},{"$f":"SUM('법정동(2014.12월말)'!AI8:AI9)","v":4},{"$f":"SUM('법정동(2014.12월말)'!AJ8:AJ9)","v":0},{"$f":"SUM('법정동(2014.12월말)'!AK8:AK9)","v":0},{"$f":"SUM('법정동(2014.12월말)'!AL8:AL9)","v":{"v":3500,"d":"3,500.00"}},{"$f":"SUM('법정동(2014.12월말)'!AM8:AM9)","v":23},{"$f":"SUM('법정동(2014.12월말)'!AN8:AN9)","v":0},{"$f":"SUM('법정동(2014.12월말)'!AO8:AO9)","v":0},{"$f":"SUM('법정동(2014.12월말)'!AP8:AP9)","v":0},{"$f":"SUM('법정동(2014.12월말)'!AQ8:AQ9)","v":0},{"$f":"SUM('법정동(2014.12월말)'!AR8:AR9)","v":0},{"$f":"SUM('법정동(2014.12월말)'!AS8:AS9)","v":0},{"$f":"SUM('법정동(2014.12월말)'!AT8:AT9)","v":{"v":73715.6,"d":"73,715.60"}},{"$f":"SUM('법정동(2014.12월말)'!AU8:AU9)","v":8},{"$f":"SUM('법정동(2014.12월말)'!AV8:AV9)","v":0},{"$f":"SUM('법정동(2014.12월말)'!AW8:AW9)","v":0},{"$f":"SUM('법정동(2014.12월말)'!AX8:AX9)","v":0},{"$f":"SUM('법정동(2014.12월말)'!AY8:AY9)","v":0},{"$f":"SUM('법정동(2014.12월말)'!AZ8:AZ9)","v":{"v":6337,"d":"6,337.00"}},{"$f":"SUM('법정동(2014.12월말)'!BA8:BA9)","v":9},{"$f":"SUM('법정동(2014.12월말)'!BB8:BB9)","v":0},{"$f":"SUM('법정동(2014.12월말)'!BC8:BC9)","v":0},{"$f":"SUM('법정동(2014.12월말)'!BD8:BD9)","v":{"v":1128,"d":"1,128.00"}},{"$f":"SUM('법정동(2014.12월말)'!BE8:BE9)","v":5},{"$f":"SUM('법정동(2014.12월말)'!BF8:BF9)","v":{"v":34284.2,"d":"34,284.20"}},{"$f":"SUM('법정동(2014.12월말)'!BG8:BG9)","v":24}]
["중앙동",{"$f":"SUM('법정동(2014.12월말)'!B11,'법정동(2014.12월말)'!B13:B14)","v":{"v":501889.2,"d":"501,889.2"}},{"$f":"SUM('법정동(2014.12월말)'!C11,'법정동(2014.12월말)'!C13:C14)","v":{"v":3295,"d":"3,295"}},{"$f":"SUM('법정동(2014.12월말)'!D11,'법정동(2014.12월말)'!D13:D14)","v":{"v":16288,"d":"16,288.00"}},{"$f":"SUM('법정동(2014.12월말)'!E11,'법정동(2014.12월말)'!E13:E14)","v":103},{"$f":"SUM('법정동(2014.12월말)'!F11,'법정동(2014.12월말)'!F13:F14)","v":0},{"$f":"SUM('법정동(2014.12월말)'!G11,'법정동(2014.12월말)'!G13:G14)","v":0},{"$f":"SUM('법정동(2014.12월말)'!H11,'법정동(2014.12월말)'!H13:H14)","v":0},{"$f":"SUM('법정동(2014.12월말)'!I11,'법정동(2014.12월말)'!I13:I14)","v":0},{"$f":"SUM('법정동(2014.12월말)'!J11,'법정동(2014.12월말)'!J13:J14)","v":0},{"$f":"SUM('법정동(2014.12월말)'!K11,'법정동(2014.12월말)'!K13:K14)","v":0},{"$f":"SUM('법정동(2014.12월말)'!L11,'법정동(2014.12월말)'!L13:L14)","v":{"v":21202,"d":"21,202.00"}},{"$f":"SUM('법정동(2014.12월말)'!M11,'법정동(2014.12월말)'!M13:M14)","v":24},{"$f":"SUM('법정동(2014.12월말)'!N11,'법정동(2014.12월말)'!N13:N14)","v":0},{"$f":"SUM('법정동(2014.12월말)'!O11,'법정동(2014.12월말)'!O13:O14)","v":0},{"$f":"SUM('법정동(2014.12월말)'!P11,'법정동(2014.12월말)'!P13:P14)","v":0},{"$f":"SUM('법정동(2014.12월말)'!Q11,'법정동(2014.12월말)'!Q13:Q14)","v":0},{"$f":"SUM('법정동(2014.12월말)'!R11,'법정동(2014.12월말)'!R13:R14)","v":{"v":280056,"d":"280,056.00"}},{"$f":"SUM('법정동(2014.12월말)'!S11,'법정동(2014.12월말)'!S13:S14)","v":{"v":2561,"d":"2,561"}},{"$f":"SUM('법정동(2014.12월말)'!T11,'법정동(2014.12월말)'!T13:T14)","v":0},{"$f":"SUM('법정동(2014.12월말)'!U11,'법정동(2014.12월말)'!U13:U14)","v":0},{"$f":"SUM('법정동(2014.12월말)'!V11,'법정동(2014.12월말)'!V13:V14)","v":0},{"$f":"SUM('법정동(2014.12월말)'!W11,'법정동(2014.12월말)'!W13:W14)","v":0},{"$f":"SUM('법정동(2014.12월말)'!X11,'법정동(2014.12월말)'!X13:X14)","v":{"v":6241.2,"d":"6,241.20"}},{"$f":"SUM('법정동(2014.12월말)'!Y11,'법정동(2014.12월말)'!Y13:Y14)","v":7},{"$f":"SUM('법정동(2014.12월말)'!Z11,'법정동(2014.12월말)'!Z13:Z14)","v":0},{"$f":"SUM('법정동(2014.12월말)'!AA11,'법정동(2014.12월말)'!AA13:AA14)","v":0},{"$f":"SUM('법정동(2014.12월말)'!AB11,'법정동(2014.12월말)'!AB13:AB14)","v":0},{"$f":"SUM('법정동(2014.12월말)'!AC11,'법정동(2014.12월말)'!AC13:AC14)","v":0},{"$f":"SUM('법정동(2014.12월말)'!AD11,'법정동(2014.12월말)'!AD13:AD14)","v":{"v":135228,"d":"135,228.00"}},{"$f":"SUM('법정동(2014.12월말)'!AE11,'법정동(2014.12월말)'!AE13:AE14)","v":564},{"$f":"SUM('법정동(2014.12월말)'!AF11,'법정동(2014.12월말)'!AF13:AF14)","v":0},{"$f":"SUM('법정동(2014.12월말)'!AG11,'법정동(2014.12월말)'!AG13:AG14)","v":0},{"$f":"SUM('법정동(2014.12월말)'!AH11,'법정동(2014.12월말)'!AH13:AH14)","v":{"v":800,"d":"800.00"}},{"$f":"SUM('법정동(2014.12월말)'!AI11,'법정동(2014.12월말)'!AI13:AI14)","v":2},{"$f":"SUM('법정동(2014.12월말)'!AJ11,'법정동(2014.12월말)'!AJ13:AJ14)","v":{"v":9005,"d":"9,005.00"}},{"$f":"SUM('법정동(2014.12월말)'!AK11,'법정동(2014.12월말)'!AK13:AK14)","v":1},{"$f":"SUM('법정동(2014.12월말)'!AL11,'법정동(2014.12월말)'!AL13:AL14)","v":{"v":445,"d":"445.00"}},{"$f":"SUM('법정동(2014.12월말)'!AM11,'법정동(2014.12월말)'!AM13:AM14)","v":5},{"$f":"SUM('법정동(2014.12월말)'!AN11,'법정동(2014.12월말)'!AN13:AN14)","v":0},{"$f":"SUM('법정동(2014.12월말)'!AO11,'법정동(2014.12월말)'!AO13:AO14)","v":0},{"$f":"SUM('법정동(2014.12월말)'!AP11,'법정동(2014.12월말)'!AP13:AP14)","v":0},{"$f":"SUM('법정동(2014.12월말)'!AQ11,'법정동(2014.12월말)'!AQ13:AQ14)","v":0},{"$f":"SUM('법정동(2014.12월말)'!AR11,'법정동(2014.12월말)'!AR13:AR14)","v":{"v":671,"d":"671.00"}},{"$f":"SUM('법정동(2014.12월말)'!AS11,'법정동(2014.12월말)'!AS13:AS14)","v":1},{"$f":"SUM('법정동(2014.12월말)'!AT11,'법정동(2014.12월말)'!AT13:AT14)","v":{"v":9732,"d":"9,732.00"}},{"$f":"SUM('법정동(2014.12월말)'!AU11,'법정동(2014.12월말)'!AU13:AU14)","v":1},{"$f":"SUM('법정동(2014.12월말)'!AV11,'법정동(2014.12월말)'!AV13:AV14)","v":0},{"$f":"SUM('법정동(2014.12월말)'!AW11,'법정동(2014.12월말)'!AW13:AW14)","v":0},{"$f":"SUM('법정동(2014.12월말)'!AX11,'법정동(2014.12월말)'!AX13:AX14)","v":0},{"$f":"SUM('법정동(2014.12월말)'!AY11,'법정동(2014.12월말)'!AY13:AY14)","v":0},{"$f":"SUM('법정동(2014.12월말)'!AZ11,'법정동(2014.12월말)'!AZ13:AZ14)","v":{"v":3526,"d":"3,526.00"}},{"$f":"SUM('법정동(2014.12월말)'!BA11,'법정동(2014.12월말)'!BA13:BA14)","v":4},{"$f":"SUM('법정동(2014.12월말)'!BB11,'법정동(2014.12월말)'!BB13:BB14)","v":{"v":1583,"d":"1,583.00"}},{"$f":"SUM('법정동(2014.12월말)'!BC11,'법정동(2014.12월말)'!BC13:BC14)","v":1},{"$f":"SUM('법정동(2014.12월말)'!BD11,'법정동(2014.12월말)'!BD13:BD14)","v":{"v":78,"d":"78.00"}},{"$f":"SUM('법정동(2014.12월말)'!BE11,'법정동(2014.12월말)'!BE13:BE14)","v":3},{"$f":"SUM('법정동(2014.12월말)'!BF11,'법정동(2014.12월말)'!BF13:BF14)","v":{"v":17034,"d":"17,034.00"}},{"$f":"SUM('법정동(2014.12월말)'!BG11,'법정동(2014.12월말)'!BG13:BG14)","v":18}]
["충무동",{"$f":"SUM('법정동(2014.12월말)'!B15:B17)","v":{"v":1347660.5,"d":"1,347,660.5"}},{"$f":"SUM('법정동(2014.12월말)'!C15:C17)","v":{"v":3795,"d":"3,795"}},{"$f":"SUM('법정동(2014.12월말)'!D15:D17)","v":{"v":231152,"d":"231,152.00"}},{"$f":"SUM('법정동(2014.12월말)'!E15:E17)","v":515},{"$f":"SUM('법정동(2014.12월말)'!F15:F17)","v":{"v":45899,"d":"45,899.00"}},{"$f":"SUM('법정동(2014.12월말)'!G15:G17)","v":82},{"$f":"SUM('법정동(2014.12월말)'!H15:H17)","v":0},{"$f":"SUM('법정동(2014.12월말)'!I15:I17)","v":0},{"$f":"SUM('법정동(2014.12월말)'!J15:J17)","v":0},{"$f":"SUM('법정동(2014.12월말)'!K15:K17)","v":0},{"$f":"SUM('법정동(2014.12월말)'!L15:L17)","v":{"v":447669.8,"d":"447,669.80"}},{"$f":"SUM('법정동(2014.12월말)'!M15:M17)","v":157},{"$f":"SUM('법정동(2014.12월말)'!N15:N17)","v":0},{"$f":"SUM('법정동(2014.12월말)'!O15:O17)","v":0},{"$f":"SUM('법정동(2014.12월말)'!P15:P17)","v":0},{"$f":"SUM('법정동(2014.12월말)'!Q15:Q17)","v":0},{"$f":"SUM('법정동(2014.12월말)'!R15:R17)","v":{"v":308311.1,"d":"308,311.10"}},{"$f":"SUM('법정동(2014.12월말)'!S15:S17)","v":{"v":2464,"d":"2,464"}},{"$f":"SUM('법정동(2014.12월말)'!T15:T17)","v":{"v":696.7,"d":"696.70"}},{"$f":"SUM('법정동(2014.12월말)'!U15:U17)","v":1},{"$f":"SUM('법정동(2014.12월말)'!V15:V17)","v":{"v":21502,"d":"21,502.00"}},{"$f":"SUM('법정동(2014.12월말)'!W15:W17)","v":3},{"$f":"SUM('법정동(2014.12월말)'!X15:X17)","v":{"v":2838,"d":"2,838.00"}},{"$f":"SUM('법정동(2014.12월말)'!Y15:Y17)","v":12},{"$f":"SUM('법정동(2014.12월말)'!Z15:Z17)","v":{"v":1946.1,"d":"1,946.10"}},{"$f":"SUM('법정동(2014.12월말)'!AA15:AA17)","v":7},{"$f":"SUM('법정동(2014.12월말)'!AB15:AB17)","v":{"v":2638.4,"d":"2,638.40"}},{"$f":"SUM('법정동(2014.12월말)'!AC15:AC17)","v":3},{"$f":"SUM('법정동(2014.12월말)'!AD15:AD17)","v":{"v":202170,"d":"202,170.00"}},{"$f":"SUM('법정동(2014.12월말)'!AE15:AE17)","v":448},{"$f":"SUM('법정동(2014.12월말)'!AF15:AF17)","v":0},{"$f":"SUM('법정동(2014.12월말)'!AG15:AG17)","v":0},{"$f":"SUM('법정동(2014.12월말)'!AH15:AH17)","v":0},{"$f":"SUM('법정동(2014.12월말)'!AI15:AI17)","v":0},{"$f":"SUM('법정동(2014.12월말)'!AJ15:AJ17)","v":{"v":18230,"d":"18,230.00"}},{"$f":"SUM('법정동(2014.12월말)'!AK15:AK17)","v":23},{"$f":"SUM('법정동(2014.12월말)'!AL15:AL17)","v":{"v":34073.4,"d":"34,073.40"}},{"$f":"SUM('법정동(2014.12월말)'!AM15:AM17)","v":26},{"$f":"SUM('법정동(2014.12월말)'!AN15:AN17)","v":0},{"$f":"SUM('법정동(2014.12월말)'!AO15:AO17)","v":0},{"$f":"SUM('법정동(2014.12월말)'!AP15:AP17)","v":0},{"$f":"SUM('법정동(2014.12월말)'!AQ15:AQ17)","v":0},{"$f":"SUM('법정동(2014.12월말)'!AR15:AR17)","v":{"v":2189.1,"d":"2,189.10"}},{"$f":"SUM('법정동(2014.12월말)'!AS15:AS17)","v":4},{"$f":"SUM('법정동(2014.12월말)'!AT15:AT17)","v":{"v":991.9,"d":"991.90"}},{"$f":"SUM('법정동(2014.12월말)'!AU15:AU17)","v":1},{"$f":"SUM('법정동(2014.12월말)'!AV15:AV17)","v":0},{"$f":"SUM('법정동(2014.12월말)'!AW15:AW17)","v":0},{"$f":"SUM('법정동(2014.12월말)'!AX15:AX17)","v":0},{"$f":"SUM('법정동(2014.12월말)'!AY15:AY17)","v":0},{"$f":"SUM('법정동(2014.12월말)'!AZ15:AZ17)","v":{"v":9435,"d":"9,435.00"}},{"$f":"SUM('법정동(2014.12월말)'!BA15:BA17)","v":17},{"$f":"SUM('법정동(2014.12월말)'!BB15:BB17)","v":{"v":5718,"d":"5,718.00"}},{"$f":"SUM('법정동(2014.12월말)'!BC15:BC17)","v":5},{"$f":"SUM('법정동(2014.12월말)'!BD15:BD17)","v":{"v":5021,"d":"5,021.00"}},{"$f":"SUM('법정동(2014.12월말)'!BE15:BE17)","v":9},{"$f":"SUM('법정동(2014.12월말)'!BF15:BF17)","v":{"v":7179,"d":"7,179.00"}},{"$f":"SUM('법정동(2014.12월말)'!BG15:BG17)","v":18}]
["광림동",{"$f":"SUM('법정동(2014.12월말)'!B18,'법정동(2014.12월말)'!B27)","v":{"v":3395957.1,"d":"3,395,957.1"}},{"$f":"SUM('법정동(2014.12월말)'!C18,'법정동(2014.12월말)'!C27)","v":{"v":4580,"d":"4,580"}},{"$f":"SUM('법정동(2014.12월말)'!D18,'법정동(2014.12월말)'!D27)","v":{"v":373194,"d":"373,194.00"}},{"$f":"SUM('법정동(2014.12월말)'!E18,'법정동(2014.12월말)'!E27)","v":700},{"$f":"SUM('법정동(2014.12월말)'!F18,'법정동(2014.12월말)'!F27)","v":{"v":65058,"d":"65,058.00"}},{"$f":"SUM('법정동(2014.12월말)'!G18,'법정동(2014.12월말)'!G27)","v":151},{"$f":"SUM('법정동(2014.12월말)'!H18,'법정동(2014.12월말)'!H27)","v":0},{"$f":"SUM('법정동(2014.12월말)'!I18,'법정동(2014.12월말)'!I27)","v":0},{"$f":"SUM('법정동(2014.12월말)'!J18,'법정동(2014.12월말)'!J27)","v":0},{"$f":"SUM('법정동(2014.12월말)'!K18,'법정동(2014.12월말)'!K27)","v":0},{"$f":"SUM('법정동(2014.12월말)'!L18,'법정동(2014.12월말)'!L27)","v":{"v":1763396,"d":"1,763,396.00"}},{"$f":"SUM('법정동(2014.12월말)'!M18,'법정동(2014.12월말)'!M27)","v":390},{"$f":"SUM('법정동(2014.12월말)'!N18,'법정동(2014.12월말)'!N27)","v":0},{"$f":"SUM('법정동(2014.12월말)'!O18,'법정동(2014.12월말)'!O27)","v":0},{"$f":"SUM('법정동(2014.12월말)'!P18,'법정동(2014.12월말)'!P27)","v":0},{"$f":"SUM('법정동(2014.12월말)'!Q18,'법정동(2014.12월말)'!Q27)","v":0},{"$f":"SUM('법정동(2014.12월말)'!R18,'법정동(2014.12월말)'!R27)","v":{"v":411128,"d":"411,128.00"}},{"$f":"SUM('법정동(2014.12월말)'!S18,'법정동(2014.12월말)'!S27)","v":{"v":2353,"d":"2,353"}},{"$f":"SUM('법정동(2014.12월말)'!T18,'법정동(2014.12월말)'!T27)","v":{"v":895,"d":"895.00"}},{"$f":"SUM('법정동(2014.12월말)'!U18,'법정동(2014.12월말)'!U27)","v":2},{"$f":"SUM('법정동(2014.12월말)'!V18,'법정동(2014.12월말)'!V27)","v":{"v":45635,"d":"45,635.00"}},{"$f":"SUM('법정동(2014.12월말)'!W18,'법정동(2014.12월말)'!W27)","v":7},{"$f":"SUM('법정동(2014.12월말)'!X18,'법정동(2014.12월말)'!X27)","v":{"v":2396.3,"d":"2,396.30"}},{"$f":"SUM('법정동(2014.12월말)'!Y18,'법정동(2014.12월말)'!Y27)","v":5},{"$f":"SUM('법정동(2014.12월말)'!Z18,'법정동(2014.12월말)'!Z27)","v":{"v":3635.6000000000004,"d":"3,635.60"}},{"$f":"SUM('법정동(2014.12월말)'!AA18,'법정동(2014.12월말)'!AA27)","v":9},{"$f":"SUM('법정동(2014.12월말)'!AB18,'법정동(2014.12월말)'!AB27)","v":{"v":894,"d":"894.00"}},{"$f":"SUM('법정동(2014.12월말)'!AC18,'법정동(2014.12월말)'!AC27)","v":2},{"$f":"SUM('법정동(2014.12월말)'!AD18,'법정동(2014.12월말)'!AD27)","v":{"v":265188.8,"d":"265,188.80"}},{"$f":"SUM('법정동(2014.12월말)'!AE18,'법정동(2014.12월말)'!AE27)","v":768},{"$f":"SUM('법정동(2014.12월말)'!AF18,'법정동(2014.12월말)'!AF27)","v":{"v":33331,"d":"33,331.00"}},{"$f":"SUM('법정동(2014.12월말)'!AG18,'법정동(2014.12월말)'!AG27)","v":33},{"$f":"SUM('법정동(2014.12월말)'!AH18,'법정동(2014.12월말)'!AH27)","v":0},{"$f":"SUM('법정동(2014.12월말)'!AI18,'법정동(2014.12월말)'!AI27)","v":0},{"$f":"SUM('법정동(2014.12월말)'!AJ18,'법정동(2014.12월말)'!AJ27)","v":{"v":25852.4,"d":"25,852.40"}},{"$f":"SUM('법정동(2014.12월말)'!AK18,'법정동(2014.12월말)'!AK27)","v":16},{"$f":"SUM('법정동(2014.12월말)'!AL18,'법정동(2014.12월말)'!AL27)","v":{"v":19052.100000000002,"d":"19,052.10"}},{"$f":"SUM('법정동(2014.12월말)'!AM18,'법정동(2014.12월말)'!AM27)","v":43},{"$f":"SUM('법정동(2014.12월말)'!AN18,'법정동(2014.12월말)'!AN27)","v":{"v":10,"d":"10.00"}},{"$f":"SUM('법정동(2014.12월말)'!AO18,'법정동(2014.12월말)'!AO27)","v":1},{"$f":"SUM('법정동(2014.12월말)'!AP18,'법정동(2014.12월말)'!AP27)","v":0},{"$f":"SUM('법정동(2014.12월말)'!AQ18,'법정동(2014.12월말)'!AQ27)","v":0},{"$f":"SUM('법정동(2014.12월말)'!AR18,'법정동(2014.12월말)'!AR27)","v":{"v":12938,"d":"12,938.00"}},{"$f":"SUM('법정동(2014.12월말)'!AS18,'법정동(2014.12월말)'!AS27)","v":16},{"$f":"SUM('법정동(2014.12월말)'!AT18,'법정동(2014.12월말)'!AT27)","v":{"v":2315.4,"d":"2,315.40"}},{"$f":"SUM('법정동(2014.12월말)'!AU18,'법정동(2014.12월말)'!AU27)","v":2},{"$f":"SUM('법정동(2014.12월말)'!AV18,'법정동(2014.12월말)'!AV27)","v":{"v":310227,"d":"310,227.00"}},{"$f":"SUM('법정동(2014.12월말)'!AW18,'법정동(2014.12월말)'!AW27)","v":14},{"$f":"SUM('법정동(2014.12월말)'!AX18,'법정동(2014.12월말)'!AX27)","v":0},{"$f":"SUM('법정동(2014.12월말)'!AY18,'법정동(2014.12월말)'!AY27)","v":0},{"$f":"SUM('법정동(2014.12월말)'!AZ18,'법정동(2014.12월말)'!AZ27)","v":{"v":8655.9,"d":"8,655.90"}},{"$f":"SUM('법정동(2014.12월말)'!BA18,'법정동(2014.12월말)'!BA27)","v":12},{"$f":"SUM('법정동(2014.12월말)'!BB18,'법정동(2014.12월말)'!BB27)","v":0},{"$f":"SUM('법정동(2014.12월말)'!BC18,'법정동(2014.12월말)'!BC27)","v":0},{"$f":"SUM('법정동(2014.12월말)'!BD18,'법정동(2014.12월말)'!BD27)","v":{"v":39737,"d":"39,737.00"}},{"$f":"SUM('법정동(2014.12월말)'!BE18,'법정동(2014.12월말)'!BE27)","v":27},{"$f":"SUM('법정동(2014.12월말)'!BF18,'법정동(2014.12월말)'!BF27)","v":{"v":12417.6,"d":"12,417.60"}},{"$f":"SUM('법정동(2014.12월말)'!BG18,'법정동(2014.12월말)'!BG27)","v":29}]
["서강동",{"$f":"SUM('법정동(2014.12월말)'!B19:B20)","v":{"v":655398.5,"d":"655,398.5"}},{"$f":"SUM('법정동(2014.12월말)'!C19:C20)","v":{"v":2746,"d":"2,746"}},{"$f":"SUM('법정동(2014.12월말)'!D19:D20)","v":{"v":79498,"d":"79,498.00"}},{"$f":"SUM('법정동(2014.12월말)'!E19:E20)","v":168},{"$f":"SUM('법정동(2014.12월말)'!F19:F20)","v":{"v":27350,"d":"27,350.00"}},{"$f":"SUM('법정동(2014.12월말)'!G19:G20)","v":58},{"$f":"SUM('법정동(2014.12월말)'!H19:H20)","v":0},{"$f":"SUM('법정동(2014.12월말)'!I19:I20)","v":0},{"$f":"SUM('법정동(2014.12월말)'!J19:J20)","v":0},{"$f":"SUM('법정동(2014.12월말)'!K19:K20)","v":0},{"$f":"SUM('법정동(2014.12월말)'!L19:L20)","v":{"v":156344,"d":"156,344.00"}},{"$f":"SUM('법정동(2014.12월말)'!M19:M20)","v":55},{"$f":"SUM('법정동(2014.12월말)'!N19:N20)","v":0},{"$f":"SUM('법정동(2014.12월말)'!O19:O20)","v":0},{"$f":"SUM('법정동(2014.12월말)'!P19:P20)","v":0},{"$f":"SUM('법정동(2014.12월말)'!Q19:Q20)","v":0},{"$f":"SUM('법정동(2014.12월말)'!R19:R20)","v":{"v":207228.2,"d":"207,228.20"}},{"$f":"SUM('법정동(2014.12월말)'!S19:S20)","v":{"v":1760,"d":"1,760"}},{"$f":"SUM('법정동(2014.12월말)'!T19:T20)","v":0},{"$f":"SUM('법정동(2014.12월말)'!U19:U20)","v":0},{"$f":"SUM('법정동(2014.12월말)'!V19:V20)","v":{"v":55144,"d":"55,144.00"}},{"$f":"SUM('법정동(2014.12월말)'!W19:W20)","v":3},{"$f":"SUM('법정동(2014.12월말)'!X19:X20)","v":{"v":7553,"d":"7,553.00"}},{"$f":"SUM('법정동(2014.12월말)'!Y19:Y20)","v":7},{"$f":"SUM('법정동(2014.12월말)'!Z19:Z20)","v":0},{"$f":"SUM('법정동(2014.12월말)'!AA19:AA20)","v":0},{"$f":"SUM('법정동(2014.12월말)'!AB19:AB20)","v":0},{"$f":"SUM('법정동(2014.12월말)'!AC19:AC20)","v":0},{"$f":"SUM('법정동(2014.12월말)'!AD19:AD20)","v":{"v":95542.7,"d":"95,542.70"}},{"$f":"SUM('법정동(2014.12월말)'!AE19:AE20)","v":632},{"$f":"SUM('법정동(2014.12월말)'!AF19:AF20)","v":0},{"$f":"SUM('법정동(2014.12월말)'!AG19:AG20)","v":0},{"$f":"SUM('법정동(2014.12월말)'!AH19:AH20)","v":0},{"$f":"SUM('법정동(2014.12월말)'!AI19:AI20)","v":0},{"$f":"SUM('법정동(2014.12월말)'!AJ19:AJ20)","v":{"v":8724,"d":"8,724.00"}},{"$f":"SUM('법정동(2014.12월말)'!AK19:AK20)","v":4},{"$f":"SUM('법정동(2014.12월말)'!AL19:AL20)","v":{"v":4157,"d":"4,157.00"}},{"$f":"SUM('법정동(2014.12월말)'!AM19:AM20)","v":26},{"$f":"SUM('법정동(2014.12월말)'!AN19:AN20)","v":0},{"$f":"SUM('법정동(2014.12월말)'!AO19:AO20)","v":0},{"$f":"SUM('법정동(2014.12월말)'!AP19:AP20)","v":0},{"$f":"SUM('법정동(2014.12월말)'!AQ19:AQ20)","v":0},{"$f":"SUM('법정동(2014.12월말)'!AR19:AR20)","v":0},{"$f":"SUM('법정동(2014.12월말)'!AS19:AS20)","v":0},{"$f":"SUM('법정동(2014.12월말)'!AT19:AT20)","v":{"v":2049.9,"d":"2,049.90"}},{"$f":"SUM('법정동(2014.12월말)'!AU19:AU20)","v":2},{"$f":"SUM('법정동(2014.12월말)'!AV19:AV20)","v":0},{"$f":"SUM('법정동(2014.12월말)'!AW19:AW20)","v":0},{"$f":"SUM('법정동(2014.12월말)'!AX19:AX20)","v":0},{"$f":"SUM('법정동(2014.12월말)'!AY19:AY20)","v":0},{"$f":"SUM('법정동(2014.12월말)'!AZ19:AZ20)","v":{"v":8250,"d":"8,250.00"}},{"$f":"SUM('법정동(2014.12월말)'!BA19:BA20)","v":8},{"$f":"SUM('법정동(2014.12월말)'!BB19:BB20)","v":0},{"$f":"SUM('법정동(2014.12월말)'!BC19:BC20)","v":0},{"$f":"SUM('법정동(2014.12월말)'!BD19:BD20)","v":0},{"$f":"SUM('법정동(2014.12월말)'!BE19:BE20)","v":0},{"$f":"SUM('법정동(2014.12월말)'!BF19:BF20)","v":{"v":3557.7,"d":"3,557.70"}},{"$f":"SUM('법정동(2014.12월말)'!BG19:BG20)","v":23}]
["대교동",{"$f":"SUM('법정동(2014.12월말)'!B21:B22)","v":{"v":1614106.7,"d":"1,614,106.7"}},{"$f":"SUM('법정동(2014.12월말)'!C21:C22)","v":{"v":4778,"d":"4,778"}},{"$f":"SUM('법정동(2014.12월말)'!D21:D22)","v":{"v":241673,"d":"241,673.00"}},{"$f":"SUM('법정동(2014.12월말)'!E21:E22)","v":524},{"$f":"SUM('법정동(2014.12월말)'!F21:F22)","v":{"v":42761,"d":"42,761.00"}},{"$f":"SUM('법정동(2014.12월말)'!G21:G22)","v":101},{"$f":"SUM('법정동(2014.12월말)'!H21:H22)","v":0},{"$f":"SUM('법정동(2014.12월말)'!I21:I22)","v":0},{"$f":"SUM('법정동(2014.12월말)'!J21:J22)","v":0},{"$f":"SUM('법정동(2014.12월말)'!K21:K22)","v":0},{"$f":"SUM('법정동(2014.12월말)'!L21:L22)","v":{"v":385533,"d":"385,533.00"}},{"$f":"SUM('법정동(2014.12월말)'!M21:M22)","v":95},{"$f":"SUM('법정동(2014.12월말)'!N21:N22)","v":0},{"$f":"SUM('법정동(2014.12월말)'!O21:O22)","v":0},{"$f":"SUM('법정동(2014.12월말)'!P21:P22)","v":0},{"$f":"SUM('법정동(2014.12월말)'!Q21:Q22)","v":0},{"$f":"SUM('법정동(2014.12월말)'!R21:R22)","v":{"v":545739.1,"d":"545,739.10"}},{"$f":"SUM('법정동(2014.12월말)'!S21:S22)","v":{"v":3152,"d":"3,152"}},{"$f":"SUM('법정동(2014.12월말)'!T21:T22)","v":{"v":353.1,"d":"353.10"}},{"$f":"SUM('법정동(2014.12월말)'!U21:U22)","v":1},{"$f":"SUM('법정동(2014.12월말)'!V21:V22)","v":{"v":33929,"d":"33,929.00"}},{"$f":"SUM('법정동(2014.12월말)'!W21:W22)","v":8},{"$f":"SUM('법정동(2014.12월말)'!X21:X22)","v":{"v":4393.1,"d":"4,393.10"}},{"$f":"SUM('법정동(2014.12월말)'!Y21:Y22)","v":11},{"$f":"SUM('법정동(2014.12월말)'!Z21:Z22)","v":{"v":2234.6,"d":"2,234.60"}},{"$f":"SUM('법정동(2014.12월말)'!AA21:AA22)","v":4},{"$f":"SUM('법정동(2014.12월말)'!AB21:AB22)","v":{"v":1877.1,"d":"1,877.10"}},{"$f":"SUM('법정동(2014.12월말)'!AC21:AC22)","v":5},{"$f":"SUM('법정동(2014.12월말)'!AD21:AD22)","v":{"v":285296.7,"d":"285,296.70"}},{"$f":"SUM('법정동(2014.12월말)'!AE21:AE22)","v":797},{"$f":"SUM('법정동(2014.12월말)'!AF21:AF22)","v":0},{"$f":"SUM('법정동(2014.12월말)'!AG21:AG22)","v":0},{"$f":"SUM('법정동(2014.12월말)'!AH21:AH22)","v":{"v":273,"d":"273.00"}},{"$f":"SUM('법정동(2014.12월말)'!AI21:AI22)","v":4},{"$f":"SUM('법정동(2014.12월말)'!AJ21:AJ22)","v":{"v":9140,"d":"9,140.00"}},{"$f":"SUM('법정동(2014.12월말)'!AK21:AK22)","v":1},{"$f":"SUM('법정동(2014.12월말)'!AL21:AL22)","v":{"v":4421,"d":"4,421.00"}},{"$f":"SUM('법정동(2014.12월말)'!AM21:AM22)","v":16},{"$f":"SUM('법정동(2014.12월말)'!AN21:AN22)","v":{"v":27,"d":"27.00"}},{"$f":"SUM('법정동(2014.12월말)'!AO21:AO22)","v":2},{"$f":"SUM('법정동(2014.12월말)'!AP21:AP22)","v":0},{"$f":"SUM('법정동(2014.12월말)'!AQ21:AQ22)","v":0},{"$f":"SUM('법정동(2014.12월말)'!AR21:AR22)","v":{"v":283,"d":"283.00"}},{"$f":"SUM('법정동(2014.12월말)'!AS21:AS22)","v":2},{"$f":"SUM('법정동(2014.12월말)'!AT21:AT22)","v":0},{"$f":"SUM('법정동(2014.12월말)'!AU21:AU22)","v":0},{"$f":"SUM('법정동(2014.12월말)'!AV21:AV22)","v":0},{"$f":"SUM('법정동(2014.12월말)'!AW21:AW22)","v":0},{"$f":"SUM('법정동(2014.12월말)'!AX21:AX22)","v":0},{"$f":"SUM('법정동(2014.12월말)'!AY21:AY22)","v":0},{"$f":"SUM('법정동(2014.12월말)'!AZ21:AZ22)","v":{"v":7586,"d":"7,586.00"}},{"$f":"SUM('법정동(2014.12월말)'!BA21:BA22)","v":6},{"$f":"SUM('법정동(2014.12월말)'!BB21:BB22)","v":0},{"$f":"SUM('법정동(2014.12월말)'!BC21:BC22)","v":0},{"$f":"SUM('법정동(2014.12월말)'!BD21:BD22)","v":{"v":2565,"d":"2,565.00"}},{"$f":"SUM('법정동(2014.12월말)'!BE21:BE22)","v":11},{"$f":"SUM('법정동(2014.12월말)'!BF21:BF22)","v":{"v":46022,"d":"46,022.00"}},{"$f":"SUM('법정동(2014.12월말)'!BG21:BG22)","v":38}]
["국   동",{"$f":"SUM('법정동(2014.12월말)'!B23)","v":{"v":1533342.3,"d":"1,533,342.3"}},{"$f":"SUM('법정동(2014.12월말)'!C23)","v":{"v":3193,"d":"3,193"}},{"$f":"SUM('법정동(2014.12월말)'!D23)","v":{"v":94774,"d":"94,774.00"}},{"$f":"SUM('법정동(2014.12월말)'!E23)","v":441},{"$f":"SUM('법정동(2014.12월말)'!F23)","v":{"v":14589,"d":"14,589.00"}},{"$f":"SUM('법정동(2014.12월말)'!G23)","v":71},{"$f":"SUM('법정동(2014.12월말)'!H23)","v":{"v":815,"d":"815.00"}},{"$f":"SUM('법정동(2014.12월말)'!I23)","v":1},{"$f":"SUM('법정동(2014.12월말)'!J23)","v":0},{"$f":"SUM('법정동(2014.12월말)'!K23)","v":0},{"$f":"SUM('법정동(2014.12월말)'!L23)","v":{"v":485995,"d":"485,995.00"}},{"$f":"SUM('법정동(2014.12월말)'!M23)","v":90},{"$f":"SUM('법정동(2014.12월말)'!N23)","v":0},{"$f":"SUM('법정동(2014.12월말)'!O23)","v":0},{"$f":"SUM('법정동(2014.12월말)'!P23)","v":0},{"$f":"SUM('법정동(2014.12월말)'!Q23)","v":0},{"$f":"SUM('법정동(2014.12월말)'!R23)","v":{"v":527682.2,"d":"527,682.20"}},{"$f":"SUM('법정동(2014.12월말)'!S23)","v":{"v":1868,"d":"1,868"}},{"$f":"SUM('법정동(2014.12월말)'!T23)","v":{"v":6735,"d":"6,735.00"}},{"$f":"SUM('법정동(2014.12월말)'!U23)","v":12},{"$f":"SUM('법정동(2014.12월말)'!V23)","v":{"v":125624.2,"d":"125,624.20"}},{"$f":"SUM('법정동(2014.12월말)'!W23)","v":28},{"$f":"SUM('법정동(2014.12월말)'!X23)","v":{"v":6061,"d":"6,061.00"}},{"$f":"SUM('법정동(2014.12월말)'!Y23)","v":6},{"$f":"SUM('법정동(2014.12월말)'!Z23)","v":{"v":1291,"d":"1,291.00"}},{"$f":"SUM('법정동(2014.12월말)'!AA23)","v":2},{"$f":"SUM('법정동(2014.12월말)'!AB23)","v":{"v":912,"d":"912.00"}},{"$f":"SUM('법정동(2014.12월말)'!AC23)","v":5},{"$f":"SUM('법정동(2014.12월말)'!AD23)","v":{"v":176536.6,"d":"176,536.60"}},{"$f":"SUM('법정동(2014.12월말)'!AE23)","v":573},{"$f":"SUM('법정동(2014.12월말)'!AF23)","v":0},{"$f":"SUM('법정동(2014.12월말)'!AG23)","v":0},{"$f":"SUM('법정동(2014.12월말)'!AH23)","v":{"v":2006,"d":"2,006.00"}},{"$f":"SUM('법정동(2014.12월말)'!AI23)","v":1},{"$f":"SUM('법정동(2014.12월말)'!AJ23)","v":0},{"$f":"SUM('법정동(2014.12월말)'!AK23)","v":0},{"$f":"SUM('법정동(2014.12월말)'!AL23)","v":{"v":15756,"d":"15,756.00"}},{"$f":"SUM('법정동(2014.12월말)'!AM23)","v":13},{"$f":"SUM('법정동(2014.12월말)'!AN23)","v":0},{"$f":"SUM('법정동(2014.12월말)'!AO23)","v":0},{"$f":"SUM('법정동(2014.12월말)'!AP23)","v":0},{"$f":"SUM('법정동(2014.12월말)'!AQ23)","v":0},{"$f":"SUM('법정동(2014.12월말)'!AR23)","v":{"v":3092,"d":"3,092.00"}},{"$f":"SUM('법정동(2014.12월말)'!AS23)","v":6},{"$f":"SUM('법정동(2014.12월말)'!AT23)","v":0},{"$f":"SUM('법정동(2014.12월말)'!AU23)","v":0},{"$f":"SUM('법정동(2014.12월말)'!AV23)","v":{"v":1163,"d":"1,163.00"}},{"$f":"SUM('법정동(2014.12월말)'!AW23)","v":1},{"$f":"SUM('법정동(2014.12월말)'!AX23)","v":0},{"$f":"SUM('법정동(2014.12월말)'!AY23)","v":0},{"$f":"SUM('법정동(2014.12월말)'!AZ23)","v":{"v":7538.5,"d":"7,538.50"}},{"$f":"SUM('법정동(2014.12월말)'!BA23)","v":14},{"$f":"SUM('법정동(2014.12월말)'!BB23)","v":0},{"$f":"SUM('법정동(2014.12월말)'!BC23)","v":0},{"$f":"SUM('법정동(2014.12월말)'!BD23)","v":{"v":760,"d":"760.00"}},{"$f":"SUM('법정동(2014.12월말)'!BE23)","v":5},{"$f":"SUM('법정동(2014.12월말)'!BF23)","v":{"v":62011.8,"d":"62,011.80"}},{"$f":"SUM('법정동(2014.12월말)'!BG23)","v":56}]
["월호동",{"$f":"SUM('법정동(2014.12월말)'!B24,'법정동(2014.12월말)'!B33)","v":{"v":6795524.5,"d":"6,795,524.5"}},{"$f":"SUM('법정동(2014.12월말)'!C24,'법정동(2014.12월말)'!C33)","v":{"v":6413,"d":"6,413"}},{"$f":"SUM('법정동(2014.12월말)'!D24,'법정동(2014.12월말)'!D33)","v":{"v":1736372,"d":"1,736,372.00"}},{"$f":"SUM('법정동(2014.12월말)'!E24,'법정동(2014.12월말)'!E33)","v":{"v":2211,"d":"2,211"}},{"$f":"SUM('법정동(2014.12월말)'!F24,'법정동(2014.12월말)'!F33)","v":{"v":276429,"d":"276,429.00"}},{"$f":"SUM('법정동(2014.12월말)'!G24,'법정동(2014.12월말)'!G33)","v":448},{"$f":"SUM('법정동(2014.12월말)'!H24,'법정동(2014.12월말)'!H33)","v":0},{"$f":"SUM('법정동(2014.12월말)'!I24,'법정동(2014.12월말)'!I33)","v":0},{"$f":"SUM('법정동(2014.12월말)'!J24,'법정동(2014.12월말)'!J33)","v":0},{"$f":"SUM('법정동(2014.12월말)'!K24,'법정동(2014.12월말)'!K33)","v":0},{"$f":"SUM('법정동(2014.12월말)'!L24,'법정동(2014.12월말)'!L33)","v":{"v":2929054,"d":"2,929,054.00"}},{"$f":"SUM('법정동(2014.12월말)'!M24,'법정동(2014.12월말)'!M33)","v":{"v":1225,"d":"1,225"}},{"$f":"SUM('법정동(2014.12월말)'!N24,'법정동(2014.12월말)'!N33)","v":0},{"$f":"SUM('법정동(2014.12월말)'!O24,'법정동(2014.12월말)'!O33)","v":0},{"$f":"SUM('법정동(2014.12월말)'!P24,'법정동(2014.12월말)'!P33)","v":0},{"$f":"SUM('법정동(2014.12월말)'!Q24,'법정동(2014.12월말)'!Q33)","v":0},{"$f":"SUM('법정동(2014.12월말)'!R24,'법정동(2014.12월말)'!R33)","v":{"v":386486.2,"d":"386,486.20"}},{"$f":"SUM('법정동(2014.12월말)'!S24,'법정동(2014.12월말)'!S33)","v":{"v":1217,"d":"1,217"}},{"$f":"SUM('법정동(2014.12월말)'!T24,'법정동(2014.12월말)'!T33)","v":{"v":851758,"d":"851,758.00"}},{"$f":"SUM('법정동(2014.12월말)'!U24,'법정동(2014.12월말)'!U33)","v":132},{"$f":"SUM('법정동(2014.12월말)'!V24,'법정동(2014.12월말)'!V33)","v":{"v":19320,"d":"19,320.00"}},{"$f":"SUM('법정동(2014.12월말)'!W24,'법정동(2014.12월말)'!W33)","v":3},{"$f":"SUM('법정동(2014.12월말)'!X24,'법정동(2014.12월말)'!X33)","v":{"v":2408.6,"d":"2,408.60"}},{"$f":"SUM('법정동(2014.12월말)'!Y24,'법정동(2014.12월말)'!Y33)","v":9},{"$f":"SUM('법정동(2014.12월말)'!Z24,'법정동(2014.12월말)'!Z33)","v":{"v":2571,"d":"2,571.00"}},{"$f":"SUM('법정동(2014.12월말)'!AA24,'법정동(2014.12월말)'!AA33)","v":10},{"$f":"SUM('법정동(2014.12월말)'!AB24,'법정동(2014.12월말)'!AB33)","v":{"v":1810,"d":"1,810.00"}},{"$f":"SUM('법정동(2014.12월말)'!AC24,'법정동(2014.12월말)'!AC33)","v":2},{"$f":"SUM('법정동(2014.12월말)'!AD24,'법정동(2014.12월말)'!AD33)","v":{"v":261085.1,"d":"261,085.10"}},{"$f":"SUM('법정동(2014.12월말)'!AE24,'법정동(2014.12월말)'!AE33)","v":843},{"$f":"SUM('법정동(2014.12월말)'!AF24,'법정동(2014.12월말)'!AF33)","v":0},{"$f":"SUM('법정동(2014.12월말)'!AG24,'법정동(2014.12월말)'!AG33)","v":0},{"$f":"SUM('법정동(2014.12월말)'!AH24,'법정동(2014.12월말)'!AH33)","v":{"v":17188,"d":"17,188.00"}},{"$f":"SUM('법정동(2014.12월말)'!AI24,'법정동(2014.12월말)'!AI33)","v":46},{"$f":"SUM('법정동(2014.12월말)'!AJ24,'법정동(2014.12월말)'!AJ33)","v":{"v":1220,"d":"1,220.00"}},{"$f":"SUM('법정동(2014.12월말)'!AK24,'법정동(2014.12월말)'!AK33)","v":5},{"$f":"SUM('법정동(2014.12월말)'!AL24,'법정동(2014.12월말)'!AL33)","v":{"v":45561,"d":"45,561.00"}},{"$f":"SUM('법정동(2014.12월말)'!AM24,'법정동(2014.12월말)'!AM33)","v":21},{"$f":"SUM('법정동(2014.12월말)'!AN24,'법정동(2014.12월말)'!AN33)","v":{"v":2473,"d":"2,473.00"}},{"$f":"SUM('법정동(2014.12월말)'!AO24,'법정동(2014.12월말)'!AO33)","v":2},{"$f":"SUM('법정동(2014.12월말)'!AP24,'법정동(2014.12월말)'!AP33)","v":{"v":1601,"d":"1,601.00"}},{"$f":"SUM('법정동(2014.12월말)'!AQ24,'법정동(2014.12월말)'!AQ33)","v":1},{"$f":"SUM('법정동(2014.12월말)'!AR24,'법정동(2014.12월말)'!AR33)","v":0},{"$f":"SUM('법정동(2014.12월말)'!AS24,'법정동(2014.12월말)'!AS33)","v":0},{"$f":"SUM('법정동(2014.12월말)'!AT24,'법정동(2014.12월말)'!AT33)","v":{"v":7918.6,"d":"7,918.60"}},{"$f":"SUM('법정동(2014.12월말)'!AU24,'법정동(2014.12월말)'!AU33)","v":11},{"$f":"SUM('법정동(2014.12월말)'!AV24,'법정동(2014.12월말)'!AV33)","v":0},{"$f":"SUM('법정동(2014.12월말)'!AW24,'법정동(2014.12월말)'!AW33)","v":0},{"$f":"SUM('법정동(2014.12월말)'!AX24,'법정동(2014.12월말)'!AX33)","v":0},{"$f":"SUM('법정동(2014.12월말)'!AY24,'법정동(2014.12월말)'!AY33)","v":0},{"$f":"SUM('법정동(2014.12월말)'!AZ24,'법정동(2014.12월말)'!AZ33)","v":{"v":10457,"d":"10,457.00"}},{"$f":"SUM('법정동(2014.12월말)'!BA24,'법정동(2014.12월말)'!BA33)","v":12},{"$f":"SUM('법정동(2014.12월말)'!BB24,'법정동(2014.12월말)'!BB33)","v":0},{"$f":"SUM('법정동(2014.12월말)'!BC24,'법정동(2014.12월말)'!BC33)","v":0},{"$f":"SUM('법정동(2014.12월말)'!BD24,'법정동(2014.12월말)'!BD33)","v":{"v":17785,"d":"17,785.00"}},{"$f":"SUM('법정동(2014.12월말)'!BE24,'법정동(2014.12월말)'!BE33)","v":52},{"$f":"SUM('법정동(2014.12월말)'!BF24,'법정동(2014.12월말)'!BF33)","v":{"v":224027,"d":"224,027.00"}},{"$f":"SUM('법정동(2014.12월말)'!BG24,'법정동(2014.12월말)'!BG33)","v":163}]
["여서동",{"$f":"SUM('법정동(2014.12월말)'!B25)","v":{"v":2575285.9,"d":"2,575,285.9"}},{"$f":"SUM('법정동(2014.12월말)'!C25)","v":{"v":1928,"d":"1,928"}},{"$f":"SUM('법정동(2014.12월말)'!D25)","v":{"v":203915,"d":"203,915.00"}},{"$f":"SUM('법정동(2014.12월말)'!E25)","v":277},{"$f":"SUM('법정동(2014.12월말)'!F25)","v":{"v":116410,"d":"116,410.00"}},{"$f":"SUM('법정동(2014.12월말)'!G25)","v":188},{"$f":"SUM('법정동(2014.12월말)'!H25)","v":0},{"$f":"SUM('법정동(2014.12월말)'!I25)","v":0},{"$f":"SUM('법정동(2014.12월말)'!J25)","v":0},{"$f":"SUM('법정동(2014.12월말)'!K25)","v":0},{"$f":"SUM('법정동(2014.12월말)'!L25)","v":{"v":1223622,"d":"1,223,622.00"}},{"$f":"SUM('법정동(2014.12월말)'!M25)","v":293},{"$f":"SUM('법정동(2014.12월말)'!N25)","v":0},{"$f":"SUM('법정동(2014.12월말)'!O25)","v":0},{"$f":"SUM('법정동(2014.12월말)'!P25)","v":0},{"$f":"SUM('법정동(2014.12월말)'!Q25)","v":0},{"$f":"SUM('법정동(2014.12월말)'!R25)","v":{"v":562646.2,"d":"562,646.20"}},{"$f":"SUM('법정동(2014.12월말)'!S25)","v":755},{"$f":"SUM('법정동(2014.12월말)'!T25)","v":0},{"$f":"SUM('법정동(2014.12월말)'!U25)","v":0},{"$f":"SUM('법정동(2014.12월말)'!V25)","v":{"v":58011,"d":"58,011.00"}},{"$f":"SUM('법정동(2014.12월말)'!W25)","v":4},{"$f":"SUM('법정동(2014.12월말)'!X25)","v":{"v":2518,"d":"2,518.00"}},{"$f":"SUM('법정동(2014.12월말)'!Y25)","v":14},{"$f":"SUM('법정동(2014.12월말)'!Z25)","v":{"v":1488,"d":"1,488.00"}},{"$f":"SUM('법정동(2014.12월말)'!AA25)","v":1},{"$f":"SUM('법정동(2014.12월말)'!AB25)","v":{"v":741,"d":"741.00"}},{"$f":"SUM('법정동(2014.12월말)'!AC25)","v":1},{"$f":"SUM('법정동(2014.12월말)'!AD25)","v":{"v":291367.5,"d":"291,367.50"}},{"$f":"SUM('법정동(2014.12월말)'!AE25)","v":283},{"$f":"SUM('법정동(2014.12월말)'!AF25)","v":0},{"$f":"SUM('법정동(2014.12월말)'!AG25)","v":0},{"$f":"SUM('법정동(2014.12월말)'!AH25)","v":0},{"$f":"SUM('법정동(2014.12월말)'!AI25)","v":0},{"$f":"SUM('법정동(2014.12월말)'!AJ25)","v":0},{"$f":"SUM('법정동(2014.12월말)'!AK25)","v":0},{"$f":"SUM('법정동(2014.12월말)'!AL25)","v":{"v":15119.9,"d":"15,119.90"}},{"$f":"SUM('법정동(2014.12월말)'!AM25)","v":20},{"$f":"SUM('법정동(2014.12월말)'!AN25)","v":{"v":958,"d":"958.00"}},{"$f":"SUM('법정동(2014.12월말)'!AO25)","v":2},{"$f":"SUM('법정동(2014.12월말)'!AP25)","v":0},{"$f":"SUM('법정동(2014.12월말)'!AQ25)","v":0},{"$f":"SUM('법정동(2014.12월말)'!AR25)","v":{"v":11855,"d":"11,855.00"}},{"$f":"SUM('법정동(2014.12월말)'!AS25)","v":5},{"$f":"SUM('법정동(2014.12월말)'!AT25)","v":{"v":32420.4,"d":"32,420.40"}},{"$f":"SUM('법정동(2014.12월말)'!AU25)","v":8},{"$f":"SUM('법정동(2014.12월말)'!AV25)","v":{"v":9361,"d":"9,361.00"}},{"$f":"SUM('법정동(2014.12월말)'!AW25)","v":5},{"$f":"SUM('법정동(2014.12월말)'!AX25)","v":0},{"$f":"SUM('법정동(2014.12월말)'!AY25)","v":0},{"$f":"SUM('법정동(2014.12월말)'!AZ25)","v":{"v":15908.4,"d":"15,908.40"}},{"$f":"SUM('법정동(2014.12월말)'!BA25)","v":22},{"$f":"SUM('법정동(2014.12월말)'!BB25)","v":0},{"$f":"SUM('법정동(2014.12월말)'!BC25)","v":0},{"$f":"SUM('법정동(2014.12월말)'!BD25)","v":{"v":2630,"d":"2,630.00"}},{"$f":"SUM('법정동(2014.12월말)'!BE25)","v":8},{"$f":"SUM('법정동(2014.12월말)'!BF25)","v":{"v":26314.5,"d":"26,314.50"}},{"$f":"SUM('법정동(2014.12월말)'!BG25)","v":42}]
["문수동",{"$f":"SUM('법정동(2014.12월말)'!B26)","v":{"v":2244118.3,"d":"2,244,118.3"}},{"$f":"SUM('법정동(2014.12월말)'!C26)","v":{"v":3182,"d":"3,182"}},{"$f":"SUM('법정동(2014.12월말)'!D26)","v":{"v":174533,"d":"174,533.00"}},{"$f":"SUM('법정동(2014.12월말)'!E26)","v":317},{"$f":"SUM('법정동(2014.12월말)'!F26)","v":{"v":33691,"d":"33,691.00"}},{"$f":"SUM('법정동(2014.12월말)'!G26)","v":92},{"$f":"SUM('법정동(2014.12월말)'!H26)","v":0},{"$f":"SUM('법정동(2014.12월말)'!I26)","v":0},{"$f":"SUM('법정동(2014.12월말)'!J26)","v":0},{"$f":"SUM('법정동(2014.12월말)'!K26)","v":0},{"$f":"SUM('법정동(2014.12월말)'!L26)","v":{"v":836075.7,"d":"836,075.70"}},{"$f":"SUM('법정동(2014.12월말)'!M26)","v":315},{"$f":"SUM('법정동(2014.12월말)'!N26)","v":0},{"$f":"SUM('법정동(2014.12월말)'!O26)","v":0},{"$f":"SUM('법정동(2014.12월말)'!P26)","v":0},{"$f":"SUM('법정동(2014.12월말)'!Q26)","v":0},{"$f":"SUM('법정동(2014.12월말)'!R26)","v":{"v":717070.5,"d":"717,070.50"}},{"$f":"SUM('법정동(2014.12월말)'!S26)","v":{"v":1895,"d":"1,895"}},{"$f":"SUM('법정동(2014.12월말)'!T26)","v":0},{"$f":"SUM('법정동(2014.12월말)'!U26)","v":0},{"$f":"SUM('법정동(2014.12월말)'!V26)","v":{"v":122894.6,"d":"122,894.60"}},{"$f":"SUM('법정동(2014.12월말)'!W26)","v":10},{"$f":"SUM('법정동(2014.12월말)'!X26)","v":{"v":13625.4,"d":"13,625.40"}},{"$f":"SUM('법정동(2014.12월말)'!Y26)","v":46},{"$f":"SUM('법정동(2014.12월말)'!Z26)","v":{"v":1109.1,"d":"1,109.10"}},{"$f":"SUM('법정동(2014.12월말)'!AA26)","v":2},{"$f":"SUM('법정동(2014.12월말)'!AB26)","v":{"v":205,"d":"205.00"}},{"$f":"SUM('법정동(2014.12월말)'!AC26)","v":1},{"$f":"SUM('법정동(2014.12월말)'!AD26)","v":{"v":225536.9,"d":"225,536.90"}},{"$f":"SUM('법정동(2014.12월말)'!AE26)","v":373},{"$f":"SUM('법정동(2014.12월말)'!AF26)","v":0},{"$f":"SUM('법정동(2014.12월말)'!AG26)","v":0},{"$f":"SUM('법정동(2014.12월말)'!AH26)","v":0},{"$f":"SUM('법정동(2014.12월말)'!AI26)","v":0},{"$f":"SUM('법정동(2014.12월말)'!AJ26)","v":{"v":8513,"d":"8,513.00"}},{"$f":"SUM('법정동(2014.12월말)'!AK26)","v":5},{"$f":"SUM('법정동(2014.12월말)'!AL26)","v":{"v":9438.4,"d":"9,438.40"}},{"$f":"SUM('법정동(2014.12월말)'!AM26)","v":13},{"$f":"SUM('법정동(2014.12월말)'!AN26)","v":0},{"$f":"SUM('법정동(2014.12월말)'!AO26)","v":0},{"$f":"SUM('법정동(2014.12월말)'!AP26)","v":0},{"$f":"SUM('법정동(2014.12월말)'!AQ26)","v":0},{"$f":"SUM('법정동(2014.12월말)'!AR26)","v":{"v":31,"d":"31.00"}},{"$f":"SUM('법정동(2014.12월말)'!AS26)","v":1},{"$f":"SUM('법정동(2014.12월말)'!AT26)","v":{"v":54362.1,"d":"54,362.10"}},{"$f":"SUM('법정동(2014.12월말)'!AU26)","v":21},{"$f":"SUM('법정동(2014.12월말)'!AV26)","v":0},{"$f":"SUM('법정동(2014.12월말)'!AW26)","v":0},{"$f":"SUM('법정동(2014.12월말)'!AX26)","v":0},{"$f":"SUM('법정동(2014.12월말)'!AY26)","v":0},{"$f":"SUM('법정동(2014.12월말)'!AZ26)","v":{"v":25861,"d":"25,861.00"}},{"$f":"SUM('법정동(2014.12월말)'!BA26)","v":15},{"$f":"SUM('법정동(2014.12월말)'!BB26)","v":0},{"$f":"SUM('법정동(2014.12월말)'!BC26)","v":0},{"$f":"SUM('법정동(2014.12월말)'!BD26)","v":{"v":3861,"d":"3,861.00"}},{"$f":"SUM('법정동(2014.12월말)'!BE26)","v":19},{"$f":"SUM('법정동(2014.12월말)'!BF26)","v":{"v":17310.6,"d":"17,310.60"}},{"$f":"SUM('법정동(2014.12월말)'!BG26)","v":57}]
["미평동",{"$f":"SUM('법정동(2014.12월말)'!B28)","v":{"v":3088607.9,"d":"3,088,607.9"}},{"$f":"SUM('법정동(2014.12월말)'!C28)","v":{"v":2704,"d":"2,704"}},{"$f":"SUM('법정동(2014.12월말)'!D28)","v":{"v":139407,"d":"139,407.00"}},{"$f":"SUM('법정동(2014.12월말)'!E28)","v":326},{"$f":"SUM('법정동(2014.12월말)'!F28)","v":{"v":94931,"d":"94,931.00"}},{"$f":"SUM('법정동(2014.12월말)'!G28)","v":229},{"$f":"SUM('법정동(2014.12월말)'!H28)","v":0},{"$f":"SUM('법정동(2014.12월말)'!I28)","v":0},{"$f":"SUM('법정동(2014.12월말)'!J28)","v":0},{"$f":"SUM('법정동(2014.12월말)'!K28)","v":0},{"$f":"SUM('법정동(2014.12월말)'!L28)","v":{"v":1766916,"d":"1,766,916.00"}},{"$f":"SUM('법정동(2014.12월말)'!M28)","v":209},{"$f":"SUM('법정동(2014.12월말)'!N28)","v":0},{"$f":"SUM('법정동(2014.12월말)'!O28)","v":0},{"$f":"SUM('법정동(2014.12월말)'!P28)","v":0},{"$f":"SUM('법정동(2014.12월말)'!Q28)","v":0},{"$f":"SUM('법정동(2014.12월말)'!R28)","v":{"v":473837.1,"d":"473,837.10"}},{"$f":"SUM('법정동(2014.12월말)'!S28)","v":{"v":1180,"d":"1,180"}},{"$f":"SUM('법정동(2014.12월말)'!T28)","v":{"v":1501,"d":"1,501.00"}},{"$f":"SUM('법정동(2014.12월말)'!U28)","v":3},{"$f":"SUM('법정동(2014.12월말)'!V28)","v":{"v":64631.1,"d":"64,631.10"}},{"$f":"SUM('법정동(2014.12월말)'!W28)","v":10},{"$f":"SUM('법정동(2014.12월말)'!X28)","v":{"v":6876.8,"d":"6,876.80"}},{"$f":"SUM('법정동(2014.12월말)'!Y28)","v":15},{"$f":"SUM('법정동(2014.12월말)'!Z28)","v":{"v":1804.2,"d":"1,804.20"}},{"$f":"SUM('법정동(2014.12월말)'!AA28)","v":3},{"$f":"SUM('법정동(2014.12월말)'!AB28)","v":{"v":177.4,"d":"177.40"}},{"$f":"SUM('법정동(2014.12월말)'!AC28)","v":1},{"$f":"SUM('법정동(2014.12월말)'!AD28)","v":{"v":285308.4,"d":"285,308.40"}},{"$f":"SUM('법정동(2014.12월말)'!AE28)","v":541},{"$f":"SUM('법정동(2014.12월말)'!AF28)","v":{"v":53203,"d":"53,203.00"}},{"$f":"SUM('법정동(2014.12월말)'!AG28)","v":33},{"$f":"SUM('법정동(2014.12월말)'!AH28)","v":0},{"$f":"SUM('법정동(2014.12월말)'!AI28)","v":0},{"$f":"SUM('법정동(2014.12월말)'!AJ28)","v":{"v":9529.4,"d":"9,529.40"}},{"$f":"SUM('법정동(2014.12월말)'!AK28)","v":3},{"$f":"SUM('법정동(2014.12월말)'!AL28)","v":{"v":25651,"d":"25,651.00"}},{"$f":"SUM('법정동(2014.12월말)'!AM28)","v":50},{"$f":"SUM('법정동(2014.12월말)'!AN28)","v":0},{"$f":"SUM('법정동(2014.12월말)'!AO28)","v":0},{"$f":"SUM('법정동(2014.12월말)'!AP28)","v":0},{"$f":"SUM('법정동(2014.12월말)'!AQ28)","v":0},{"$f":"SUM('법정동(2014.12월말)'!AR28)","v":{"v":91230.5,"d":"91,230.50"}},{"$f":"SUM('법정동(2014.12월말)'!AS28)","v":57},{"$f":"SUM('법정동(2014.12월말)'!AT28)","v":{"v":16700.4,"d":"16,700.40"}},{"$f":"SUM('법정동(2014.12월말)'!AU28)","v":10},{"$f":"SUM('법정동(2014.12월말)'!AV28)","v":0},{"$f":"SUM('법정동(2014.12월말)'!AW28)","v":0},{"$f":"SUM('법정동(2014.12월말)'!AX28)","v":0},{"$f":"SUM('법정동(2014.12월말)'!AY28)","v":0},{"$f":"SUM('법정동(2014.12월말)'!AZ28)","v":{"v":8992.4,"d":"8,992.40"}},{"$f":"SUM('법정동(2014.12월말)'!BA28)","v":9},{"$f":"SUM('법정동(2014.12월말)'!BB28)","v":0},{"$f":"SUM('법정동(2014.12월말)'!BC28)","v":0},{"$f":"SUM('법정동(2014.12월말)'!BD28)","v":{"v":5712,"d":"5,712.00"}},{"$f":"SUM('법정동(2014.12월말)'!BE28)","v":7},{"$f":"SUM('법정동(2014.12월말)'!BF28)","v":{"v":42199.2,"d":"42,199.20"}},{"$f":"SUM('법정동(2014.12월말)'!BG28)","v":18}]
["둔덕동",{"$f":"SUM('법정동(2014.12월말)'!B29)","v":{"v":4075966.1,"d":"4,075,966.1"}},{"$f":"SUM('법정동(2014.12월말)'!C29)","v":{"v":2319,"d":"2,319"}},{"$f":"SUM('법정동(2014.12월말)'!D29)","v":{"v":177878,"d":"177,878.00"}},{"$f":"SUM('법정동(2014.12월말)'!E29)","v":286},{"$f":"SUM('법정동(2014.12월말)'!F29)","v":{"v":425547,"d":"425,547.00"}},{"$f":"SUM('법정동(2014.12월말)'!G29)","v":480},{"$f":"SUM('법정동(2014.12월말)'!H29)","v":0},{"$f":"SUM('법정동(2014.12월말)'!I29)","v":0},{"$f":"SUM('법정동(2014.12월말)'!J29)","v":0},{"$f":"SUM('법정동(2014.12월말)'!K29)","v":0},{"$f":"SUM('법정동(2014.12월말)'!L29)","v":{"v":2180556,"d":"2,180,556.00"}},{"$f":"SUM('법정동(2014.12월말)'!M29)","v":333},{"$f":"SUM('법정동(2014.12월말)'!N29)","v":0},{"$f":"SUM('법정동(2014.12월말)'!O29)","v":0},{"$f":"SUM('법정동(2014.12월말)'!P29)","v":0},{"$f":"SUM('법정동(2014.12월말)'!Q29)","v":0},{"$f":"SUM('법정동(2014.12월말)'!R29)","v":{"v":475353.9,"d":"475,353.90"}},{"$f":"SUM('법정동(2014.12월말)'!S29)","v":646},{"$f":"SUM('법정동(2014.12월말)'!T29)","v":{"v":362,"d":"362.00"}},{"$f":"SUM('법정동(2014.12월말)'!U29)","v":1},{"$f":"SUM('법정동(2014.12월말)'!V29)","v":{"v":722,"d":"722.00"}},{"$f":"SUM('법정동(2014.12월말)'!W29)","v":1},{"$f":"SUM('법정동(2014.12월말)'!X29)","v":{"v":2833.7,"d":"2,833.70"}},{"$f":"SUM('법정동(2014.12월말)'!Y29)","v":6},{"$f":"SUM('법정동(2014.12월말)'!Z29)","v":{"v":10143.9,"d":"10,143.90"}},{"$f":"SUM('법정동(2014.12월말)'!AA29)","v":8},{"$f":"SUM('법정동(2014.12월말)'!AB29)","v":{"v":6602.7,"d":"6,602.70"}},{"$f":"SUM('법정동(2014.12월말)'!AC29)","v":10},{"$f":"SUM('법정동(2014.12월말)'!AD29)","v":{"v":383823.6,"d":"383,823.60"}},{"$f":"SUM('법정동(2014.12월말)'!AE29)","v":417},{"$f":"SUM('법정동(2014.12월말)'!AF29)","v":{"v":22933,"d":"22,933.00"}},{"$f":"SUM('법정동(2014.12월말)'!AG29)","v":33},{"$f":"SUM('법정동(2014.12월말)'!AH29)","v":0},{"$f":"SUM('법정동(2014.12월말)'!AI29)","v":0},{"$f":"SUM('법정동(2014.12월말)'!AJ29)","v":{"v":9119.1,"d":"9,119.10"}},{"$f":"SUM('법정동(2014.12월말)'!AK29)","v":3},{"$f":"SUM('법정동(2014.12월말)'!AL29)","v":{"v":21254,"d":"21,254.00"}},{"$f":"SUM('법정동(2014.12월말)'!AM29)","v":11},{"$f":"SUM('법정동(2014.12월말)'!AN29)","v":0},{"$f":"SUM('법정동(2014.12월말)'!AO29)","v":0},{"$f":"SUM('법정동(2014.12월말)'!AP29)","v":0},{"$f":"SUM('법정동(2014.12월말)'!AQ29)","v":0},{"$f":"SUM('법정동(2014.12월말)'!AR29)","v":{"v":72838,"d":"72,838.00"}},{"$f":"SUM('법정동(2014.12월말)'!AS29)","v":4},{"$f":"SUM('법정동(2014.12월말)'!AT29)","v":{"v":18073.4,"d":"18,073.40"}},{"$f":"SUM('법정동(2014.12월말)'!AU29)","v":8},{"$f":"SUM('법정동(2014.12월말)'!AV29)","v":{"v":166279,"d":"166,279.00"}},{"$f":"SUM('법정동(2014.12월말)'!AW29)","v":6},{"$f":"SUM('법정동(2014.12월말)'!AX29)","v":0},{"$f":"SUM('법정동(2014.12월말)'!AY29)","v":0},{"$f":"SUM('법정동(2014.12월말)'!AZ29)","v":{"v":14763.3,"d":"14,763.30"}},{"$f":"SUM('법정동(2014.12월말)'!BA29)","v":10},{"$f":"SUM('법정동(2014.12월말)'!BB29)","v":0},{"$f":"SUM('법정동(2014.12월말)'!BC29)","v":0},{"$f":"SUM('법정동(2014.12월말)'!BD29)","v":{"v":3315,"d":"3,315.00"}},{"$f":"SUM('법정동(2014.12월말)'!BE29)","v":9},{"$f":"SUM('법정동(2014.12월말)'!BF29)","v":{"v":83568.5,"d":"83,568.50"}},{"$f":"SUM('법정동(2014.12월말)'!BG29)","v":47}]
["만덕동",{"$f":"SUM('법정동(2014.12월말)'!B30:B32)","v":{"v":15960587.8,"d":"15,960,587.8"}},{"$f":"SUM('법정동(2014.12월말)'!C30:C32)","v":{"v":8259,"d":"8,259"}},{"$f":"SUM('법정동(2014.12월말)'!D30:D32)","v":{"v":1450698,"d":"1,450,698.00"}},{"$f":"SUM('법정동(2014.12월말)'!E30:E32)","v":{"v":2075,"d":"2,075"}},{"$f":"SUM('법정동(2014.12월말)'!F30:F32)","v":{"v":794456,"d":"794,456.00"}},{"$f":"SUM('법정동(2014.12월말)'!G30:G32)","v":{"v":1010,"d":"1,010"}},{"$f":"SUM('법정동(2014.12월말)'!H30:H32)","v":0},{"$f":"SUM('법정동(2014.12월말)'!I30:I32)","v":0},{"$f":"SUM('법정동(2014.12월말)'!J30:J32)","v":0},{"$f":"SUM('법정동(2014.12월말)'!K30:K32)","v":0},{"$f":"SUM('법정동(2014.12월말)'!L30:L32)","v":{"v":9908068.6,"d":"9,908,068.60"}},{"$f":"SUM('법정동(2014.12월말)'!M30:M32)","v":{"v":1227,"d":"1,227"}},{"$f":"SUM('법정동(2014.12월말)'!N30:N32)","v":0},{"$f":"SUM('법정동(2014.12월말)'!O30:O32)","v":0},{"$f":"SUM('법정동(2014.12월말)'!P30:P32)","v":0},{"$f":"SUM('법정동(2014.12월말)'!Q30:Q32)","v":0},{"$f":"SUM('법정동(2014.12월말)'!R30:R32)","v":{"v":1226217.6,"d":"1,226,217.60"}},{"$f":"SUM('법정동(2014.12월말)'!S30:S32)","v":{"v":1769,"d":"1,769"}},{"$f":"SUM('법정동(2014.12월말)'!T30:T32)","v":{"v":154440.9,"d":"154,440.90"}},{"$f":"SUM('법정동(2014.12월말)'!U30:U32)","v":89},{"$f":"SUM('법정동(2014.12월말)'!V30:V32)","v":{"v":66776.1,"d":"66,776.10"}},{"$f":"SUM('법정동(2014.12월말)'!W30:W32)","v":7},{"$f":"SUM('법정동(2014.12월말)'!X30:X32)","v":{"v":35256.8,"d":"35,256.80"}},{"$f":"SUM('법정동(2014.12월말)'!Y30:Y32)","v":10},{"$f":"SUM('법정동(2014.12월말)'!Z30:Z32)","v":{"v":3930,"d":"3,930.00"}},{"$f":"SUM('법정동(2014.12월말)'!AA30:AA32)","v":7},{"$f":"SUM('법정동(2014.12월말)'!AB30:AB32)","v":{"v":4253,"d":"4,253.00"}},{"$f":"SUM('법정동(2014.12월말)'!AC30:AC32)","v":10},{"$f":"SUM('법정동(2014.12월말)'!AD30:AD32)","v":{"v":710291.4,"d":"710,291.40"}},{"$f":"SUM('법정동(2014.12월말)'!AE30:AE32)","v":{"v":1425,"d":"1,425"}},{"$f":"SUM('법정동(2014.12월말)'!AF30:AF32)","v":{"v":171017,"d":"171,017.00"}},{"$f":"SUM('법정동(2014.12월말)'!AG30:AG32)","v":182},{"$f":"SUM('법정동(2014.12월말)'!AH30:AH32)","v":{"v":14342.4,"d":"14,342.40"}},{"$f":"SUM('법정동(2014.12월말)'!AI30:AI32)","v":11},{"$f":"SUM('법정동(2014.12월말)'!AJ30:AJ32)","v":{"v":19770.9,"d":"19,770.90"}},{"$f":"SUM('법정동(2014.12월말)'!AK30:AK32)","v":9},{"$f":"SUM('법정동(2014.12월말)'!AL30:AL32)","v":{"v":112337.79999999999,"d":"112,337.80"}},{"$f":"SUM('법정동(2014.12월말)'!AM30:AM32)","v":109},{"$f":"SUM('법정동(2014.12월말)'!AN30:AN32)","v":0},{"$f":"SUM('법정동(2014.12월말)'!AO30:AO32)","v":0},{"$f":"SUM('법정동(2014.12월말)'!AP30:AP32)","v":0},{"$f":"SUM('법정동(2014.12월말)'!AQ30:AQ32)","v":0},{"$f":"SUM('법정동(2014.12월말)'!AR30:AR32)","v":{"v":19441.7,"d":"19,441.70"}},{"$f":"SUM('법정동(2014.12월말)'!AS30:AS32)","v":64},{"$f":"SUM('법정동(2014.12월말)'!AT30:AT32)","v":{"v":508641.8,"d":"508,641.80"}},{"$f":"SUM('법정동(2014.12월말)'!AU30:AU32)","v":32},{"$f":"SUM('법정동(2014.12월말)'!AV30:AV32)","v":{"v":389346.5,"d":"389,346.50"}},{"$f":"SUM('법정동(2014.12월말)'!AW30:AW32)","v":4},{"$f":"SUM('법정동(2014.12월말)'!AX30:AX32)","v":0},{"$f":"SUM('법정동(2014.12월말)'!AY30:AY32)","v":0},{"$f":"SUM('법정동(2014.12월말)'!AZ30:AZ32)","v":{"v":21199.8,"d":"21,199.80"}},{"$f":"SUM('법정동(2014.12월말)'!BA30:BA32)","v":21},{"$f":"SUM('법정동(2014.12월말)'!BB30:BB32)","v":0},{"$f":"SUM('법정동(2014.12월말)'!BC30:BC32)","v":0},{"$f":"SUM('법정동(2014.12월말)'!BD30:BD32)","v":{"v":45557,"d":"45,557.00"}},{"$f":"SUM('법정동(2014.12월말)'!BE30:BE32)","v":89},{"$f":"SUM('법정동(2014.12월말)'!BF30:BF32)","v":{"v":304544.5,"d":"304,544.50"}},{"$f":"SUM('법정동(2014.12월말)'!BG30:BG32)","v":109}]
["쌍봉동",{"$f":"SUM('법정동(2014.12월말)'!B34:B37)","v":{"v":7165960.9,"d":"7,165,960.9"}},{"$f":"SUM('법정동(2014.12월말)'!C34:C37)","v":{"v":6087,"d":"6,087"}},{"$f":"SUM('법정동(2014.12월말)'!D34:D37)","v":{"v":501738,"d":"501,738.00"}},{"$f":"SUM('법정동(2014.12월말)'!E34:E37)","v":782},{"$f":"SUM('법정동(2014.12월말)'!F34:F37)","v":{"v":342998,"d":"342,998.00"}},{"$f":"SUM('법정동(2014.12월말)'!G34:G37)","v":392},{"$f":"SUM('법정동(2014.12월말)'!H34:H37)","v":{"v":3826,"d":"3,826.00"}},{"$f":"SUM('법정동(2014.12월말)'!I34:I37)","v":4},{"$f":"SUM('법정동(2014.12월말)'!J34:J37)","v":0},{"$f":"SUM('법정동(2014.12월말)'!K34:K37)","v":0},{"$f":"SUM('법정동(2014.12월말)'!L34:L37)","v":{"v":2782718.1999999997,"d":"2,782,718.20"}},{"$f":"SUM('법정동(2014.12월말)'!M34:M37)","v":658},{"$f":"SUM('법정동(2014.12월말)'!N34:N37)","v":0},{"$f":"SUM('법정동(2014.12월말)'!O34:O37)","v":0},{"$f":"SUM('법정동(2014.12월말)'!P34:P37)","v":0},{"$f":"SUM('법정동(2014.12월말)'!Q34:Q37)","v":0},{"$f":"SUM('법정동(2014.12월말)'!R34:R37)","v":{"v":2078947.3,"d":"2,078,947.30"}},{"$f":"SUM('법정동(2014.12월말)'!S34:S37)","v":{"v":3219,"d":"3,219"}},{"$f":"SUM('법정동(2014.12월말)'!T34:T37)","v":{"v":12954,"d":"12,954.00"}},{"$f":"SUM('법정동(2014.12월말)'!U34:U37)","v":11},{"$f":"SUM('법정동(2014.12월말)'!V34:V37)","v":{"v":93344.5,"d":"93,344.50"}},{"$f":"SUM('법정동(2014.12월말)'!W34:W37)","v":9},{"$f":"SUM('법정동(2014.12월말)'!X34:X37)","v":{"v":26818.8,"d":"26,818.80"}},{"$f":"SUM('법정동(2014.12월말)'!Y34:Y37)","v":34},{"$f":"SUM('법정동(2014.12월말)'!Z34:Z37)","v":{"v":7604.2,"d":"7,604.20"}},{"$f":"SUM('법정동(2014.12월말)'!AA34:AA37)","v":10},{"$f":"SUM('법정동(2014.12월말)'!AB34:AB37)","v":{"v":3142,"d":"3,142.00"}},{"$f":"SUM('법정동(2014.12월말)'!AC34:AC37)","v":4},{"$f":"SUM('법정동(2014.12월말)'!AD34:AD37)","v":{"v":871468,"d":"871,468.00"}},{"$f":"SUM('법정동(2014.12월말)'!AE34:AE37)","v":680},{"$f":"SUM('법정동(2014.12월말)'!AF34:AF37)","v":{"v":73480,"d":"73,480.00"}},{"$f":"SUM('법정동(2014.12월말)'!AG34:AG37)","v":71},{"$f":"SUM('법정동(2014.12월말)'!AH34:AH37)","v":{"v":7082.200000000001,"d":"7,082.20"}},{"$f":"SUM('법정동(2014.12월말)'!AI34:AI37)","v":7},{"$f":"SUM('법정동(2014.12월말)'!AJ34:AJ37)","v":{"v":6362,"d":"6,362.00"}},{"$f":"SUM('법정동(2014.12월말)'!AK34:AK37)","v":16},{"$f":"SUM('법정동(2014.12월말)'!AL34:AL37)","v":{"v":26441.5,"d":"26,441.50"}},{"$f":"SUM('법정동(2014.12월말)'!AM34:AM37)","v":38},{"$f":"SUM('법정동(2014.12월말)'!AN34:AN37)","v":{"v":11448.5,"d":"11,448.50"}},{"$f":"SUM('법정동(2014.12월말)'!AO34:AO37)","v":3},{"$f":"SUM('법정동(2014.12월말)'!AP34:AP37)","v":0},{"$f":"SUM('법정동(2014.12월말)'!AQ34:AQ37)","v":0},{"$f":"SUM('법정동(2014.12월말)'!AR34:AR37)","v":{"v":20058,"d":"20,058.00"}},{"$f":"SUM('법정동(2014.12월말)'!AS34:AS37)","v":3},{"$f":"SUM('법정동(2014.12월말)'!AT34:AT37)","v":{"v":143290.5,"d":"143,290.50"}},{"$f":"SUM('법정동(2014.12월말)'!AU34:AU37)","v":24},{"$f":"SUM('법정동(2014.12월말)'!AV34:AV37)","v":{"v":10945.6,"d":"10,945.60"}},{"$f":"SUM('법정동(2014.12월말)'!AW34:AW37)","v":1},{"$f":"SUM('법정동(2014.12월말)'!AX34:AX37)","v":{"v":49654.3,"d":"49,654.30"}},{"$f":"SUM('법정동(2014.12월말)'!AY34:AY37)","v":2},{"$f":"SUM('법정동(2014.12월말)'!AZ34:AZ37)","v":{"v":22115.1,"d":"22,115.10"}},{"$f":"SUM('법정동(2014.12월말)'!BA34:BA37)","v":19},{"$f":"SUM('법정동(2014.12월말)'!BB34:BB37)","v":0},{"$f":"SUM('법정동(2014.12월말)'!BC34:BC37)","v":0},{"$f":"SUM('법정동(2014.12월말)'!BD34:BD37)","v":{"v":32230,"d":"32,230.00"}},{"$f":"SUM('법정동(2014.12월말)'!BE34:BE37)","v":53},{"$f":"SUM('법정동(2014.12월말)'!BF34:BF37)","v":{"v":37294.200000000004,"d":"37,294.20"}},{"$f":"SUM('법정동(2014.12월말)'!BG34:BG37)","v":47}]
["시전동",{"$f":"SUM('법정동(2014.12월말)'!B38:B40)","v":{"v":6257008.8,"d":"6,257,008.8"}},{"$f":"SUM('법정동(2014.12월말)'!C38:C40)","v":{"v":6360,"d":"6,360"}},{"$f":"SUM('법정동(2014.12월말)'!D38:D40)","v":{"v":1053460,"d":"1,053,460.00"}},{"$f":"SUM('법정동(2014.12월말)'!E38:E40)","v":{"v":1328,"d":"1,328"}},{"$f":"SUM('법정동(2014.12월말)'!F38:F40)","v":{"v":453340,"d":"453,340.00"}},{"$f":"SUM('법정동(2014.12월말)'!G38:G40)","v":723},{"$f":"SUM('법정동(2014.12월말)'!H38:H40)","v":{"v":4119,"d":"4,119.00"}},{"$f":"SUM('법정동(2014.12월말)'!I38:I40)","v":4},{"$f":"SUM('법정동(2014.12월말)'!J38:J40)","v":0},{"$f":"SUM('법정동(2014.12월말)'!K38:K40)","v":0},{"$f":"SUM('법정동(2014.12월말)'!L38:L40)","v":{"v":2416258.6,"d":"2,416,258.60"}},{"$f":"SUM('법정동(2014.12월말)'!M38:M40)","v":955},{"$f":"SUM('법정동(2014.12월말)'!N38:N40)","v":0},{"$f":"SUM('법정동(2014.12월말)'!O38:O40)","v":0},{"$f":"SUM('법정동(2014.12월말)'!P38:P40)","v":0},{"$f":"SUM('법정동(2014.12월말)'!Q38:Q40)","v":0},{"$f":"SUM('법정동(2014.12월말)'!R38:R40)","v":{"v":1106674.3,"d":"1,106,674.30"}},{"$f":"SUM('법정동(2014.12월말)'!S38:S40)","v":{"v":2406,"d":"2,406"}},{"$f":"SUM('법정동(2014.12월말)'!T38:T40)","v":0},{"$f":"SUM('법정동(2014.12월말)'!U38:U40)","v":0},{"$f":"SUM('법정동(2014.12월말)'!V38:V40)","v":{"v":64545,"d":"64,545.00"}},{"$f":"SUM('법정동(2014.12월말)'!W38:W40)","v":4},{"$f":"SUM('법정동(2014.12월말)'!X38:X40)","v":{"v":26790.6,"d":"26,790.60"}},{"$f":"SUM('법정동(2014.12월말)'!Y38:Y40)","v":23},{"$f":"SUM('법정동(2014.12월말)'!Z38:Z40)","v":{"v":4565.2,"d":"4,565.20"}},{"$f":"SUM('법정동(2014.12월말)'!AA38:AA40)","v":5},{"$f":"SUM('법정동(2014.12월말)'!AB38:AB40)","v":{"v":350,"d":"350.00"}},{"$f":"SUM('법정동(2014.12월말)'!AC38:AC40)","v":1},{"$f":"SUM('법정동(2014.12월말)'!AD38:AD40)","v":{"v":605254.9,"d":"605,254.90"}},{"$f":"SUM('법정동(2014.12월말)'!AE38:AE40)","v":687},{"$f":"SUM('법정동(2014.12월말)'!AF38:AF40)","v":0},{"$f":"SUM('법정동(2014.12월말)'!AG38:AG40)","v":0},{"$f":"SUM('법정동(2014.12월말)'!AH38:AH40)","v":{"v":1881.6,"d":"1,881.60"}},{"$f":"SUM('법정동(2014.12월말)'!AI38:AI40)","v":6},{"$f":"SUM('법정동(2014.12월말)'!AJ38:AJ40)","v":{"v":555,"d":"555.00"}},{"$f":"SUM('법정동(2014.12월말)'!AK38:AK40)","v":4},{"$f":"SUM('법정동(2014.12월말)'!AL38:AL40)","v":{"v":48556,"d":"48,556.00"}},{"$f":"SUM('법정동(2014.12월말)'!AM38:AM40)","v":48},{"$f":"SUM('법정동(2014.12월말)'!AN38:AN40)","v":{"v":22484,"d":"22,484.00"}},{"$f":"SUM('법정동(2014.12월말)'!AO38:AO40)","v":30},{"$f":"SUM('법정동(2014.12월말)'!AP38:AP40)","v":0},{"$f":"SUM('법정동(2014.12월말)'!AQ38:AQ40)","v":0},{"$f":"SUM('법정동(2014.12월말)'!AR38:AR40)","v":{"v":3742.1,"d":"3,742.10"}},{"$f":"SUM('법정동(2014.12월말)'!AS38:AS40)","v":13},{"$f":"SUM('법정동(2014.12월말)'!AT38:AT40)","v":{"v":175805.7,"d":"175,805.70"}},{"$f":"SUM('법정동(2014.12월말)'!AU38:AU40)","v":41},{"$f":"SUM('법정동(2014.12월말)'!AV38:AV40)","v":{"v":157345,"d":"157,345.00"}},{"$f":"SUM('법정동(2014.12월말)'!AW38:AW40)","v":4},{"$f":"SUM('법정동(2014.12월말)'!AX38:AX40)","v":0},{"$f":"SUM('법정동(2014.12월말)'!AY38:AY40)","v":0},{"$f":"SUM('법정동(2014.12월말)'!AZ38:AZ40)","v":{"v":21418.600000000002,"d":"21,418.60"}},{"$f":"SUM('법정동(2014.12월말)'!BA38:BA40)","v":11},{"$f":"SUM('법정동(2014.12월말)'!BB38:BB40)","v":0},{"$f":"SUM('법정동(2014.12월말)'!BC38:BC40)","v":0},{"$f":"SUM('법정동(2014.12월말)'!BD38:BD40)","v":{"v":24051,"d":"24,051.00"}},{"$f":"SUM('법정동(2014.12월말)'!BE38:BE40)","v":50},{"$f":"SUM('법정동(2014.12월말)'!BF38:BF40)","v":{"v":65812.2,"d":"65,812.20"}},{"$f":"SUM('법정동(2014.12월말)'!BG38:BG40)","v":17}]
["여천동",{"$f":"SUM('법정동(2014.12월말)'!B41:B43)","v":{"v":7531364.6,"d":"7,531,364.6"}},{"$f":"SUM('법정동(2014.12월말)'!C41:C43)","v":{"v":7424,"d":"7,424"}},{"$f":"SUM('법정동(2014.12월말)'!D41:D43)","v":{"v":821817,"d":"821,817.00"}},{"$f":"SUM('법정동(2014.12월말)'!E41:E43)","v":999},{"$f":"SUM('법정동(2014.12월말)'!F41:F43)","v":{"v":1229222,"d":"1,229,222.00"}},{"$f":"SUM('법정동(2014.12월말)'!G41:G43)","v":{"v":1316,"d":"1,316"}},{"$f":"SUM('법정동(2014.12월말)'!H41:H43)","v":{"v":17444,"d":"17,444.00"}},{"$f":"SUM('법정동(2014.12월말)'!I41:I43)","v":5},{"$f":"SUM('법정동(2014.12월말)'!J41:J43)","v":{"v":3663,"d":"3,663.00"}},{"$f":"SUM('법정동(2014.12월말)'!K41:K43)","v":6},{"$f":"SUM('법정동(2014.12월말)'!L41:L43)","v":{"v":2434934.5,"d":"2,434,934.50"}},{"$f":"SUM('법정동(2014.12월말)'!M41:M43)","v":605},{"$f":"SUM('법정동(2014.12월말)'!N41:N43)","v":0},{"$f":"SUM('법정동(2014.12월말)'!O41:O43)","v":0},{"$f":"SUM('법정동(2014.12월말)'!P41:P43)","v":0},{"$f":"SUM('법정동(2014.12월말)'!Q41:Q43)","v":0},{"$f":"SUM('법정동(2014.12월말)'!R41:R43)","v":{"v":1322768,"d":"1,322,768.00"}},{"$f":"SUM('법정동(2014.12월말)'!S41:S43)","v":{"v":3180,"d":"3,180"}},{"$f":"SUM('법정동(2014.12월말)'!T41:T43)","v":{"v":7934,"d":"7,934.00"}},{"$f":"SUM('법정동(2014.12월말)'!U41:U43)","v":6},{"$f":"SUM('법정동(2014.12월말)'!V41:V43)","v":{"v":162547.4,"d":"162,547.40"}},{"$f":"SUM('법정동(2014.12월말)'!W41:W43)","v":8},{"$f":"SUM('법정동(2014.12월말)'!X41:X43)","v":{"v":42685.899999999994,"d":"42,685.90"}},{"$f":"SUM('법정동(2014.12월말)'!Y41:Y43)","v":49},{"$f":"SUM('법정동(2014.12월말)'!Z41:Z43)","v":{"v":14086.7,"d":"14,086.70"}},{"$f":"SUM('법정동(2014.12월말)'!AA41:AA43)","v":18},{"$f":"SUM('법정동(2014.12월말)'!AB41:AB43)","v":{"v":19177,"d":"19,177.00"}},{"$f":"SUM('법정동(2014.12월말)'!AC41:AC43)","v":18},{"$f":"SUM('법정동(2014.12월말)'!AD41:AD43)","v":{"v":865872.7,"d":"865,872.70"}},{"$f":"SUM('법정동(2014.12월말)'!AE41:AE43)","v":801},{"$f":"SUM('법정동(2014.12월말)'!AF41:AF43)","v":{"v":75196,"d":"75,196.00"}},{"$f":"SUM('법정동(2014.12월말)'!AG41:AG43)","v":56},{"$f":"SUM('법정동(2014.12월말)'!AH41:AH43)","v":0},{"$f":"SUM('법정동(2014.12월말)'!AI41:AI43)","v":0},{"$f":"SUM('법정동(2014.12월말)'!AJ41:AJ43)","v":{"v":87254,"d":"87,254.00"}},{"$f":"SUM('법정동(2014.12월말)'!AK41:AK43)","v":52},{"$f":"SUM('법정동(2014.12월말)'!AL41:AL43)","v":{"v":89829.90000000001,"d":"89,829.90"}},{"$f":"SUM('법정동(2014.12월말)'!AM41:AM43)","v":164},{"$f":"SUM('법정동(2014.12월말)'!AN41:AN43)","v":{"v":23888,"d":"23,888.00"}},{"$f":"SUM('법정동(2014.12월말)'!AO41:AO43)","v":17},{"$f":"SUM('법정동(2014.12월말)'!AP41:AP43)","v":{"v":1016,"d":"1,016.00"}},{"$f":"SUM('법정동(2014.12월말)'!AQ41:AQ43)","v":1},{"$f":"SUM('법정동(2014.12월말)'!AR41:AR43)","v":{"v":32581,"d":"32,581.00"}},{"$f":"SUM('법정동(2014.12월말)'!AS41:AS43)","v":13},{"$f":"SUM('법정동(2014.12월말)'!AT41:AT43)","v":{"v":176307.4,"d":"176,307.40"}},{"$f":"SUM('법정동(2014.12월말)'!AU41:AU43)","v":27},{"$f":"SUM('법정동(2014.12월말)'!AV41:AV43)","v":{"v":28326,"d":"28,326.00"}},{"$f":"SUM('법정동(2014.12월말)'!AW41:AW43)","v":3},{"$f":"SUM('법정동(2014.12월말)'!AX41:AX43)","v":0},{"$f":"SUM('법정동(2014.12월말)'!AY41:AY43)","v":0},{"$f":"SUM('법정동(2014.12월말)'!AZ41:AZ43)","v":{"v":21334,"d":"21,334.00"}},{"$f":"SUM('법정동(2014.12월말)'!BA41:BA43)","v":15},{"$f":"SUM('법정동(2014.12월말)'!BB41:BB43)","v":{"v":6450,"d":"6,450.00"}},{"$f":"SUM('법정동(2014.12월말)'!BC41:BC43)","v":2},{"$f":"SUM('법정동(2014.12월말)'!BD41:BD43)","v":{"v":14704,"d":"14,704.00"}},{"$f":"SUM('법정동(2014.12월말)'!BE41:BE43)","v":27},{"$f":"SUM('법정동(2014.12월말)'!BF41:BF43)","v":{"v":32326.1,"d":"32,326.10"}},{"$f":"SUM('법정동(2014.12월말)'!BG41:BG43)","v":36}]
["주삼동",{"$f":"SUM('법정동(2014.12월말)'!B44:B46)","v":{"v":11528575.1,"d":"11,528,575.1"}},{"$f":"SUM('법정동(2014.12월말)'!C44:C46)","v":{"v":8266,"d":"8,266"}},{"$f":"SUM('법정동(2014.12월말)'!D44:D46)","v":{"v":1029452,"d":"1,029,452.00"}},{"$f":"SUM('법정동(2014.12월말)'!E44:E46)","v":{"v":1306,"d":"1,306"}},{"$f":"SUM('법정동(2014.12월말)'!F44:F46)","v":{"v":2010309.4,"d":"2,010,309.40"}},{"$f":"SUM('법정동(2014.12월말)'!G44:G46)","v":{"v":2071,"d":"2,071"}},{"$f":"SUM('법정동(2014.12월말)'!H44:H46)","v":{"v":3307,"d":"3,307.00"}},{"$f":"SUM('법정동(2014.12월말)'!I44:I46)","v":1},{"$f":"SUM('법정동(2014.12월말)'!J44:J46)","v":{"v":5658,"d":"5,658.00"}},{"$f":"SUM('법정동(2014.12월말)'!K44:K46)","v":9},{"$f":"SUM('법정동(2014.12월말)'!L44:L46)","v":{"v":5448328,"d":"5,448,328.00"}},{"$f":"SUM('법정동(2014.12월말)'!M44:M46)","v":{"v":1085,"d":"1,085"}},{"$f":"SUM('법정동(2014.12월말)'!N44:N46)","v":0},{"$f":"SUM('법정동(2014.12월말)'!O44:O46)","v":0},{"$f":"SUM('법정동(2014.12월말)'!P44:P46)","v":0},{"$f":"SUM('법정동(2014.12월말)'!Q44:Q46)","v":0},{"$f":"SUM('법정동(2014.12월말)'!R44:R46)","v":{"v":592087.7,"d":"592,087.70"}},{"$f":"SUM('법정동(2014.12월말)'!S44:S46)","v":994},{"$f":"SUM('법정동(2014.12월말)'!T44:T46)","v":{"v":151582.9,"d":"151,582.90"}},{"$f":"SUM('법정동(2014.12월말)'!U44:U46)","v":58},{"$f":"SUM('법정동(2014.12월말)'!V44:V46)","v":{"v":84875,"d":"84,875.00"}},{"$f":"SUM('법정동(2014.12월말)'!W44:W46)","v":3},{"$f":"SUM('법정동(2014.12월말)'!X44:X46)","v":{"v":76959.9,"d":"76,959.90"}},{"$f":"SUM('법정동(2014.12월말)'!Y44:Y46)","v":21},{"$f":"SUM('법정동(2014.12월말)'!Z44:Z46)","v":{"v":26783,"d":"26,783.00"}},{"$f":"SUM('법정동(2014.12월말)'!AA44:AA46)","v":24},{"$f":"SUM('법정동(2014.12월말)'!AB44:AB46)","v":{"v":15929,"d":"15,929.00"}},{"$f":"SUM('법정동(2014.12월말)'!AC44:AC46)","v":25},{"$f":"SUM('법정동(2014.12월말)'!AD44:AD46)","v":{"v":940021.3999999999,"d":"940,021.40"}},{"$f":"SUM('법정동(2014.12월말)'!AE44:AE46)","v":{"v":2062,"d":"2,062"}},{"$f":"SUM('법정동(2014.12월말)'!AF44:AF46)","v":{"v":60329.2,"d":"60,329.20"}},{"$f":"SUM('법정동(2014.12월말)'!AG44:AG46)","v":78},{"$f":"SUM('법정동(2014.12월말)'!AH44:AH46)","v":{"v":9201,"d":"9,201.00"}},{"$f":"SUM('법정동(2014.12월말)'!AI44:AI46)","v":11},{"$f":"SUM('법정동(2014.12월말)'!AJ44:AJ46)","v":{"v":109024,"d":"109,024.00"}},{"$f":"SUM('법정동(2014.12월말)'!AK44:AK46)","v":58},{"$f":"SUM('법정동(2014.12월말)'!AL44:AL46)","v":{"v":201814,"d":"201,814.00"}},{"$f":"SUM('법정동(2014.12월말)'!AM44:AM46)","v":231},{"$f":"SUM('법정동(2014.12월말)'!AN44:AN46)","v":{"v":119944,"d":"119,944.00"}},{"$f":"SUM('법정동(2014.12월말)'!AO44:AO46)","v":58},{"$f":"SUM('법정동(2014.12월말)'!AP44:AP46)","v":0},{"$f":"SUM('법정동(2014.12월말)'!AQ44:AQ46)","v":0},{"$f":"SUM('법정동(2014.12월말)'!AR44:AR46)","v":{"v":3567,"d":"3,567.00"}},{"$f":"SUM('법정동(2014.12월말)'!AS44:AS46)","v":7},{"$f":"SUM('법정동(2014.12월말)'!AT44:AT46)","v":0},{"$f":"SUM('법정동(2014.12월말)'!AU44:AU46)","v":0},{"$f":"SUM('법정동(2014.12월말)'!AV44:AV46)","v":{"v":514788,"d":"514,788.00"}},{"$f":"SUM('법정동(2014.12월말)'!AW44:AW46)","v":2},{"$f":"SUM('법정동(2014.12월말)'!AX44:AX46)","v":0},{"$f":"SUM('법정동(2014.12월말)'!AY44:AY46)","v":0},{"$f":"SUM('법정동(2014.12월말)'!AZ44:AZ46)","v":{"v":9549,"d":"9,549.00"}},{"$f":"SUM('법정동(2014.12월말)'!BA44:BA46)","v":7},{"$f":"SUM('법정동(2014.12월말)'!BB44:BB46)","v":0},{"$f":"SUM('법정동(2014.12월말)'!BC44:BC46)","v":0},{"$f":"SUM('법정동(2014.12월말)'!BD44:BD46)","v":{"v":11926,"d":"11,926.00"}},{"$f":"SUM('법정동(2014.12월말)'!BE44:BE46)","v":18},{"$f":"SUM('법정동(2014.12월말)'!BF44:BF46)","v":{"v":103139.6,"d":"103,139.60"}},{"$f":"SUM('법정동(2014.12월말)'!BG44:BG46)","v":137}]
["삼일동",{"$f":"SUM('법정동(2014.12월말)'!B47:B52,'법정동(2014.12월말)'!B54:B57)","v":{"v":72538920.4,"d":"72,538,920.4"}},{"$f":"SUM('법정동(2014.12월말)'!C47:C52,'법정동(2014.12월말)'!C54:C57)","v":{"v":19253,"d":"19,253"}},{"$f":"SUM('법정동(2014.12월말)'!D47:D52,'법정동(2014.12월말)'!D54:D57)","v":{"v":2804039,"d":"2,804,039.00"}},{"$f":"SUM('법정동(2014.12월말)'!E47:E52,'법정동(2014.12월말)'!E54:E57)","v":{"v":3419,"d":"3,419"}},{"$f":"SUM('법정동(2014.12월말)'!F47:F52,'법정동(2014.12월말)'!F54:F57)","v":{"v":3150850.5,"d":"3,150,850.50"}},{"$f":"SUM('법정동(2014.12월말)'!G47:G52,'법정동(2014.12월말)'!G54:G57)","v":{"v":3503,"d":"3,503"}},{"$f":"SUM('법정동(2014.12월말)'!H47:H52,'법정동(2014.12월말)'!H54:H57)","v":{"v":36339,"d":"36,339.00"}},{"$f":"SUM('법정동(2014.12월말)'!I47:I52,'법정동(2014.12월말)'!I54:I57)","v":14},{"$f":"SUM('법정동(2014.12월말)'!J47:J52,'법정동(2014.12월말)'!J54:J57)","v":{"v":7471,"d":"7,471.00"}},{"$f":"SUM('법정동(2014.12월말)'!K47:K52,'법정동(2014.12월말)'!K54:K57)","v":5},{"$f":"SUM('법정동(2014.12월말)'!L47:L52,'법정동(2014.12월말)'!L54:L57)","v":{"v":38647551.199999996,"d":"38,647,551.20"}},{"$f":"SUM('법정동(2014.12월말)'!M47:M52,'법정동(2014.12월말)'!M54:M57)","v":{"v":3475,"d":"3,475"}},{"$f":"SUM('법정동(2014.12월말)'!N47:N52,'법정동(2014.12월말)'!N54:N57)","v":0},{"$f":"SUM('법정동(2014.12월말)'!O47:O52,'법정동(2014.12월말)'!O54:O57)","v":0},{"$f":"SUM('법정동(2014.12월말)'!P47:P52,'법정동(2014.12월말)'!P54:P57)","v":0},{"$f":"SUM('법정동(2014.12월말)'!Q47:Q52,'법정동(2014.12월말)'!Q54:Q57)","v":0},{"$f":"SUM('법정동(2014.12월말)'!R47:R52,'법정동(2014.12월말)'!R54:R57)","v":{"v":1398350.5,"d":"1,398,350.50"}},{"$f":"SUM('법정동(2014.12월말)'!S47:S52,'법정동(2014.12월말)'!S54:S57)","v":{"v":2143,"d":"2,143"}},{"$f":"SUM('법정동(2014.12월말)'!T47:T52,'법정동(2014.12월말)'!T54:T57)","v":{"v":17820198.599999998,"d":"17,820,198.60"}},{"$f":"SUM('법정동(2014.12월말)'!U47:U52,'법정동(2014.12월말)'!U54:U57)","v":727},{"$f":"SUM('법정동(2014.12월말)'!V47:V52,'법정동(2014.12월말)'!V54:V57)","v":{"v":62608,"d":"62,608.00"}},{"$f":"SUM('법정동(2014.12월말)'!W47:W52,'법정동(2014.12월말)'!W54:W57)","v":12},{"$f":"SUM('법정동(2014.12월말)'!X47:X52,'법정동(2014.12월말)'!X54:X57)","v":{"v":17872.7,"d":"17,872.70"}},{"$f":"SUM('법정동(2014.12월말)'!Y47:Y52,'법정동(2014.12월말)'!Y54:Y57)","v":17},{"$f":"SUM('법정동(2014.12월말)'!Z47:Z52,'법정동(2014.12월말)'!Z54:Z57)","v":{"v":345630.9,"d":"345,630.90"}},{"$f":"SUM('법정동(2014.12월말)'!AA47:AA52,'법정동(2014.12월말)'!AA54:AA57)","v":49},{"$f":"SUM('법정동(2014.12월말)'!AB47:AB52,'법정동(2014.12월말)'!AB54:AB57)","v":{"v":24347.4,"d":"24,347.40"}},{"$f":"SUM('법정동(2014.12월말)'!AC47:AC52,'법정동(2014.12월말)'!AC54:AC57)","v":12},{"$f":"SUM('법정동(2014.12월말)'!AD47:AD52,'법정동(2014.12월말)'!AD54:AD57)","v":{"v":2952178.0999999996,"d":"2,952,178.10"}},{"$f":"SUM('법정동(2014.12월말)'!AE47:AE52,'법정동(2014.12월말)'!AE54:AE57)","v":{"v":3801,"d":"3,801"}},{"$f":"SUM('법정동(2014.12월말)'!AF47:AF52,'법정동(2014.12월말)'!AF54:AF57)","v":{"v":275154,"d":"275,154.00"}},{"$f":"SUM('법정동(2014.12월말)'!AG47:AG52,'법정동(2014.12월말)'!AG54:AG57)","v":185},{"$f":"SUM('법정동(2014.12월말)'!AH47:AH52,'법정동(2014.12월말)'!AH54:AH57)","v":{"v":129409.20000000001,"d":"129,409.20"}},{"$f":"SUM('법정동(2014.12월말)'!AI47:AI52,'법정동(2014.12월말)'!AI54:AI57)","v":71},{"$f":"SUM('법정동(2014.12월말)'!AJ47:AJ52,'법정동(2014.12월말)'!AJ54:AJ57)","v":{"v":1018548.2000000001,"d":"1,018,548.20"}},{"$f":"SUM('법정동(2014.12월말)'!AK47:AK52,'법정동(2014.12월말)'!AK54:AK57)","v":345},{"$f":"SUM('법정동(2014.12월말)'!AL47:AL52,'법정동(2014.12월말)'!AL54:AL57)","v":{"v":417958.5,"d":"417,958.50"}},{"$f":"SUM('법정동(2014.12월말)'!AM47:AM52,'법정동(2014.12월말)'!AM54:AM57)","v":364},{"$f":"SUM('법정동(2014.12월말)'!AN47:AN52,'법정동(2014.12월말)'!AN54:AN57)","v":{"v":201243,"d":"201,243.00"}},{"$f":"SUM('법정동(2014.12월말)'!AO47:AO52,'법정동(2014.12월말)'!AO54:AO57)","v":187},{"$f":"SUM('법정동(2014.12월말)'!AP47:AP52,'법정동(2014.12월말)'!AP54:AP57)","v":0},{"$f":"SUM('법정동(2014.12월말)'!AQ47:AQ52,'법정동(2014.12월말)'!AQ54:AQ57)","v":0},{"$f":"SUM('법정동(2014.12월말)'!AR47:AR52,'법정동(2014.12월말)'!AR54:AR57)","v":{"v":65088.7,"d":"65,088.70"}},{"$f":"SUM('법정동(2014.12월말)'!AS47:AS52,'법정동(2014.12월말)'!AS54:AS57)","v":28},{"$f":"SUM('법정동(2014.12월말)'!AT47:AT52,'법정동(2014.12월말)'!AT54:AT57)","v":{"v":105263.99999999999,"d":"105,264.00"}},{"$f":"SUM('법정동(2014.12월말)'!AU47:AU52,'법정동(2014.12월말)'!AU54:AU57)","v":13},{"$f":"SUM('법정동(2014.12월말)'!AV47:AV52,'법정동(2014.12월말)'!AV54:AV57)","v":{"v":1544,"d":"1,544.00"}},{"$f":"SUM('법정동(2014.12월말)'!AW47:AW52,'법정동(2014.12월말)'!AW54:AW57)","v":2},{"$f":"SUM('법정동(2014.12월말)'!AX47:AX52,'법정동(2014.12월말)'!AX54:AX57)","v":0},{"$f":"SUM('법정동(2014.12월말)'!AY47:AY52,'법정동(2014.12월말)'!AY54:AY57)","v":0},{"$f":"SUM('법정동(2014.12월말)'!AZ47:AZ52,'법정동(2014.12월말)'!AZ54:AZ57)","v":{"v":37336,"d":"37,336.00"}},{"$f":"SUM('법정동(2014.12월말)'!BA47:BA52,'법정동(2014.12월말)'!BA54:BA57)","v":30},{"$f":"SUM('법정동(2014.12월말)'!BB47:BB52,'법정동(2014.12월말)'!BB54:BB57)","v":0},{"$f":"SUM('법정동(2014.12월말)'!BC47:BC52,'법정동(2014.12월말)'!BC54:BC57)","v":0},{"$f":"SUM('법정동(2014.12월말)'!BD47:BD52,'법정동(2014.12월말)'!BD54:BD57)","v":{"v":86797,"d":"86,797.00"}},{"$f":"SUM('법정동(2014.12월말)'!BE47:BE52,'법정동(2014.12월말)'!BE54:BE57)","v":109},{"$f":"SUM('법정동(2014.12월말)'!BF47:BF52,'법정동(2014.12월말)'!BF54:BF57)","v":{"v":2933140.9000000004,"d":"2,933,140.90"}},{"$f":"SUM('법정동(2014.12월말)'!BG47:BG52,'법정동(2014.12월말)'!BG54:BG57)","v":742}]
["묘도동",{"$f":"SUM('법정동(2014.12월말)'!B53)","v":{"v":11515923.6,"d":"11,515,923.6"}},{"$f":"SUM('법정동(2014.12월말)'!C53)","v":{"v":5960,"d":"5,960"}},{"$f":"SUM('법정동(2014.12월말)'!D53)","v":{"v":1320764,"d":"1,320,764.00"}},{"$f":"SUM('법정동(2014.12월말)'!E53)","v":{"v":1335,"d":"1,335"}},{"$f":"SUM('법정동(2014.12월말)'!F53)","v":{"v":932873,"d":"932,873.00"}},{"$f":"SUM('법정동(2014.12월말)'!G53)","v":{"v":1115,"d":"1,115"}},{"$f":"SUM('법정동(2014.12월말)'!H53)","v":{"v":3155,"d":"3,155.00"}},{"$f":"SUM('법정동(2014.12월말)'!I53)","v":3},{"$f":"SUM('법정동(2014.12월말)'!J53)","v":{"v":1592,"d":"1,592.00"}},{"$f":"SUM('법정동(2014.12월말)'!K53)","v":4},{"$f":"SUM('법정동(2014.12월말)'!L53)","v":{"v":5651723,"d":"5,651,723.00"}},{"$f":"SUM('법정동(2014.12월말)'!M53)","v":{"v":1728,"d":"1,728"}},{"$f":"SUM('법정동(2014.12월말)'!N53)","v":0},{"$f":"SUM('법정동(2014.12월말)'!O53)","v":0},{"$f":"SUM('법정동(2014.12월말)'!P53)","v":0},{"$f":"SUM('법정동(2014.12월말)'!Q53)","v":0},{"$f":"SUM('법정동(2014.12월말)'!R53)","v":{"v":183133,"d":"183,133.00"}},{"$f":"SUM('법정동(2014.12월말)'!S53)","v":669},{"$f":"SUM('법정동(2014.12월말)'!T53)","v":0},{"$f":"SUM('법정동(2014.12월말)'!U53)","v":0},{"$f":"SUM('법정동(2014.12월말)'!V53)","v":{"v":18801,"d":"18,801.00"}},{"$f":"SUM('법정동(2014.12월말)'!W53)","v":4},{"$f":"SUM('법정동(2014.12월말)'!X53)","v":{"v":28,"d":"28.00"}},{"$f":"SUM('법정동(2014.12월말)'!Y53)","v":1},{"$f":"SUM('법정동(2014.12월말)'!Z53)","v":{"v":589,"d":"589.00"}},{"$f":"SUM('법정동(2014.12월말)'!AA53)","v":2},{"$f":"SUM('법정동(2014.12월말)'!AB53)","v":{"v":3651,"d":"3,651.00"}},{"$f":"SUM('법정동(2014.12월말)'!AC53)","v":8},{"$f":"SUM('법정동(2014.12월말)'!AD53)","v":{"v":137631,"d":"137,631.00"}},{"$f":"SUM('법정동(2014.12월말)'!AE53)","v":922},{"$f":"SUM('법정동(2014.12월말)'!AF53)","v":0},{"$f":"SUM('법정동(2014.12월말)'!AG53)","v":0},{"$f":"SUM('법정동(2014.12월말)'!AH53)","v":{"v":113676.6,"d":"113,676.60"}},{"$f":"SUM('법정동(2014.12월말)'!AI53)","v":14},{"$f":"SUM('법정동(2014.12월말)'!AJ53)","v":{"v":15454,"d":"15,454.00"}},{"$f":"SUM('법정동(2014.12월말)'!AK53)","v":7},{"$f":"SUM('법정동(2014.12월말)'!AL53)","v":{"v":64259,"d":"64,259.00"}},{"$f":"SUM('법정동(2014.12월말)'!AM53)","v":28},{"$f":"SUM('법정동(2014.12월말)'!AN53)","v":{"v":22036,"d":"22,036.00"}},{"$f":"SUM('법정동(2014.12월말)'!AO53)","v":27},{"$f":"SUM('법정동(2014.12월말)'!AP53)","v":0},{"$f":"SUM('법정동(2014.12월말)'!AQ53)","v":0},{"$f":"SUM('법정동(2014.12월말)'!AR53)","v":0},{"$f":"SUM('법정동(2014.12월말)'!AS53)","v":0},{"$f":"SUM('법정동(2014.12월말)'!AT53)","v":0},{"$f":"SUM('법정동(2014.12월말)'!AU53)","v":0},{"$f":"SUM('법정동(2014.12월말)'!AV53)","v":0},{"$f":"SUM('법정동(2014.12월말)'!AW53)","v":0},{"$f":"SUM('법정동(2014.12월말)'!AX53)","v":0},{"$f":"SUM('법정동(2014.12월말)'!AY53)","v":0},{"$f":"SUM('법정동(2014.12월말)'!AZ53)","v":{"v":3681,"d":"3,681.00"}},{"$f":"SUM('법정동(2014.12월말)'!BA53)","v":3},{"$f":"SUM('법정동(2014.12월말)'!BB53)","v":0},{"$f":"SUM('법정동(2014.12월말)'!BC53)","v":0},{"$f":"SUM('법정동(2014.12월말)'!BD53)","v":{"v":29108,"d":"29,108.00"}},{"$f":"SUM('법정동(2014.12월말)'!BE53)","v":39},{"$f":"SUM('법정동(2014.12월말)'!BF53)","v":{"v":3013769,"d":"3,013,769.00"}},{"$f":"SUM('법정동(2014.12월말)'!BG53)","v":51}]

{"sheet":"2013년대비","index":2,"n_rows":117,"n_cols":59,"rows_kept":117,"merged":[[0,0,1,0],[0,1,0,2],[0,3,0,4],[0,5,0,6],[0,7,0,8],[0,9,0,10],[0,11,0,12],[0,13,0,14],[0,15,0,16],[0,17,0,18],[0,19,0,20],[0,21,0,22],[0,23,0,24],[0,25,0,26],[0,27,0,28],[0,29,0,30],[0,31,0,32],[0,33,0,34],[0,35,0,36],[0,37,0,38],[0,39,0,40],[0,41,0,42],[0,43,0,44],[0,45,0,46],[0,47,0,48],[0,49,0,50],[0,51,0,52],[0,53,0,54],[0,55,0,56],[0,57,0,58]]}
["구    분","계",null,"전",null,"답",null,"과수원",null,"목장용지",null,"임야",null,"광천지",null,"염전",null,"대",null,"공장용지",null,"학교용지",null,"주차장",null,"주유소용지",null,"창고용지",null,"도로",null,"철도용지",null,"제방",null,"하천",null,"구거",null,"유지",null,"양어장",null,"수도용지",null,"공원",null,"체육용지",null,"유원지",null,"종교용지",null,"사적지",null,"묘지",null,"잡종지"]
[null,"면  적","지번수","면  적","지번수","면  적","지번수","면  적","지번수","면  적","지번수","면  적","지번수","면  적","지번수","면  적","지번수","면  적","지번수","면  적","지번수","면  적","지번수","면  적","지번수","면  적","지번수","면  적","지번수","면  적","지번수","면  적","지번수","면  적","지번수","면  적","지번수","면  적","지번수","면  적","지번수","면  적","지번수","면  적","지번수","면  적","지번수","면  적","지번수","면  적","지번수","면  적","지번수","면  적","지번수","면  적","지번수","면  적","지번수"]
["합  계",{"$f":"'법정동(2014.12월말)'!B6-'법정동(2013년말)'!B7","v":{"v":4527926.300000012,"d":"4,527,926.3"}},{"$f":"'법정동(2014.12월말)'!C6-'법정동(2013년말)'!C7","v":{"v":-843,"d":"-843.0"}},{"$f":"'법정동(2014.12월말)'!D6-'법정동(2013년말)'!D7","v":{"v":-444174.1000000015,"d":"-444,174.1"}},{"$f":"'법정동(2014.12월말)'!E6-'법정동(2013년말)'!E7","v":{"v":-679,"d":"-679.0"}},{"$f":"'법정동(2014.12월말)'!F6-'법정동(2013년말)'!F7","v":{"v":-445286.8999999985,"d":"-445,286.9"}},{"$f":"'법정동(2014.12월말)'!G6-'법정동(2013년말)'!G7","v":{"v":-432,"d":"-432.0"}},{"$f":"'법정동(2014.12월말)'!H6-'법정동(2013년말)'!H7","v":{"v":-3413,"d":"-3,413.0"}},{"$f":"'법정동(2014.12월말)'!I6-'법정동(2013년말)'!I7","v":{"v":-1,"d":"-1.0"}},{"$f":"'법정동(2014.12월말)'!J6-'법정동(2013년말)'!J7","v":{"v":-158,"d":"-158.0"}},{"$f":"'법정동(2014.12월말)'!K6-'법정동(2013년말)'!K7","v":{"v":2,"d":"2.0"}},{"$f":"'법정동(2014.12월말)'!L6-'법정동(2013년말)'!L7","v":{"v":-1058109.7000000477,"d":"-1,058,109.7"}},{"$f":"'법정동(2014.12월말)'!M6-'법정동(2013년말)'!M7","v":{"v":-230,"d":"-230.0"}},{"$f":"'법정동(2014.12월말)'!N6-'법정동(2013년말)'!N7","v":{"v":0,"d":"0.0"}},{"$f":"'법정동(2014.12월말)'!O6-'법정동(2013년말)'!O7","v":{"v":0,"d":"0.0"}},{"$f":"'법정동(2014.12월말)'!P6-'법정동(2013년말)'!P7","v":{"v":0,"d":"0.0"}},{"$f":"'법정동(2014.12월말)'!Q6-'법정동(2013년말)'!Q7","v":{"v":0,"d":"0.0"}},{"$f":"'법정동(2014.12월말)'!R6-'법정동(2013년말)'!R7","v":{"v":648585.700000003,"d":"648,585.7"}},{"$f":"'법정동(2014.12월말)'!S6-'법정동(2013년말)'!S7","v":{"v":94,"d":"94.0"}},{"$f":"'법정동(2014.12월말)'!T6-'법정동(2013년말)'!T7","v":{"v":4009602.4000000004,"d":"4,009,602.4"}},{"$f":"'법정동(2014.12월말)'!U6-'법정동(2013년말)'!U7","v":{"v":78,"d":"78.0"}},{"$f":"'법정동(2014.12월말)'!V6-'법정동(2013년말)'!V7","v":{"v":-814.8999999999069,"d":"-814.9"}},{"$f":"'법정동(2014.12월말)'!W6-'법정동(2013년말)'!W7","v":{"v":-7,"d":"-7.0"}},{"$f":"'법정동(2014.12월말)'!X6-'법정동(2013년말)'!X7","v":{"v":75247.90000000008,"d":"75,247.9"}},{"$f":"'법정동(2014.12월말)'!Y6-'법정동(2013년말)'!Y7","v":{"v":36,"d":"36.0"}},{"$f":"'법정동(2014.12월말)'!Z6-'법정동(2013년말)'!Z7","v":{"v":3451.9000000000233,"d":"3,451.9"}},{"$f":"'법정동(2014.12월말)'!AA6-'법정동(2013년말)'!AA7","v":{"v":2,"d":"2.0"}},{"$f":"'법정동(2014.12월말)'!AB6-'법정동(2013년말)'!AB7","v":{"v":10235,"d":"10,235.0"}},{"$f":"'법정동(2014.12월말)'!AC6-'법정동(2013년말)'!AC7","v":{"v":4,"d":"4.0"}},{"$f":"'법정동(2014.12월말)'!AD6-'법정동(2013년말)'!AD7","v":{"v":661145.8000000007,"d":"661,145.8"}},{"$f":"'법정동(2014.12월말)'!AE6-'법정동(2013년말)'!AE7","v":{"v":202,"d":"202.0"}},{"$f":"'법정동(2014.12월말)'!AF6-'법정동(2013년말)'!AF7","v":{"v":1055,"d":"1,055.0"}},{"$f":"'법정동(2014.12월말)'!AG6-'법정동(2013년말)'!AG7","v":{"v":9,"d":"9.0"}},{"$f":"'법정동(2014.12월말)'!AH6-'법정동(2013년말)'!AH7","v":{"v":3907.70000000007,"d":"3,907.7"}},{"$f":"'법정동(2014.12월말)'!AI6-'법정동(2013년말)'!AI7","v":{"v":-6,"d":"-6.0"}},{"$f":"'법정동(2014.12월말)'!AJ6-'법정동(2013년말)'!AJ7","v":{"v":110347.20000000019,"d":"110,347.2"}},{"$f":"'법정동(2014.12월말)'!AK6-'법정동(2013년말)'!AK7","v":{"v":20,"d":"20.0"}},{"$f":"'법정동(2014.12월말)'!AL6-'법정동(2013년말)'!AL7","v":{"v":50790.39999999944,"d":"50,790.4"}},{"$f":"'법정동(2014.12월말)'!AM6-'법정동(2013년말)'!AM7","v":{"v":33,"d":"33.0"}},{"$f":"'법정동(2014.12월말)'!AN6-'법정동(2013년말)'!AN7","v":{"v":-104821,"d":"-104,821.0"}},{"$f":"'법정동(2014.12월말)'!AO6-'법정동(2013년말)'!AO7","v":{"v":-22,"d":"-22.0"}},{"$f":"'법정동(2014.12월말)'!AP6-'법정동(2013년말)'!AP7","v":{"v":11225,"d":"11,225.0"}},{"$f":"'법정동(2014.12월말)'!AQ6-'법정동(2013년말)'!AQ7","v":{"v":9,"d":"9.0"}},{"$f":"'법정동(2014.12월말)'!AR6-'법정동(2013년말)'!AR7","v":{"v":-11302,"d":"-11,302.0"}},{"$f":"'법정동(2014.12월말)'!AS6-'법정동(2013년말)'!AS7","v":{"v":-6,"d":"-6.0"}},{"$f":"'법정동(2014.12월말)'!AT6-'법정동(2013년말)'!AT7","v":{"v":484520.30000000005,"d":"484,520.3"}},{"$f":"'법정동(2014.12월말)'!AU6-'법정동(2013년말)'!AU7","v":{"v":16,"d":"16.0"}},{"$f":"'법정동(2014.12월말)'!AV6-'법정동(2013년말)'!AV7","v":{"v":418435.5,"d":"418,435.5"}},{"$f":"'법정동(2014.12월말)'!AW6-'법정동(2013년말)'!AW7","v":{"v":5,"d":"5.0"}},{"$f":"'법정동(2014.12월말)'!AX6-'법정동(2013년말)'!AX7","v":{"v":0,"d":"0.0"}},{"$f":"'법정동(2014.12월말)'!AY6-'법정동(2013년말)'!AY7","v":{"v":0,"d":"0.0"}},{"$f":"'법정동(2014.12월말)'!AZ6-'법정동(2013년말)'!AZ7","v":{"v":2847.5,"d":"2,847.5"}},{"$f":"'법정동(2014.12월말)'!BA6-'법정동(2013년말)'!BA7","v":{"v":4,"d":"4.0"}},{"$f":"'법정동(2014.12월말)'!BB6-'법정동(2013년말)'!BB7","v":{"v":0,"d":"0.0"}},{"$f":"'법정동(2014.12월말)'!BC6-'법정동(2013년말)'!BC7","v":{"v":0,"d":"0.0"}},{"$f":"'법정동(2014.12월말)'!BD6-'법정동(2013년말)'!BD7","v":{"v":-3951,"d":"-3,951.0"}},{"$f":"'법정동(2014.12월말)'!BE6-'법정동(2013년말)'!BE7","v":{"v":-17,"d":"-17.0"}},{"$f":"'법정동(2014.12월말)'!BF6-'법정동(2013년말)'!BF7","v":{"v":108559.60000000149,"d":"108,559.6"}},{"$f":"'법정동(2014.12월말)'!BG6-'법정동(2013년말)'!BG7","v":{"v":43,"d":"43.0"}}]
["종화동",{"$f":"'법정동(2014.12월말)'!B7-'법정동(2013년말)'!B8","v":{"v":155,"d":"155.0"}},{"$f":"'법정동(2014.12월말)'!C7-'법정동(2013년말)'!C8","v":{"v":-43,"d":"-43.0"}},{"$f":"'법정동(2014.12월말)'!D7-'법정동(2013년말)'!D8","v":{"v":-5692,"d":"-5,692.0"}},{"$f":"'법정동(2014.12월말)'!E7-'법정동(2013년말)'!E8","v":{"v":-23,"d":"-23.0"}},{"$f":"'법정동(2014.12월말)'!F7-'법정동(2013년말)'!F8","v":{"v":0,"d":"0.0"}},{"$f":"'법정동(2014.12월말)'!G7-'법정동(2013년말)'!G8","v":{"v":0,"d":"0.0"}},{"$f":"'법정동(2014.12월말)'!H7-'법정동(2013년말)'!H8","v":{"v":0,"d":"0.0"}},{"$f":"'법정동(2014.12월말)'!I7-'법정동(2013년말)'!I8","v":{"v":0,"d":"0.0"}},{"$f":"'법정동(2014.12월말)'!J7-'법정동(2013년말)'!J8","v":{"v":0,"d":"0.0"}},{"$f":"'법정동(2014.12월말)'!K7-'법정동(2013년말)'!K8","v":{"v":0,"d":"0.0"}},{"$f":"'법정동(2014.12월말)'!L7-'법정동(2013년말)'!L8","v":{"v":0,"d":"0.0"}},{"$f":"'법정동(2014.12월말)'!M7-'법정동(2013년말)'!M8","v":{"v":0,"d":"0.0"}},{"$f":"'법정동(2014.12월말)'!N7-'법정동(2013년말)'!N8","v":{"v":0,"d":"0.0"}},{"$f":"'법정동(2014.12월말)'!O7-'법정동(2013년말)'!O8","v":{"v":0,"d":"0.0"}},{"$f":"'법정동(2014.12월말)'!P7-'법정동(2013년말)'!P8","v":{"v":0,"d":"0.0"}},{"$f":"'법정동(2014.12월말)'!Q7-'법정동(2013년말)'!Q8","v":{"v":0,"d":"0.0"}},{"$f":"'법정동(2014.12월말)'!R7-'법정동(2013년말)'!R8","v":{"v":-1510,"d":"-1,510.0"}},{"$f":"'법정동(2014.12월말)'!S7-'법정동(2013년말)'!S8","v":{"v":-32,"d":"-32.0"}},{"$f":"'법정동(2014.12월말)'!T7-'법정동(2013년말)'!T8","v":{"v":0,"d":"0.0"}},{"$f":"'법정동(2014.12월말)'!U7-'법정동(2013년말)'!U8","v":{"v":0,"d":"0.0"}},{"$f":"'법정동(2014.12월말)'!V7-'법정동(2013년말)'!V8","v":{"v":0,"d":"0.0"}},{"$f":"'법정동(2014.12월말)'!W7-'법정동(2013년말)'!W8","v":{"v":0,"d":"0.0"}},{"$f":"'법정동(2014.12월말)'!X7-'법정동(2013년말)'!X8","v":{"v":0,"d":"0.0"}},{"$f":"'법정동(2014.12월말)'!Y7-'법정동(2013년말)'!Y8","v":{"v":0,"d":"0.0"}},{"$f":"'법정동(2014.12월말)'!Z7-'법정동(2013년말)'!Z8","v":{"v":0,"d":"0.0"}},{"$f":"'법정동(2014.12월말)'!AA7-'법정동(2013년말)'!AA8","v":{"v":0,"d":"0.0"}},{"$f":"'법정동(2014.12월말)'!AB7-'법정동(2013년말)'!AB8","v":{"v":-177,"d":"-177.0"}},{"$f":"'법정동(2014.12월말)'!AC7-'법정동(2013년말)'!AC8","v":{"v":-1,"d":"-1.0"}},{"$f":"'법정동(2014.12월말)'!AD7-'법정동(2013년말)'!AD8","v":{"v":8808,"d":"8,808.0"}},{"$f":"'법정동(2014.12월말)'!AE7-'법정동(2013년말)'!AE8","v":{"v":18,"d":"18.0"}},{"$f":"'법정동(2014.12월말)'!AF7-'법정동(2013년말)'!AF8","v":{"v":0,"d":"0.0"}},{"$f":"'법정동(2014.12월말)'!AG7-'법정동(2013년말)'!AG8","v":{"v":0,"d":"0.0"}},{"$f":"'법정동(2014.12월말)'!AH7-'법정동(2013년말)'!AH8","v":{"v":0,"d":"0.0"}},{"$f":"'법정동(2014.12월말)'!AI7-'법정동(2013년말)'!AI8","v":{"v":0,"d":"0.0"}},{"$f":"'법정동(2014.12월말)'!AJ7-'법정동(2013년말)'!AJ8","v":{"v":0,"d":"0.0"}},{"$f":"'법정동(2014.12월말)'!AK7-'법정동(2013년말)'!AK8","v":{"v":0,"d":"0.0"}},{"$f":"'법정동(2014.12월말)'!AL7-'법정동(2013년말)'!AL8","v":{"v":0,"d":"0.0"}},{"$f":"'법정동(2014.12월말)'!AM7-'법정동(2013년말)'!AM8","v":{"v":0,"d":"0.0"}},{"$f":"'법정동(2014.12월말)'!AN7-'법정동(2013년말)'!AN8","v":{"v":0,"d":"0.0"}},{"$f":"'법정동(2014.12월말)'!AO7-'법정동(2013년말)'!AO8","v":{"v":0,"d":"0.0"}},{"$f":"'법정동(2014.12월말)'!AP7-'법정동(2013년말)'!AP8","v":{"v":0,"d":"0.0"}},{"$f":"'법정동(2014.12월말)'!AQ7-'법정동(2013년말)'!AQ8","v":{"v":0,"d":"0.0"}},{"$f":"'법정동(2014.12월말)'!AR7-'법정동(2013년말)'!AR8","v":{"v":0,"d":"0.0"}},{"$f":"'법정동(2014.12월말)'!AS7-'법정동(2013년말)'!AS8","v":{"v":0,"d":"0.0"}},{"$f":"'법정동(2014.12월말)'!AT7-'법정동(2013년말)'!AT8","v":{"v":0,"d":"0.0"}},{"$f":"'법정동(2014.12월말)'!AU7-'법정동(2013년말)'!AU8","v":{"v":0,"d":"0.0"}},{"$f":"'법정동(2014.12월말)'!AV7-'법정동(2013년말)'!AV8","v":{"v":0,"d":"0.0"}},{"$f":"'법정동(2014.12월말)'!AW7-'법정동(2013년말)'!AW8","v":{"v":0,"d":"0.0"}},{"$f":"'법정동(2014.12월말)'!AX7-'법정동(2013년말)'!AX8","v":{"v":0,"d":"0.0"}},{"$f":"'법정동(2014.12월말)'!AY7-'법정동(2013년말)'!AY8","v":{"v":0,"d":"0.0"}},{"$f":"'법정동(2014.12월말)'!AZ7-'법정동(2013년말)'!AZ8","v":{"v":-418,"d":"-418.0"}},{"$f":"'법정동(2014.12월말)'!BA7-'법정동(2013년말)'!BA8","v":{"v":-1,"d":"-1.0"}},{"$f":"'법정동(2014.12월말)'!BB7-'법정동(2013년말)'!BB8","v":{"v":0,"d":"0.0"}},{"$f":"'법정동(2014.12월말)'!BC7-'법정동(2013년말)'!BC8","v":{"v":0,"d":"0.0"}},{"$f":"'법정동(2014.12월말)'!BD7-'법정동(2013년말)'!BD8","v":{"v":-747,"d":"-747.0"}},{"$f":"'법정동(2014.12월말)'!BE7-'법정동(2013년말)'!BE8","v":{"v":-3,"d":"-3.0"}},{"$f":"'법정동(2014.12월말)'!BF7-'법정동(2013년말)'!BF8","v":{"v":-109,"d":"-109.0"}},{"$f":"'법정동(2014.12월말)'!BG7-'법정동(2013년말)'!BG8","v":{"v":-1,"d":"-1.0"}}]
["수정동",{"$f":"'법정동(2014.12월말)'!B8-'법정동(2013년말)'!B9","v":{"v":0,"d":"0.0"}},{"$f":"'법정동(2014.12월말)'!C8-'법정동(2013년말)'!C9","v":{"v":-112,"d":"-112.0"}},{"$f":"'법정동(2014.12월말)'!D8-'법정동(2013년말)'!D9","v":{"v":-1957,"d":"-1,957.0"}},{"$f":"'법정동(2014.12월말)'!E8-'법정동(2013년말)'!E9","v":{"v":-16,"d":"-16.0"}},{"$f":"'법정동(2014.12월말)'!F8-'법정동(2013년말)'!F9","v":{"v":0,"d":"0.0"}},{"$f":"'법정동(2014.12월말)'!G8-'법정동(2013년말)'!G9","v":{"v":0,"d":"0.0"}},{"$f":"'법정동(2014.12월말)'!H8-'법정동(2013년말)'!H9","v":{"v":0,"d":"0.0"}},{"$f":"'법정동(2014.12월말)'!I8-'법정동(2013년말)'!I9","v":{"v":0,"d":"0.0"}},{"$f":"'법정동(2014.12월말)'!J8-'법정동(2013년말)'!J9","v":{"v":0,"d":"0.0"}},{"$f":"'법정동(2014.12월말)'!K8-'법정동(2013년말)'!K9","v":{"v":0,"d":"0.0"}},{"$f":"'법정동(2014.12월말)'!L8-'법정동(2013년말)'!L9","v":{"v":0,"d":"0.0"}},{"$f":"'법정동(2014.12월말)'!M8-'법정동(2013년말)'!M9","v":{"v":0,"d":"0.0"}},{"$f":"'법정동(2014.12월말)'!N8-'법정동(2013년말)'!N9","v":{"v":0,"d":"0.0"}},{"$f":"'법정동(2014.12월말)'!O8-'법정동(2013년말)'!O9","v":{"v":0,"d":"0.0"}},{"$f":"'법정동(2014.12월말)'!P8-'법정동(2013년말)'!P9","v":{"v":0,"d":"0.0"}},{"$f":"'법정동(2014.12월말)'!Q8-'법정동(2013년말)'!Q9","v":{"v":0,"d":"0.0"}},{"$f":"'법정동(2014.12월말)'!R8-'법정동(2013년말)'!R9","v":{"v":-6138,"d":"-6,138.0"}},{"$f":"'법정동(2014.12월말)'!S8-'법정동(2013년말)'!S9","v":{"v":-103,"d":"-103.0"}},{"$f":"'법정동(2014.12월말)'!T8-'법정동(2013년말)'!T9","v":{"v":0,"d":"0.0"}},{"$f":"'법정동(2014.12월말)'!U8-'법정동(2013년말)'!U9","v":{"v":0,"d":"0.0"}},{"$f":"'법정동(2014.12월말)'!V8-'법정동(2013년말)'!V9","v":{"v":0,"d":"0.0"}},{"$f":"'법정동(2014.12월말)'!W8-'법정동(2013년말)'!W9","v":{"v":0,"d":"0.0"}},{"$f":"'법정동(2014.12월말)'!X8-'법정동(2013년말)'!X9","v":{"v":165,"d":"165.0"}},{"$f":"'법정동(2014.12월말)'!Y8-'법정동(2013년말)'!Y9","v":{"v":1,"d":"1.0"}},{"$f":"'법정동(2014.12월말)'!Z8-'법정동(2013년말)'!Z9","v":{"v":0,"d":"0.0"}},{"$f":"'법정동(2014.12월말)'!AA8-'법정동(2013년말)'!AA9","v":{"v":0,"d":"0.0"}},{"$f":"'법정동(2014.12월말)'!AB8-'법정동(2013년말)'!AB9","v":{"v":0,"d":"0.0"}},{"$f":"'법정동(2014.12월말)'!AC8-'법정동(2013년말)'!AC9","v":{"v":0,"d":"0.0"}},{"$f":"'법정동(2014.12월말)'!AD8-'법정동(2013년말)'!AD9","v":{"v":7930,"d":"7,930.0"}},{"$f":"'법정동(2014.12월말)'!AE8-'법정동(2013년말)'!AE9","v":{"v":6,"d":"6.0"}},{"$f":"'법정동(2014.12월말)'!AF8-'법정동(2013년말)'!AF9","v":{"v":0,"d":"0.0"}},{"$f":"'법정동(2014.12월말)'!AG8-'법정동(2013년말)'!AG9","v":{"v":0,"d":"0.0"}},{"$f":"'법정동(2014.12월말)'!AH8-'법정동(2013년말)'!AH9","v":{"v":0,"d":"0.0"}},{"$f":"'법정동(2014.12월말)'!AI8-'법정동(2013년말)'!AI9","v":{"v":0,"d":"0.0"}},{"$f":"'법정동(2014.12월말)'!AJ8-'법정동(2013년말)'!AJ9","v":{"v":0,"d":"0.0"}},{"$f":"'법정동(2014.12월말)'!AK8-'법정동(2013년말)'!AK9","v":{"v":0,"d":"0.0"}},{"$f":"'법정동(2014.12월말)'!AL8-'법정동(2013년말)'!AL9","v":{"v":0,"d":"0.0"}},{"$f":"'법정동(2014.12월말)'!AM8-'법정동(2013년말)'!AM9","v":{"v":0,"d":"0.0"}},{"$f":"'법정동(2014.12월말)'!AN8-'법정동(2013년말)'!AN9","v":{"v":0,"d":"0.0"}},{"$f":"'법정동(2014.12월말)'!AO8-'법정동(2013년말)'!AO9","v":{"v":0,"d":"0.0"}},{"$f":"'법정동(2014.12월말)'!AP8-'법정동(2013년말)'!AP9","v":{"v":0,"d":"0.0"}},{"$f":"'법정동(2014.12월말)'!AQ8-'법정동(2013년말)'!AQ9","v":{"v":0,"d":"0.0"}},{"$f":"'법정동(2014.12월말)'!AR8-'법정동(2013년말)'!AR9","v":{"v":0,"d":"0.0"}},{"$f":"'법정동(2014.12월말)'!AS8-'법정동(2013년말)'!AS9","v":{"v":0,"d":"0.0"}},{"$f":"'법정동(2014.12월말)'!AT8-'법정동(2013년말)'!AT9","v":{"v":0,"d":"0.0"}},{"$f":"'법정동(2014.12월말)'!AU8-'법정동(2013년말)'!AU9","v":{"v":0,"d":"0.0"}},{"$f":"'법정동(2014.12월말)'!AV8-'법정동(2013년말)'!AV9","v":{"v":0,"d":"0.0"}},{"$f":"'법정동(2014.12월말)'!AW8-'법정동(2013년말)'!AW9","v":{"v":0,"d":"0.0"}},{"$f":"'법정동(2014.12월말)'!AX8-'법정동(2013년말)'!AX9","v":{"v":0,"d":"0.0"}},{"$f":"'법정동(2014.12월말)'!AY8-'법정동(2013년말)'!AY9","v":{"v":0,"d":"0.0"}},{"$f":"'법정동(2014.12월말)'!AZ8-'법정동(2013년말)'!AZ9","v":{"v":0,"d":"0.0"}},{"$f":"'법정동(2014.12월말)'!BA8-'법정동(2013년말)'!BA9","v":{"v":0,"d":"0.0"}},{"$f":"'법정동(2014.12월말)'!BB8-'법정동(2013년말)'!BB9","v":{"v":0,"d":"0.0"}},{"$f":"'법정동(2014.12월말)'!BC8-'법정동(2013년말)'!BC9","v":{"v":0,"d":"0.0"}},{"$f":"'법정동(2014.12월말)'!BD8-'법정동(2013년말)'!BD9","v":{"v":0,"d":"0.0"}},{"$f":"'법정동(2014.12월말)'!BE8-'법정동(2013년말)'!BE9","v":{"v":0,"d":"0.0"}},{"$f":"'법정동(2014.12월말)'!BF8-'법정동(2013년말)'!BF9","v":{"v":0,"d":"0.0"}},{"$f":"'법정동(2014.12월말)'!BG8-'법정동(2013년말)'!BG9","v":{"v":0,"d":"0.0"}}]
["공화동",{"$f":"'법정동(2014.12월말)'!B9-'법정동(2013년말)'!B10","v":{"v":0,"d":"0.0"}},{"$f":"'법정동(2014.12월말)'!C9-'법정동(2013년말)'!C10","v":{"v":2,"d":"2.0"}},{"$f":"'법정동(2014.12월말)'!D9-'법정동(2013년말)'!D10","v":{"v":0,"d":"0.0"}},{"$f":"'법정동(2014.12월말)'!E9-'법정동(2013년말)'!E10","v":{"v":0,"d":"0.0"}},{"$f":"'법정동(2014.12월말)'!F9-'법정동(2013년말)'!F10","v":{"v":0,"d":"0.0"}},{"$f":"'법정동(2014.12월말)'!G9-'법정동(2013년말)'!G10","v":{"v":0,"d":"0.0"}},{"$f":"'법정동(2014.12월말)'!H9-'법정동(2013년말)'!H10","v":{"v":0,"d":"0.0"}},{"$f":"'법정동(2014.12월말)'!I9-'법정동(2013년말)'!I10","v":{"v":0,"d":"0.0"}},{"$f":"'법정동(2014.12월말)'!J9-'법정동(2013년말)'!J10","v":{"v":0,"d":"0.0"}},{"$f":"'법정동(2014.12월말)'!K9-'법정동(2013년말)'!K10","v":{"v":0,"d":"0.0"}},{"$f":"'법정동(2014.12월말)'!L9-'법정동(2013년말)'!L10","v":{"v":0,"d":"0.0"}},{"$f":"'법정동(2014.12월말)'!M9-'법정동(2013년말)'!M10","v":{"v":0,"d":"0.0"}},{"$f":"'법정동(2014.12월말)'!N9-'법정동(2013년말)'!N10","v":{"v":0,"d":"0.0"}},{"$f":"'법정동(2014.12월말)'!O9-'법정동(2013년말)'!O10","v":{"v":0,"d":"0.0"}},{"$f":"'법정동(2014.12월말)'!P9-'법정동(2013년말)'!P10","v":{"v":0,"d":"0.0"}},{"$f":"'법정동(2014.12월말)'!Q9-'법정동(2013년말)'!Q10","v":{"v":0,"d":"0.0"}},{"$f":"'법정동(2014.12월말)'!R9-'법정동(2013년말)'!R10","v":{"v":-11,"d":"-11.0"}},{"$f":"'법정동(2014.12월말)'!S9-'법정동(2013년말)'!S10","v":{"v":-1,"d":"-1.0"}},{"$f":"'법정동(2014.12월말)'!T9-'법정동(2013년말)'!T10","v":{"v":0,"d":"0.0"}},{"$f":"'법정동(2014.12월말)'!U9-'법정동(2013년말)'!U10","v":{"v":0,"d":"0.0"}},{"$f":"'법정동(2014.12월말)'!V9-'법정동(2013년말)'!V10","v":{"v":-20,"d":"-20.0"}},{"$f":"'법정동(2014.12월말)'!W9-'법정동(2013년말)'!W10","v":{"v":-1,"d":"-1.0"}},{"$f":"'법정동(2014.12월말)'!X9-'법정동(2013년말)'!X10","v":{"v":0,"d":"0.0"}},{"$f":"'법정동(2014.12월말)'!Y9-'법정동(2013년말)'!Y10","v":{"v":0,"d":"0.0"}},{"$f":"'법정동(2014.12월말)'!Z9-'법정동(2013년말)'!Z10","v":{"v":0,"d":"0.0"}},{"$f":"'법정동(2014.12월말)'!AA9-'법정동(2013년말)'!AA10","v":{"v":0,"d":"0.0"}},{"$f":"'법정동(2014.12월말)'!AB9-'법정동(2013년말)'!AB10","v":{"v":0,"d":"0.0"}},{"$f":"'법정동(2014.12월말)'!AC9-'법정동(2013년말)'!AC10","v":{"v":0,"d":"0.0"}},{"$f":"'법정동(2014.12월말)'!AD9-'법정동(2013년말)'!AD10","v":{"v":11,"d":"11.0"}},{"$f":"'법정동(2014.12월말)'!AE9-'법정동(2013년말)'!AE10","v":{"v":3,"d":"3.0"}},{"$f":"'법정동(2014.12월말)'!AF9-'법정동(2013년말)'!AF10","v":{"v":0,"d":"0.0"}},{"$f":"'법정동(2014.12월말)'!AG9-'법정동(2013년말)'!AG10","v":{"v":0,"d":"0.0"}},{"$f":"'법정동(2014.12월말)'!AH9-'법정동(2013년말)'!AH10","v":{"v":0,"d":"0.0"}},{"$f":"'법정동(2014.12월말)'!AI9-'법정동(2013년말)'!AI10","v":{"v":0,"d":"0.0"}},{"$f":"'법정동(2014.12월말)'!AJ9-'법정동(2013년말)'!AJ10","v":{"v":0,"d":"0.0"}},{"$f":"'법정동(2014.12월말)'!AK9-'법정동(2013년말)'!AK10","v":{"v":0,"d":"0.0"}},{"$f":"'법정동(2014.12월말)'!AL9-'법정동(2013년말)'!AL10","v":{"v":20,"d":"20.0"}},{"$f":"'법정동(2014.12월말)'!AM9-'법정동(2013년말)'!AM10","v":{"v":1,"d":"1.0"}},{"$f":"'법정동(2014.12월말)'!AN9-'법정동(2013년말)'!AN10","v":{"v":0,"d":"0.0"}},{"$f":"'법정동(2014.12월말)'!AO9-'법정동(2013년말)'!AO10","v":{"v":0,"d":"0.0"}},{"$f":"'법정동(2014.12월말)'!AP9-'법정동(2013년말)'!AP10","v":{"v":0,"d":"0.0"}},{"$f":"'법정동(2014.12월말)'!AQ9-'법정동(2013년말)'!AQ10","v":{"v":0,"d":"0.0"}},{"$f":"'법정동(2014.12월말)'!AR9-'법정동(2013년말)'!AR10","v":{"v":0,"d":"0.0"}},{"$f":"'법정동(2014.12월말)'!AS9-'법정동(2013년말)'!AS10","v":{"v":0,"d":"0.0"}},{"$f":"'법정동(2014.12월말)'!AT9-'법정동(2013년말)'!AT10","v":{"v":0,"d":"0.0"}},{"$f":"'법정동(2014.12월말)'!AU9-'법정동(2013년말)'!AU10","v":{"v":0,"d":"0.0"}},{"$f":"'법정동(2014.12월말)'!AV9-'법정동(2013년말)'!AV10","v":{"v":0,"d":"0.0"}},{"$f":"'법정동(2014.12월말)'!AW9-'법정동(2013년말)'!AW10","v":{"v":0,"d":"0.0"}},{"$f":"'법정동(2014.12월말)'!AX9-'법정동(2013년말)'!AX10","v":{"v":0,"d":"0.0"}},{"$f":"'법정동(2014.12월말)'!AY9-'법정동(2013년말)'!AY10","v":{"v":0,"d":"0.0"}},{"$f":"'법정동(2014.12월말)'!AZ9-'법정동(2013년말)'!AZ10","v":{"v":0,"d":"0.0"}},{"$f":"'법정동(2014.12월말)'!BA9-'법정동(2013년말)'!BA10","v":{"v":0,"d":"0.0"}},{"$f":"'법정동(2014.12월말)'!BB9-'법정동(2013년말)'!BB10","v":{"v":0,"d":"0.0"}},{"$f":"'법정동(2014.12월말)'!BC9-'법정동(2013년말)'!BC10","v":{"v":0,"d":"0.0"}},{"$f":"'법정동(2014.12월말)'!BD9-'법정동(2013년말)'!BD10","v":{"v":0,"d":"0.0"}},{"$f":"'법정동(2014.12월말)'!BE9-'법정동(2013년말)'!BE10","v":{"v":0,"d":"0.0"}},{"$f":"'법정동(2014.12월말)'!BF9-'법정동(2013년말)'!BF10","v":{"v":0,"d":"0.0"}},{"$f":"'법정동(2014.12월말)'!BG9-'법정동(2013년말)'!BG10","v":{"v":0,"d":"0.0"}}]
["관문동",{"$f":"'법정동(2014.12월말)'!B10-'법정동(2013년말)'!B11","v":{"v":0,"d":"0.0"}},{"$f":"'법정동(2014.12월말)'!C10-'법정동(2013년말)'!C11","v":{"v":-50,"d":"-50.0"}},{"$f":"'법정동(2014.12월말)'!D10-'법정동(2013년말)'!D11","v":{"v":-253,"d":"-253.0"}},{"$f":"'법정동(2014.12월말)'!E10-'법정동(2013년말)'!E11","v":{"v":-3,"d":"-3.0"}},{"$f":"'법정동(2014.12월말)'!F10-'법정동(2013년말)'!F11","v":{"v":0,"d":"0.0"}},{"$f":"'법정동(2014.12월말)'!G10-'법정동(2013년말)'!G11","v":{"v":0,"d":"0.0"}},{"$f":"'법정동(2014.12월말)'!H10-'법정동(2013년말)'!H11","v":{"v":0,"d":"0.0"}},{"$f":"'법정동(2014.12월말)'!I10-'법정동(2013년말)'!I11","v":{"v":0,"d":"0.0"}},{"$f":"'법정동(2014.12월말)'!J10-'법정동(2013년말)'!J11","v":{"v":0,"d":"0.0"}},{"$f":"'법정동(2014.12월말)'!K10-'법정동(2013년말)'!K11","v":{"v":0,"d":"0.0"}},{"$f":"'법정동(2014.12월말)'!L10-'법정동(2013년말)'!L11","v":{"v":-592,"d":"-592.0"}},{"$f":"'법정동(2014.12월말)'!M10-'법정동(2013년말)'!M11","v":{"v":-5,"d":"-5.0"}},{"$f":"'법정동(2014.12월말)'!N10-'법정동(2013년말)'!N11","v":{"v":0,"d":"0.0"}},{"$f":"'법정동(2014.12월말)'!O10-'법정동(2013년말)'!O11","v":{"v":0,"d":"0.0"}},{"$f":"'법정동(2014.12월말)'!P10-'법정동(2013년말)'!P11","v":{"v":0,"d":"0.0"}},{"$f":"'법정동(2014.12월말)'!Q10-'법정동(2013년말)'!Q11","v":{"v":0,"d":"0.0"}},{"$f":"'법정동(2014.12월말)'!R10-'법정동(2013년말)'!R11","v":{"v":-1882,"d":"-1,882.0"}},{"$f":"'법정동(2014.12월말)'!S10-'법정동(2013년말)'!S11","v":{"v":-40,"d":"-40.0"}},{"$f":"'법정동(2014.12월말)'!T10-'법정동(2013년말)'!T11","v":{"v":0,"d":"0.0"}},{"$f":"'법정동(2014.12월말)'!U10-'법정동(2013년말)'!U11","v":{"v":0,"d":"0.0"}},{"$f":"'법정동(2014.12월말)'!V10-'법정동(2013년말)'!V11","v":{"v":-216,"d":"-216.0"}},{"$f":"'법정동(2014.12월말)'!W10-'법정동(2013년말)'!W11","v":{"v":0,"d":"0.0"}},{"$f":"'법정동(2014.12월말)'!X10-'법정동(2013년말)'!X11","v":{"v":378,"d":"378.0"}},{"$f":"'법정동(2014.12월말)'!Y10-'법정동(2013년말)'!Y11","v":{"v":1,"d":"1.0"}},{"$f":"'법정동(2014.12월말)'!Z10-'법정동(2013년말)'!Z11","v":{"v":0,"d":"0.0"}},{"$f":"'법정동(2014.12월말)'!AA10-'법정동(2013년말)'!AA11","v":{"v":0,"d":"0.0"}},{"$f":"'법정동(2014.12월말)'!AB10-'법정동(2013년말)'!AB11","v":{"v":0,"d":"0.0"}},{"$f":"'법정동(2014.12월말)'!AC10-'법정동(2013년말)'!AC11","v":{"v":0,"d":"0.0"}},{"$f":"'법정동(2014.12월말)'!AD10-'법정동(2013년말)'!AD11","v":{"v":2644,"d":"2,644.0"}},{"$f":"'법정동(2014.12월말)'!AE10-'법정동(2013년말)'!AE11","v":{"v":-2,"d":"-2.0"}},{"$f":"'법정동(2014.12월말)'!AF10-'법정동(2013년말)'!AF11","v":{"v":0,"d":"0.0"}},{"$f":"'법정동(2014.12월말)'!AG10-'법정동(2013년말)'!AG11","v":{"v":0,"d":"0.0"}},{"$f":"'법정동(2014.12월말)'!AH10-'법정동(2013년말)'!AH11","v":{"v":0,"d":"0.0"}},{"$f":"'법정동(2014.12월말)'!AI10-'법정동(2013년말)'!AI11","v":{"v":0,"d":"0.0"}},{"$f":"'법정동(2014.12월말)'!AJ10-'법정동(2013년말)'!AJ11","v":{"v":0,"d":"0.0"}},{"$f":"'법정동(2014.12월말)'!AK10-'법정동(2013년말)'!AK11","v":{"v":0,"d":"0.0"}},{"$f":"'법정동(2014.12월말)'!AL10-'법정동(2013년말)'!AL11","v":{"v":0,"d":"0.0"}},{"$f":"'법정동(2014.12월말)'!AM10-'법정동(2013년말)'!AM11","v":{"v":0,"d":"0.0"}},{"$f":"'법정동(2014.12월말)'!AN10-'법정동(2013년말)'!AN11","v":{"v":0,"d":"0.0"}},{"$f":"'법정동(2014.12월말)'!AO10-'법정동(2013년말)'!AO11","v":{"v":0,"d":"0.0"}},{"$f":"'법정동(2014.12월말)'!AP10-'법정동(2013년말)'!AP11","v":{"v":0,"d":"0.0"}},{"$f":"'법정동(2014.12월말)'!AQ10-'법정동(2013년말)'!AQ11","v":{"v":0,"d":"0.0"}},{"$f":"'법정동(2014.12월말)'!AR10-'법정동(2013년말)'!AR11","v":{"v":0,"d":"0.0"}},{"$f":"'법정동(2014.12월말)'!AS10-'법정동(2013년말)'!AS11","v":{"v":0,"d":"0.0"}},{"$f":"'법정동(2014.12월말)'!AT10-'법정동(2013년말)'!AT11","v":{"v":0,"d":"0.0"}},{"$f":"'법정동(2014.12월말)'!AU10-'법정동(2013년말)'!AU11","v":{"v":0,"d":"0.0"}},{"$f":"'법정동(2014.12월말)'!AV10-'법정동(2013년말)'!AV11","v":{"v":0,"d":"0.0"}},{"$f":"'법정동(2014.12월말)'!AW10-'법정동(2013년말)'!AW11","v":{"v":0,"d":"0.0"}},{"$f":"'법정동(2014.12월말)'!AX10-'법정동(2013년말)'!AX11","v":{"v":0,"d":"0.0"}},{"$f":"'법정동(2014.12월말)'!AY10-'법정동(2013년말)'!AY11","v":{"v":0,"d":"0.0"}},{"$f":"'법정동(2014.12월말)'!AZ10-'법정동(2013년말)'!AZ11","v":{"v":0,"d":"0.0"}},{"$f":"'법정동(2014.12월말)'!BA10-'법정동(2013년말)'!BA11","v":{"v":0,"d":"0.0"}},{"$f":"'법정동(2014.12월말)'!BB10-'법정동(2013년말)'!BB11","v":{"v":0,"d":"0.0"}},{"$f":"'법정동(2014.12월말)'!BC10-'법정동(2013년말)'!BC11","v":{"v":0,"d":"0.0"}},{"$f":"'법정동(2014.12월말)'!BD10-'법정동(2013년말)'!BD11","v":{"v":0,"d":"0.0"}},{"$f":"'법정동(2014.12월말)'!BE10-'법정동(2013년말)'!BE11","v":{"v":0,"d":"0.0"}},{"$f":"'법정동(2014.12월말)'!BF10-'법정동(2013년말)'!BF11","v":{"v":-79,"d":"-79.0"}},{"$f":"'법정동(2014.12월말)'!BG10-'법정동(2013년말)'!BG11","v":{"v":-1,"d":"-1.0"}}]
["고소동",{"$f":"'법정동(2014.12월말)'!B11-'법정동(2013년말)'!B12","v":{"v":-47,"d":"-47.0"}},{"$f":"'법정동(2014.12월말)'!C11-'법정동(2013년말)'!C12","v":{"v":2,"d":"2.0"}},{"$f":"'법정동(2014.12월말)'!D11-'법정동(2013년말)'!D12","v":{"v":-317,"d":"-317.0"}},{"$f":"'법정동(2014.12월말)'!E11-'법정동(2013년말)'!E12","v":{"v":-1,"d":"-1.0"}},{"$f":"'법정동(2014.12월말)'!F11-'법정동(2013년말)'!F12","v":{"v":0,"d":"0.0"}},{"$f":"'법정동(2014.12월말)'!G11-'법정동(2013년말)'!G12","v":{"v":0,"d":"0.0"}},{"$f":"'법정동(2014.12월말)'!H11-'법정동(2013년말)'!H12","v":{"v":0,"d":"0.0"}},{"$f":"'법정동(2014.12월말)'!I11-'법정동(2013년말)'!I12","v":{"v":0,"d":"0.0"}},{"$f":"'법정동(2014.12월말)'!J11-'법정동(2013년말)'!J12","v":{"v":0,"d":"0.0"}},{"$f":"'법정동(2014.12월말)'!K11-'법정동(2013년말)'!K12","v":{"v":0,"d":"0.0"}},{"$f":"'법정동(2014.12월말)'!L11-'법정동(2013년말)'!L12","v":{"v":0,"d":"0.0"}},{"$f":"'법정동(2014.12월말)'!M11-'법정동(2013년말)'!M12","v":{"v":0,"d":"0.0"}},{"$f":"'법정동(2014.12월말)'!N11-'법정동(2013년말)'!N12","v":{"v":0,"d":"0.0"}},{"$f":"'법정동(2014.12월말)'!O11-'법정동(2013년말)'!O12","v":{"v":0,"d":"0.0"}},{"$f":"'법정동(2014.12월말)'!P11-'법정동(2013년말)'!P12","v":{"v":0,"d":"0.0"}},{"$f":"'법정동(2014.12월말)'!Q11-'법정동(2013년말)'!Q12","v":{"v":0,"d":"0.0"}},{"$f":"'법정동(2014.12월말)'!R11-'법정동(2013년말)'!R12","v":{"v":382,"d":"382.0"}},{"$f":"'법정동(2014.12월말)'!S11-'법정동(2013년말)'!S12","v":{"v":3,"d":"3.0"}},{"$f":"'법정동(2014.12월말)'!T11-'법정동(2013년말)'!T12","v":{"v":0,"d":"0.0"}},{"$f":"'법정동(2014.12월말)'!U11-'법정동(2013년말)'!U12","v":{"v":0,"d":"0.0"}},{"$f":"'법정동(2014.12월말)'!V11-'법정동(2013년말)'!V12","v":{"v":0,"d":"0.0"}},{"$f":"'법정동(2014.12월말)'!W11-'법정동(2013년말)'!W12","v":{"v":0,"d":"0.0"}},{"$f":"'법정동(2014.12월말)'!X11-'법정동(2013년말)'!X12","v":{"v":0,"d":"0.0"}},{"$f":"'법정동(2014.12월말)'!Y11-'법정동(2013년말)'!Y12","v":{"v":0,"d":"0.0"}},{"$f":"'법정동(2014.12월말)'!Z11-'법정동(2013년말)'!Z12","v":{"v":0,"d":"0.0"}},{"$f":"'법정동(2014.12월말)'!AA11-'법정동(2013년말)'!AA12","v":{"v":0,"d":"0.0"}},{"$f":"'법정동(2014.12월말)'!AB11-'법정동(2013년말)'!AB12","v":{"v":0,"d":"0.0"}},{"$f":"'법정동(2014.12월말)'!AC11-'법정동(2013년말)'!AC12","v":{"v":0,"d":"0.0"}},{"$f":"'법정동(2014.12월말)'!AD11-'법정동(2013년말)'!AD12","v":{"v":-112,"d":"-112.0"}},{"$f":"'법정동(2014.12월말)'!AE11-'법정동(2013년말)'!AE12","v":{"v":0,"d":"0.0"}},{"$f":"'법정동(2014.12월말)'!AF11-'법정동(2013년말)'!AF12","v":{"v":0,"d":"0.0"}},{"$f":"'법정동(2014.12월말)'!AG11-'법정동(2013년말)'!AG12","v":{"v":0,"d":"0.0"}},{"$f":"'법정동(2014.12월말)'!AH11-'법정동(2013년말)'!AH12","v":{"v":0,"d":"0.0"}},{"$f":"'법정동(2014.12월말)'!AI11-'법정동(2013년말)'!AI12","v":{"v":0,"d":"0.0"}},{"$f":"'법정동(2014.12월말)'!AJ11-'법정동(2013년말)'!AJ12","v":{"v":0,"d":"0.0"}},{"$f":"'법정동(2014.12월말)'!AK11-'법정동(2013년말)'!AK12","v":{"v":0,"d":"0.0"}},{"$f":"'법정동(2014.12월말)'!AL11-'법정동(2013년말)'!AL12","v":{"v":0,"d":"0.0"}},{"$f":"'법정동(2014.12월말)'!AM11-'법정동(2013년말)'!AM12","v":{"v":0,"d":"0.0"}},{"$f":"'법정동(2014.12월말)'!AN11-'법정동(2013년말)'!AN12","v":{"v":0,"d":"0.0"}},{"$f":"'법정동(2014.12월말)'!AO11-'법정동(2013년말)'!AO12","v":{"v":0,"d":"0.0"}},{"$f":"'법정동(2014.12월말)'!AP11-'법정동(2013년말)'!AP12","v":{"v":0,"d":"0.0"}},{"$f":"'법정동(2014.12월말)'!AQ11-'법정동(2013년말)'!AQ12","v":{"v":0,"d":"0.0"}},{"$f":"'법정동(2014.12월말)'!AR11-'법정동(2013년말)'!AR12","v":{"v":0,"d":"0.0"}},{"$f":"'법정동(2014.12월말)'!AS11-'법정동(2013년말)'!AS12","v":{"v":0,"d":"0.0"}},{"$f":"'법정동(2014.12월말)'!AT11-'법정동(2013년말)'!AT12","v":{"v":0,"d":"0.0"}},{"$f":"'법정동(2014.12월말)'!AU11-'법정동(2013년말)'!AU12","v":{"v":0,"d":"0.0"}},{"$f":"'법정동(2014.12월말)'!AV11-'법정동(2013년말)'!AV12","v":{"v":0,"d":"0.0"}},{"$f":"'법정동(2014.12월말)'!AW11-'법정동(2013년말)'!AW12","v":{"v":0,"d":"0.0"}},{"$f":"'법정동(2014.12월말)'!AX11-'법정동(2013년말)'!AX12","v":{"v":0,"d":"0.0"}},{"$f":"'법정동(2014.12월말)'!AY11-'법정동(2013년말)'!AY12","v":{"v":0,"d":"0.0"}},{"$f":"'법정동(2014.12월말)'!AZ11-'법정동(2013년말)'!AZ12","v":{"v":0,"d":"0.0"}},{"$f":"'법정동(2014.12월말)'!BA11-'법정동(2013년말)'!BA12","v":{"v":0,"d":"0.0"}},{"$f":"'법정동(2014.12월말)'!BB11-'법정동(2013년말)'!BB12","v":{"v":0,"d":"0.0"}},{"$f":"'법정동(2014.12월말)'!BC11-'법정동(2013년말)'!BC12","v":{"v":0,"d":"0.0"}},{"$f":"'법정동(2014.12월말)'!BD11-'법정동(2013년말)'!BD12","v":{"v":0,"d":"0.0"}},{"$f":"'법정동(2014.12월말)'!BE11-'법정동(2013년말)'!BE12","v":{"v":0,"d":"0.0"}},{"$f":"'법정동(2014.12월말)'!BF11-'법정동(2013년말)'!BF12","v":{"v":0,"d":"0.0"}},{"$f":"'법정동(2014.12월말)'!BG11-'법정동(2013년말)'!BG12","v":{"v":0,"d":"0.0"}}]
["동산동",{"$f":"'법정동(2014.12월말)'!B12-'법정동(2013년말)'!B13","v":{"v":0,"d":"0.0"}},{"$f":"'법정동(2014.12월말)'!C12-'법정동(2013년말)'!C13","v":{"v":0,"d":"0.0"}},{"$f":"'법정동(2014.12월말)'!D12-'법정동(2013년말)'!D13","v":{"v":0,"d":"0.0"}},{"$f":"'법정동(2014.12월말)'!E12-'법정동(2013년말)'!E13","v":{"v":0,"d":"0.0"}},{"$f":"'법정동(2014.12월말)'!F12-'법정동(2013년말)'!F13","v":{"v":0,"d":"0.0"}},{"$f":"'법정동(2014.12월말)'!G12-'법정동(2013년말)'!G13","v":{"v":0,"d":"0.0"}},{"$f":"'법정동(2014.12월말)'!H12-'법정동(2013년말)'!H13","v":{"v":0,"d":"0.0"}},{"$f":"'법정동(2014.12월말)'!I12-'법정동(2013년말)'!I13","v":{"v":0,"d":"0.0"}},{"$f":"'법정동(2014.12월말)'!J12-'법정동(2013년말)'!J13","v":{"v":0,"d":"0.0"}},{"$f":"'법정동(2014.12월말)'!K12-'법정동(2013년말)'!K13","v":{"v":0,"d":"0.0"}},{"$f":"'법정동(2014.12월말)'!L12-'법정동(2013년말)'!L13","v":{"v":0,"d":"0.0"}},{"$f":"'법정동(2014.12월말)'!M12-'법정동(2013년말)'!M13","v":{"v":0,"d":"0.0"}},{"$f":"'법정동(2014.12월말)'!N12-'법정동(2013년말)'!N13","v":{"v":0,"d":"0.0"}},{"$f":"'법정동(2014.12월말)'!O12-'법정동(2013년말)'!O13","v":{"v":0,"d":"0.0"}},{"$f":"'법정동(2014.12월말)'!P12-'법정동(2013년말)'!P13","v":{"v":0,"d":"0.0"}},{"$f":"'법정동(2014.12월말)'!Q12-'법정동(2013년말)'!Q13","v":{"v":0,"d":"0.0"}},{"$f":"'법정동(2014.12월말)'!R12-'법정동(2013년말)'!R13","v":{"v":107,"d":"107.0"}},{"$f":"'법정동(2014.12월말)'!S12-'법정동(2013년말)'!S13","v":{"v":-1,"d":"-1.0"}},{"$f":"'법정동(2014.12월말)'!T12-'법정동(2013년말)'!T13","v":{"v":0,"d":"0.0"}},{"$f":"'법정동(2014.12월말)'!U12-'법정동(2013년말)'!U13","v":{"v":0,"d":"0.0"}},{"$f":"'법정동(2014.12월말)'!V12-'법정동(2013년말)'!V13","v":{"v":0,"d":"0.0"}},{"$f":"'법정동(2014.12월말)'!W12-'법정동(2013년말)'!W13","v":{"v":0,"d":"0.0"}},{"$f":"'법정동(2014.12월말)'!X12-'법정동(2013년말)'!X13","v":{"v":0,"d":"0.0"}},{"$f":"'법정동(2014.12월말)'!Y12-'법정동(2013년말)'!Y13","v":{"v":1,"d":"1.0"}},{"$f":"'법정동(2014.12월말)'!Z12-'법정동(2013년말)'!Z13","v":{"v":0,"d":"0.0"}},{"$f":"'법정동(2014.12월말)'!AA12-'법정동(2013년말)'!AA13","v":{"v":0,"d":"0.0"}},{"$f":"'법정동(2014.12월말)'!AB12-'법정동(2013년말)'!AB13","v":{"v":0,"d":"0.0"}},{"$f":"'법정동(2014.12월말)'!AC12-'법정동(2013년말)'!AC13","v":{"v":0,"d":"0.0"}},{"$f":"'법정동(2014.12월말)'!AD12-'법정동(2013년말)'!AD13","v":{"v":0,"d":"0.0"}},{"$f":"'법정동(2014.12월말)'!AE12-'법정동(2013년말)'!AE13","v":{"v":0,"d":"0.0"}},{"$f":"'법정동(2014.12월말)'!AF12-'법정동(2013년말)'!AF13","v":{"v":0,"d":"0.0"}},{"$f":"'법정동(2014.12월말)'!AG12-'법정동(2013년말)'!AG13","v":{"v":0,"d":"0.0"}},{"$f":"'법정동(2014.12월말)'!AH12-'법정동(2013년말)'!AH13","v":{"v":0,"d":"0.0"}},{"$f":"'법정동(2014.12월말)'!AI12-'법정동(2013년말)'!AI13","v":{"v":0,"d":"0.0"}},{"$f":"'법정동(2014.12월말)'!AJ12-'법정동(2013년말)'!AJ13","v":{"v":0,"d":"0.0"}},{"$f":"'법정동(2014.12월말)'!AK12-'법정동(2013년말)'!AK13","v":{"v":0,"d":"0.0"}},{"$f":"'법정동(2014.12월말)'!AL12-'법정동(2013년말)'!AL13","v":{"v":0,"d":"0.0"}},{"$f":"'법정동(2014.12월말)'!AM12-'법정동(2013년말)'!AM13","v":{"v":0,"d":"0.0"}},{"$f":"'법정동(2014.12월말)'!AN12-'법정동(2013년말)'!AN13","v":{"v":0,"d":"0.0"}},{"$f":"'법정동(2014.12월말)'!AO12-'법정동(2013년말)'!AO13","v":{"v":0,"d":"0.0"}},{"$f":"'법정동(2014.12월말)'!AP12-'법정동(2013년말)'!AP13","v":{"v":0,"d":"0.0"}},{"$f":"'법정동(2014.12월말)'!AQ12-'법정동(2013년말)'!AQ13","v":{"v":0,"d":"0.0"}},{"$f":"'법정동(2014.12월말)'!AR12-'법정동(2013년말)'!AR13","v":{"v":0,"d":"0.0"}},{"$f":"'법정동(2014.12월말)'!AS12-'법정동(2013년말)'!AS13","v":{"v":0,"d":"0.0"}},{"$f":"'법정동(2014.12월말)'!AT12-'법정동(2013년말)'!AT13","v":{"v":0,"d":"0.0"}},{"$f":"'법정동(2014.12월말)'!AU12-'법정동(2013년말)'!AU13","v":{"v":0,"d":"0.0"}},{"$f":"'법정동(2014.12월말)'!AV12-'법정동(2013년말)'!AV13","v":{"v":0,"d":"0.0"}},{"$f":"'법정동(2014.12월말)'!AW12-'법정동(2013년말)'!AW13","v":{"v":0,"d":"0.0"}},{"$f":"'법정동(2014.12월말)'!AX12-'법정동(2013년말)'!AX13","v":{"v":0,"d":"0.0"}},{"$f":"'법정동(2014.12월말)'!AY12-'법정동(2013년말)'!AY13","v":{"v":0,"d":"0.0"}},{"$f":"'법정동(2014.12월말)'!AZ12-'법정동(2013년말)'!AZ13","v":{"v":-107,"d":"-107.0"}},{"$f":"'법정동(2014.12월말)'!BA12-'법정동(2013년말)'!BA13","v":{"v":0,"d":"0.0"}},{"$f":"'법정동(2014.12월말)'!BB12-'법정동(2013년말)'!BB13","v":{"v":0,"d":"0.0"}},{"$f":"'법정동(2014.12월말)'!BC12-'법정동(2013년말)'!BC13","v":{"v":0,"d":"0.0"}},{"$f":"'법정동(2014.12월말)'!BD12-'법정동(2013년말)'!BD13","v":{"v":0,"d":"0.0"}},{"$f":"'법정동(2014.12월말)'!BE12-'법정동(2013년말)'!BE13","v":{"v":0,"d":"0.0"}},{"$f":"'법정동(2014.12월말)'!BF12-'법정동(2013년말)'!BF13","v":{"v":0,"d":"0.0"}},{"$f":"'법정동(2014.12월말)'!BG12-'법정동(2013년말)'!BG13","v":{"v":0,"d":"0.0"}}]
["중앙동",{"$f":"'법정동(2014.12월말)'!B13-'법정동(2013년말)'!B14","v":{"v":0,"d":"0.0"}},{"$f":"'법정동(2014.12월말)'!C13-'법정동(2013년말)'!C14","v":{"v":6,"d":"6.0"}},{"$f":"'법정동(2014.12월말)'!D13-'법정동(2013년말)'!D14","v":{"v":0,"d":"0.0"}},{"$f":"'법정동(2014.12월말)'!E13-'법정동(2013년말)'!E14","v":{"v":0,"d":"0.0"}},{"$f":"'법정동(2014.12월말)'!F13-'법정동(2013년말)'!F14","v":{"v":0,"d":"0.0"}},{"$f":"'법정동(2014.12월말)'!G13-'법정동(2013년말)'!G14","v":{"v":0,"d":"0.0"}},{"$f":"'법정동(2014.12월말)'!H13-'법정동(2013년말)'!H14","v":{"v":0,"d":"0.0"}},{"$f":"'법정동(2014.12월말)'!I13-'법정동(2013년말)'!I14","v":{"v":0,"d":"0.0"}},{"$f":"'법정동(2014.12월말)'!J13-'법정동(2013년말)'!J14","v":{"v":0,"d":"0.0"}},{"$f":"'법정동(2014.12월말)'!K13-'법정동(2013년말)'!K14","v":{"v":0,"d":"0.0"}},{"$f":"'법정동(2014.12월말)'!L13-'법정동(2013년말)'!L14","v":{"v":0,"d":"0.0"}},{"$f":"'법정동(2014.12월말)'!M13-'법정동(2013년말)'!M14","v":{"v":0,"d":"0.0"}},{"$f":"'법정동(2014.12월말)'!N13-'법정동(2013년말)'!N14","v":{"v":0,"d":"0.0"}},{"$f":"'법정동(2014.12월말)'!O13-'법정동(2013년말)'!O14","v":{"v":0,"d":"0.0"}},{"$f":"'법정동(2014.12월말)'!P13-'법정동(2013년말)'!P14","v":{"v":0,"d":"0.0"}},{"$f":"'법정동(2014.12월말)'!Q13-'법정동(2013년말)'!Q14","v":{"v":0,"d":"0.0"}},{"$f":"'법정동(2014.12월말)'!R13-'법정동(2013년말)'!R14","v":{"v":-74,"d":"-74.0"}},{"$f":"'법정동(2014.12월말)'!S13-'법정동(2013년말)'!S14","v":{"v":4,"d":"4.0"}},{"$f":"'법정동(2014.12월말)'!T13-'법정동(2013년말)'!T14","v":{"v":0,"d":"0.0"}},{"$f":"'법정동(2014.12월말)'!U13-'법정동(2013년말)'!U14","v":{"v":0,"d":"0.0"}},{"$f":"'법정동(2014.12월말)'!V13-'법정동(2013년말)'!V14","v":{"v":0,"d":"0.0"}},{"$f":"'법정동(2014.12월말)'!W13-'법정동(2013년말)'!W14","v":{"v":0,"d":"0.0"}},{"$f":"'법정동(2014.12월말)'!X13-'법정동(2013년말)'!X14","v":{"v":0,"d":"0.0"}},{"$f":"'법정동(2014.12월말)'!Y13-'법정동(2013년말)'!Y14","v":{"v":0,"d":"0.0"}},{"$f":"'법정동(2014.12월말)'!Z13-'법정동(2013년말)'!Z14","v":{"v":0,"d":"0.0"}},{"$f":"'법정동(2014.12월말)'!AA13-'법정동(2013년말)'!AA14","v":{"v":0,"d":"0.0"}},{"$f":"'법정동(2014.12월말)'!AB13-'법정동(2013년말)'!AB14","v":{"v":0,"d":"0.0"}},{"$f":"'법정동(2014.12월말)'!AC13-'법정동(2013년말)'!AC14","v":{"v":0,"d":"0.0"}},{"$f":"'법정동(2014.12월말)'!AD13-'법정동(2013년말)'!AD14","v":{"v":74,"d":"74.0"}},{"$f":"'법정동(2014.12월말)'!AE13-'법정동(2013년말)'!AE14","v":{"v":2,"d":"2.0"}},{"$f":"'법정동(2014.12월말)'!AF13-'법정동(2013년말)'!AF14","v":{"v":0,"d":"0.0"}},{"$f":"'법정동(2014.12월말)'!AG13-'법정동(2013년말)'!AG14","v":{"v":0,"d":"0.0"}},{"$f":"'법정동(2014.12월말)'!AH13-'법정동(2013년말)'!AH14","v":{"v":0,"d":"0.0"}},{"$f":"'법정동(2014.12월말)'!AI13-'법정동(2013년말)'!AI14","v":{"v":0,"d":"0.0"}},{"$f":"'법정동(2014.12월말)'!AJ13-'법정동(2013년말)'!AJ14","v":{"v":0,"d":"0.0"}},{"$f":"'법정동(2014.12월말)'!AK13-'법정동(2013년말)'!AK14","v":{"v":0,"d":"0.0"}},{"$f":"'법정동(2014.12월말)'!AL13-'법정동(2013년말)'!AL14","v":{"v":0,"d":"0.0"}},{"$f":"'법정동(2014.12월말)'!AM13-'법정동(2013년말)'!AM14","v":{"v":0,"d":"0.0"}},{"$f":"'법정동(2014.12월말)'!AN13-'법정동(2013년말)'!AN14","v":{"v":0,"d":"0.0"}},{"$f":"'법정동(2014.12월말)'!AO13-'법정동(2013년말)'!AO14","v":{"v":0,"d":"0.0"}},{"$f":"'법정동(2014.12월말)'!AP13-'법정동(2013년말)'!AP14","v":{"v":0,"d":"0.0"}},{"$f":"'법정동(2014.12월말)'!AQ13-'법정동(2013년말)'!AQ14","v":{"v":0,"d":"0.0"}},{"$f":"'법정동(2014.12월말)'!AR13-'법정동(2013년말)'!AR14","v":{"v":0,"d":"0.0"}},{"$f":"'법정동(2014.12월말)'!AS13-'법정동(2013년말)'!AS14","v":{"v":0,"d":"0.0"}},{"$f":"'법정동(2014.12월말)'!AT13-'법정동(2013년말)'!AT14","v":{"v":0,"d":"0.0"}},{"$f":"'법정동(2014.12월말)'!AU13-'법정동(2013년말)'!AU14","v":{"v":0,"d":"0.0"}},{"$f":"'법정동(2014.12월말)'!AV13-'법정동(2013년말)'!AV14","v":{"v":0,"d":"0.0"}},{"$f":"'법정동(2014.12월말)'!AW13-'법정동(2013년말)'!AW14","v":{"v":0,"d":"0.0"}},{"$f":"'법정동(2014.12월말)'!AX13-'법정동(2013년말)'!AX14","v":{"v":0,"d":"0.0"}},{"$f":"'법정동(2014.12월말)'!AY13-'법정동(2013년말)'!AY14","v":{"v":0,"d":"0.0"}},{"$f":"'법정동(2014.12월말)'!AZ13-'법정동(2013년말)'!AZ14","v":{"v":0,"d":"0.0"}},{"$f":"'법정동(2014.12월말)'!BA13-'법정동(2013년말)'!BA14","v":{"v":0,"d":"0.0"}},{"$f":"'법정동(2014.12월말)'!BB13-'법정동(2013년말)'!BB14","v":{"v":0,"d":"0.0"}},{"$f":"'법정동(2014.12월말)'!BC13-'법정동(2013년말)'!BC14","v":{"v":0,"d":"0.0"}},{"$f":"'법정동(2014.12월말)'!BD13-'법정동(2013년말)'!BD14","v":{"v":0,"d":"0.0"}},{"$f":"'법정동(2014.12월말)'!BE13-'법정동(2013년말)'!BE14","v":{"v":0,"d":"0.0"}},{"$f":"'법정동(2014.12월말)'!BF13-'법정동(2013년말)'!BF14","v":{"v":0,"d":"0.0"}},{"$f":"'법정동(2014.12월말)'!BG13-'법정동(2013년말)'!BG14","v":{"v":0,"d":"0.0"}}]
["교동",{"$f":"'법정동(2014.12월말)'!B14-'법정동(2013년말)'!B15","v":{"v":0,"d":"0.0"}},{"$f":"'법정동(2014.12월말)'!C14-'법정동(2013년말)'!C15","v":{"v":-1,"d":"-1.0"}},{"$f":"'법정동(2014.12월말)'!D14-'법정동(2013년말)'!D15","v":{"v":0,"d":"0.0"}},{"$f":"'법정동(2014.12월말)'!E14-'법정동(2013년말)'!E15","v":{"v":0,"d":"0.0"}},{"$f":"'법정동(2014.12월말)'!F14-'법정동(2013년말)'!F15","v":{"v":0,"d":"0.0"}},{"$f":"'법정동(2014.12월말)'!G14-'법정동(2013년말)'!G15","v":{"v":0,"d":"0.0"}},{"$f":"'법정동(2014.12월말)'!H14-'법정동(2013년말)'!H15","v":{"v":0,"d":"0.0"}},{"$f":"'법정동(2014.12월말)'!I14-'법정동(2013년말)'!I15","v":{"v":0,"d":"0.0"}},{"$f":"'법정동(2014.12월말)'!J14-'법정동(2013년말)'!J15","v":{"v":0,"d":"0.0"}},{"$f":"'법정동(2014.12월말)'!K14-'법정동(2013년말)'!K15","v":{"v":0,"d":"0.0"}},{"$f":"'법정동(2014.12월말)'!L14-'법정동(2013년말)'!L15","v":{"v":0,"d":"0.0"}},{"$f":"'법정동(2014.12월말)'!M14-'법정동(2013년말)'!M15","v":{"v":0,"d":"0.0"}},{"$f":"'법정동(2014.12월말)'!N14-'법정동(2013년말)'!N15","v":{"v":0,"d":"0.0"}},{"$f":"'법정동(2014.12월말)'!O14-'법정동(2013년말)'!O15","v":{"v":0,"d":"0.0"}},{"$f":"'법정동(2014.12월말)'!P14-'법정동(2013년말)'!P15","v":{"v":0,"d":"0.0"}},{"$f":"'법정동(2014.12월말)'!Q14-'법정동(2013년말)'!Q15","v":{"v":0,"d":"0.0"}},{"$f":"'법정동(2014.12월말)'!R14-'법정동(2013년말)'!R15","v":{"v":0,"d":"0.0"}},{"$f":"'법정동(2014.12월말)'!S14-'법정동(2013년말)'!S15","v":{"v":-1,"d":"-1.0"}},{"$f":"'법정동(2014.12월말)'!T14-'법정동(2013년말)'!T15","v":{"v":0,"d":"0.0"}},{"$f":"'법정동(2014.12월말)'!U14-'법정동(2013년말)'!U15","v":{"v":0,"d":"0.0"}},{"$f":"'법정동(2014.12월말)'!V14-'법정동(2013년말)'!V15","v":{"v":0,"d":"0.0"}},{"$f":"'법정동(2014.12월말)'!W14-'법정동(2013년말)'!W15","v":{"v":0,"d":"0.0"}},{"$f":"'법정동(2014.12월말)'!X14-'법정동(2013년말)'!X15","v":{"v":0,"d":"0.0"}},{"$f":"'법정동(2014.12월말)'!Y14-'법정동(2013년말)'!Y15","v":{"v":0,"d":"0.0"}},{"$f":"'법정동(2014.12월말)'!Z14-'법정동(2013년말)'!Z15","v":{"v":0,"d":"0.0"}},{"$f":"'법정동(2014.12월말)'!AA14-'법정동(2013년말)'!AA15","v":{"v":0,"d":"0.0"}},{"$f":"'법정동(2014.12월말)'!AB14-'법정동(2013년말)'!AB15","v":{"v":0,"d":"0.0"}},{"$f":"'법정동(2014.12월말)'!AC14-'법정동(2013년말)'!AC15","v":{"v":0,"d":"0.0"}},{"$f":"'법정동(2014.12월말)'!AD14-'법정동(2013년말)'!AD15","v":{"v":0,"d":"0.0"}},{"$f":"'법정동(2014.12월말)'!AE14-'법정동(2013년말)'!AE15","v":{"v":0,"d":"0.0"}},{"$f":"'법정동(2014.12월말)'!AF14-'법정동(2013년말)'!AF15","v":{"v":0,"d":"0.0"}},{"$f":"'법정동(2014.12월말)'!AG14-'법정동(2013년말)'!AG15","v":{"v":0,"d":"0.0"}},{"$f":"'법정동(2014.12월말)'!AH14-'법정동(2013년말)'!AH15","v":{"v":0,"d":"0.0"}},{"$f":"'법정동(2014.12월말)'!AI14-'법정동(2013년말)'!AI15","v":{"v":0,"d":"0.0"}},{"$f":"'법정동(2014.12월말)'!AJ14-'법정동(2013년말)'!AJ15","v":{"v":0,"d":"0.0"}},{"$f":"'법정동(2014.12월말)'!AK14-'법정동(2013년말)'!AK15","v":{"v":0,"d":"0.0"}},{"$f":"'법정동(2014.12월말)'!AL14-'법정동(2013년말)'!AL15","v":{"v":0,"d":"0.0"}},{"$f":"'법정동(2014.12월말)'!AM14-'법정동(2013년말)'!AM15","v":{"v":0,"d":"0.0"}},{"$f":"'법정동(2014.12월말)'!AN14-'법정동(2013년말)'!AN15","v":{"v":0,"d":"0.0"}},{"$f":"'법정동(2014.12월말)'!AO14-'법정동(2013년말)'!AO15","v":{"v":0,"d":"0.0"}},{"$f":"'법정동(2014.12월말)'!AP14-'법정동(2013년말)'!AP15","v":{"v":0,"d":"0.0"}},{"$f":"'법정동(2014.12월말)'!AQ14-'법정동(2013년말)'!AQ15","v":{"v":0,"d":"0.0"}},{"$f":"'법정동(2014.12월말)'!AR14-'법정동(2013년말)'!AR15","v":{"v":0,"d":"0.0"}},{"$f":"'법정동(2014.12월말)'!AS14-'법정동(2013년말)'!AS15","v":{"v":0,"d":"0.0"}},{"$f":"'법정동(2014.12월말)'!AT14-'법정동(2013년말)'!AT15","v":{"v":0,"d":"0.0"}},{"$f":"'법정동(2014.12월말)'!AU14-'법정동(2013년말)'!AU15","v":{"v":0,"d":"0.0"}},{"$f":"'법정동(2014.12월말)'!AV14-'법정동(2013년말)'!AV15","v":{"v":0,"d":"0.0"}},{"$f":"'법정동(2014.12월말)'!AW14-'법정동(2013년말)'!AW15","v":{"v":0,"d":"0.0"}},{"$f":"'법정동(2014.12월말)'!AX14-'법정동(2013년말)'!AX15","v":{"v":0,"d":"0.0"}},{"$f":"'법정동(2014.12월말)'!AY14-'법정동(2013년말)'!AY15","v":{"v":0,"d":"0.0"}},{"$f":"'법정동(2014.12월말)'!AZ14-'법정동(2013년말)'!AZ15","v":{"v":0,"d":"0.0"}},{"$f":"'법정동(2014.12월말)'!BA14-'법정동(2013년말)'!BA15","v":{"v":0,"d":"0.0"}},{"$f":"'법정동(2014.12월말)'!BB14-'법정동(2013년말)'!BB15","v":{"v":0,"d":"0.0"}},{"$f":"'법정동(2014.12월말)'!BC14-'법정동(2013년말)'!BC15","v":{"v":0,"d":"0.0"}},{"$f":"'법정동(2014.12월말)'!BD14-'법정동(2013년말)'!BD15","v":{"v":0,"d":"0.0"}},{"$f":"'법정동(2014.12월말)'!BE14-'법정동(2013년말)'!BE15","v":{"v":0,"d":"0.0"}},{"$f":"'법정동(2014.12월말)'!BF14-'법정동(2013년말)'!BF15","v":{"v":0,"d":"0.0"}},{"$f":"'법정동(2014.12월말)'!BG14-'법정동(2013년말)'!BG15","v":{"v":0,"d":"0.0"}}]
["군자동",{"$f":"'법정동(2014.12월말)'!B15-'법정동(2013년말)'!B16","v":{"v":0,"d":"0.0"}},{"$f":"'법정동(2014.12월말)'!C15-'법정동(2013년말)'!C16","v":{"v":3,"d":"3.0"}},{"$f":"'법정동(2014.12월말)'!D15-'법정동(2013년말)'!D16","v":{"v":0,"d":"0.0"}},{"$f":"'법정동(2014.12월말)'!E15-'법정동(2013년말)'!E16","v":{"v":0,"d":"0.0"}},{"$f":"'법정동(2014.12월말)'!F15-'법정동(2013년말)'!F16","v":{"v":0,"d":"0.0"}},{"$f":"'법정동(2014.12월말)'!G15-'법정동(2013년말)'!G16","v":{"v":0,"d":"0.0"}},{"$f":"'법정동(2014.12월말)'!H15-'법정동(2013년말)'!H16","v":{"v":0,"d":"0.0"}},{"$f":"'법정동(2014.12월말)'!I15-'법정동(2013년말)'!I16","v":{"v":0,"d":"0.0"}},{"$f":"'법정동(2014.12월말)'!J15-'법정동(2013년말)'!J16","v":{"v":0,"d":"0.0"}},{"$f":"'법정동(2014.12월말)'!K15-'법정동(2013년말)'!K16","v":{"v":0,"d":"0.0"}},{"$f":"'법정동(2014.12월말)'!L15-'법정동(2013년말)'!L16","v":{"v":0,"d":"0.0"}},{"$f":"'법정동(2014.12월말)'!M15-'법정동(2013년말)'!M16","v":{"v":0,"d":"0.0"}},{"$f":"'법정동(2014.12월말)'!N15-'법정동(2013년말)'!N16","v":{"v":0,"d":"0.0"}},{"$f":"'법정동(2014.12월말)'!O15-'법정동(2013년말)'!O16","v":{"v":0,"d":"0.0"}},{"$f":"'법정동(2014.12월말)'!P15-'법정동(2013년말)'!P16","v":{"v":0,"d":"0.0"}},{"$f":"'법정동(2014.12월말)'!Q15-'법정동(2013년말)'!Q16","v":{"v":0,"d":"0.0"}},{"$f":"'법정동(2014.12월말)'!R15-'법정동(2013년말)'!R16","v":{"v":0,"d":"0.0"}},{"$f":"'법정동(2014.12월말)'!S15-'법정동(2013년말)'!S16","v":{"v":3,"d":"3.0"}},{"$f":"'법정동(2014.12월말)'!T15-'법정동(2013년말)'!T16","v":{"v":0,"d":"0.0"}},{"$f":"'법정동(2014.12월말)'!U15-'법정동(2013년말)'!U16","v":{"v":0,"d":"0.0"}},{"$f":"'법정동(2014.12월말)'!V15-'법정동(2013년말)'!V16","v":{"v":0,"d":"0.0"}},{"$f":"'법정동(2014.12월말)'!W15-'법정동(2013년말)'!W16","v":{"v":0,"d":"0.0"}},{"$f":"'법정동(2014.12월말)'!X15-'법정동(2013년말)'!X16","v":{"v":0,"d":"0.0"}},{"$f":"'법정동(2014.12월말)'!Y15-'법정동(2013년말)'!Y16","v":{"v":0,"d":"0.0"}},{"$f":"'법정동(2014.12월말)'!Z15-'법정동(2013년말)'!Z16","v":{"v":0,"d":"0.0"}},{"$f":"'법정동(2014.12월말)'!AA15-'법정동(2013년말)'!AA16","v":{"v":0,"d":"0.0"}},{"$f":"'법정동(2014.12월말)'!AB15-'법정동(2013년말)'!AB16","v":{"v":0,"d":"0.0"}},{"$f":"'법정동(2014.12월말)'!AC15-'법정동(2013년말)'!AC16","v":{"v":0,"d":"0.0"}},{"$f":"'법정동(2014.12월말)'!AD15-'법정동(2013년말)'!AD16","v":{"v":0,"d":"0.0"}},{"$f":"'법정동(2014.12월말)'!AE15-'법정동(2013년말)'!AE16","v":{"v":0,"d":"0.0"}},{"$f":"'법정동(2014.12월말)'!AF15-'법정동(2013년말)'!AF16","v":{"v":0,"d":"0.0"}},{"$f":"'법정동(2014.12월말)'!AG15-'법정동(2013년말)'!AG16","v":{"v":0,"d":"0.0"}},{"$f":"'법정동(2014.12월말)'!AH15-'법정동(2013년말)'!AH16","v":{"v":0,"d":"0.0"}},{"$f":"'법정동(2014.12월말)'!AI15-'법정동(2013년말)'!AI16","v":{"v":0,"d":"0.0"}},{"$f":"'법정동(2014.12월말)'!AJ15-'법정동(2013년말)'!AJ16","v":{"v":0,"d":"0.0"}},{"$f":"'법정동(2014.12월말)'!AK15-'법정동(2013년말)'!AK16","v":{"v":0,"d":"0.0"}},{"$f":"'법정동(2014.12월말)'!AL15-'법정동(2013년말)'!AL16","v":{"v":0,"d":"0.0"}},{"$f":"'법정동(2014.12월말)'!AM15-'법정동(2013년말)'!AM16","v":{"v":0,"d":"0.0"}},{"$f":"'법정동(2014.12월말)'!AN15-'법정동(2013년말)'!AN16","v":{"v":0,"d":"0.0"}},{"$f":"'법정동(2014.12월말)'!AO15-'법정동(2013년말)'!AO16","v":{"v":0,"d":"0.0"}},{"$f":"'법정동(2014.12월말)'!AP15-'법정동(2013년말)'!AP16","v":{"v":0,"d":"0.0"}},{"$f":"'법정동(2014.12월말)'!AQ15-'법정동(2013년말)'!AQ16","v":{"v":0,"d":"0.0"}},{"$f":"'법정동(2014.12월말)'!AR15-'법정동(2013년말)'!AR16","v":{"v":0,"d":"0.0"}},{"$f":"'법정동(2014.12월말)'!AS15-'법정동(2013년말)'!AS16","v":{"v":0,"d":"0.0"}},{"$f":"'법정동(2014.12월말)'!AT15-'법정동(2013년말)'!AT16","v":{"v":0,"d":"0.0"}},{"$f":"'법정동(2014.12월말)'!AU15-'법정동(2013년말)'!AU16","v":{"v":0,"d":"0.0"}},{"$f":"'법정동(2014.12월말)'!AV15-'법정동(2013년말)'!AV16","v":{"v":0,"d":"0.0"}},{"$f":"'법정동(2014.12월말)'!AW15-'법정동(2013년말)'!AW16","v":{"v":0,"d":"0.0"}},{"$f":"'법정동(2014.12월말)'!AX15-'법정동(2013년말)'!AX16","v":{"v":0,"d":"0.0"}},{"$f":"'법정동(2014.12월말)'!AY15-'법정동(2013년말)'!AY16","v":{"v":0,"d":"0.0"}},{"$f":"'법정동(2014.12월말)'!AZ15-'법정동(2013년말)'!AZ16","v":{"v":0,"d":"0.0"}},{"$f":"'법정동(2014.12월말)'!BA15-'법정동(2013년말)'!BA16","v":{"v":0,"d":"0.0"}},{"$f":"'법정동(2014.12월말)'!BB15-'법정동(2013년말)'!BB16","v":{"v":0,"d":"0.0"}},{"$f":"'법정동(2014.12월말)'!BC15-'법정동(2013년말)'!BC16","v":{"v":0,"d":"0.0"}},{"$f":"'법정동(2014.12월말)'!BD15-'법정동(2013년말)'!BD16","v":{"v":0,"d":"0.0"}},{"$f":"'법정동(2014.12월말)'!BE15-'법정동(2013년말)'!BE16","v":{"v":0,"d":"0.0"}},{"$f":"'법정동(2014.12월말)'!BF15-'법정동(2013년말)'!BF16","v":{"v":0,"d":"0.0"}},{"$f":"'법정동(2014.12월말)'!BG15-'법정동(2013년말)'!BG16","v":{"v":0,"d":"0.0"}}]
["충무동",{"$f":"'법정동(2014.12월말)'!B16-'법정동(2013년말)'!B17","v":{"v":0,"d":"0.0"}},{"$f":"'법정동(2014.12월말)'!C16-'법정동(2013년말)'!C17","v":{"v":-1,"d":"-1.0"}},{"$f":"'법정동(2014.12월말)'!D16-'법정동(2013년말)'!D17","v":{"v":0,"d":"0.0"}},{"$f":"'법정동(2014.12월말)'!E16-'법정동(2013년말)'!E17","v":{"v":0,"d":"0.0"}},{"$f":"'법정동(2014.12월말)'!F16-'법정동(2013년말)'!F17","v":{"v":0,"d":"0.0"}},{"$f":"'법정동(2014.12월말)'!G16-'법정동(2013년말)'!G17","v":{"v":0,"d":"0.0"}},{"$f":"'법정동(2014.12월말)'!H16-'법정동(2013년말)'!H17","v":{"v":0,"d":"0.0"}},{"$f":"'법정동(2014.12월말)'!I16-'법정동(2013년말)'!I17","v":{"v":0,"d":"0.0"}},{"$f":"'법정동(2014.12월말)'!J16-'법정동(2013년말)'!J17","v":{"v":0,"d":"0.0"}},{"$f":"'법정동(2014.12월말)'!K16-'법정동(2013년말)'!K17","v":{"v":0,"d":"0.0"}},{"$f":"'법정동(2014.12월말)'!L16-'법정동(2013년말)'!L17","v":{"v":0,"d":"0.0"}},{"$f":"'법정동(2014.12월말)'!M16-'법정동(2013년말)'!M17","v":{"v":0,"d":"0.0"}},{"$f":"'법정동(2014.12월말)'!N16-'법정동(2013년말)'!N17","v":{"v":0,"d":"0.0"}},{"$f":"'법정동(2014.12월말)'!O16-'법정동(2013년말)'!O17","v":{"v":0,"d":"0.0"}},{"$f":"'법정동(2014.12월말)'!P16-'법정동(2013년말)'!P17","v":{"v":0,"d":"0.0"}},{"$f":"'법정동(2014.12월말)'!Q16-'법정동(2013년말)'!Q17","v":{"v":0,"d":"0.0"}},{"$f":"'법정동(2014.12월말)'!R16-'법정동(2013년말)'!R17","v":{"v":0,"d":"0.0"}},{"$f":"'법정동(2014.12월말)'!S16-'법정동(2013년말)'!S17","v":{"v":-1,"d":"-1.0"}},{"$f":"'법정동(2014.12월말)'!T16-'법정동(2013년말)'!T17","v":{"v":0,"d":"0.0"}},{"$f":"'법정동(2014.12월말)'!U16-'법정동(2013년말)'!U17","v":{"v":0,"d":"0.0"}},{"$f":"'법정동(2014.12월말)'!V16-'법정동(2013년말)'!V17","v":{"v":0,"d":"0.0"}},{"$f":"'법정동(2014.12월말)'!W16-'법정동(2013년말)'!W17","v":{"v":0,"d":"0.0"}},{"$f":"'법정동(2014.12월말)'!X16-'법정동(2013년말)'!X17","v":{"v":0,"d":"0.0"}},{"$f":"'법정동(2014.12월말)'!Y16-'법정동(2013년말)'!Y17","v":{"v":0,"d":"0.0"}},{"$f":"'법정동(2014.12월말)'!Z16-'법정동(2013년말)'!Z17","v":{"v":0,"d":"0.0"}},{"$f":"'법정동(2014.12월말)'!AA16-'법정동(2013년말)'!AA17","v":{"v":0,"d":"0.0"}},{"$f":"'법정동(2014.12월말)'!AB16-'법정동(2013년말)'!AB17","v":{"v":0,"d":"0.0"}},{"$f":"'법정동(2014.12월말)'!AC16-'법정동(2013년말)'!AC17","v":{"v":0,"d":"0.0"}},{"$f":"'법정동(2014.12월말)'!AD16-'법정동(2013년말)'!AD17","v":{"v":0,"d":"0.0"}},{"$f":"'법정동(2014.12월말)'!AE16-'법정동(2013년말)'!AE17","v":{"v":0,"d":"0.0"}},{"$f":"'법정동(2014.12월말)'!AF16-'법정동(2013년말)'!AF17","v":{"v":0,"d":"0.0"}},{"$f":"'법정동(2014.12월말)'!AG16-'법정동(2013년말)'!AG17","v":{"v":0,"d":"0.0"}},{"$f":"'법정동(2014.12월말)'!AH16-'법정동(2013년말)'!AH17","v":{"v":0,"d":"0.0"}},{"$f":"'법정동(2014.12월말)'!AI16-'법정동(2013년말)'!AI17","v":{"v":0,"d":"0.0"}},{"$f":"'법정동(2014.12월말)'!AJ16-'법정동(2013년말)'!AJ17","v":{"v":0,"d":"0.0"}},{"$f":"'법정동(2014.12월말)'!AK16-'법정동(2013년말)'!AK17","v":{"v":0,"d":"0.0"}},{"$f":"'법정동(2014.12월말)'!AL16-'법정동(2013년말)'!AL17","v":{"v":0,"d":"0.0"}},{"$f":"'법정동(2014.12월말)'!AM16-'법정동(2013년말)'!AM17","v":{"v":0,"d":"0.0"}},{"$f":"'법정동(2014.12월말)'!AN16-'법정동(2013년말)'!AN17","v":{"v":0,"d":"0.0"}},{"$f":"'법정동(2014.12월말)'!AO16-'법정동(2013년말)'!AO17","v":{"v":0,"d":"0.0"}},{"$f":"'법정동(2014.12월말)'!AP16-'법정동(2013년말)'!AP17","v":{"v":0,"d":"0.0"}},{"$f":"'법정동(2014.12월말)'!AQ16-'법정동(2013년말)'!AQ17","v":{"v":0,"d":"0.0"}},{"$f":"'법정동(2014.12월말)'!AR16-'법정동(2013년말)'!AR17","v":{"v":0,"d":"0.0"}},{"$f":"'법정동(2014.12월말)'!AS16-'법정동(2013년말)'!AS17","v":{"v":0,"d":"0.0"}},{"$f":"'법정동(2014.12월말)'!AT16-'법정동(2013년말)'!AT17","v":{"v":0,"d":"0.0"}},{"$f":"'법정동(2014.12월말)'!AU16-'법정동(2013년말)'!AU17","v":{"v":0,"d":"0.0"}},{"$f":"'법정동(2014.12월말)'!AV16-'법정동(2013년말)'!AV17","v":{"v":0,"d":"0.0"}},{"$f":"'법정동(2014.12월말)'!AW16-'법정동(2013년말)'!AW17","v":{"v":0,"d":"0.0"}},{"$f":"'법정동(2014.12월말)'!AX16-'법정동(2013년말)'!AX17","v":{"v":0,"d":"0.0"}},{"$f":"'법정동(2014.12월말)'!AY16-'법정동(2013년말)'!AY17","v":{"v":0,"d":"0.0"}},{"$f":"'법정동(2014.12월말)'!AZ16-'법정동(2013년말)'!AZ17","v":{"v":0,"d":"0.0"}},{"$f":"'법정동(2014.12월말)'!BA16-'법정동(2013년말)'!BA17","v":{"v":0,"d":"0.0"}},{"$f":"'법정동(2014.12월말)'!BB16-'법정동(2013년말)'!BB17","v":{"v":0,"d":"0.0"}},{"$f":"'법정동(2014.12월말)'!BC16-'법정동(2013년말)'!BC17","v":{"v":0,"d":"0.0"}},{"$f":"'법정동(2014.12월말)'!BD16-'법정동(2013년말)'!BD17","v":{"v":0,"d":"0.0"}},{"$f":"'법정동(2014.12월말)'!BE16-'법정동(2013년말)'!BE17","v":{"v":0,"d":"0.0"}},{"$f":"'법정동(2014.12월말)'!BF16-'법정동(2013년말)'!BF17","v":{"v":0,"d":"0.0"}},{"$f":"'법정동(2014.12월말)'!BG16-'법정동(2013년말)'!BG17","v":{"v":0,"d":"0.0"}}]
["연등동",{"$f":"'법정동(2014.12월말)'!B17-'법정동(2013년말)'!B18","v":{"v":-1868,"d":"-1,868.0"}},{"$f":"'법정동(2014.12월말)'!C17-'법정동(2013년말)'!C18","v":{"v":4,"d":"4.0"}},{"$f":"'법정동(2014.12월말)'!D17-'법정동(2013년말)'!D18","v":{"v":-118,"d":"-118.0"}},{"$f":"'법정동(2014.12월말)'!E17-'법정동(2013년말)'!E18","v":{"v":1,"d":"1.0"}},{"$f":"'법정동(2014.12월말)'!F17-'법정동(2013년말)'!F18","v":{"v":0,"d":"0.0"}},{"$f":"'법정동(2014.12월말)'!G17-'법정동(2013년말)'!G18","v":{"v":0,"d":"0.0"}},{"$f":"'법정동(2014.12월말)'!H17-'법정동(2013년말)'!H18","v":{"v":0,"d":"0.0"}},{"$f":"'법정동(2014.12월말)'!I17-'법정동(2013년말)'!I18","v":{"v":0,"d":"0.0"}},{"$f":"'법정동(2014.12월말)'!J17-'법정동(2013년말)'!J18","v":{"v":0,"d":"0.0"}},{"$f":"'법정동(2014.12월말)'!K17-'법정동(2013년말)'!K18","v":{"v":0,"d":"0.0"}},{"$f":"'법정동(2014.12월말)'!L17-'법정동(2013년말)'!L18","v":{"v":0,"d":"0.0"}},{"$f":"'법정동(2014.12월말)'!M17-'법정동(2013년말)'!M18","v":{"v":0,"d":"0.0"}},{"$f":"'법정동(2014.12월말)'!N17-'법정동(2013년말)'!N18","v":{"v":0,"d":"0.0"}},{"$f":"'법정동(2014.12월말)'!O17-'법정동(2013년말)'!O18","v":{"v":0,"d":"0.0"}},{"$f":"'법정동(2014.12월말)'!P17-'법정동(2013년말)'!P18","v":{"v":0,"d":"0.0"}},{"$f":"'법정동(2014.12월말)'!Q17-'법정동(2013년말)'!Q18","v":{"v":0,"d":"0.0"}},{"$f":"'법정동(2014.12월말)'!R17-'법정동(2013년말)'!R18","v":{"v":-132,"d":"-132.0"}},{"$f":"'법정동(2014.12월말)'!S17-'법정동(2013년말)'!S18","v":{"v":0,"d":"0.0"}},{"$f":"'법정동(2014.12월말)'!T17-'법정동(2013년말)'!T18","v":{"v":0,"d":"0.0"}},{"$f":"'법정동(2014.12월말)'!U17-'법정동(2013년말)'!U18","v":{"v":0,"d":"0.0"}},{"$f":"'법정동(2014.12월말)'!V17-'법정동(2013년말)'!V18","v":{"v":0,"d":"0.0"}},{"$f":"'법정동(2014.12월말)'!W17-'법정동(2013년말)'!W18","v":{"v":0,"d":"0.0"}},{"$f":"'법정동(2014.12월말)'!X17-'법정동(2013년말)'!X18","v":{"v":0,"d":"0.0"}},{"$f":"'법정동(2014.12월말)'!Y17-'법정동(2013년말)'!Y18","v":{"v":0,"d":"0.0"}},{"$f":"'법정동(2014.12월말)'!Z17-'법정동(2013년말)'!Z18","v":{"v":0,"d":"0.0"}},{"$f":"'법정동(2014.12월말)'!AA17-'법정동(2013년말)'!AA18","v":{"v":0,"d":"0.0"}},{"$f":"'법정동(2014.12월말)'!AB17-'법정동(2013년말)'!AB18","v":{"v":0,"d":"0.0"}},{"$f":"'법정동(2014.12월말)'!AC17-'법정동(2013년말)'!AC18","v":{"v":0,"d":"0.0"}},{"$f":"'법정동(2014.12월말)'!AD17-'법정동(2013년말)'!AD18","v":{"v":250,"d":"250.0"}},{"$f":"'법정동(2014.12월말)'!AE17-'법정동(2013년말)'!AE18","v":{"v":3,"d":"3.0"}},{"$f":"'법정동(2014.12월말)'!AF17-'법정동(2013년말)'!AF18","v":{"v":0,"d":"0.0"}},{"$f":"'법정동(2014.12월말)'!AG17-'법정동(2013년말)'!AG18","v":{"v":0,"d":"0.0"}},{"$f":"'법정동(2014.12월말)'!AH17-'법정동(2013년말)'!AH18","v":{"v":0,"d":"0.0"}},{"$f":"'법정동(2014.12월말)'!AI17-'법정동(2013년말)'!AI18","v":{"v":0,"d":"0.0"}},{"$f":"'법정동(2014.12월말)'!AJ17-'법정동(2013년말)'!AJ18","v":{"v":-1868,"d":"-1,868.0"}},{"$f":"'법정동(2014.12월말)'!AK17-'법정동(2013년말)'!AK18","v":{"v":0,"d":"0.0"}},{"$f":"'법정동(2014.12월말)'!AL17-'법정동(2013년말)'!AL18","v":{"v":0,"d":"0.0"}},{"$f":"'법정동(2014.12월말)'!AM17-'법정동(2013년말)'!AM18","v":{"v":0,"d":"0.0"}},{"$f":"'법정동(2014.12월말)'!AN17-'법정동(2013년말)'!AN18","v":{"v":0,"d":"0.0"}},{"$f":"'법정동(2014.12월말)'!AO17-'법정동(2013년말)'!AO18","v":{"v":0,"d":"0.0"}},{"$f":"'법정동(2014.12월말)'!AP17-'법정동(2013년말)'!AP18","v":{"v":0,"d":"0.0"}},{"$f":"'법정동(2014.12월말)'!AQ17-'법정동(2013년말)'!AQ18","v":{"v":0,"d":"0.0"}},{"$f":"'법정동(2014.12월말)'!AR17-'법정동(2013년말)'!AR18","v":{"v":0,"d":"0.0"}},{"$f":"'법정동(2014.12월말)'!AS17-'법정동(2013년말)'!AS18","v":{"v":0,"d":"0.0"}},{"$f":"'법정동(2014.12월말)'!AT17-'법정동(2013년말)'!AT18","v":{"v":0,"d":"0.0"}},{"$f":"'법정동(2014.12월말)'!AU17-'법정동(2013년말)'!AU18","v":{"v":0,"d":"0.0"}},{"$f":"'법정동(2014.12월말)'!AV17-'법정동(2013년말)'!AV18","v":{"v":0,"d":"0.0"}},{"$f":"'법정동(2014.12월말)'!AW17-'법정동(2013년말)'!AW18","v":{"v":0,"d":"0.0"}},{"$f":"'법정동(2014.12월말)'!AX17-'법정동(2013년말)'!AX18","v":{"v":0,"d":"0.0"}},{"$f":"'법정동(2014.12월말)'!AY17-'법정동(2013년말)'!AY18","v":{"v":0,"d":"0.0"}},{"$f":"'법정동(2014.12월말)'!AZ17-'법정동(2013년말)'!AZ18","v":{"v":0,"d":"0.0"}},{"$f":"'법정동(2014.12월말)'!BA17-'법정동(2013년말)'!BA18","v":{"v":0,"d":"0.0"}},{"$f":"'법정동(2014.12월말)'!BB17-'법정동(2013년말)'!BB18","v":{"v":0,"d":"0.0"}},{"$f":"'법정동(2014.12월말)'!BC17-'법정동(2013년말)'!BC18","v":{"v":0,"d":"0.0"}},{"$f":"'법정동(2014.12월말)'!BD17-'법정동(2013년말)'!BD18","v":{"v":0,"d":"0.0"}},{"$f":"'법정동(2014.12월말)'!BE17-'법정동(2013년말)'!BE18","v":{"v":0,"d":"0.0"}},{"$f":"'법정동(2014.12월말)'!BF17-'법정동(2013년말)'!BF18","v":{"v":0,"d":"0.0"}},{"$f":"'법정동(2014.12월말)'!BG17-'법정동(2013년말)'!BG18","v":{"v":0,"d":"0.0"}}]
["광무동",{"$f":"'법정동(2014.12월말)'!B18-'법정동(2013년말)'!B19","v":{"v":0,"d":"0.0"}},{"$f":"'법정동(2014.12월말)'!C18-'법정동(2013년말)'!C19","v":{"v":-1,"d":"-1.0"}},{"$f":"'법정동(2014.12월말)'!D18-'법정동(2013년말)'!D19","v":{"v":0,"d":"0.0"}},{"$f":"'법정동(2014.12월말)'!E18-'법정동(2013년말)'!E19","v":{"v":0,"d":"0.0"}},{"$f":"'법정동(2014.12월말)'!F18-'법정동(2013년말)'!F19","v":{"v":0,"d":"0.0"}},{"$f":"'법정동(2014.12월말)'!G18-'법정동(2013년말)'!G19","v":{"v":0,"d":"0.0"}},{"$f":"'법정동(2014.12월말)'!H18-'법정동(2013년말)'!H19","v":{"v":0,"d":"0.0"}},{"$f":"'법정동(2014.12월말)'!I18-'법정동(2013년말)'!I19","v":{"v":0,"d":"0.0"}},{"$f":"'법정동(2014.12월말)'!J18-'법정동(2013년말)'!J19","v":{"v":0,"d":"0.0"}},{"$f":"'법정동(2014.12월말)'!K18-'법정동(2013년말)'!K19","v":{"v":0,"d":"0.0"}},{"$f":"'법정동(2014.12월말)'!L18-'법정동(2013년말)'!L19","v":{"v":0,"d":"0.0"}},{"$f":"'법정동(2014.12월말)'!M18-'법정동(2013년말)'!M19","v":{"v":0,"d":"0.0"}},{"$f":"'법정동(2014.12월말)'!N18-'법정동(2013년말)'!N19","v":{"v":0,"d":"0.0"}},{"$f":"'법정동(2014.12월말)'!O18-'법정동(2013년말)'!O19","v":{"v":0,"d":"0.0"}},{"$f":"'법정동(2014.12월말)'!P18-'법정동(2013년말)'!P19","v":{"v":0,"d":"0.0"}},{"$f":"'법정동(2014.12월말)'!Q18-'법정동(2013년말)'!Q19","v":{"v":0,"d":"0.0"}},{"$f":"'법정동(2014.12월말)'!R18-'법정동(2013년말)'!R19","v":{"v":0,"d":"0.0"}},{"$f":"'법정동(2014.12월말)'!S18-'법정동(2013년말)'!S19","v":{"v":-1,"d":"-1.0"}},{"$f":"'법정동(2014.12월말)'!T18-'법정동(2013년말)'!T19","v":{"v":0,"d":"0.0"}},{"$f":"'법정동(2014.12월말)'!U18-'법정동(2013년말)'!U19","v":{"v":0,"d":"0.0"}},{"$f":"'법정동(2014.12월말)'!V18-'법정동(2013년말)'!V19","v":{"v":0,"d":"0.0"}},{"$f":"'법정동(2014.12월말)'!W18-'법정동(2013년말)'!W19","v":{"v":0,"d":"0.0"}},{"$f":"'법정동(2014.12월말)'!X18-'법정동(2013년말)'!X19","v":{"v":0,"d":"0.0"}},{"$f":"'법정동(2014.12월말)'!Y18-'법정동(2013년말)'!Y19","v":{"v":0,"d":"0.0"}},{"$f":"'법정동(2014.12월말)'!Z18-'법정동(2013년말)'!Z19","v":{"v":0,"d":"0.0"}},{"$f":"'법정동(2014.12월말)'!AA18-'법정동(2013년말)'!AA19","v":{"v":0,"d":"0.0"}},{"$f":"'법정동(2014.12월말)'!AB18-'법정동(2013년말)'!AB19","v":{"v":0,"d":"0.0"}},{"$f":"'법정동(2014.12월말)'!AC18-'법정동(2013년말)'!AC19","v":{"v":0,"d":"0.0"}},{"$f":"'법정동(2014.12월말)'!AD18-'법정동(2013년말)'!AD19","v":{"v":0,"d":"0.0"}},{"$f":"'법정동(2014.12월말)'!AE18-'법정동(2013년말)'!AE19","v":{"v":0,"d":"0.0"}},{"$f":"'법정동(2014.12월말)'!AF18-'법정동(2013년말)'!AF19","v":{"v":0,"d":"0.0"}},{"$f":"'법정동(2014.12월말)'!AG18-'법정동(2013년말)'!AG19","v":{"v":0,"d":"0.0"}},{"$f":"'법정동(2014.12월말)'!AH18-'법정동(2013년말)'!AH19","v":{"v":0,"d":"0.0"}},{"$f":"'법정동(2014.12월말)'!AI18-'법정동(2013년말)'!AI19","v":{"v":0,"d":"0.0"}},{"$f":"'법정동(2014.12월말)'!AJ18-'법정동(2013년말)'!AJ19","v":{"v":0,"d":"0.0"}},{"$f":"'법정동(2014.12월말)'!AK18-'법정동(2013년말)'!AK19","v":{"v":0,"d":"0.0"}},{"$f":"'법정동(2014.12월말)'!AL18-'법정동(2013년말)'!AL19","v":{"v":0,"d":"0.0"}},{"$f":"'법정동(2014.12월말)'!AM18-'법정동(2013년말)'!AM19","v":{"v":0,"d":"0.0"}},{"$f":"'법정동(2014.12월말)'!AN18-'법정동(2013년말)'!AN19","v":{"v":0,"d":"0.0"}},{"$f":"'법정동(2014.12월말)'!AO18-'법정동(2013년말)'!AO19","v":{"v":0,"d":"0.0"}},{"$f":"'법정동(2014.12월말)'!AP18-'법정동(2013년말)'!AP19","v":{"v":0,"d":"0.0"}},{"$f":"'법정동(2014.12월말)'!AQ18-'법정동(2013년말)'!AQ19","v":{"v":0,"d":"0.0"}},{"$f":"'법정동(2014.12월말)'!AR18-'법정동(2013년말)'!AR19","v":{"v":0,"d":"0.0"}},{"$f":"'법정동(2014.12월말)'!AS18-'법정동(2013년말)'!AS19","v":{"v":0,"d":"0.0"}},{"$f":"'법정동(2014.12월말)'!AT18-'법정동(2013년말)'!AT19","v":{"v":0,"d":"0.0"}},{"$f":"'법정동(2014.12월말)'!AU18-'법정동(2013년말)'!AU19","v":{"v":0,"d":"0.0"}},{"$f":"'법정동(2014.12월말)'!AV18-'법정동(2013년말)'!AV19","v":{"v":0,"d":"0.0"}},{"$f":"'법정동(2014.12월말)'!AW18-'법정동(2013년말)'!AW19","v":{"v":0,"d":"0.0"}},{"$f":"'법정동(2014.12월말)'!AX18-'법정동(2013년말)'!AX19","v":{"v":0,"d":"0.0"}},{"$f":"'법정동(2014.12월말)'!AY18-'법정동(2013년말)'!AY19","v":{"v":0,"d":"0.0"}},{"$f":"'법정동(2014.12월말)'!AZ18-'법정동(2013년말)'!AZ19","v":{"v":0,"d":"0.0"}},{"$f":"'법정동(2014.12월말)'!BA18-'법정동(2013년말)'!BA19","v":{"v":0,"d":"0.0"}},{"$f":"'법정동(2014.12월말)'!BB18-'법정동(2013년말)'!BB19","v":{"v":0,"d":"0.0"}},{"$f":"'법정동(2014.12월말)'!BC18-'법정동(2013년말)'!BC19","v":{"v":0,"d":"0.0"}},{"$f":"'법정동(2014.12월말)'!BD18-'법정동(2013년말)'!BD19","v":{"v":0,"d":"0.0"}},{"$f":"'법정동(2014.12월말)'!BE18-'법정동(2013년말)'!BE19","v":{"v":0,"d":"0.0"}},{"$f":"'법정동(2014.12월말)'!BF18-'법정동(2013년말)'!BF19","v":{"v":0,"d":"0.0"}},{"$f":"'법정동(2014.12월말)'!BG18-'법정동(2013년말)'!BG19","v":{"v":0,"d":"0.0"}}]
["서교동",{"$f":"'법정동(2014.12월말)'!B19-'법정동(2013년말)'!B20","v":{"v":0,"d":"0.0"}},{"$f":"'법정동(2014.12월말)'!C19-'법정동(2013년말)'!C20","v":{"v":-6,"d":"-6.0"}},{"$f":"'법정동(2014.12월말)'!D19-'법정동(2013년말)'!D20","v":{"v":0,"d":"0.0"}},{"$f":"'법정동(2014.12월말)'!E19-'법정동(2013년말)'!E20","v":{"v":0,"d":"0.0"}},{"$f":"'법정동(2014.12월말)'!F19-'법정동(2013년말)'!F20","v":{"v":0,"d":"0.0"}},{"$f":"'법정동(2014.12월말)'!G19-'법정동(2013년말)'!G20","v":{"v":0,"d":"0.0"}},{"$f":"'법정동(2014.12월말)'!H19-'법정동(2013년말)'!H20","v":{"v":0,"d":"0.0"}},{"$f":"'법정동(2014.12월말)'!I19-'법정동(2013년말)'!I20","v":{"v":0,"d":"0.0"}},{"$f":"'법정동(2014.12월말)'!J19-'법정동(2013년말)'!J20","v":{"v":0,"d":"0.0"}},{"$f":"'법정동(2014.12월말)'!K19-'법정동(2013년말)'!K20","v":{"v":0,"d":"0.0"}},{"$f":"'법정동(2014.12월말)'!L19-'법정동(2013년말)'!L20","v":{"v":0,"d":"0.0"}},{"$f":"'법정동(2014.12월말)'!M19-'법정동(2013년말)'!M20","v":{"v":0,"d":"0.0"}},{"$f":"'법정동(2014.12월말)'!N19-'법정동(2013년말)'!N20","v":{"v":0,"d":"0.0"}},{"$f":"'법정동(2014.12월말)'!O19-'법정동(2013년말)'!O20","v":{"v":0,"d":"0.0"}},{"$f":"'법정동(2014.12월말)'!P19-'법정동(2013년말)'!P20","v":{"v":0,"d":"0.0"}},{"$f":"'법정동(2014.12월말)'!Q19-'법정동(2013년말)'!Q20","v":{"v":0,"d":"0.0"}},{"$f":"'법정동(2014.12월말)'!R19-'법정동(2013년말)'!R20","v":{"v":-246,"d":"-246.0"}},{"$f":"'법정동(2014.12월말)'!S19-'법정동(2013년말)'!S20","v":{"v":-8,"d":"-8.0"}},{"$f":"'법정동(2014.12월말)'!T19-'법정동(2013년말)'!T20","v":{"v":0,"d":"0.0"}},{"$f":"'법정동(2014.12월말)'!U19-'법정동(2013년말)'!U20","v":{"v":0,"d":"0.0"}},{"$f":"'법정동(2014.12월말)'!V19-'법정동(2013년말)'!V20","v":{"v":0,"d":"0.0"}},{"$f":"'법정동(2014.12월말)'!W19-'법정동(2013년말)'!W20","v":{"v":0,"d":"0.0"}},{"$f":"'법정동(2014.12월말)'!X19-'법정동(2013년말)'!X20","v":{"v":241,"d":"241.0"}},{"$f":"'법정동(2014.12월말)'!Y19-'법정동(2013년말)'!Y20","v":{"v":1,"d":"1.0"}},{"$f":"'법정동(2014.12월말)'!Z19-'법정동(2013년말)'!Z20","v":{"v":0,"d":"0.0"}},{"$f":"'법정동(2014.12월말)'!AA19-'법정동(2013년말)'!AA20","v":{"v":0,"d":"0.0"}},{"$f":"'법정동(2014.12월말)'!AB19-'법정동(2013년말)'!AB20","v":{"v":0,"d":"0.0"}},{"$f":"'법정동(2014.12월말)'!AC19-'법정동(2013년말)'!AC20","v":{"v":0,"d":"0.0"}},{"$f":"'법정동(2014.12월말)'!AD19-'법정동(2013년말)'!AD20","v":{"v":5,"d":"5.0"}},{"$f":"'법정동(2014.12월말)'!AE19-'법정동(2013년말)'!AE20","v":{"v":1,"d":"1.0"}},{"$f":"'법정동(2014.12월말)'!AF19-'법정동(2013년말)'!AF20","v":{"v":0,"d":"0.0"}},{"$f":"'법정동(2014.12월말)'!AG19-'법정동(2013년말)'!AG20","v":{"v":0,"d":"0.0"}},{"$f":"'법정동(2014.12월말)'!AH19-'법정동(2013년말)'!AH20","v":{"v":0,"d":"0.0"}},{"$f":"'법정동(2014.12월말)'!AI19-'법정동(2013년말)'!AI20","v":{"v":0,"d":"0.0"}},{"$f":"'법정동(2014.12월말)'!AJ19-'법정동(2013년말)'!AJ20","v":{"v":0,"d":"0.0"}},{"$f":"'법정동(2014.12월말)'!AK19-'법정동(2013년말)'!AK20","v":{"v":0,"d":"0.0"}},{"$f":"'법정동(2014.12월말)'!AL19-'법정동(2013년말)'!AL20","v":{"v":0,"d":"0.0"}},{"$f":"'법정동(2014.12월말)'!AM19-'법정동(2013년말)'!AM20","v":{"v":0,"d":"0.0"}},{"$f":"'법정동(2014.12월말)'!AN19-'법정동(2013년말)'!AN20","v":{"v":0,"d":"0.0"}},{"$f":"'법정동(2014.12월말)'!AO19-'법정동(2013년말)'!AO20","v":{"v":0,"d":"0.0"}},{"$f":"'법정동(2014.12월말)'!AP19-'법정동(2013년말)'!AP20","v":{"v":0,"d":"0.0"}},{"$f":"'법정동(2014.12월말)'!AQ19-'법정동(2013년말)'!AQ20","v":{"v":0,"d":"0.0"}},{"$f":"'법정동(2014.12월말)'!AR19-'법정동(2013년말)'!AR20","v":{"v":0,"d":"0.0"}},{"$f":"'법정동(2014.12월말)'!AS19-'법정동(2013년말)'!AS20","v":{"v":0,"d":"0.0"}},{"$f":"'법정동(2014.12월말)'!AT19-'법정동(2013년말)'!AT20","v":{"v":0,"d":"0.0"}},{"$f":"'법정동(2014.12월말)'!AU19-'법정동(2013년말)'!AU20","v":{"v":0,"d":"0.0"}},{"$f":"'법정동(2014.12월말)'!AV19-'법정동(2013년말)'!AV20","v":{"v":0,"d":"0.0"}},{"$f":"'법정동(2014.12월말)'!AW19-'법정동(2013년말)'!AW20","v":{"v":0,"d":"0.0"}},{"$f":"'법정동(2014.12월말)'!AX19-'법정동(2013년말)'!AX20","v":{"v":0,"d":"0.0"}},{"$f":"'법정동(2014.12월말)'!AY19-'법정동(2013년말)'!AY20","v":{"v":0,"d":"0.0"}},{"$f":"'법정동(2014.12월말)'!AZ19-'법정동(2013년말)'!AZ20","v":{"v":0,"d":"0.0"}},{"$f":"'법정동(2014.12월말)'!BA19-'법정동(2013년말)'!BA20","v":{"v":0,"d":"0.0"}},{"$f":"'법정동(2014.12월말)'!BB19-'법정동(2013년말)'!BB20","v":{"v":0,"d":"0.0"}},{"$f":"'법정동(2014.12월말)'!BC19-'법정동(2013년말)'!BC20","v":{"v":0,"d":"0.0"}},{"$f":"'법정동(2014.12월말)'!BD19-'법정동(2013년말)'!BD20","v":{"v":0,"d":"0.0"}},{"$f":"'법정동(2014.12월말)'!BE19-'법정동(2013년말)'!BE20","v":{"v":0,"d":"0.0"}},{"$f":"'법정동(2014.12월말)'!BF19-'법정동(2013년말)'!BF20","v":{"v":0,"d":"0.0"}},{"$f":"'법정동(2014.12월말)'!BG19-'법정동(2013년말)'!BG20","v":{"v":0,"d":"0.0"}}]
["봉강동",{"$f":"'법정동(2014.12월말)'!B20-'법정동(2013년말)'!B21","v":{"v":3.9999999999417923,"d":"4.0"}},{"$f":"'법정동(2014.12월말)'!C20-'법정동(2013년말)'!C21","v":{"v":-15,"d":"-15.0"}},{"$f":"'법정동(2014.12월말)'!D20-'법정동(2013년말)'!D21","v":{"v":-97,"d":"-97.0"}},{"$f":"'법정동(2014.12월말)'!E20-'법정동(2013년말)'!E21","v":{"v":-4,"d":"-4.0"}},{"$f":"'법정동(2014.12월말)'!F20-'법정동(2013년말)'!F21","v":{"v":0,"d":"0.0"}},{"$f":"'법정동(2014.12월말)'!G20-'법정동(2013년말)'!G21","v":{"v":0,"d":"0.0"}},{"$f":"'법정동(2014.12월말)'!H20-'법정동(2013년말)'!H21","v":{"v":0,"d":"0.0"}},{"$f":"'법정동(2014.12월말)'!I20-'법정동(2013년말)'!I21","v":{"v":0,"d":"0.0"}},{"$f":"'법정동(2014.12월말)'!J20-'법정동(2013년말)'!J21","v":{"v":0,"d":"0.0"}},{"$f":"'법정동(2014.12월말)'!K20-'법정동(2013년말)'!K21","v":{"v":0,"d":"0.0"}},{"$f":"'법정동(2014.12월말)'!L20-'법정동(2013년말)'!L21","v":{"v":0,"d":"0.0"}},{"$f":"'법정동(2014.12월말)'!M20-'법정동(2013년말)'!M21","v":{"v":0,"d":"0.0"}},{"$f":"'법정동(2014.12월말)'!N20-'법정동(2013년말)'!N21","v":{"v":0,"d":"0.0"}},{"$f":"'법정동(2014.12월말)'!O20-'법정동(2013년말)'!O21","v":{"v":0,"d":"0.0"}},{"$f":"'법정동(2014.12월말)'!P20-'법정동(2013년말)'!P21","v":{"v":0,"d":"0.0"}},{"$f":"'법정동(2014.12월말)'!Q20-'법정동(2013년말)'!Q21","v":{"v":0,"d":"0.0"}},{"$f":"'법정동(2014.12월말)'!R20-'법정동(2013년말)'!R21","v":{"v":-253,"d":"-253.0"}},{"$f":"'법정동(2014.12월말)'!S20-'법정동(2013년말)'!S21","v":{"v":-15,"d":"-15.0"}},{"$f":"'법정동(2014.12월말)'!T20-'법정동(2013년말)'!T21","v":{"v":0,"d":"0.0"}},{"$f":"'법정동(2014.12월말)'!U20-'법정동(2013년말)'!U21","v":{"v":0,"d":"0.0"}},{"$f":"'법정동(2014.12월말)'!V20-'법정동(2013년말)'!V21","v":{"v":0,"d":"0.0"}},{"$f":"'법정동(2014.12월말)'!W20-'법정동(2013년말)'!W21","v":{"v":0,"d":"0.0"}},{"$f":"'법정동(2014.12월말)'!X20-'법정동(2013년말)'!X21","v":{"v":0,"d":"0.0"}},{"$f":"'법정동(2014.12월말)'!Y20-'법정동(2013년말)'!Y21","v":{"v":0,"d":"0.0"}},{"$f":"'법정동(2014.12월말)'!Z20-'법정동(2013년말)'!Z21","v":{"v":0,"d":"0.0"}},{"$f":"'법정동(2014.12월말)'!AA20-'법정동(2013년말)'!AA21","v":{"v":0,"d":"0.0"}},{"$f":"'법정동(2014.12월말)'!AB20-'법정동(2013년말)'!AB21","v":{"v":0,"d":"0.0"}},{"$f":"'법정동(2014.12월말)'!AC20-'법정동(2013년말)'!AC21","v":{"v":0,"d":"0.0"}},{"$f":"'법정동(2014.12월말)'!AD20-'법정동(2013년말)'!AD21","v":{"v":357,"d":"357.0"}},{"$f":"'법정동(2014.12월말)'!AE20-'법정동(2013년말)'!AE21","v":{"v":4,"d":"4.0"}},{"$f":"'법정동(2014.12월말)'!AF20-'법정동(2013년말)'!AF21","v":{"v":0,"d":"0.0"}},{"$f":"'법정동(2014.12월말)'!AG20-'법정동(2013년말)'!AG21","v":{"v":0,"d":"0.0"}},{"$f":"'법정동(2014.12월말)'!AH20-'법정동(2013년말)'!AH21","v":{"v":0,"d":"0.0"}},{"$f":"'법정동(2014.12월말)'!AI20-'법정동(2013년말)'!AI21","v":{"v":0,"d":"0.0"}},{"$f":"'법정동(2014.12월말)'!AJ20-'법정동(2013년말)'!AJ21","v":{"v":0,"d":"0.0"}},{"$f":"'법정동(2014.12월말)'!AK20-'법정동(2013년말)'!AK21","v":{"v":0,"d":"0.0"}},{"$f":"'법정동(2014.12월말)'!AL20-'법정동(2013년말)'!AL21","v":{"v":0,"d":"0.0"}},{"$f":"'법정동(2014.12월말)'!AM20-'법정동(2013년말)'!AM21","v":{"v":0,"d":"0.0"}},{"$f":"'법정동(2014.12월말)'!AN20-'법정동(2013년말)'!AN21","v":{"v":0,"d":"0.0"}},{"$f":"'법정동(2014.12월말)'!AO20-'법정동(2013년말)'!AO21","v":{"v":0,"d":"0.0"}},{"$f":"'법정동(2014.12월말)'!AP20-'법정동(2013년말)'!AP21","v":{"v":0,"d":"0.0"}},{"$f":"'법정동(2014.12월말)'!AQ20-'법정동(2013년말)'!AQ21","v":{"v":0,"d":"0.0"}},{"$f":"'법정동(2014.12월말)'!AR20-'법정동(2013년말)'!AR21","v":{"v":0,"d":"0.0"}},{"$f":"'법정동(2014.12월말)'!AS20-'법정동(2013년말)'!AS21","v":{"v":0,"d":"0.0"}},{"$f":"'법정동(2014.12월말)'!AT20-'법정동(2013년말)'!AT21","v":{"v":0,"d":"0.0"}},{"$f":"'법정동(2014.12월말)'!AU20-'법정동(2013년말)'!AU21","v":{"v":0,"d":"0.0"}},{"$f":"'법정동(2014.12월말)'!AV20-'법정동(2013년말)'!AV21","v":{"v":0,"d":"0.0"}},{"$f":"'법정동(2014.12월말)'!AW20-'법정동(2013년말)'!AW21","v":{"v":0,"d":"0.0"}},{"$f":"'법정동(2014.12월말)'!AX20-'법정동(2013년말)'!AX21","v":{"v":0,"d":"0.0"}},{"$f":"'법정동(2014.12월말)'!AY20-'법정동(2013년말)'!AY21","v":{"v":0,"d":"0.0"}},{"$f":"'법정동(2014.12월말)'!AZ20-'법정동(2013년말)'!AZ21","v":{"v":0,"d":"0.0"}},{"$f":"'법정동(2014.12월말)'!BA20-'법정동(2013년말)'!BA21","v":{"v":1,"d":"1.0"}},{"$f":"'법정동(2014.12월말)'!BB20-'법정동(2013년말)'!BB21","v":{"v":0,"d":"0.0"}},{"$f":"'법정동(2014.12월말)'!BC20-'법정동(2013년말)'!BC21","v":{"v":0,"d":"0.0"}},{"$f":"'법정동(2014.12월말)'!BD20-'법정동(2013년말)'!BD21","v":{"v":0,"d":"0.0"}},{"$f":"'법정동(2014.12월말)'!BE20-'법정동(2013년말)'!BE21","v":{"v":0,"d":"0.0"}},{"$f":"'법정동(2014.12월말)'!BF20-'법정동(2013년말)'!BF21","v":{"v":-3,"d":"-3.0"}},{"$f":"'법정동(2014.12월말)'!BG20-'법정동(2013년말)'!BG21","v":{"v":-1,"d":"-1.0"}}]
["봉산동",{"$f":"'법정동(2014.12월말)'!B21-'법정동(2013년말)'!B22","v":{"v":0,"d":"0.0"}},{"$f":"'법정동(2014.12월말)'!C21-'법정동(2013년말)'!C22","v":{"v":-7,"d":"-7.0"}},{"$f":"'법정동(2014.12월말)'!D21-'법정동(2013년말)'!D22","v":{"v":-1150,"d":"-1,150.0"}},{"$f":"'법정동(2014.12월말)'!E21-'법정동(2013년말)'!E22","v":{"v":-1,"d":"-1.0"}},{"$f":"'법정동(2014.12월말)'!F21-'법정동(2013년말)'!F22","v":{"v":-279,"d":"-279.0"}},{"$f":"'법정동(2014.12월말)'!G21-'법정동(2013년말)'!G22","v":{"v":-1,"d":"-1.0"}},{"$f":"'법정동(2014.12월말)'!H21-'법정동(2013년말)'!H22","v":{"v":0,"d":"0.0"}},{"$f":"'법정동(2014.12월말)'!I21-'법정동(2013년말)'!I22","v":{"v":0,"d":"0.0"}},{"$f":"'법정동(2014.12월말)'!J21-'법정동(2013년말)'!J22","v":{"v":0,"d":"0.0"}},{"$f":"'법정동(2014.12월말)'!K21-'법정동(2013년말)'!K22","v":{"v":0,"d":"0.0"}},{"$f":"'법정동(2014.12월말)'!L21-'법정동(2013년말)'!L22","v":{"v":0,"d":"0.0"}},{"$f":"'법정동(2014.12월말)'!M21-'법정동(2013년말)'!M22","v":{"v":0,"d":"0.0"}},{"$f":"'법정동(2014.12월말)'!N21-'법정동(2013년말)'!N22","v":{"v":0,"d":"0.0"}},{"$f":"'법정동(2014.12월말)'!O21-'법정동(2013년말)'!O22","v":{"v":0,"d":"0.0"}},{"$f":"'법정동(2014.12월말)'!P21-'법정동(2013년말)'!P22","v":{"v":0,"d":"0.0"}},{"$f":"'법정동(2014.12월말)'!Q21-'법정동(2013년말)'!Q22","v":{"v":0,"d":"0.0"}},{"$f":"'법정동(2014.12월말)'!R21-'법정동(2013년말)'!R22","v":{"v":156,"d":"156.0"}},{"$f":"'법정동(2014.12월말)'!S21-'법정동(2013년말)'!S22","v":{"v":-9,"d":"-9.0"}},{"$f":"'법정동(2014.12월말)'!T21-'법정동(2013년말)'!T22","v":{"v":0,"d":"0.0"}},{"$f":"'법정동(2014.12월말)'!U21-'법정동(2013년말)'!U22","v":{"v":0,"d":"0.0"}},{"$f":"'법정동(2014.12월말)'!V21-'법정동(2013년말)'!V22","v":{"v":0,"d":"0.0"}},{"$f":"'법정동(2014.12월말)'!W21-'법정동(2013년말)'!W22","v":{"v":0,"d":"0.0"}},{"$f":"'법정동(2014.12월말)'!X21-'법정동(2013년말)'!X22","v":{"v":344,"d":"344.0"}},{"$f":"'법정동(2014.12월말)'!Y21-'법정동(2013년말)'!Y22","v":{"v":1,"d":"1.0"}},{"$f":"'법정동(2014.12월말)'!Z21-'법정동(2013년말)'!Z22","v":{"v":0,"d":"0.0"}},{"$f":"'법정동(2014.12월말)'!AA21-'법정동(2013년말)'!AA22","v":{"v":0,"d":"0.0"}},{"$f":"'법정동(2014.12월말)'!AB21-'법정동(2013년말)'!AB22","v":{"v":580,"d":"580.0"}},{"$f":"'법정동(2014.12월말)'!AC21-'법정동(2013년말)'!AC22","v":{"v":1,"d":"1.0"}},{"$f":"'법정동(2014.12월말)'!AD21-'법정동(2013년말)'!AD22","v":{"v":349,"d":"349.0"}},{"$f":"'법정동(2014.12월말)'!AE21-'법정동(2013년말)'!AE22","v":{"v":1,"d":"1.0"}},{"$f":"'법정동(2014.12월말)'!AF21-'법정동(2013년말)'!AF22","v":{"v":0,"d":"0.0"}},{"$f":"'법정동(2014.12월말)'!AG21-'법정동(2013년말)'!AG22","v":{"v":0,"d":"0.0"}},{"$f":"'법정동(2014.12월말)'!AH21-'법정동(2013년말)'!AH22","v":{"v":0,"d":"0.0"}},{"$f":"'법정동(2014.12월말)'!AI21-'법정동(2013년말)'!AI22","v":{"v":0,"d":"0.0"}},{"$f":"'법정동(2014.12월말)'!AJ21-'법정동(2013년말)'!AJ22","v":{"v":0,"d":"0.0"}},{"$f":"'법정동(2014.12월말)'!AK21-'법정동(2013년말)'!AK22","v":{"v":0,"d":"0.0"}},{"$f":"'법정동(2014.12월말)'!AL21-'법정동(2013년말)'!AL22","v":{"v":-78,"d":"-78.0"}},{"$f":"'법정동(2014.12월말)'!AM21-'법정동(2013년말)'!AM22","v":{"v":0,"d":"0.0"}},{"$f":"'법정동(2014.12월말)'!AN21-'법정동(2013년말)'!AN22","v":{"v":0,"d":"0.0"}},{"$f":"'법정동(2014.12월말)'!AO21-'법정동(2013년말)'!AO22","v":{"v":0,"d":"0.0"}},{"$f":"'법정동(2014.12월말)'!AP21-'법정동(2013년말)'!AP22","v":{"v":0,"d":"0.0"}},{"$f":"'법정동(2014.12월말)'!AQ21-'법정동(2013년말)'!AQ22","v":{"v":0,"d":"0.0"}},{"$f":"'법정동(2014.12월말)'!AR21-'법정동(2013년말)'!AR22","v":{"v":0,"d":"0.0"}},{"$f":"'법정동(2014.12월말)'!AS21-'법정동(2013년말)'!AS22","v":{"v":0,"d":"0.0"}},{"$f":"'법정동(2014.12월말)'!AT21-'법정동(2013년말)'!AT22","v":{"v":0,"d":"0.0"}},{"$f":"'법정동(2014.12월말)'!AU21-'법정동(2013년말)'!AU22","v":{"v":0,"d":"0.0"}},{"$f":"'법정동(2014.12월말)'!AV21-'법정동(2013년말)'!AV22","v":{"v":0,"d":"0.0"}},{"$f":"'법정동(2014.12월말)'!AW21-'법정동(2013년말)'!AW22","v":{"v":0,"d":"0.0"}},{"$f":"'법정동(2014.12월말)'!AX21-'법정동(2013년말)'!AX22","v":{"v":0,"d":"0.0"}},{"$f":"'법정동(2014.12월말)'!AY21-'법정동(2013년말)'!AY22","v":{"v":0,"d":"0.0"}},{"$f":"'법정동(2014.12월말)'!AZ21-'법정동(2013년말)'!AZ22","v":{"v":0,"d":"0.0"}},{"$f":"'법정동(2014.12월말)'!BA21-'법정동(2013년말)'!BA22","v":{"v":0,"d":"0.0"}},{"$f":"'법정동(2014.12월말)'!BB21-'법정동(2013년말)'!BB22","v":{"v":0,"d":"0.0"}},{"$f":"'법정동(2014.12월말)'!BC21-'법정동(2013년말)'!BC22","v":{"v":0,"d":"0.0"}},{"$f":"'법정동(2014.12월말)'!BD21-'법정동(2013년말)'!BD22","v":{"v":0,"d":"0.0"}},{"$f":"'법정동(2014.12월말)'!BE21-'법정동(2013년말)'!BE22","v":{"v":0,"d":"0.0"}},{"$f":"'법정동(2014.12월말)'!BF21-'법정동(2013년말)'!BF22","v":{"v":78,"d":"78.0"}},{"$f":"'법정동(2014.12월말)'!BG21-'법정동(2013년말)'!BG22","v":{"v":1,"d":"1.0"}}]
["남산동",{"$f":"'법정동(2014.12월말)'!B22-'법정동(2013년말)'!B23","v":{"v":-63,"d":"-63.0"}},{"$f":"'법정동(2014.12월말)'!C22-'법정동(2013년말)'!C23","v":{"v":-22,"d":"-22.0"}},{"$f":"'법정동(2014.12월말)'!D22-'법정동(2013년말)'!D23","v":{"v":-104,"d":"-104.0"}},{"$f":"'법정동(2014.12월말)'!E22-'법정동(2013년말)'!E23","v":{"v":-2,"d":"-2.0"}},{"$f":"'법정동(2014.12월말)'!F22-'법정동(2013년말)'!F23","v":{"v":0,"d":"0.0"}},{"$f":"'법정동(2014.12월말)'!G22-'법정동(2013년말)'!G23","v":{"v":0,"d":"0.0"}},{"$f":"'법정동(2014.12월말)'!H22-'법정동(2013년말)'!H23","v":{"v":0,"d":"0.0"}},{"$f":"'법정동(2014.12월말)'!I22-'법정동(2013년말)'!I23","v":{"v":0,"d":"0.0"}},{"$f":"'법정동(2014.12월말)'!J22-'법정동(2013년말)'!J23","v":{"v":0,"d":"0.0"}},{"$f":"'법정동(2014.12월말)'!K22-'법정동(2013년말)'!K23","v":{"v":0,"d":"0.0"}},{"$f":"'법정동(2014.12월말)'!L22-'법정동(2013년말)'!L23","v":{"v":0,"d":"0.0"}},{"$f":"'법정동(2014.12월말)'!M22-'법정동(2013년말)'!M23","v":{"v":0,"d":"0.0"}},{"$f":"'법정동(2014.12월말)'!N22-'법정동(2013년말)'!N23","v":{"v":0,"d":"0.0"}},{"$f":"'법정동(2014.12월말)'!O22-'법정동(2013년말)'!O23","v":{"v":0,"d":"0.0"}},{"$f":"'법정동(2014.12월말)'!P22-'법정동(2013년말)'!P23","v":{"v":0,"d":"0.0"}},{"$f":"'법정동(2014.12월말)'!Q22-'법정동(2013년말)'!Q23","v":{"v":0,"d":"0.0"}},{"$f":"'법정동(2014.12월말)'!R22-'법정동(2013년말)'!R23","v":{"v":-592,"d":"-592.0"}},{"$f":"'법정동(2014.12월말)'!S22-'법정동(2013년말)'!S23","v":{"v":-26,"d":"-26.0"}},{"$f":"'법정동(2014.12월말)'!T22-'법정동(2013년말)'!T23","v":{"v":0,"d":"0.0"}},{"$f":"'법정동(2014.12월말)'!U22-'법정동(2013년말)'!U23","v":{"v":0,"d":"0.0"}},{"$f":"'법정동(2014.12월말)'!V22-'법정동(2013년말)'!V23","v":{"v":0,"d":"0.0"}},{"$f":"'법정동(2014.12월말)'!W22-'법정동(2013년말)'!W23","v":{"v":0,"d":"0.0"}},{"$f":"'법정동(2014.12월말)'!X22-'법정동(2013년말)'!X23","v":{"v":356,"d":"356.0"}},{"$f":"'법정동(2014.12월말)'!Y22-'법정동(2013년말)'!Y23","v":{"v":3,"d":"3.0"}},{"$f":"'법정동(2014.12월말)'!Z22-'법정동(2013년말)'!Z23","v":{"v":0,"d":"0.0"}},{"$f":"'법정동(2014.12월말)'!AA22-'법정동(2013년말)'!AA23","v":{"v":0,"d":"0.0"}},{"$f":"'법정동(2014.12월말)'!AB22-'법정동(2013년말)'!AB23","v":{"v":0,"d":"0.0"}},{"$f":"'법정동(2014.12월말)'!AC22-'법정동(2013년말)'!AC23","v":{"v":0,"d":"0.0"}},{"$f":"'법정동(2014.12월말)'!AD22-'법정동(2013년말)'!AD23","v":{"v":277,"d":"277.0"}},{"$f":"'법정동(2014.12월말)'!AE22-'법정동(2013년말)'!AE23","v":{"v":3,"d":"3.0"}},{"$f":"'법정동(2014.12월말)'!AF22-'법정동(2013년말)'!AF23","v":{"v":0,"d":"0.0"}},{"$f":"'법정동(2014.12월말)'!AG22-'법정동(2013년말)'!AG23","v":{"v":0,"d":"0.0"}},{"$f":"'법정동(2014.12월말)'!AH22-'법정동(2013년말)'!AH23","v":{"v":0,"d":"0.0"}},{"$f":"'법정동(2014.12월말)'!AI22-'법정동(2013년말)'!AI23","v":{"v":0,"d":"0.0"}},{"$f":"'법정동(2014.12월말)'!AJ22-'법정동(2013년말)'!AJ23","v":{"v":0,"d":"0.0"}},{"$f":"'법정동(2014.12월말)'!AK22-'법정동(2013년말)'!AK23","v":{"v":0,"d":"0.0"}},{"$f":"'법정동(2014.12월말)'!AL22-'법정동(2013년말)'!AL23","v":{"v":0,"d":"0.0"}},{"$f":"'법정동(2014.12월말)'!AM22-'법정동(2013년말)'!AM23","v":{"v":0,"d":"0.0"}},{"$f":"'법정동(2014.12월말)'!AN22-'법정동(2013년말)'!AN23","v":{"v":0,"d":"0.0"}},{"$f":"'법정동(2014.12월말)'!AO22-'법정동(2013년말)'!AO23","v":{"v":0,"d":"0.0"}},{"$f":"'법정동(2014.12월말)'!AP22-'법정동(2013년말)'!AP23","v":{"v":0,"d":"0.0"}},{"$f":"'법정동(2014.12월말)'!AQ22-'법정동(2013년말)'!AQ23","v":{"v":0,"d":"0.0"}},{"$f":"'법정동(2014.12월말)'!AR22-'법정동(2013년말)'!AR23","v":{"v":0,"d":"0.0"}},{"$f":"'법정동(2014.12월말)'!AS22-'법정동(2013년말)'!AS23","v":{"v":0,"d":"0.0"}},{"$f":"'법정동(2014.12월말)'!AT22-'법정동(2013년말)'!AT23","v":{"v":0,"d":"0.0"}},{"$f":"'법정동(2014.12월말)'!AU22-'법정동(2013년말)'!AU23","v":{"v":0,"d":"0.0"}},{"$f":"'법정동(2014.12월말)'!AV22-'법정동(2013년말)'!AV23","v":{"v":0,"d":"0.0"}},{"$f":"'법정동(2014.12월말)'!AW22-'법정동(2013년말)'!AW23","v":{"v":0,"d":"0.0"}},{"$f":"'법정동(2014.12월말)'!AX22-'법정동(2013년말)'!AX23","v":{"v":0,"d":"0.0"}},{"$f":"'법정동(2014.12월말)'!AY22-'법정동(2013년말)'!AY23","v":{"v":0,"d":"0.0"}},{"$f":"'법정동(2014.12월말)'!AZ22-'법정동(2013년말)'!AZ23","v":{"v":0,"d":"0.0"}},{"$f":"'법정동(2014.12월말)'!BA22-'법정동(2013년말)'!BA23","v":{"v":0,"d":"0.0"}},{"$f":"'법정동(2014.12월말)'!BB22-'법정동(2013년말)'!BB23","v":{"v":0,"d":"0.0"}},{"$f":"'법정동(2014.12월말)'!BC22-'법정동(2013년말)'!BC23","v":{"v":0,"d":"0.0"}},{"$f":"'법정동(2014.12월말)'!BD22-'법정동(2013년말)'!BD23","v":{"v":0,"d":"0.0"}},{"$f":"'법정동(2014.12월말)'!BE22-'법정동(2013년말)'!BE23","v":{"v":0,"d":"0.0"}},{"$f":"'법정동(2014.12월말)'!BF22-'법정동(2013년말)'!BF23","v":{"v":0,"d":"0.0"}},{"$f":"'법정동(2014.12월말)'!BG22-'법정동(2013년말)'!BG23","v":{"v":0,"d":"0.0"}}]
["국동",{"$f":"'법정동(2014.12월말)'!B23-'법정동(2013년말)'!B24","v":{"v":0,"d":"0.0"}},{"$f":"'법정동(2014.12월말)'!C23-'법정동(2013년말)'!C24","v":{"v":-60,"d":"-60.0"}},{"$f":"'법정동(2014.12월말)'!D23-'법정동(2013년말)'!D24","v":{"v":-3898,"d":"-3,898.0"}},{"$f":"'법정동(2014.12월말)'!E23-'법정동(2013년말)'!E24","v":{"v":-11,"d":"-11.0"}},{"$f":"'법정동(2014.12월말)'!F23-'법정동(2013년말)'!F24","v":{"v":-1003,"d":"-1,003.0"}},{"$f":"'법정동(2014.12월말)'!G23-'법정동(2013년말)'!G24","v":{"v":-12,"d":"-12.0"}},{"$f":"'법정동(2014.12월말)'!H23-'법정동(2013년말)'!H24","v":{"v":0,"d":"0.0"}},{"$f":"'법정동(2014.12월말)'!I23-'법정동(2013년말)'!I24","v":{"v":0,"d":"0.0"}},{"$f":"'법정동(2014.12월말)'!J23-'법정동(2013년말)'!J24","v":{"v":0,"d":"0.0"}},{"$f":"'법정동(2014.12월말)'!K23-'법정동(2013년말)'!K24","v":{"v":0,"d":"0.0"}},{"$f":"'법정동(2014.12월말)'!L23-'법정동(2013년말)'!L24","v":{"v":-244,"d":"-244.0"}},{"$f":"'법정동(2014.12월말)'!M23-'법정동(2013년말)'!M24","v":{"v":-1,"d":"-1.0"}},{"$f":"'법정동(2014.12월말)'!N23-'법정동(2013년말)'!N24","v":{"v":0,"d":"0.0"}},{"$f":"'법정동(2014.12월말)'!O23-'법정동(2013년말)'!O24","v":{"v":0,"d":"0.0"}},{"$f":"'법정동(2014.12월말)'!P23-'법정동(2013년말)'!P24","v":{"v":0,"d":"0.0"}},{"$f":"'법정동(2014.12월말)'!Q23-'법정동(2013년말)'!Q24","v":{"v":0,"d":"0.0"}},{"$f":"'법정동(2014.12월말)'!R23-'법정동(2013년말)'!R24","v":{"v":-63,"d":"-63.0"}},{"$f":"'법정동(2014.12월말)'!S23-'법정동(2013년말)'!S24","v":{"v":-19,"d":"-19.0"}},{"$f":"'법정동(2014.12월말)'!T23-'법정동(2013년말)'!T24","v":{"v":1691,"d":"1,691.0"}},{"$f":"'법정동(2014.12월말)'!U23-'법정동(2013년말)'!U24","v":{"v":3,"d":"3.0"}},{"$f":"'법정동(2014.12월말)'!V23-'법정동(2013년말)'!V24","v":{"v":-430,"d":"-430.0"}},{"$f":"'법정동(2014.12월말)'!W23-'법정동(2013년말)'!W24","v":{"v":-4,"d":"-4.0"}},{"$f":"'법정동(2014.12월말)'!X23-'법정동(2013년말)'!X24","v":{"v":484,"d":"484.0"}},{"$f":"'법정동(2014.12월말)'!Y23-'법정동(2013년말)'!Y24","v":{"v":1,"d":"1.0"}},{"$f":"'법정동(2014.12월말)'!Z23-'법정동(2013년말)'!Z24","v":{"v":0,"d":"0.0"}},{"$f":"'법정동(2014.12월말)'!AA23-'법정동(2013년말)'!AA24","v":{"v":0,"d":"0.0"}},{"$f":"'법정동(2014.12월말)'!AB23-'법정동(2013년말)'!AB24","v":{"v":303,"d":"303.0"}},{"$f":"'법정동(2014.12월말)'!AC23-'법정동(2013년말)'!AC24","v":{"v":1,"d":"1.0"}},{"$f":"'법정동(2014.12월말)'!AD23-'법정동(2013년말)'!AD24","v":{"v":2447,"d":"2,447.0"}},{"$f":"'법정동(2014.12월말)'!AE23-'법정동(2013년말)'!AE24","v":{"v":-10,"d":"-10.0"}},{"$f":"'법정동(2014.12월말)'!AF23-'법정동(2013년말)'!AF24","v":{"v":0,"d":"0.0"}},{"$f":"'법정동(2014.12월말)'!AG23-'법정동(2013년말)'!AG24","v":{"v":0,"d":"0.0"}},{"$f":"'법정동(2014.12월말)'!AH23-'법정동(2013년말)'!AH24","v":{"v":0,"d":"0.0"}},{"$f":"'법정동(2014.12월말)'!AI23-'법정동(2013년말)'!AI24","v":{"v":0,"d":"0.0"}},{"$f":"'법정동(2014.12월말)'!AJ23-'법정동(2013년말)'!AJ24","v":{"v":0,"d":"0.0"}},{"$f":"'법정동(2014.12월말)'!AK23-'법정동(2013년말)'!AK24","v":{"v":0,"d":"0.0"}},{"$f":"'법정동(2014.12월말)'!AL23-'법정동(2013년말)'!AL24","v":{"v":-175,"d":"-175.0"}},{"$f":"'법정동(2014.12월말)'!AM23-'법정동(2013년말)'!AM24","v":{"v":-1,"d":"-1.0"}},{"$f":"'법정동(2014.12월말)'!AN23-'법정동(2013년말)'!AN24","v":{"v":0,"d":"0.0"}},{"$f":"'법정동(2014.12월말)'!AO23-'법정동(2013년말)'!AO24","v":{"v":0,"d":"0.0"}},{"$f":"'법정동(2014.12월말)'!AP23-'법정동(2013년말)'!AP24","v":{"v":0,"d":"0.0"}},{"$f":"'법정동(2014.12월말)'!AQ23-'법정동(2013년말)'!AQ24","v":{"v":0,"d":"0.0"}},{"$f":"'법정동(2014.12월말)'!AR23-'법정동(2013년말)'!AR24","v":{"v":0,"d":"0.0"}},{"$f":"'법정동(2014.12월말)'!AS23-'법정동(2013년말)'!AS24","v":{"v":0,"d":"0.0"}},{"$f":"'법정동(2014.12월말)'!AT23-'법정동(2013년말)'!AT24","v":{"v":0,"d":"0.0"}},{"$f":"'법정동(2014.12월말)'!AU23-'법정동(2013년말)'!AU24","v":{"v":0,"d":"0.0"}},{"$f":"'법정동(2014.12월말)'!AV23-'법정동(2013년말)'!AV24","v":{"v":1163,"d":"1,163.0"}},{"$f":"'법정동(2014.12월말)'!AW23-'법정동(2013년말)'!AW24","v":{"v":1,"d":"1.0"}},{"$f":"'법정동(2014.12월말)'!AX23-'법정동(2013년말)'!AX24","v":{"v":0,"d":"0.0"}},{"$f":"'법정동(2014.12월말)'!AY23-'법정동(2013년말)'!AY24","v":{"v":0,"d":"0.0"}},{"$f":"'법정동(2014.12월말)'!AZ23-'법정동(2013년말)'!AZ24","v":{"v":0,"d":"0.0"}},{"$f":"'법정동(2014.12월말)'!BA23-'법정동(2013년말)'!BA24","v":{"v":-3,"d":"-3.0"}},{"$f":"'법정동(2014.12월말)'!BB23-'법정동(2013년말)'!BB24","v":{"v":0,"d":"0.0"}},{"$f":"'법정동(2014.12월말)'!BC23-'법정동(2013년말)'!BC24","v":{"v":0,"d":"0.0"}},{"$f":"'법정동(2014.12월말)'!BD23-'법정동(2013년말)'!BD24","v":{"v":-275,"d":"-275.0"}},{"$f":"'법정동(2014.12월말)'!BE23-'법정동(2013년말)'!BE24","v":{"v":-5,"d":"-5.0"}},{"$f":"'법정동(2014.12월말)'!BF23-'법정동(2013년말)'!BF24","v":{"v":0,"d":"0.0"}},{"$f":"'법정동(2014.12월말)'!BG23-'법정동(2013년말)'!BG24","v":{"v":0,"d":"0.0"}}]
["신월동",{"$f":"'법정동(2014.12월말)'!B24-'법정동(2013년말)'!B25","v":{"v":-1955,"d":"-1,955.0"}},{"$f":"'법정동(2014.12월말)'!C24-'법정동(2013년말)'!C25","v":{"v":-30,"d":"-30.0"}},{"$f":"'법정동(2014.12월말)'!D24-'법정동(2013년말)'!D25","v":{"v":-1550,"d":"-1,550.0"}},{"$f":"'법정동(2014.12월말)'!E24-'법정동(2013년말)'!E25","v":{"v":-15,"d":"-15.0"}},{"$f":"'법정동(2014.12월말)'!F24-'법정동(2013년말)'!F25","v":{"v":-1687,"d":"-1,687.0"}},{"$f":"'법정동(2014.12월말)'!G24-'법정동(2013년말)'!G25","v":{"v":-10,"d":"-10.0"}},{"$f":"'법정동(2014.12월말)'!H24-'법정동(2013년말)'!H25","v":{"v":0,"d":"0.0"}},{"$f":"'법정동(2014.12월말)'!I24-'법정동(2013년말)'!I25","v":{"v":0,"d":"0.0"}},{"$f":"'법정동(2014.12월말)'!J24-'법정동(2013년말)'!J25","v":{"v":0,"d":"0.0"}},{"$f":"'법정동(2014.12월말)'!K24-'법정동(2013년말)'!K25","v":{"v":0,"d":"0.0"}},{"$f":"'법정동(2014.12월말)'!L24-'법정동(2013년말)'!L25","v":{"v":-1955,"d":"-1,955.0"}},{"$f":"'법정동(2014.12월말)'!M24-'법정동(2013년말)'!M25","v":{"v":0,"d":"0.0"}},{"$f":"'법정동(2014.12월말)'!N24-'법정동(2013년말)'!N25","v":{"v":0,"d":"0.0"}},{"$f":"'법정동(2014.12월말)'!O24-'법정동(2013년말)'!O25","v":{"v":0,"d":"0.0"}},{"$f":"'법정동(2014.12월말)'!P24-'법정동(2013년말)'!P25","v":{"v":0,"d":"0.0"}},{"$f":"'법정동(2014.12월말)'!Q24-'법정동(2013년말)'!Q25","v":{"v":0,"d":"0.0"}},{"$f":"'법정동(2014.12월말)'!R24-'법정동(2013년말)'!R25","v":{"v":-786,"d":"-786.0"}},{"$f":"'법정동(2014.12월말)'!S24-'법정동(2013년말)'!S25","v":{"v":-15,"d":"-15.0"}},{"$f":"'법정동(2014.12월말)'!T24-'법정동(2013년말)'!T25","v":{"v":2444,"d":"2,444.0"}},{"$f":"'법정동(2014.12월말)'!U24-'법정동(2013년말)'!U25","v":{"v":8,"d":"8.0"}},{"$f":"'법정동(2014.12월말)'!V24-'법정동(2013년말)'!V25","v":{"v":0,"d":"0.0"}},{"$f":"'법정동(2014.12월말)'!W24-'법정동(2013년말)'!W25","v":{"v":0,"d":"0.0"}},{"$f":"'법정동(2014.12월말)'!X24-'법정동(2013년말)'!X25","v":{"v":0,"d":"0.0"}},{"$f":"'법정동(2014.12월말)'!Y24-'법정동(2013년말)'!Y25","v":{"v":0,"d":"0.0"}},{"$f":"'법정동(2014.12월말)'!Z24-'법정동(2013년말)'!Z25","v":{"v":0,"d":"0.0"}},{"$f":"'법정동(2014.12월말)'!AA24-'법정동(2013년말)'!AA25","v":{"v":0,"d":"0.0"}},{"$f":"'법정동(2014.12월말)'!AB24-'법정동(2013년말)'!AB25","v":{"v":0,"d":"0.0"}},{"$f":"'법정동(2014.12월말)'!AC24-'법정동(2013년말)'!AC25","v":{"v":0,"d":"0.0"}},{"$f":"'법정동(2014.12월말)'!AD24-'법정동(2013년말)'!AD25","v":{"v":1781,"d":"1,781.0"}},{"$f":"'법정동(2014.12월말)'!AE24-'법정동(2013년말)'!AE25","v":{"v":1,"d":"1.0"}},{"$f":"'법정동(2014.12월말)'!AF24-'법정동(2013년말)'!AF25","v":{"v":0,"d":"0.0"}},{"$f":"'법정동(2014.12월말)'!AG24-'법정동(2013년말)'!AG25","v":{"v":0,"d":"0.0"}},{"$f":"'법정동(2014.12월말)'!AH24-'법정동(2013년말)'!AH25","v":{"v":0,"d":"0.0"}},{"$f":"'법정동(2014.12월말)'!AI24-'법정동(2013년말)'!AI25","v":{"v":0,"d":"0.0"}},{"$f":"'법정동(2014.12월말)'!AJ24-'법정동(2013년말)'!AJ25","v":{"v":0,"d":"0.0"}},{"$f":"'법정동(2014.12월말)'!AK24-'법정동(2013년말)'!AK25","v":{"v":0,"d":"0.0"}},{"$f":"'법정동(2014.12월말)'!AL24-'법정동(2013년말)'!AL25","v":{"v":0,"d":"0.0"}},{"$f":"'법정동(2014.12월말)'!AM24-'법정동(2013년말)'!AM25","v":{"v":0,"d":"0.0"}},{"$f":"'법정동(2014.12월말)'!AN24-'법정동(2013년말)'!AN25","v":{"v":0,"d":"0.0"}},{"$f":"'법정동(2014.12월말)'!AO24-'법정동(2013년말)'!AO25","v":{"v":0,"d":"0.0"}},{"$f":"'법정동(2014.12월말)'!AP24-'법정동(2013년말)'!AP25","v":{"v":0,"d":"0.0"}},{"$f":"'법정동(2014.12월말)'!AQ24-'법정동(2013년말)'!AQ25","v":{"v":0,"d":"0.0"}},{"$f":"'법정동(2014.12월말)'!AR24-'법정동(2013년말)'!AR25","v":{"v":0,"d":"0.0"}},{"$f":"'법정동(2014.12월말)'!AS24-'법정동(2013년말)'!AS25","v":{"v":0,"d":"0.0"}},{"$f":"'법정동(2014.12월말)'!AT24-'법정동(2013년말)'!AT25","v":{"v":0,"d":"0.0"}},{"$f":"'법정동(2014.12월말)'!AU24-'법정동(2013년말)'!AU25","v":{"v":0,"d":"0.0"}},{"$f":"'법정동(2014.12월말)'!AV24-'법정동(2013년말)'!AV25","v":{"v":0,"d":"0.0"}},{"$f":"'법정동(2014.12월말)'!AW24-'법정동(2013년말)'!AW25","v":{"v":0,"d":"0.0"}},{"$f":"'법정동(2014.12월말)'!AX24-'법정동(2013년말)'!AX25","v":{"v":0,"d":"0.0"}},{"$f":"'법정동(2014.12월말)'!AY24-'법정동(2013년말)'!AY25","v":{"v":0,"d":"0.0"}},{"$f":"'법정동(2014.12월말)'!AZ24-'법정동(2013년말)'!AZ25","v":{"v":0,"d":"0.0"}},{"$f":"'법정동(2014.12월말)'!BA24-'법정동(2013년말)'!BA25","v":{"v":0,"d":"0.0"}},{"$f":"'법정동(2014.12월말)'!BB24-'법정동(2013년말)'!BB25","v":{"v":0,"d":"0.0"}},{"$f":"'법정동(2014.12월말)'!BC24-'법정동(2013년말)'!BC25","v":{"v":0,"d":"0.0"}},{"$f":"'법정동(2014.12월말)'!BD24-'법정동(2013년말)'!BD25","v":{"v":0,"d":"0.0"}},{"$f":"'법정동(2014.12월말)'!BE24-'법정동(2013년말)'!BE25","v":{"v":0,"d":"0.0"}},{"$f":"'법정동(2014.12월말)'!BF24-'법정동(2013년말)'!BF25","v":{"v":-202,"d":"-202.0"}},{"$f":"'법정동(2014.12월말)'!BG24-'법정동(2013년말)'!BG25","v":{"v":1,"d":"1.0"}}]
["여서동",{"$f":"'법정동(2014.12월말)'!B25-'법정동(2013년말)'!B26","v":{"v":-114,"d":"-114.0"}},{"$f":"'법정동(2014.12월말)'!C25-'법정동(2013년말)'!C26","v":{"v":8,"d":"8.0"}},{"$f":"'법정동(2014.12월말)'!D25-'법정동(2013년말)'!D26","v":{"v":-565,"d":"-565.0"}},{"$f":"'법정동(2014.12월말)'!E25-'법정동(2013년말)'!E26","v":{"v":-1,"d":"-1.0"}},{"$f":"'법정동(2014.12월말)'!F25-'법정동(2013년말)'!F26","v":{"v":-9,"d":"-9.0"}},{"$f":"'법정동(2014.12월말)'!G25-'법정동(2013년말)'!G26","v":{"v":-1,"d":"-1.0"}},{"$f":"'법정동(2014.12월말)'!H25-'법정동(2013년말)'!H26","v":{"v":0,"d":"0.0"}},{"$f":"'법정동(2014.12월말)'!I25-'법정동(2013년말)'!I26","v":{"v":0,"d":"0.0"}},{"$f":"'법정동(2014.12월말)'!J25-'법정동(2013년말)'!J26","v":{"v":0,"d":"0.0"}},{"$f":"'법정동(2014.12월말)'!K25-'법정동(2013년말)'!K26","v":{"v":0,"d":"0.0"}},{"$f":"'법정동(2014.12월말)'!L25-'법정동(2013년말)'!L26","v":{"v":-114,"d":"-114.0"}},{"$f":"'법정동(2014.12월말)'!M25-'법정동(2013년말)'!M26","v":{"v":2,"d":"2.0"}},{"$f":"'법정동(2014.12월말)'!N25-'법정동(2013년말)'!N26","v":{"v":0,"d":"0.0"}},{"$f":"'법정동(2014.12월말)'!O25-'법정동(2013년말)'!O26","v":{"v":0,"d":"0.0"}},{"$f":"'법정동(2014.12월말)'!P25-'법정동(2013년말)'!P26","v":{"v":0,"d":"0.0"}},{"$f":"'법정동(2014.12월말)'!Q25-'법정동(2013년말)'!Q26","v":{"v":0,"d":"0.0"}},{"$f":"'법정동(2014.12월말)'!R25-'법정동(2013년말)'!R26","v":{"v":24,"d":"24.0"}},{"$f":"'법정동(2014.12월말)'!S25-'법정동(2013년말)'!S26","v":{"v":4,"d":"4.0"}},{"$f":"'법정동(2014.12월말)'!T25-'법정동(2013년말)'!T26","v":{"v":0,"d":"0.0"}},{"$f":"'법정동(2014.12월말)'!U25-'법정동(2013년말)'!U26","v":{"v":0,"d":"0.0"}},{"$f":"'법정동(2014.12월말)'!V25-'법정동(2013년말)'!V26","v":{"v":0,"d":"0.0"}},{"$f":"'법정동(2014.12월말)'!W25-'법정동(2013년말)'!W26","v":{"v":0,"d":"0.0"}},{"$f":"'법정동(2014.12월말)'!X25-'법정동(2013년말)'!X26","v":{"v":-13013.6,"d":"-13,013.6"}},{"$f":"'법정동(2014.12월말)'!Y25-'법정동(2013년말)'!Y26","v":{"v":-1,"d":"-1.0"}},{"$f":"'법정동(2014.12월말)'!Z25-'법정동(2013년말)'!Z26","v":{"v":0,"d":"0.0"}},{"$f":"'법정동(2014.12월말)'!AA25-'법정동(2013년말)'!AA26","v":{"v":0,"d":"0.0"}},{"$f":"'법정동(2014.12월말)'!AB25-'법정동(2013년말)'!AB26","v":{"v":-143,"d":"-143.0"}},{"$f":"'법정동(2014.12월말)'!AC25-'법정동(2013년말)'!AC26","v":{"v":0,"d":"0.0"}},{"$f":"'법정동(2014.12월말)'!AD25-'법정동(2013년말)'!AD26","v":{"v":119,"d":"119.0"}},{"$f":"'법정동(2014.12월말)'!AE25-'법정동(2013년말)'!AE26","v":{"v":2,"d":"2.0"}},{"$f":"'법정동(2014.12월말)'!AF25-'법정동(2013년말)'!AF26","v":{"v":0,"d":"0.0"}},{"$f":"'법정동(2014.12월말)'!AG25-'법정동(2013년말)'!AG26","v":{"v":0,"d":"0.0"}},{"$f":"'법정동(2014.12월말)'!AH25-'법정동(2013년말)'!AH26","v":{"v":0,"d":"0.0"}},{"$f":"'법정동(2014.12월말)'!AI25-'법정동(2013년말)'!AI26","v":{"v":0,"d":"0.0"}},{"$f":"'법정동(2014.12월말)'!AJ25-'법정동(2013년말)'!AJ26","v":{"v":0,"d":"0.0"}},{"$f":"'법정동(2014.12월말)'!AK25-'법정동(2013년말)'!AK26","v":{"v":0,"d":"0.0"}},{"$f":"'법정동(2014.12월말)'!AL25-'법정동(2013년말)'!AL26","v":{"v":0,"d":"0.0"}},{"$f":"'법정동(2014.12월말)'!AM25-'법정동(2013년말)'!AM26","v":{"v":0,"d":"0.0"}},{"$f":"'법정동(2014.12월말)'!AN25-'법정동(2013년말)'!AN26","v":{"v":0,"d":"0.0"}},{"$f":"'법정동(2014.12월말)'!AO25-'법정동(2013년말)'!AO26","v":{"v":0,"d":"0.0"}},{"$f":"'법정동(2014.12월말)'!AP25-'법정동(2013년말)'!AP26","v":{"v":0,"d":"0.0"}},{"$f":"'법정동(2014.12월말)'!AQ25-'법정동(2013년말)'!AQ26","v":{"v":0,"d":"0.0"}},{"$f":"'법정동(2014.12월말)'!AR25-'법정동(2013년말)'!AR26","v":{"v":0,"d":"0.0"}},{"$f":"'법정동(2014.12월말)'!AS25-'법정동(2013년말)'!AS26","v":{"v":0,"d":"0.0"}},{"$f":"'법정동(2014.12월말)'!AT25-'법정동(2013년말)'!AT26","v":{"v":13013.600000000002,"d":"13,013.6"}},{"$f":"'법정동(2014.12월말)'!AU25-'법정동(2013년말)'!AU26","v":{"v":1,"d":"1.0"}},{"$f":"'법정동(2014.12월말)'!AV25-'법정동(2013년말)'!AV26","v":{"v":0,"d":"0.0"}},{"$f":"'법정동(2014.12월말)'!AW25-'법정동(2013년말)'!AW26","v":{"v":0,"d":"0.0"}},{"$f":"'법정동(2014.12월말)'!AX25-'법정동(2013년말)'!AX26","v":{"v":0,"d":"0.0"}},{"$f":"'법정동(2014.12월말)'!AY25-'법정동(2013년말)'!AY26","v":{"v":0,"d":"0.0"}},{"$f":"'법정동(2014.12월말)'!AZ25-'법정동(2013년말)'!AZ26","v":{"v":0,"d":"0.0"}},{"$f":"'법정동(2014.12월말)'!BA25-'법정동(2013년말)'!BA26","v":{"v":0,"d":"0.0"}},{"$f":"'법정동(2014.12월말)'!BB25-'법정동(2013년말)'!BB26","v":{"v":0,"d":"0.0"}},{"$f":"'법정동(2014.12월말)'!BC25-'법정동(2013년말)'!BC26","v":{"v":0,"d":"0.0"}},{"$f":"'법정동(2014.12월말)'!BD25-'법정동(2013년말)'!BD26","v":{"v":0,"d":"0.0"}},{"$f":"'법정동(2014.12월말)'!BE25-'법정동(2013년말)'!BE26","v":{"v":0,"d":"0.0"}},{"$f":"'법정동(2014.12월말)'!BF25-'법정동(2013년말)'!BF26","v":{"v":574,"d":"574.0"}},{"$f":"'법정동(2014.12월말)'!BG25-'법정동(2013년말)'!BG26","v":{"v":2,"d":"2.0"}}]
["문수동",{"$f":"'법정동(2014.12월말)'!B26-'법정동(2013년말)'!B27","v":{"v":0,"d":"0.0"}},{"$f":"'법정동(2014.12월말)'!C26-'법정동(2013년말)'!C27","v":{"v":-5,"d":"-5.0"}},{"$f":"'법정동(2014.12월말)'!D26-'법정동(2013년말)'!D27","v":{"v":-1386,"d":"-1,386.0"}},{"$f":"'법정동(2014.12월말)'!E26-'법정동(2013년말)'!E27","v":{"v":-4,"d":"-4.0"}},{"$f":"'법정동(2014.12월말)'!F26-'법정동(2013년말)'!F27","v":{"v":-491,"d":"-491.0"}},{"$f":"'법정동(2014.12월말)'!G26-'법정동(2013년말)'!G27","v":{"v":-3,"d":"-3.0"}},{"$f":"'법정동(2014.12월말)'!H26-'법정동(2013년말)'!H27","v":{"v":0,"d":"0.0"}},{"$f":"'법정동(2014.12월말)'!I26-'법정동(2013년말)'!I27","v":{"v":0,"d":"0.0"}},{"$f":"'법정동(2014.12월말)'!J26-'법정동(2013년말)'!J27","v":{"v":0,"d":"0.0"}},{"$f":"'법정동(2014.12월말)'!K26-'법정동(2013년말)'!K27","v":{"v":0,"d":"0.0"}},{"$f":"'법정동(2014.12월말)'!L26-'법정동(2013년말)'!L27","v":{"v":0,"d":"0.0"}},{"$f":"'법정동(2014.12월말)'!M26-'법정동(2013년말)'!M27","v":{"v":-10,"d":"-10.0"}},{"$f":"'법정동(2014.12월말)'!N26-'법정동(2013년말)'!N27","v":{"v":0,"d":"0.0"}},{"$f":"'법정동(2014.12월말)'!O26-'법정동(2013년말)'!O27","v":{"v":0,"d":"0.0"}},{"$f":"'법정동(2014.12월말)'!P26-'법정동(2013년말)'!P27","v":{"v":0,"d":"0.0"}},{"$f":"'법정동(2014.12월말)'!Q26-'법정동(2013년말)'!Q27","v":{"v":0,"d":"0.0"}},{"$f":"'법정동(2014.12월말)'!R26-'법정동(2013년말)'!R27","v":{"v":1740,"d":"1,740.0"}},{"$f":"'법정동(2014.12월말)'!S26-'법정동(2013년말)'!S27","v":{"v":4,"d":"4.0"}},{"$f":"'법정동(2014.12월말)'!T26-'법정동(2013년말)'!T27","v":{"v":0,"d":"0.0"}},{"$f":"'법정동(2014.12월말)'!U26-'법정동(2013년말)'!U27","v":{"v":0,"d":"0.0"}},{"$f":"'법정동(2014.12월말)'!V26-'법정동(2013년말)'!V27","v":{"v":0,"d":"0.0"}},{"$f":"'법정동(2014.12월말)'!W26-'법정동(2013년말)'!W27","v":{"v":0,"d":"0.0"}},{"$f":"'법정동(2014.12월말)'!X26-'법정동(2013년말)'!X27","v":{"v":110,"d":"110.0"}},{"$f":"'법정동(2014.12월말)'!Y26-'법정동(2013년말)'!Y27","v":{"v":2,"d":"2.0"}},{"$f":"'법정동(2014.12월말)'!Z26-'법정동(2013년말)'!Z27","v":{"v":0,"d":"0.0"}},{"$f":"'법정동(2014.12월말)'!AA26-'법정동(2013년말)'!AA27","v":{"v":0,"d":"0.0"}},{"$f":"'법정동(2014.12월말)'!AB26-'법정동(2013년말)'!AB27","v":{"v":0,"d":"0.0"}},{"$f":"'법정동(2014.12월말)'!AC26-'법정동(2013년말)'!AC27","v":{"v":0,"d":"0.0"}},{"$f":"'법정동(2014.12월말)'!AD26-'법정동(2013년말)'!AD27","v":{"v":27,"d":"27.0"}},{"$f":"'법정동(2014.12월말)'!AE26-'법정동(2013년말)'!AE27","v":{"v":6,"d":"6.0"}},{"$f":"'법정동(2014.12월말)'!AF26-'법정동(2013년말)'!AF27","v":{"v":0,"d":"0.0"}},{"$f":"'법정동(2014.12월말)'!AG26-'법정동(2013년말)'!AG27","v":{"v":0,"d":"0.0"}},{"$f":"'법정동(2014.12월말)'!AH26-'법정동(2013년말)'!AH27","v":{"v":0,"d":"0.0"}},{"$f":"'법정동(2014.12월말)'!AI26-'법정동(2013년말)'!AI27","v":{"v":0,"d":"0.0"}},{"$f":"'법정동(2014.12월말)'!AJ26-'법정동(2013년말)'!AJ27","v":{"v":0,"d":"0.0"}},{"$f":"'법정동(2014.12월말)'!AK26-'법정동(2013년말)'!AK27","v":{"v":0,"d":"0.0"}},{"$f":"'법정동(2014.12월말)'!AL26-'법정동(2013년말)'!AL27","v":{"v":0,"d":"0.0"}},{"$f":"'법정동(2014.12월말)'!AM26-'법정동(2013년말)'!AM27","v":{"v":0,"d":"0.0"}},{"$f":"'법정동(2014.12월말)'!AN26-'법정동(2013년말)'!AN27","v":{"v":0,"d":"0.0"}},{"$f":"'법정동(2014.12월말)'!AO26-'법정동(2013년말)'!AO27","v":{"v":0,"d":"0.0"}},{"$f":"'법정동(2014.12월말)'!AP26-'법정동(2013년말)'!AP27","v":{"v":0,"d":"0.0"}},{"$f":"'법정동(2014.12월말)'!AQ26-'법정동(2013년말)'!AQ27","v":{"v":0,"d":"0.0"}},{"$f":"'법정동(2014.12월말)'!AR26-'법정동(2013년말)'!AR27","v":{"v":0,"d":"0.0"}},{"$f":"'법정동(2014.12월말)'!AS26-'법정동(2013년말)'!AS27","v":{"v":0,"d":"0.0"}},{"$f":"'법정동(2014.12월말)'!AT26-'법정동(2013년말)'!AT27","v":{"v":0,"d":"0.0"}},{"$f":"'법정동(2014.12월말)'!AU26-'법정동(2013년말)'!AU27","v":{"v":0,"d":"0.0"}},{"$f":"'법정동(2014.12월말)'!AV26-'법정동(2013년말)'!AV27","v":{"v":0,"d":"0.0"}},{"$f":"'법정동(2014.12월말)'!AW26-'법정동(2013년말)'!AW27","v":{"v":0,"d":"0.0"}},{"$f":"'법정동(2014.12월말)'!AX26-'법정동(2013년말)'!AX27","v":{"v":0,"d":"0.0"}},{"$f":"'법정동(2014.12월말)'!AY26-'법정동(2013년말)'!AY27","v":{"v":0,"d":"0.0"}},{"$f":"'법정동(2014.12월말)'!AZ26-'법정동(2013년말)'!AZ27","v":{"v":0,"d":"0.0"}},{"$f":"'법정동(2014.12월말)'!BA26-'법정동(2013년말)'!BA27","v":{"v":0,"d":"0.0"}},{"$f":"'법정동(2014.12월말)'!BB26-'법정동(2013년말)'!BB27","v":{"v":0,"d":"0.0"}},{"$f":"'법정동(2014.12월말)'!BC26-'법정동(2013년말)'!BC27","v":{"v":0,"d":"0.0"}},{"$f":"'법정동(2014.12월말)'!BD26-'법정동(2013년말)'!BD27","v":{"v":0,"d":"0.0"}},{"$f":"'법정동(2014.12월말)'!BE26-'법정동(2013년말)'!BE27","v":{"v":0,"d":"0.0"}},{"$f":"'법정동(2014.12월말)'!BF26-'법정동(2013년말)'!BF27","v":{"v":0,"d":"0.0"}},{"$f":"'법정동(2014.12월말)'!BG26-'법정동(2013년말)'!BG27","v":{"v":0,"d":"0.0"}}]
["오림동",{"$f":"'법정동(2014.12월말)'!B27-'법정동(2013년말)'!B28","v":{"v":0,"d":"0.0"}},{"$f":"'법정동(2014.12월말)'!C27-'법정동(2013년말)'!C28","v":{"v":11,"d":"11.0"}},{"$f":"'법정동(2014.12월말)'!D27-'법정동(2013년말)'!D28","v":{"v":-1544,"d":"-1,544.0"}},{"$f":"'법정동(2014.12월말)'!E27-'법정동(2013년말)'!E28","v":{"v":2,"d":"2.0"}},{"$f":"'법정동(2014.12월말)'!F27-'법정동(2013년말)'!F28","v":{"v":0,"d":"0.0"}},{"$f":"'법정동(2014.12월말)'!G27-'법정동(2013년말)'!G28","v":{"v":2,"d":"2.0"}},{"$f":"'법정동(2014.12월말)'!H27-'법정동(2013년말)'!H28","v":{"v":0,"d":"0.0"}},{"$f":"'법정동(2014.12월말)'!I27-'법정동(2013년말)'!I28","v":{"v":0,"d":"0.0"}},{"$f":"'법정동(2014.12월말)'!J27-'법정동(2013년말)'!J28","v":{"v":0,"d":"0.0"}},{"$f":"'법정동(2014.12월말)'!K27-'법정동(2013년말)'!K28","v":{"v":0,"d":"0.0"}},{"$f":"'법정동(2014.12월말)'!L27-'법정동(2013년말)'!L28","v":{"v":0,"d":"0.0"}},{"$f":"'법정동(2014.12월말)'!M27-'법정동(2013년말)'!M28","v":{"v":1,"d":"1.0"}},{"$f":"'법정동(2014.12월말)'!N27-'법정동(2013년말)'!N28","v":{"v":0,"d":"0.0"}},{"$f":"'법정동(2014.12월말)'!O27-'법정동(2013년말)'!O28","v":{"v":0,"d":"0.0"}},{"$f":"'법정동(2014.12월말)'!P27-'법정동(2013년말)'!P28","v":{"v":0,"d":"0.0"}},{"$f":"'법정동(2014.12월말)'!Q27-'법정동(2013년말)'!Q28","v":{"v":0,"d":"0.0"}},{"$f":"'법정동(2014.12월말)'!R27-'법정동(2013년말)'!R28","v":{"v":568,"d":"568.0"}},{"$f":"'법정동(2014.12월말)'!S27-'법정동(2013년말)'!S28","v":{"v":0,"d":"0.0"}},{"$f":"'법정동(2014.12월말)'!T27-'법정동(2013년말)'!T28","v":{"v":0,"d":"0.0"}},{"$f":"'법정동(2014.12월말)'!U27-'법정동(2013년말)'!U28","v":{"v":1,"d":"1.0"}},{"$f":"'법정동(2014.12월말)'!V27-'법정동(2013년말)'!V28","v":{"v":0,"d":"0.0"}},{"$f":"'법정동(2014.12월말)'!W27-'법정동(2013년말)'!W28","v":{"v":0,"d":"0.0"}},{"$f":"'법정동(2014.12월말)'!X27-'법정동(2013년말)'!X28","v":{"v":0,"d":"0.0"}},{"$f":"'법정동(2014.12월말)'!Y27-'법정동(2013년말)'!Y28","v":{"v":0,"d":"0.0"}},{"$f":"'법정동(2014.12월말)'!Z27-'법정동(2013년말)'!Z28","v":{"v":0,"d":"0.0"}},{"$f":"'법정동(2014.12월말)'!AA27-'법정동(2013년말)'!AA28","v":{"v":0,"d":"0.0"}},{"$f":"'법정동(2014.12월말)'!AB27-'법정동(2013년말)'!AB28","v":{"v":0,"d":"0.0"}},{"$f":"'법정동(2014.12월말)'!AC27-'법정동(2013년말)'!AC28","v":{"v":0,"d":"0.0"}},{"$f":"'법정동(2014.12월말)'!AD27-'법정동(2013년말)'!AD28","v":{"v":51,"d":"51.0"}},{"$f":"'법정동(2014.12월말)'!AE27-'법정동(2013년말)'!AE28","v":{"v":4,"d":"4.0"}},{"$f":"'법정동(2014.12월말)'!AF27-'법정동(2013년말)'!AF28","v":{"v":0,"d":"0.0"}},{"$f":"'법정동(2014.12월말)'!AG27-'법정동(2013년말)'!AG28","v":{"v":0,"d":"0.0"}},{"$f":"'법정동(2014.12월말)'!AH27-'법정동(2013년말)'!AH28","v":{"v":0,"d":"0.0"}},{"$f":"'법정동(2014.12월말)'!AI27-'법정동(2013년말)'!AI28","v":{"v":0,"d":"0.0"}},{"$f":"'법정동(2014.12월말)'!AJ27-'법정동(2013년말)'!AJ28","v":{"v":0,"d":"0.0"}},{"$f":"'법정동(2014.12월말)'!AK27-'법정동(2013년말)'!AK28","v":{"v":0,"d":"0.0"}},{"$f":"'법정동(2014.12월말)'!AL27-'법정동(2013년말)'!AL28","v":{"v":0,"d":"0.0"}},{"$f":"'법정동(2014.12월말)'!AM27-'법정동(2013년말)'!AM28","v":{"v":0,"d":"0.0"}},{"$f":"'법정동(2014.12월말)'!AN27-'법정동(2013년말)'!AN28","v":{"v":0,"d":"0.0"}},{"$f":"'법정동(2014.12월말)'!AO27-'법정동(2013년말)'!AO28","v":{"v":0,"d":"0.0"}},{"$f":"'법정동(2014.12월말)'!AP27-'법정동(2013년말)'!AP28","v":{"v":0,"d":"0.0"}},{"$f":"'법정동(2014.12월말)'!AQ27-'법정동(2013년말)'!AQ28","v":{"v":0,"d":"0.0"}},{"$f":"'법정동(2014.12월말)'!AR27-'법정동(2013년말)'!AR28","v":{"v":0,"d":"0.0"}},{"$f":"'법정동(2014.12월말)'!AS27-'법정동(2013년말)'!AS28","v":{"v":0,"d":"0.0"}},{"$f":"'법정동(2014.12월말)'!AT27-'법정동(2013년말)'!AT28","v":{"v":0,"d":"0.0"}},{"$f":"'법정동(2014.12월말)'!AU27-'법정동(2013년말)'!AU28","v":{"v":0,"d":"0.0"}},{"$f":"'법정동(2014.12월말)'!AV27-'법정동(2013년말)'!AV28","v":{"v":0,"d":"0.0"}},{"$f":"'법정동(2014.12월말)'!AW27-'법정동(2013년말)'!AW28","v":{"v":0,"d":"0.0"}},{"$f":"'법정동(2014.12월말)'!AX27-'법정동(2013년말)'!AX28","v":{"v":0,"d":"0.0"}},{"$f":"'법정동(2014.12월말)'!AY27-'법정동(2013년말)'!AY28","v":{"v":0,"d":"0.0"}},{"$f":"'법정동(2014.12월말)'!AZ27-'법정동(2013년말)'!AZ28","v":{"v":0,"d":"0.0"}},{"$f":"'법정동(2014.12월말)'!BA27-'법정동(2013년말)'!BA28","v":{"v":0,"d":"0.0"}},{"$f":"'법정동(2014.12월말)'!BB27-'법정동(2013년말)'!BB28","v":{"v":0,"d":"0.0"}},{"$f":"'법정동(2014.12월말)'!BC27-'법정동(2013년말)'!BC28","v":{"v":0,"d":"0.0"}},{"$f":"'법정동(2014.12월말)'!BD27-'법정동(2013년말)'!BD28","v":{"v":99,"d":"99.0"}},{"$f":"'법정동(2014.12월말)'!BE27-'법정동(2013년말)'!BE28","v":{"v":1,"d":"1.0"}},{"$f":"'법정동(2014.12월말)'!BF27-'법정동(2013년말)'!BF28","v":{"v":826,"d":"826.0"}},{"$f":"'법정동(2014.12월말)'!BG27-'법정동(2013년말)'!BG28","v":{"v":0,"d":"0.0"}}]
["미평동",{"$f":"'법정동(2014.12월말)'!B28-'법정동(2013년말)'!B29","v":{"v":-409,"d":"-409.0"}},{"$f":"'법정동(2014.12월말)'!C28-'법정동(2013년말)'!C29","v":{"v":16,"d":"16.0"}},{"$f":"'법정동(2014.12월말)'!D28-'법정동(2013년말)'!D29","v":{"v":-3252,"d":"-3,252.0"}},{"$f":"'법정동(2014.12월말)'!E28-'법정동(2013년말)'!E29","v":{"v":-3,"d":"-3.0"}},{"$f":"'법정동(2014.12월말)'!F28-'법정동(2013년말)'!F29","v":{"v":-2144,"d":"-2,144.0"}},{"$f":"'법정동(2014.12월말)'!G28-'법정동(2013년말)'!G29","v":{"v":-6,"d":"-6.0"}},{"$f":"'법정동(2014.12월말)'!H28-'법정동(2013년말)'!H29","v":{"v":0,"d":"0.0"}},{"$f":"'법정동(2014.12월말)'!I28-'법정동(2013년말)'!I29","v":{"v":0,"d":"0.0"}},{"$f":"'법정동(2014.12월말)'!J28-'법정동(2013년말)'!J29","v":{"v":0,"d":"0.0"}},{"$f":"'법정동(2014.12월말)'!K28-'법정동(2013년말)'!K29","v":{"v":0,"d":"0.0"}},{"$f":"'법정동(2014.12월말)'!L28-'법정동(2013년말)'!L29","v":{"v":-409,"d":"-409.0"}},{"$f":"'법정동(2014.12월말)'!M28-'법정동(2013년말)'!M29","v":{"v":0,"d":"0.0"}},{"$f":"'법정동(2014.12월말)'!N28-'법정동(2013년말)'!N29","v":{"v":0,"d":"0.0"}},{"$f":"'법정동(2014.12월말)'!O28-'법정동(2013년말)'!O29","v":{"v":0,"d":"0.0"}},{"$f":"'법정동(2014.12월말)'!P28-'법정동(2013년말)'!P29","v":{"v":0,"d":"0.0"}},{"$f":"'법정동(2014.12월말)'!Q28-'법정동(2013년말)'!Q29","v":{"v":0,"d":"0.0"}},{"$f":"'법정동(2014.12월말)'!R28-'법정동(2013년말)'!R29","v":{"v":3111,"d":"3,111.0"}},{"$f":"'법정동(2014.12월말)'!S28-'법정동(2013년말)'!S29","v":{"v":11,"d":"11.0"}},{"$f":"'법정동(2014.12월말)'!T28-'법정동(2013년말)'!T29","v":{"v":0,"d":"0.0"}},{"$f":"'법정동(2014.12월말)'!U28-'법정동(2013년말)'!U29","v":{"v":0,"d":"0.0"}},{"$f":"'법정동(2014.12월말)'!V28-'법정동(2013년말)'!V29","v":{"v":0,"d":"0.0"}},{"$f":"'법정동(2014.12월말)'!W28-'법정동(2013년말)'!W29","v":{"v":0,"d":"0.0"}},{"$f":"'법정동(2014.12월말)'!X28-'법정동(2013년말)'!X29","v":{"v":1866,"d":"1,866.0"}},{"$f":"'법정동(2014.12월말)'!Y28-'법정동(2013년말)'!Y29","v":{"v":1,"d":"1.0"}},{"$f":"'법정동(2014.12월말)'!Z28-'법정동(2013년말)'!Z29","v":{"v":0,"d":"0.0"}},{"$f":"'법정동(2014.12월말)'!AA28-'법정동(2013년말)'!AA29","v":{"v":0,"d":"0.0"}},{"$f":"'법정동(2014.12월말)'!AB28-'법정동(2013년말)'!AB29","v":{"v":0,"d":"0.0"}},{"$f":"'법정동(2014.12월말)'!AC28-'법정동(2013년말)'!AC29","v":{"v":0,"d":"0.0"}},{"$f":"'법정동(2014.12월말)'!AD28-'법정동(2013년말)'!AD29","v":{"v":419,"d":"419.0"}},{"$f":"'법정동(2014.12월말)'!AE28-'법정동(2013년말)'!AE29","v":{"v":13,"d":"13.0"}},{"$f":"'법정동(2014.12월말)'!AF28-'법정동(2013년말)'!AF29","v":{"v":0,"d":"0.0"}},{"$f":"'법정동(2014.12월말)'!AG28-'법정동(2013년말)'!AG29","v":{"v":0,"d":"0.0"}},{"$f":"'법정동(2014.12월말)'!AH28-'법정동(2013년말)'!AH29","v":{"v":0,"d":"0.0"}},{"$f":"'법정동(2014.12월말)'!AI28-'법정동(2013년말)'!AI29","v":{"v":0,"d":"0.0"}},{"$f":"'법정동(2014.12월말)'!AJ28-'법정동(2013년말)'!AJ29","v":{"v":0,"d":"0.0"}},{"$f":"'법정동(2014.12월말)'!AK28-'법정동(2013년말)'!AK29","v":{"v":0,"d":"0.0"}},{"$f":"'법정동(2014.12월말)'!AL28-'법정동(2013년말)'!AL29","v":{"v":0,"d":"0.0"}},{"$f":"'법정동(2014.12월말)'!AM28-'법정동(2013년말)'!AM29","v":{"v":0,"d":"0.0"}},{"$f":"'법정동(2014.12월말)'!AN28-'법정동(2013년말)'!AN29","v":{"v":0,"d":"0.0"}},{"$f":"'법정동(2014.12월말)'!AO28-'법정동(2013년말)'!AO29","v":{"v":0,"d":"0.0"}},{"$f":"'법정동(2014.12월말)'!AP28-'법정동(2013년말)'!AP29","v":{"v":0,"d":"0.0"}},{"$f":"'법정동(2014.12월말)'!AQ28-'법정동(2013년말)'!AQ29","v":{"v":0,"d":"0.0"}},{"$f":"'법정동(2014.12월말)'!AR28-'법정동(2013년말)'!AR29","v":{"v":0,"d":"0.0"}},{"$f":"'법정동(2014.12월말)'!AS28-'법정동(2013년말)'!AS29","v":{"v":0,"d":"0.0"}},{"$f":"'법정동(2014.12월말)'!AT28-'법정동(2013년말)'!AT29","v":{"v":0,"d":"0.0"}},{"$f":"'법정동(2014.12월말)'!AU28-'법정동(2013년말)'!AU29","v":{"v":0,"d":"0.0"}},{"$f":"'법정동(2014.12월말)'!AV28-'법정동(2013년말)'!AV29","v":{"v":0,"d":"0.0"}},{"$f":"'법정동(2014.12월말)'!AW28-'법정동(2013년말)'!AW29","v":{"v":0,"d":"0.0"}},{"$f":"'법정동(2014.12월말)'!AX28-'법정동(2013년말)'!AX29","v":{"v":0,"d":"0.0"}},{"$f":"'법정동(2014.12월말)'!AY28-'법정동(2013년말)'!AY29","v":{"v":0,"d":"0.0"}},{"$f":"'법정동(2014.12월말)'!AZ28-'법정동(2013년말)'!AZ29","v":{"v":0,"d":"0.0"}},{"$f":"'법정동(2014.12월말)'!BA28-'법정동(2013년말)'!BA29","v":{"v":0,"d":"0.0"}},{"$f":"'법정동(2014.12월말)'!BB28-'법정동(2013년말)'!BB29","v":{"v":0,"d":"0.0"}},{"$f":"'법정동(2014.12월말)'!BC28-'법정동(2013년말)'!BC29","v":{"v":0,"d":"0.0"}},{"$f":"'법정동(2014.12월말)'!BD28-'법정동(2013년말)'!BD29","v":{"v":0,"d":"0.0"}},{"$f":"'법정동(2014.12월말)'!BE28-'법정동(2013년말)'!BE29","v":{"v":0,"d":"0.0"}},{"$f":"'법정동(2014.12월말)'!BF28-'법정동(2013년말)'!BF29","v":{"v":0,"d":"0.0"}},{"$f":"'법정동(2014.12월말)'!BG28-'법정동(2013년말)'!BG29","v":{"v":0,"d":"0.0"}}]
["둔덕동",{"$f":"'법정동(2014.12월말)'!B29-'법정동(2013년말)'!B30","v":{"v":-149,"d":"-149.0"}},{"$f":"'법정동(2014.12월말)'!C29-'법정동(2013년말)'!C30","v":{"v":-4,"d":"-4.0"}},{"$f":"'법정동(2014.12월말)'!D29-'법정동(2013년말)'!D30","v":{"v":-437,"d":"-437.0"}},{"$f":"'법정동(2014.12월말)'!E29-'법정동(2013년말)'!E30","v":{"v":-2,"d":"-2.0"}},{"$f":"'법정동(2014.12월말)'!F29-'법정동(2013년말)'!F30","v":{"v":0,"d":"0.0"}},{"$f":"'법정동(2014.12월말)'!G29-'법정동(2013년말)'!G30","v":{"v":-1,"d":"-1.0"}},{"$f":"'법정동(2014.12월말)'!H29-'법정동(2013년말)'!H30","v":{"v":0,"d":"0.0"}},{"$f":"'법정동(2014.12월말)'!I29-'법정동(2013년말)'!I30","v":{"v":0,"d":"0.0"}},{"$f":"'법정동(2014.12월말)'!J29-'법정동(2013년말)'!J30","v":{"v":0,"d":"0.0"}},{"$f":"'법정동(2014.12월말)'!K29-'법정동(2013년말)'!K30","v":{"v":0,"d":"0.0"}},{"$f":"'법정동(2014.12월말)'!L29-'법정동(2013년말)'!L30","v":{"v":-707,"d":"-707.0"}},{"$f":"'법정동(2014.12월말)'!M29-'법정동(2013년말)'!M30","v":{"v":1,"d":"1.0"}},{"$f":"'법정동(2014.12월말)'!N29-'법정동(2013년말)'!N30","v":{"v":0,"d":"0.0"}},{"$f":"'법정동(2014.12월말)'!O29-'법정동(2013년말)'!O30","v":{"v":0,"d":"0.0"}},{"$f":"'법정동(2014.12월말)'!P29-'법정동(2013년말)'!P30","v":{"v":0,"d":"0.0"}},{"$f":"'법정동(2014.12월말)'!Q29-'법정동(2013년말)'!Q30","v":{"v":0,"d":"0.0"}},{"$f":"'법정동(2014.12월말)'!R29-'법정동(2013년말)'!R30","v":{"v":-81,"d":"-81.0"}},{"$f":"'법정동(2014.12월말)'!S29-'법정동(2013년말)'!S30","v":{"v":-2,"d":"-2.0"}},{"$f":"'법정동(2014.12월말)'!T29-'법정동(2013년말)'!T30","v":{"v":0,"d":"0.0"}},{"$f":"'법정동(2014.12월말)'!U29-'법정동(2013년말)'!U30","v":{"v":0,"d":"0.0"}},{"$f":"'법정동(2014.12월말)'!V29-'법정동(2013년말)'!V30","v":{"v":0,"d":"0.0"}},{"$f":"'법정동(2014.12월말)'!W29-'법정동(2013년말)'!W30","v":{"v":0,"d":"0.0"}},{"$f":"'법정동(2014.12월말)'!X29-'법정동(2013년말)'!X30","v":{"v":234,"d":"234.0"}},{"$f":"'법정동(2014.12월말)'!Y29-'법정동(2013년말)'!Y30","v":{"v":-5,"d":"-5.0"}},{"$f":"'법정동(2014.12월말)'!Z29-'법정동(2013년말)'!Z30","v":{"v":0,"d":"0.0"}},{"$f":"'법정동(2014.12월말)'!AA29-'법정동(2013년말)'!AA30","v":{"v":0,"d":"0.0"}},{"$f":"'법정동(2014.12월말)'!AB29-'법정동(2013년말)'!AB30","v":{"v":222,"d":"222.0"}},{"$f":"'법정동(2014.12월말)'!AC29-'법정동(2013년말)'!AC30","v":{"v":1,"d":"1.0"}},{"$f":"'법정동(2014.12월말)'!AD29-'법정동(2013년말)'!AD30","v":{"v":-20,"d":"-20.0"}},{"$f":"'법정동(2014.12월말)'!AE29-'법정동(2013년말)'!AE30","v":{"v":3,"d":"3.0"}},{"$f":"'법정동(2014.12월말)'!AF29-'법정동(2013년말)'!AF30","v":{"v":0,"d":"0.0"}},{"$f":"'법정동(2014.12월말)'!AG29-'법정동(2013년말)'!AG30","v":{"v":0,"d":"0.0"}},{"$f":"'법정동(2014.12월말)'!AH29-'법정동(2013년말)'!AH30","v":{"v":0,"d":"0.0"}},{"$f":"'법정동(2014.12월말)'!AI29-'법정동(2013년말)'!AI30","v":{"v":0,"d":"0.0"}},{"$f":"'법정동(2014.12월말)'!AJ29-'법정동(2013년말)'!AJ30","v":{"v":0,"d":"0.0"}},{"$f":"'법정동(2014.12월말)'!AK29-'법정동(2013년말)'!AK30","v":{"v":0,"d":"0.0"}},{"$f":"'법정동(2014.12월말)'!AL29-'법정동(2013년말)'!AL30","v":{"v":0,"d":"0.0"}},{"$f":"'법정동(2014.12월말)'!AM29-'법정동(2013년말)'!AM30","v":{"v":0,"d":"0.0"}},{"$f":"'법정동(2014.12월말)'!AN29-'법정동(2013년말)'!AN30","v":{"v":0,"d":"0.0"}},{"$f":"'법정동(2014.12월말)'!AO29-'법정동(2013년말)'!AO30","v":{"v":0,"d":"0.0"}},{"$f":"'법정동(2014.12월말)'!AP29-'법정동(2013년말)'!AP30","v":{"v":0,"d":"0.0"}},{"$f":"'법정동(2014.12월말)'!AQ29-'법정동(2013년말)'!AQ30","v":{"v":0,"d":"0.0"}},{"$f":"'법정동(2014.12월말)'!AR29-'법정동(2013년말)'!AR30","v":{"v":0,"d":"0.0"}},{"$f":"'법정동(2014.12월말)'!AS29-'법정동(2013년말)'!AS30","v":{"v":0,"d":"0.0"}},{"$f":"'법정동(2014.12월말)'!AT29-'법정동(2013년말)'!AT30","v":{"v":0,"d":"0.0"}},{"$f":"'법정동(2014.12월말)'!AU29-'법정동(2013년말)'!AU30","v":{"v":0,"d":"0.0"}},{"$f":"'법정동(2014.12월말)'!AV29-'법정동(2013년말)'!AV30","v":{"v":0,"d":"0.0"}},{"$f":"'법정동(2014.12월말)'!AW29-'법정동(2013년말)'!AW30","v":{"v":0,"d":"0.0"}},{"$f":"'법정동(2014.12월말)'!AX29-'법정동(2013년말)'!AX30","v":{"v":0,"d":"0.0"}},{"$f":"'법정동(2014.12월말)'!AY29-'법정동(2013년말)'!AY30","v":{"v":0,"d":"0.0"}},{"$f":"'법정동(2014.12월말)'!AZ29-'법정동(2013년말)'!AZ30","v":{"v":0,"d":"0.0"}},{"$f":"'법정동(2014.12월말)'!BA29-'법정동(2013년말)'!BA30","v":{"v":0,"d":"0.0"}},{"$f":"'법정동(2014.12월말)'!BB29-'법정동(2013년말)'!BB30","v":{"v":0,"d":"0.0"}},{"$f":"'법정동(2014.12월말)'!BC29-'법정동(2013년말)'!BC30","v":{"v":0,"d":"0.0"}},{"$f":"'법정동(2014.12월말)'!BD29-'법정동(2013년말)'!BD30","v":{"v":640,"d":"640.0"}},{"$f":"'법정동(2014.12월말)'!BE29-'법정동(2013년말)'!BE30","v":{"v":1,"d":"1.0"}},{"$f":"'법정동(2014.12월말)'!BF29-'법정동(2013년말)'!BF30","v":{"v":0,"d":"0.0"}},{"$f":"'법정동(2014.12월말)'!BG29-'법정동(2013년말)'!BG30","v":{"v":0,"d":"0.0"}}]
["오천동",{"$f":"'법정동(2014.12월말)'!B30-'법정동(2013년말)'!B31","v":{"v":-20076.89999999944,"d":"-20,076.9"}},{"$f":"'법정동(2014.12월말)'!C30-'법정동(2013년말)'!C31","v":{"v":-540,"d":"-540.0"}},{"$f":"'법정동(2014.12월말)'!D30-'법정동(2013년말)'!D31","v":{"v":-190532,"d":"-190,532.0"}},{"$f":"'법정동(2014.12월말)'!E30-'법정동(2013년말)'!E31","v":{"v":-226,"d":"-226.0"}},{"$f":"'법정동(2014.12월말)'!F30-'법정동(2013년말)'!F31","v":{"v":-135654,"d":"-135,654.0"}},{"$f":"'법정동(2014.12월말)'!G30-'법정동(2013년말)'!G31","v":{"v":-150,"d":"-150.0"}},{"$f":"'법정동(2014.12월말)'!H30-'법정동(2013년말)'!H31","v":{"v":0,"d":"0.0"}},{"$f":"'법정동(2014.12월말)'!I30-'법정동(2013년말)'!I31","v":{"v":0,"d":"0.0"}},{"$f":"'법정동(2014.12월말)'!J30-'법정동(2013년말)'!J31","v":{"v":0,"d":"0.0"}},{"$f":"'법정동(2014.12월말)'!K30-'법정동(2013년말)'!K31","v":{"v":0,"d":"0.0"}},{"$f":"'법정동(2014.12월말)'!L30-'법정동(2013년말)'!L31","v":{"v":-705663.3999999999,"d":"-705,663.4"}},{"$f":"'법정동(2014.12월말)'!M30-'법정동(2013년말)'!M31","v":{"v":-137,"d":"-137.0"}},{"$f":"'법정동(2014.12월말)'!N30-'법정동(2013년말)'!N31","v":{"v":0,"d":"0.0"}},{"$f":"'법정동(2014.12월말)'!O30-'법정동(2013년말)'!O31","v":{"v":0,"d":"0.0"}},{"$f":"'법정동(2014.12월말)'!P30-'법정동(2013년말)'!P31","v":{"v":0,"d":"0.0"}},{"$f":"'법정동(2014.12월말)'!Q30-'법정동(2013년말)'!Q31","v":{"v":0,"d":"0.0"}},{"$f":"'법정동(2014.12월말)'!R30-'법정동(2013년말)'!R31","v":{"v":436195.4,"d":"436,195.4"}},{"$f":"'법정동(2014.12월말)'!S30-'법정동(2013년말)'!S31","v":{"v":33,"d":"33.0"}},{"$f":"'법정동(2014.12월말)'!T30-'법정동(2013년말)'!T31","v":{"v":-6.7000000000116415,"d":"-6.7"}},{"$f":"'법정동(2014.12월말)'!U30-'법정동(2013년말)'!U31","v":{"v":3,"d":"3.0"}},{"$f":"'법정동(2014.12월말)'!V30-'법정동(2013년말)'!V31","v":{"v":0,"d":"0.0"}},{"$f":"'법정동(2014.12월말)'!W30-'법정동(2013년말)'!W31","v":{"v":0,"d":"0.0"}},{"$f":"'법정동(2014.12월말)'!X30-'법정동(2013년말)'!X31","v":{"v":0,"d":"0.0"}},{"$f":"'법정동(2014.12월말)'!Y30-'법정동(2013년말)'!Y31","v":{"v":0,"d":"0.0"}},{"$f":"'법정동(2014.12월말)'!Z30-'법정동(2013년말)'!Z31","v":{"v":0,"d":"0.0"}},{"$f":"'법정동(2014.12월말)'!AA30-'법정동(2013년말)'!AA31","v":{"v":0,"d":"0.0"}},{"$f":"'법정동(2014.12월말)'!AB30-'법정동(2013년말)'!AB31","v":{"v":0,"d":"0.0"}},{"$f":"'법정동(2014.12월말)'!AC30-'법정동(2013년말)'!AC31","v":{"v":0,"d":"0.0"}},{"$f":"'법정동(2014.12월말)'!AD30-'법정동(2013년말)'!AD31","v":{"v":-17498.300000000003,"d":"-17,498.3"}},{"$f":"'법정동(2014.12월말)'!AE30-'법정동(2013년말)'!AE31","v":{"v":-22,"d":"-22.0"}},{"$f":"'법정동(2014.12월말)'!AF30-'법정동(2013년말)'!AF31","v":{"v":0,"d":"0.0"}},{"$f":"'법정동(2014.12월말)'!AG30-'법정동(2013년말)'!AG31","v":{"v":0,"d":"0.0"}},{"$f":"'법정동(2014.12월말)'!AH30-'법정동(2013년말)'!AH31","v":{"v":-17368,"d":"-17,368.0"}},{"$f":"'법정동(2014.12월말)'!AI30-'법정동(2013년말)'!AI31","v":{"v":-11,"d":"-11.0"}},{"$f":"'법정동(2014.12월말)'!AJ30-'법정동(2013년말)'!AJ31","v":{"v":0,"d":"0.0"}},{"$f":"'법정동(2014.12월말)'!AK30-'법정동(2013년말)'!AK31","v":{"v":0,"d":"0.0"}},{"$f":"'법정동(2014.12월말)'!AL30-'법정동(2013년말)'!AL31","v":{"v":-33372,"d":"-33,372.0"}},{"$f":"'법정동(2014.12월말)'!AM30-'법정동(2013년말)'!AM31","v":{"v":-6,"d":"-6.0"}},{"$f":"'법정동(2014.12월말)'!AN30-'법정동(2013년말)'!AN31","v":{"v":-104581,"d":"-104,581.0"}},{"$f":"'법정동(2014.12월말)'!AO30-'법정동(2013년말)'!AO31","v":{"v":-21,"d":"-21.0"}},{"$f":"'법정동(2014.12월말)'!AP30-'법정동(2013년말)'!AP31","v":{"v":0,"d":"0.0"}},{"$f":"'법정동(2014.12월말)'!AQ30-'법정동(2013년말)'!AQ31","v":{"v":0,"d":"0.0"}},{"$f":"'법정동(2014.12월말)'!AR30-'법정동(2013년말)'!AR31","v":{"v":-11298,"d":"-11,298.0"}},{"$f":"'법정동(2014.12월말)'!AS30-'법정동(2013년말)'!AS31","v":{"v":-5,"d":"-5.0"}},{"$f":"'법정동(2014.12월말)'!AT30-'법정동(2013년말)'!AT31","v":{"v":372271.6,"d":"372,271.6"}},{"$f":"'법정동(2014.12월말)'!AU30-'법정동(2013년말)'!AU31","v":{"v":5,"d":"5.0"}},{"$f":"'법정동(2014.12월말)'!AV30-'법정동(2013년말)'!AV31","v":{"v":388946.5,"d":"388,946.5"}},{"$f":"'법정동(2014.12월말)'!AW30-'법정동(2013년말)'!AW31","v":{"v":1,"d":"1.0"}},{"$f":"'법정동(2014.12월말)'!AX30-'법정동(2013년말)'!AX31","v":{"v":0,"d":"0.0"}},{"$f":"'법정동(2014.12월말)'!AY30-'법정동(2013년말)'!AY31","v":{"v":0,"d":"0.0"}},{"$f":"'법정동(2014.12월말)'!AZ30-'법정동(2013년말)'!AZ31","v":{"v":0,"d":"0.0"}},{"$f":"'법정동(2014.12월말)'!BA30-'법정동(2013년말)'!BA31","v":{"v":0,"d":"0.0"}},{"$f":"'법정동(2014.12월말)'!BB30-'법정동(2013년말)'!BB31","v":{"v":0,"d":"0.0"}},{"$f":"'법정동(2014.12월말)'!BC30-'법정동(2013년말)'!BC31","v":{"v":0,"d":"0.0"}},{"$f":"'법정동(2014.12월말)'!BD30-'법정동(2013년말)'!BD31","v":{"v":-1200,"d":"-1,200.0"}},{"$f":"'법정동(2014.12월말)'!BE30-'법정동(2013년말)'!BE31","v":{"v":-3,"d":"-3.0"}},{"$f":"'법정동(2014.12월말)'!BF30-'법정동(2013년말)'!BF31","v":{"v":-317,"d":"-317.0"}},{"$f":"'법정동(2014.12월말)'!BG30-'법정동(2013년말)'!BG31","v":{"v":-1,"d":"-1.0"}}]
["만흥동",{"$f":"'법정동(2014.12월말)'!B31-'법정동(2013년말)'!B32","v":{"v":-285,"d":"-285.0"}},{"$f":"'법정동(2014.12월말)'!C31-'법정동(2013년말)'!C32","v":{"v":19,"d":"19.0"}},{"$f":"'법정동(2014.12월말)'!D31-'법정동(2013년말)'!D32","v":{"v":-302,"d":"-302.0"}},{"$f":"'법정동(2014.12월말)'!E31-'법정동(2013년말)'!E32","v":{"v":8,"d":"8.0"}},{"$f":"'법정동(2014.12월말)'!F31-'법정동(2013년말)'!F32","v":{"v":-255,"d":"-255.0"}},{"$f":"'법정동(2014.12월말)'!G31-'법정동(2013년말)'!G32","v":{"v":-1,"d":"-1.0"}},{"$f":"'법정동(2014.12월말)'!H31-'법정동(2013년말)'!H32","v":{"v":0,"d":"0.0"}},{"$f":"'법정동(2014.12월말)'!I31-'법정동(2013년말)'!I32","v":{"v":0,"d":"0.0"}},{"$f":"'법정동(2014.12월말)'!J31-'법정동(2013년말)'!J32","v":{"v":0,"d":"0.0"}},{"$f":"'법정동(2014.12월말)'!K31-'법정동(2013년말)'!K32","v":{"v":0,"d":"0.0"}},{"$f":"'법정동(2014.12월말)'!L31-'법정동(2013년말)'!L32","v":{"v":-1215,"d":"-1,215.0"}},{"$f":"'법정동(2014.12월말)'!M31-'법정동(2013년말)'!M32","v":{"v":9,"d":"9.0"}},{"$f":"'법정동(2014.12월말)'!N31-'법정동(2013년말)'!N32","v":{"v":0,"d":"0.0"}},{"$f":"'법정동(2014.12월말)'!O31-'법정동(2013년말)'!O32","v":{"v":0,"d":"0.0"}},{"$f":"'법정동(2014.12월말)'!P31-'법정동(2013년말)'!P32","v":{"v":0,"d":"0.0"}},{"$f":"'법정동(2014.12월말)'!Q31-'법정동(2013년말)'!Q32","v":{"v":0,"d":"0.0"}},{"$f":"'법정동(2014.12월말)'!R31-'법정동(2013년말)'!R32","v":{"v":1185,"d":"1,185.0"}},{"$f":"'법정동(2014.12월말)'!S31-'법정동(2013년말)'!S32","v":{"v":3,"d":"3.0"}},{"$f":"'법정동(2014.12월말)'!T31-'법정동(2013년말)'!T32","v":{"v":0,"d":"0.0"}},{"$f":"'법정동(2014.12월말)'!U31-'법정동(2013년말)'!U32","v":{"v":0,"d":"0.0"}},{"$f":"'법정동(2014.12월말)'!V31-'법정동(2013년말)'!V32","v":{"v":0,"d":"0.0"}},{"$f":"'법정동(2014.12월말)'!W31-'법정동(2013년말)'!W32","v":{"v":0,"d":"0.0"}},{"$f":"'법정동(2014.12월말)'!X31-'법정동(2013년말)'!X32","v":{"v":0,"d":"0.0"}},{"$f":"'법정동(2014.12월말)'!Y31-'법정동(2013년말)'!Y32","v":{"v":0,"d":"0.0"}},{"$f":"'법정동(2014.12월말)'!Z31-'법정동(2013년말)'!Z32","v":{"v":0,"d":"0.0"}},{"$f":"'법정동(2014.12월말)'!AA31-'법정동(2013년말)'!AA32","v":{"v":0,"d":"0.0"}},{"$f":"'법정동(2014.12월말)'!AB31-'법정동(2013년말)'!AB32","v":{"v":0,"d":"0.0"}},{"$f":"'법정동(2014.12월말)'!AC31-'법정동(2013년말)'!AC32","v":{"v":0,"d":"0.0"}},{"$f":"'법정동(2014.12월말)'!AD31-'법정동(2013년말)'!AD32","v":{"v":0,"d":"0.0"}},{"$f":"'법정동(2014.12월말)'!AE31-'법정동(2013년말)'!AE32","v":{"v":0,"d":"0.0"}},{"$f":"'법정동(2014.12월말)'!AF31-'법정동(2013년말)'!AF32","v":{"v":0,"d":"0.0"}},{"$f":"'법정동(2014.12월말)'!AG31-'법정동(2013년말)'!AG32","v":{"v":0,"d":"0.0"}},{"$f":"'법정동(2014.12월말)'!AH31-'법정동(2013년말)'!AH32","v":{"v":0,"d":"0.0"}},{"$f":"'법정동(2014.12월말)'!AI31-'법정동(2013년말)'!AI32","v":{"v":0,"d":"0.0"}},{"$f":"'법정동(2014.12월말)'!AJ31-'법정동(2013년말)'!AJ32","v":{"v":0,"d":"0.0"}},{"$f":"'법정동(2014.12월말)'!AK31-'법정동(2013년말)'!AK32","v":{"v":0,"d":"0.0"}},{"$f":"'법정동(2014.12월말)'!AL31-'법정동(2013년말)'!AL32","v":{"v":0,"d":"0.0"}},{"$f":"'법정동(2014.12월말)'!AM31-'법정동(2013년말)'!AM32","v":{"v":0,"d":"0.0"}},{"$f":"'법정동(2014.12월말)'!AN31-'법정동(2013년말)'!AN32","v":{"v":0,"d":"0.0"}},{"$f":"'법정동(2014.12월말)'!AO31-'법정동(2013년말)'!AO32","v":{"v":0,"d":"0.0"}},{"$f":"'법정동(2014.12월말)'!AP31-'법정동(2013년말)'!AP32","v":{"v":0,"d":"0.0"}},{"$f":"'법정동(2014.12월말)'!AQ31-'법정동(2013년말)'!AQ32","v":{"v":0,"d":"0.0"}},{"$f":"'법정동(2014.12월말)'!AR31-'법정동(2013년말)'!AR32","v":{"v":0,"d":"0.0"}},{"$f":"'법정동(2014.12월말)'!AS31-'법정동(2013년말)'!AS32","v":{"v":0,"d":"0.0"}},{"$f":"'법정동(2014.12월말)'!AT31-'법정동(2013년말)'!AT32","v":{"v":0,"d":"0.0"}},{"$f":"'법정동(2014.12월말)'!AU31-'법정동(2013년말)'!AU32","v":{"v":0,"d":"0.0"}},{"$f":"'법정동(2014.12월말)'!AV31-'법정동(2013년말)'!AV32","v":{"v":0,"d":"0.0"}},{"$f":"'법정동(2014.12월말)'!AW31-'법정동(2013년말)'!AW32","v":{"v":0,"d":"0.0"}},{"$f":"'법정동(2014.12월말)'!AX31-'법정동(2013년말)'!AX32","v":{"v":0,"d":"0.0"}},{"$f":"'법정동(2014.12월말)'!AY31-'법정동(2013년말)'!AY32","v":{"v":0,"d":"0.0"}},{"$f":"'법정동(2014.12월말)'!AZ31-'법정동(2013년말)'!AZ32","v":{"v":0,"d":"0.0"}},{"$f":"'법정동(2014.12월말)'!BA31-'법정동(2013년말)'!BA32","v":{"v":-1,"d":"-1.0"}},{"$f":"'법정동(2014.12월말)'!BB31-'법정동(2013년말)'!BB32","v":{"v":0,"d":"0.0"}},{"$f":"'법정동(2014.12월말)'!BC31-'법정동(2013년말)'!BC32","v":{"v":0,"d":"0.0"}},{"$f":"'법정동(2014.12월말)'!BD31-'법정동(2013년말)'!BD32","v":{"v":-183,"d":"-183.0"}},{"$f":"'법정동(2014.12월말)'!BE31-'법정동(2013년말)'!BE32","v":{"v":-1,"d":"-1.0"}},{"$f":"'법정동(2014.12월말)'!BF31-'법정동(2013년말)'!BF32","v":{"v":485,"d":"485.0"}},{"$f":"'법정동(2014.12월말)'!BG31-'법정동(2013년말)'!BG32","v":{"v":2,"d":"2.0"}}]
["덕충동",{"$f":"'법정동(2014.12월말)'!B32-'법정동(2013년말)'!B33","v":{"v":-126.90000000037253,"d":"-126.9"}},{"$f":"'법정동(2014.12월말)'!C32-'법정동(2013년말)'!C33","v":{"v":7,"d":"7.0"}},{"$f":"'법정동(2014.12월말)'!D32-'법정동(2013년말)'!D33","v":{"v":-1846,"d":"-1,846.0"}},{"$f":"'법정동(2014.12월말)'!E32-'법정동(2013년말)'!E33","v":{"v":-4,"d":"-4.0"}},{"$f":"'법정동(2014.12월말)'!F32-'법정동(2013년말)'!F33","v":{"v":-780,"d":"-780.0"}},{"$f":"'법정동(2014.12월말)'!G32-'법정동(2013년말)'!G33","v":{"v":-1,"d":"-1.0"}},{"$f":"'법정동(2014.12월말)'!H32-'법정동(2013년말)'!H33","v":{"v":0,"d":"0.0"}},{"$f":"'법정동(2014.12월말)'!I32-'법정동(2013년말)'!I33","v":{"v":0,"d":"0.0"}},{"$f":"'법정동(2014.12월말)'!J32-'법정동(2013년말)'!J33","v":{"v":0,"d":"0.0"}},{"$f":"'법정동(2014.12월말)'!K32-'법정동(2013년말)'!K33","v":{"v":0,"d":"0.0"}},{"$f":"'법정동(2014.12월말)'!L32-'법정동(2013년말)'!L33","v":{"v":-4191,"d":"-4,191.0"}},{"$f":"'법정동(2014.12월말)'!M32-'법정동(2013년말)'!M33","v":{"v":-7,"d":"-7.0"}},{"$f":"'법정동(2014.12월말)'!N32-'법정동(2013년말)'!N33","v":{"v":0,"d":"0.0"}},{"$f":"'법정동(2014.12월말)'!O32-'법정동(2013년말)'!O33","v":{"v":0,"d":"0.0"}},{"$f":"'법정동(2014.12월말)'!P32-'법정동(2013년말)'!P33","v":{"v":0,"d":"0.0"}},{"$f":"'법정동(2014.12월말)'!Q32-'법정동(2013년말)'!Q33","v":{"v":0,"d":"0.0"}},{"$f":"'법정동(2014.12월말)'!R32-'법정동(2013년말)'!R33","v":{"v":1399,"d":"1,399.0"}},{"$f":"'법정동(2014.12월말)'!S32-'법정동(2013년말)'!S33","v":{"v":6,"d":"6.0"}},{"$f":"'법정동(2014.12월말)'!T32-'법정동(2013년말)'!T33","v":{"v":0,"d":"0.0"}},{"$f":"'법정동(2014.12월말)'!U32-'법정동(2013년말)'!U33","v":{"v":0,"d":"0.0"}},{"$f":"'법정동(2014.12월말)'!V32-'법정동(2013년말)'!V33","v":{"v":-68.90000000000146,"d":"-68.9"}},{"$f":"'법정동(2014.12월말)'!W32-'법정동(2013년말)'!W33","v":{"v":-1,"d":"-1.0"}},{"$f":"'법정동(2014.12월말)'!X32-'법정동(2013년말)'!X33","v":{"v":261,"d":"261.0"}},{"$f":"'법정동(2014.12월말)'!Y32-'법정동(2013년말)'!Y33","v":{"v":1,"d":"1.0"}},{"$f":"'법정동(2014.12월말)'!Z32-'법정동(2013년말)'!Z33","v":{"v":2745,"d":"2,745.0"}},{"$f":"'법정동(2014.12월말)'!AA32-'법정동(2013년말)'!AA33","v":{"v":4,"d":"4.0"}},{"$f":"'법정동(2014.12월말)'!AB32-'법정동(2013년말)'!AB33","v":{"v":0,"d":"0.0"}},{"$f":"'법정동(2014.12월말)'!AC32-'법정동(2013년말)'!AC33","v":{"v":0,"d":"0.0"}},{"$f":"'법정동(2014.12월말)'!AD32-'법정동(2013년말)'!AD33","v":{"v":-7402.600000000006,"d":"-7,402.6"}},{"$f":"'법정동(2014.12월말)'!AE32-'법정동(2013년말)'!AE33","v":{"v":1,"d":"1.0"}},{"$f":"'법정동(2014.12월말)'!AF32-'법정동(2013년말)'!AF33","v":{"v":145,"d":"145.0"}},{"$f":"'법정동(2014.12월말)'!AG32-'법정동(2013년말)'!AG33","v":{"v":3,"d":"3.0"}},{"$f":"'법정동(2014.12월말)'!AH32-'법정동(2013년말)'!AH33","v":{"v":0,"d":"0.0"}},{"$f":"'법정동(2014.12월말)'!AI32-'법정동(2013년말)'!AI33","v":{"v":0,"d":"0.0"}},{"$f":"'법정동(2014.12월말)'!AJ32-'법정동(2013년말)'!AJ33","v":{"v":0,"d":"0.0"}},{"$f":"'법정동(2014.12월말)'!AK32-'법정동(2013년말)'!AK33","v":{"v":0,"d":"0.0"}},{"$f":"'법정동(2014.12월말)'!AL32-'법정동(2013년말)'!AL33","v":{"v":0,"d":"0.0"}},{"$f":"'법정동(2014.12월말)'!AM32-'법정동(2013년말)'!AM33","v":{"v":1,"d":"1.0"}},{"$f":"'법정동(2014.12월말)'!AN32-'법정동(2013년말)'!AN33","v":{"v":0,"d":"0.0"}},{"$f":"'법정동(2014.12월말)'!AO32-'법정동(2013년말)'!AO33","v":{"v":0,"d":"0.0"}},{"$f":"'법정동(2014.12월말)'!AP32-'법정동(2013년말)'!AP33","v":{"v":0,"d":"0.0"}},{"$f":"'법정동(2014.12월말)'!AQ32-'법정동(2013년말)'!AQ33","v":{"v":0,"d":"0.0"}},{"$f":"'법정동(2014.12월말)'!AR32-'법정동(2013년말)'!AR33","v":{"v":0,"d":"0.0"}},{"$f":"'법정동(2014.12월말)'!AS32-'법정동(2013년말)'!AS33","v":{"v":0,"d":"0.0"}},{"$f":"'법정동(2014.12월말)'!AT32-'법정동(2013년말)'!AT33","v":{"v":7415.600000000006,"d":"7,415.6"}},{"$f":"'법정동(2014.12월말)'!AU32-'법정동(2013년말)'!AU33","v":{"v":1,"d":"1.0"}},{"$f":"'법정동(2014.12월말)'!AV32-'법정동(2013년말)'!AV33","v":{"v":0,"d":"0.0"}},{"$f":"'법정동(2014.12월말)'!AW32-'법정동(2013년말)'!AW33","v":{"v":0,"d":"0.0"}},{"$f":"'법정동(2014.12월말)'!AX32-'법정동(2013년말)'!AX33","v":{"v":0,"d":"0.0"}},{"$f":"'법정동(2014.12월말)'!AY32-'법정동(2013년말)'!AY33","v":{"v":0,"d":"0.0"}},{"$f":"'법정동(2014.12월말)'!AZ32-'법정동(2013년말)'!AZ33","v":{"v":1315,"d":"1,315.0"}},{"$f":"'법정동(2014.12월말)'!BA32-'법정동(2013년말)'!BA33","v":{"v":2,"d":"2.0"}},{"$f":"'법정동(2014.12월말)'!BB32-'법정동(2013년말)'!BB33","v":{"v":0,"d":"0.0"}},{"$f":"'법정동(2014.12월말)'!BC32-'법정동(2013년말)'!BC33","v":{"v":0,"d":"0.0"}},{"$f":"'법정동(2014.12월말)'!BD32-'법정동(2013년말)'!BD33","v":{"v":881,"d":"881.0"}},{"$f":"'법정동(2014.12월말)'!BE32-'법정동(2013년말)'!BE33","v":{"v":1,"d":"1.0"}},{"$f":"'법정동(2014.12월말)'!BF32-'법정동(2013년말)'!BF33","v":{"v":0,"d":"0.0"}},{"$f":"'법정동(2014.12월말)'!BG32-'법정동(2013년말)'!BG33","v":{"v":0,"d":"0.0"}}]
["경호동",{"$f":"'법정동(2014.12월말)'!B33-'법정동(2013년말)'!B34","v":{"v":-84.00000000046566,"d":"-84.0"}},{"$f":"'법정동(2014.12월말)'!C33-'법정동(2013년말)'!C34","v":{"v":13,"d":"13.0"}},{"$f":"'법정동(2014.12월말)'!D33-'법정동(2013년말)'!D34","v":{"v":0,"d":"0.0"}},{"$f":"'법정동(2014.12월말)'!E33-'법정동(2013년말)'!E34","v":{"v":8,"d":"8.0"}},{"$f":"'법정동(2014.12월말)'!F33-'법정동(2013년말)'!F34","v":{"v":0,"d":"0.0"}},{"$f":"'법정동(2014.12월말)'!G33-'법정동(2013년말)'!G34","v":{"v":0,"d":"0.0"}},{"$f":"'법정동(2014.12월말)'!H33-'법정동(2013년말)'!H34","v":{"v":0,"d":"0.0"}},{"$f":"'법정동(2014.12월말)'!I33-'법정동(2013년말)'!I34","v":{"v":0,"d":"0.0"}},{"$f":"'법정동(2014.12월말)'!J33-'법정동(2013년말)'!J34","v":{"v":0,"d":"0.0"}},{"$f":"'법정동(2014.12월말)'!K33-'법정동(2013년말)'!K34","v":{"v":0,"d":"0.0"}},{"$f":"'법정동(2014.12월말)'!L33-'법정동(2013년말)'!L34","v":{"v":510,"d":"510.0"}},{"$f":"'법정동(2014.12월말)'!M33-'법정동(2013년말)'!M34","v":{"v":3,"d":"3.0"}},{"$f":"'법정동(2014.12월말)'!N33-'법정동(2013년말)'!N34","v":{"v":0,"d":"0.0"}},{"$f":"'법정동(2014.12월말)'!O33-'법정동(2013년말)'!O34","v":{"v":0,"d":"0.0"}},{"$f":"'법정동(2014.12월말)'!P33-'법정동(2013년말)'!P34","v":{"v":0,"d":"0.0"}},{"$f":"'법정동(2014.12월말)'!Q33-'법정동(2013년말)'!Q34","v":{"v":0,"d":"0.0"}},{"$f":"'법정동(2014.12월말)'!R33-'법정동(2013년말)'!R34","v":{"v":0,"d":"0.0"}},{"$f":"'법정동(2014.12월말)'!S33-'법정동(2013년말)'!S34","v":{"v":1,"d":"1.0"}},{"$f":"'법정동(2014.12월말)'!T33-'법정동(2013년말)'!T34","v":{"v":0,"d":"0.0"}},{"$f":"'법정동(2014.12월말)'!U33-'법정동(2013년말)'!U34","v":{"v":0,"d":"0.0"}},{"$f":"'법정동(2014.12월말)'!V33-'법정동(2013년말)'!V34","v":{"v":0,"d":"0.0"}},{"$f":"'법정동(2014.12월말)'!W33-'법정동(2013년말)'!W34","v":{"v":0,"d":"0.0"}},{"$f":"'법정동(2014.12월말)'!X33-'법정동(2013년말)'!X34","v":{"v":0,"d":"0.0"}},{"$f":"'법정동(2014.12월말)'!Y33-'법정동(2013년말)'!Y34","v":{"v":0,"d":"0.0"}},{"$f":"'법정동(2014.12월말)'!Z33-'법정동(2013년말)'!Z34","v":{"v":0,"d":"0.0"}},{"$f":"'법정동(2014.12월말)'!AA33-'법정동(2013년말)'!AA34","v":{"v":0,"d":"0.0"}},{"$f":"'법정동(2014.12월말)'!AB33-'법정동(2013년말)'!AB34","v":{"v":0,"d":"0.0"}},{"$f":"'법정동(2014.12월말)'!AC33-'법정동(2013년말)'!AC34","v":{"v":0,"d":"0.0"}},{"$f":"'법정동(2014.12월말)'!AD33-'법정동(2013년말)'!AD34","v":{"v":0,"d":"0.0"}},{"$f":"'법정동(2014.12월말)'!AE33-'법정동(2013년말)'!AE34","v":{"v":1,"d":"1.0"}},{"$f":"'법정동(2014.12월말)'!AF33-'법정동(2013년말)'!AF34","v":{"v":0,"d":"0.0"}},{"$f":"'법정동(2014.12월말)'!AG33-'법정동(2013년말)'!AG34","v":{"v":0,"d":"0.0"}},{"$f":"'법정동(2014.12월말)'!AH33-'법정동(2013년말)'!AH34","v":{"v":-84,"d":"-84.0"}},{"$f":"'법정동(2014.12월말)'!AI33-'법정동(2013년말)'!AI34","v":{"v":0,"d":"0.0"}},{"$f":"'법정동(2014.12월말)'!AJ33-'법정동(2013년말)'!AJ34","v":{"v":0,"d":"0.0"}},{"$f":"'법정동(2014.12월말)'!AK33-'법정동(2013년말)'!AK34","v":{"v":0,"d":"0.0"}},{"$f":"'법정동(2014.12월말)'!AL33-'법정동(2013년말)'!AL34","v":{"v":0,"d":"0.0"}},{"$f":"'법정동(2014.12월말)'!AM33-'법정동(2013년말)'!AM34","v":{"v":0,"d":"0.0"}},{"$f":"'법정동(2014.12월말)'!AN33-'법정동(2013년말)'!AN34","v":{"v":0,"d":"0.0"}},{"$f":"'법정동(2014.12월말)'!AO33-'법정동(2013년말)'!AO34","v":{"v":0,"d":"0.0"}},{"$f":"'법정동(2014.12월말)'!AP33-'법정동(2013년말)'!AP34","v":{"v":0,"d":"0.0"}},{"$f":"'법정동(2014.12월말)'!AQ33-'법정동(2013년말)'!AQ34","v":{"v":0,"d":"0.0"}},{"$f":"'법정동(2014.12월말)'!AR33-'법정동(2013년말)'!AR34","v":{"v":0,"d":"0.0"}},{"$f":"'법정동(2014.12월말)'!AS33-'법정동(2013년말)'!AS34","v":{"v":0,"d":"0.0"}},{"$f":"'법정동(2014.12월말)'!AT33-'법정동(2013년말)'!AT34","v":{"v":0,"d":"0.0"}},{"$f":"'법정동(2014.12월말)'!AU33-'법정동(2013년말)'!AU34","v":{"v":0,"d":"0.0"}},{"$f":"'법정동(2014.12월말)'!AV33-'법정동(2013년말)'!AV34","v":{"v":0,"d":"0.0"}},{"$f":"'법정동(2014.12월말)'!AW33-'법정동(2013년말)'!AW34","v":{"v":0,"d":"0.0"}},{"$f":"'법정동(2014.12월말)'!AX33-'법정동(2013년말)'!AX34","v":{"v":0,"d":"0.0"}},{"$f":"'법정동(2014.12월말)'!AY33-'법정동(2013년말)'!AY34","v":{"v":0,"d":"0.0"}},{"$f":"'법정동(2014.12월말)'!AZ33-'법정동(2013년말)'!AZ34","v":{"v":71,"d":"71.0"}},{"$f":"'법정동(2014.12월말)'!BA33-'법정동(2013년말)'!BA34","v":{"v":1,"d":"1.0"}},{"$f":"'법정동(2014.12월말)'!BB33-'법정동(2013년말)'!BB34","v":{"v":0,"d":"0.0"}},{"$f":"'법정동(2014.12월말)'!BC33-'법정동(2013년말)'!BC34","v":{"v":0,"d":"0.0"}},{"$f":"'법정동(2014.12월말)'!BD33-'법정동(2013년말)'!BD34","v":{"v":-581,"d":"-581.0"}},{"$f":"'법정동(2014.12월말)'!BE33-'법정동(2013년말)'!BE34","v":{"v":-1,"d":"-1.0"}},{"$f":"'법정동(2014.12월말)'!BF33-'법정동(2013년말)'!BF34","v":{"v":0,"d":"0.0"}},{"$f":"'법정동(2014.12월말)'!BG33-'법정동(2013년말)'!BG34","v":{"v":0,"d":"0.0"}}]
["학동",{"$f":"'법정동(2014.12월말)'!B34-'법정동(2013년말)'!B35","v":{"v":0,"d":"0.0"}},{"$f":"'법정동(2014.12월말)'!C34-'법정동(2013년말)'!C35","v":{"v":6,"d":"6.0"}},{"$f":"'법정동(2014.12월말)'!D34-'법정동(2013년말)'!D35","v":{"v":0,"d":"0.0"}},{"$f":"'법정동(2014.12월말)'!E34-'법정동(2013년말)'!E35","v":{"v":0,"d":"0.0"}},{"$f":"'법정동(2014.12월말)'!F34-'법정동(2013년말)'!F35","v":{"v":0,"d":"0.0"}},{"$f":"'법정동(2014.12월말)'!G34-'법정동(2013년말)'!G35","v":{"v":0,"d":"0.0"}},{"$f":"'법정동(2014.12월말)'!H34-'법정동(2013년말)'!H35","v":{"v":0,"d":"0.0"}},{"$f":"'법정동(2014.12월말)'!I34-'법정동(2013년말)'!I35","v":{"v":0,"d":"0.0"}},{"$f":"'법정동(2014.12월말)'!J34-'법정동(2013년말)'!J35","v":{"v":0,"d":"0.0"}},{"$f":"'법정동(2014.12월말)'!K34-'법정동(2013년말)'!K35","v":{"v":0,"d":"0.0"}},{"$f":"'법정동(2014.12월말)'!L34-'법정동(2013년말)'!L35","v":{"v":0,"d":"0.0"}},{"$f":"'법정동(2014.12월말)'!M34-'법정동(2013년말)'!M35","v":{"v":0,"d":"0.0"}},{"$f":"'법정동(2014.12월말)'!N34-'법정동(2013년말)'!N35","v":{"v":0,"d":"0.0"}},{"$f":"'법정동(2014.12월말)'!O34-'법정동(2013년말)'!O35","v":{"v":0,"d":"0.0"}},{"$f":"'법정동(2014.12월말)'!P34-'법정동(2013년말)'!P35","v":{"v":0,"d":"0.0"}},{"$f":"'법정동(2014.12월말)'!Q34-'법정동(2013년말)'!Q35","v":{"v":0,"d":"0.0"}},{"$f":"'법정동(2014.12월말)'!R34-'법정동(2013년말)'!R35","v":{"v":4410.5,"d":"4,410.5"}},{"$f":"'법정동(2014.12월말)'!S34-'법정동(2013년말)'!S35","v":{"v":4,"d":"4.0"}},{"$f":"'법정동(2014.12월말)'!T34-'법정동(2013년말)'!T35","v":{"v":0,"d":"0.0"}},{"$f":"'법정동(2014.12월말)'!U34-'법정동(2013년말)'!U35","v":{"v":0,"d":"0.0"}},{"$f":"'법정동(2014.12월말)'!V34-'법정동(2013년말)'!V35","v":{"v":0,"d":"0.0"}},{"$f":"'법정동(2014.12월말)'!W34-'법정동(2013년말)'!W35","v":{"v":0,"d":"0.0"}},{"$f":"'법정동(2014.12월말)'!X34-'법정동(2013년말)'!X35","v":{"v":0,"d":"0.0"}},{"$f":"'법정동(2014.12월말)'!Y34-'법정동(2013년말)'!Y35","v":{"v":0,"d":"0.0"}},{"$f":"'법정동(2014.12월말)'!Z34-'법정동(2013년말)'!Z35","v":{"v":0,"d":"0.0"}},{"$f":"'법정동(2014.12월말)'!AA34-'법정동(2013년말)'!AA35","v":{"v":0,"d":"0.0"}},{"$f":"'법정동(2014.12월말)'!AB34-'법정동(2013년말)'!AB35","v":{"v":0,"d":"0.0"}},{"$f":"'법정동(2014.12월말)'!AC34-'법정동(2013년말)'!AC35","v":{"v":0,"d":"0.0"}},{"$f":"'법정동(2014.12월말)'!AD34-'법정동(2013년말)'!AD35","v":{"v":192.89999999996508,"d":"192.9"}},{"$f":"'법정동(2014.12월말)'!AE34-'법정동(2013년말)'!AE35","v":{"v":2,"d":"2.0"}},{"$f":"'법정동(2014.12월말)'!AF34-'법정동(2013년말)'!AF35","v":{"v":0,"d":"0.0"}},{"$f":"'법정동(2014.12월말)'!AG34-'법정동(2013년말)'!AG35","v":{"v":0,"d":"0.0"}},{"$f":"'법정동(2014.12월말)'!AH34-'법정동(2013년말)'!AH35","v":{"v":0,"d":"0.0"}},{"$f":"'법정동(2014.12월말)'!AI34-'법정동(2013년말)'!AI35","v":{"v":0,"d":"0.0"}},{"$f":"'법정동(2014.12월말)'!AJ34-'법정동(2013년말)'!AJ35","v":{"v":0,"d":"0.0"}},{"$f":"'법정동(2014.12월말)'!AK34-'법정동(2013년말)'!AK35","v":{"v":0,"d":"0.0"}},{"$f":"'법정동(2014.12월말)'!AL34-'법정동(2013년말)'!AL35","v":{"v":0,"d":"0.0"}},{"$f":"'법정동(2014.12월말)'!AM34-'법정동(2013년말)'!AM35","v":{"v":0,"d":"0.0"}},{"$f":"'법정동(2014.12월말)'!AN34-'법정동(2013년말)'!AN35","v":{"v":0,"d":"0.0"}},{"$f":"'법정동(2014.12월말)'!AO34-'법정동(2013년말)'!AO35","v":{"v":0,"d":"0.0"}},{"$f":"'법정동(2014.12월말)'!AP34-'법정동(2013년말)'!AP35","v":{"v":0,"d":"0.0"}},{"$f":"'법정동(2014.12월말)'!AQ34-'법정동(2013년말)'!AQ35","v":{"v":0,"d":"0.0"}},{"$f":"'법정동(2014.12월말)'!AR34-'법정동(2013년말)'!AR35","v":{"v":0,"d":"0.0"}},{"$f":"'법정동(2014.12월말)'!AS34-'법정동(2013년말)'!AS35","v":{"v":0,"d":"0.0"}},{"$f":"'법정동(2014.12월말)'!AT34-'법정동(2013년말)'!AT35","v":{"v":-4603.400000000009,"d":"-4,603.4"}},{"$f":"'법정동(2014.12월말)'!AU34-'법정동(2013년말)'!AU35","v":{"v":0,"d":"0.0"}},{"$f":"'법정동(2014.12월말)'!AV34-'법정동(2013년말)'!AV35","v":{"v":0,"d":"0.0"}},{"$f":"'법정동(2014.12월말)'!AW34-'법정동(2013년말)'!AW35","v":{"v":0,"d":"0.0"}},{"$f":"'법정동(2014.12월말)'!AX34-'법정동(2013년말)'!AX35","v":{"v":0,"d":"0.0"}},{"$f":"'법정동(2014.12월말)'!AY34-'법정동(2013년말)'!AY35","v":{"v":0,"d":"0.0"}},{"$f":"'법정동(2014.12월말)'!AZ34-'법정동(2013년말)'!AZ35","v":{"v":0,"d":"0.0"}},{"$f":"'법정동(2014.12월말)'!BA34-'법정동(2013년말)'!BA35","v":{"v":0,"d":"0.0"}},{"$f":"'법정동(2014.12월말)'!BB34-'법정동(2013년말)'!BB35","v":{"v":0,"d":"0.0"}},{"$f":"'법정동(2014.12월말)'!BC34-'법정동(2013년말)'!BC35","v":{"v":0,"d":"0.0"}},{"$f":"'법정동(2014.12월말)'!BD34-'법정동(2013년말)'!BD35","v":{"v":0,"d":"0.0"}},{"$f":"'법정동(2014.12월말)'!BE34-'법정동(2013년말)'!BE35","v":{"v":0,"d":"0.0"}},{"$f":"'법정동(2014.12월말)'!BF34-'법정동(2013년말)'!BF35","v":{"v":0,"d":"0.0"}},{"$f":"'법정동(2014.12월말)'!BG34-'법정동(2013년말)'!BG35","v":{"v":0,"d":"0.0"}}]
["학용동",{"$f":"'법정동(2014.12월말)'!B35-'법정동(2013년말)'!B36","v":{"v":0,"d":"0.0"}},{"$f":"'법정동(2014.12월말)'!C35-'법정동(2013년말)'!C36","v":{"v":0,"d":"0.0"}},{"$f":"'법정동(2014.12월말)'!D35-'법정동(2013년말)'!D36","v":{"v":0,"d":"0.0"}},{"$f":"'법정동(2014.12월말)'!E35-'법정동(2013년말)'!E36","v":{"v":0,"d":"0.0"}},{"$f":"'법정동(2014.12월말)'!F35-'법정동(2013년말)'!F36","v":{"v":0,"d":"0.0"}},{"$f":"'법정동(2014.12월말)'!G35-'법정동(2013년말)'!G36","v":{"v":0,"d":"0.0"}},{"$f":"'법정동(2014.12월말)'!H35-'법정동(2013년말)'!H36","v":{"v":0,"d":"0.0"}},{"$f":"'법정동(2014.12월말)'!I35-'법정동(2013년말)'!I36","v":{"v":0,"d":"0.0"}},{"$f":"'법정동(2014.12월말)'!J35-'법정동(2013년말)'!J36","v":{"v":0,"d":"0.0"}},{"$f":"'법정동(2014.12월말)'!K35-'법정동(2013년말)'!K36","v":{"v":0,"d":"0.0"}},{"$f":"'법정동(2014.12월말)'!L35-'법정동(2013년말)'!L36","v":{"v":0,"d":"0.0"}},{"$f":"'법정동(2014.12월말)'!M35-'법정동(2013년말)'!M36","v":{"v":0,"d":"0.0"}},{"$f":"'법정동(2014.12월말)'!N35-'법정동(2013년말)'!N36","v":{"v":0,"d":"0.0"}},{"$f":"'법정동(2014.12월말)'!O35-'법정동(2013년말)'!O36","v":{"v":0,"d":"0.0"}},{"$f":"'법정동(2014.12월말)'!P35-'법정동(2013년말)'!P36","v":{"v":0,"d":"0.0"}},{"$f":"'법정동(2014.12월말)'!Q35-'법정동(2013년말)'!Q36","v":{"v":0,"d":"0.0"}},{"$f":"'법정동(2014.12월말)'!R35-'법정동(2013년말)'!R36","v":{"v":0,"d":"0.0"}},{"$f":"'법정동(2014.12월말)'!S35-'법정동(2013년말)'!S36","v":{"v":0,"d":"0.0"}},{"$f":"'법정동(2014.12월말)'!T35-'법정동(2013년말)'!T36","v":{"v":0,"d":"0.0"}},{"$f":"'법정동(2014.12월말)'!U35-'법정동(2013년말)'!U36","v":{"v":0,"d":"0.0"}},{"$f":"'법정동(2014.12월말)'!V35-'법정동(2013년말)'!V36","v":{"v":0,"d":"0.0"}},{"$f":"'법정동(2014.12월말)'!W35-'법정동(2013년말)'!W36","v":{"v":0,"d":"0.0"}},{"$f":"'법정동(2014.12월말)'!X35-'법정동(2013년말)'!X36","v":{"v":0,"d":"0.0"}},{"$f":"'법정동(2014.12월말)'!Y35-'법정동(2013년말)'!Y36","v":{"v":0,"d":"0.0"}},{"$f":"'법정동(2014.12월말)'!Z35-'법정동(2013년말)'!Z36","v":{"v":0,"d":"0.0"}},{"$f":"'법정동(2014.12월말)'!AA35-'법정동(2013년말)'!AA36","v":{"v":0,"d":"0.0"}},{"$f":"'법정동(2014.12월말)'!AB35-'법정동(2013년말)'!AB36","v":{"v":0,"d":"0.0"}},{"$f":"'법정동(2014.12월말)'!AC35-'법정동(2013년말)'!AC36","v":{"v":0,"d":"0.0"}},{"$f":"'법정동(2014.12월말)'!AD35-'법정동(2013년말)'!AD36","v":{"v":0,"d":"0.0"}},{"$f":"'법정동(2014.12월말)'!AE35-'법정동(2013년말)'!AE36","v":{"v":0,"d":"0.0"}},{"$f":"'법정동(2014.12월말)'!AF35-'법정동(2013년말)'!AF36","v":{"v":0,"d":"0.0"}},{"$f":"'법정동(2014.12월말)'!AG35-'법정동(2013년말)'!AG36","v":{"v":0,"d":"0.0"}},{"$f":"'법정동(2014.12월말)'!AH35-'법정동(2013년말)'!AH36","v":{"v":0,"d":"0.0"}},{"$f":"'법정동(2014.12월말)'!AI35-'법정동(2013년말)'!AI36","v":{"v":0,"d":"0.0"}},{"$f":"'법정동(2014.12월말)'!AJ35-'법정동(2013년말)'!AJ36","v":{"v":0,"d":"0.0"}},{"$f":"'법정동(2014.12월말)'!AK35-'법정동(2013년말)'!AK36","v":{"v":0,"d":"0.0"}},{"$f":"'법정동(2014.12월말)'!AL35-'법정동(2013년말)'!AL36","v":{"v":0,"d":"0.0"}},{"$f":"'법정동(2014.12월말)'!AM35-'법정동(2013년말)'!AM36","v":{"v":0,"d":"0.0"}},{"$f":"'법정동(2014.12월말)'!AN35-'법정동(2013년말)'!AN36","v":{"v":0,"d":"0.0"}},{"$f":"'법정동(2014.12월말)'!AO35-'법정동(2013년말)'!AO36","v":{"v":0,"d":"0.0"}},{"$f":"'법정동(2014.12월말)'!AP35-'법정동(2013년말)'!AP36","v":{"v":0,"d":"0.0"}},{"$f":"'법정동(2014.12월말)'!AQ35-'법정동(2013년말)'!AQ36","v":{"v":0,"d":"0.0"}},{"$f":"'법정동(2014.12월말)'!AR35-'법정동(2013년말)'!AR36","v":{"v":0,"d":"0.0"}},{"$f":"'법정동(2014.12월말)'!AS35-'법정동(2013년말)'!AS36","v":{"v":0,"d":"0.0"}},{"$f":"'법정동(2014.12월말)'!AT35-'법정동(2013년말)'!AT36","v":{"v":0,"d":"0.0"}},{"$f":"'법정동(2014.12월말)'!AU35-'법정동(2013년말)'!AU36","v":{"v":0,"d":"0.0"}},{"$f":"'법정동(2014.12월말)'!AV35-'법정동(2013년말)'!AV36","v":{"v":0,"d":"0.0"}},{"$f":"'법정동(2014.12월말)'!AW35-'법정동(2013년말)'!AW36","v":{"v":0,"d":"0.0"}},{"$f":"'법정동(2014.12월말)'!AX35-'법정동(2013년말)'!AX36","v":{"v":0,"d":"0.0"}},{"$f":"'법정동(2014.12월말)'!AY35-'법정동(2013년말)'!AY36","v":{"v":0,"d":"0.0"}},{"$f":"'법정동(2014.12월말)'!AZ35-'법정동(2013년말)'!AZ36","v":{"v":0,"d":"0.0"}},{"$f":"'법정동(2014.12월말)'!BA35-'법정동(2013년말)'!BA36","v":{"v":0,"d":"0.0"}},{"$f":"'법정동(2014.12월말)'!BB35-'법정동(2013년말)'!BB36","v":{"v":0,"d":"0.0"}},{"$f":"'법정동(2014.12월말)'!BC35-'법정동(2013년말)'!BC36","v":{"v":0,"d":"0.0"}},{"$f":"'법정동(2014.12월말)'!BD35-'법정동(2013년말)'!BD36","v":{"v":0,"d":"0.0"}},{"$f":"'법정동(2014.12월말)'!BE35-'법정동(2013년말)'!BE36","v":{"v":0,"d":"0.0"}},{"$f":"'법정동(2014.12월말)'!BF35-'법정동(2013년말)'!BF36","v":{"v":0,"d":"0.0"}},{"$f":"'법정동(2014.12월말)'!BG35-'법정동(2013년말)'!BG36","v":{"v":0,"d":"0.0"}}]
["안산동",{"$f":"'법정동(2014.12월말)'!B36-'법정동(2013년말)'!B37","v":{"v":0,"d":"0.0"}},{"$f":"'법정동(2014.12월말)'!C36-'법정동(2013년말)'!C37","v":{"v":-6,"d":"-6.0"}},{"$f":"'법정동(2014.12월말)'!D36-'법정동(2013년말)'!D37","v":{"v":0,"d":"0.0"}},{"$f":"'법정동(2014.12월말)'!E36-'법정동(2013년말)'!E37","v":{"v":0,"d":"0.0"}},{"$f":"'법정동(2014.12월말)'!F36-'법정동(2013년말)'!F37","v":{"v":0,"d":"0.0"}},{"$f":"'법정동(2014.12월말)'!G36-'법정동(2013년말)'!G37","v":{"v":0,"d":"0.0"}},{"$f":"'법정동(2014.12월말)'!H36-'법정동(2013년말)'!H37","v":{"v":0,"d":"0.0"}},{"$f":"'법정동(2014.12월말)'!I36-'법정동(2013년말)'!I37","v":{"v":0,"d":"0.0"}},{"$f":"'법정동(2014.12월말)'!J36-'법정동(2013년말)'!J37","v":{"v":0,"d":"0.0"}},{"$f":"'법정동(2014.12월말)'!K36-'법정동(2013년말)'!K37","v":{"v":0,"d":"0.0"}},{"$f":"'법정동(2014.12월말)'!L36-'법정동(2013년말)'!L37","v":{"v":0,"d":"0.0"}},{"$f":"'법정동(2014.12월말)'!M36-'법정동(2013년말)'!M37","v":{"v":-2,"d":"-2.0"}},{"$f":"'법정동(2014.12월말)'!N36-'법정동(2013년말)'!N37","v":{"v":0,"d":"0.0"}},{"$f":"'법정동(2014.12월말)'!O36-'법정동(2013년말)'!O37","v":{"v":0,"d":"0.0"}},{"$f":"'법정동(2014.12월말)'!P36-'법정동(2013년말)'!P37","v":{"v":0,"d":"0.0"}},{"$f":"'법정동(2014.12월말)'!Q36-'법정동(2013년말)'!Q37","v":{"v":0,"d":"0.0"}},{"$f":"'법정동(2014.12월말)'!R36-'법정동(2013년말)'!R37","v":{"v":0,"d":"0.0"}},{"$f":"'법정동(2014.12월말)'!S36-'법정동(2013년말)'!S37","v":{"v":-4,"d":"-4.0"}},{"$f":"'법정동(2014.12월말)'!T36-'법정동(2013년말)'!T37","v":{"v":0,"d":"0.0"}},{"$f":"'법정동(2014.12월말)'!U36-'법정동(2013년말)'!U37","v":{"v":0,"d":"0.0"}},{"$f":"'법정동(2014.12월말)'!V36-'법정동(2013년말)'!V37","v":{"v":0,"d":"0.0"}},{"$f":"'법정동(2014.12월말)'!W36-'법정동(2013년말)'!W37","v":{"v":0,"d":"0.0"}},{"$f":"'법정동(2014.12월말)'!X36-'법정동(2013년말)'!X37","v":{"v":0,"d":"0.0"}},{"$f":"'법정동(2014.12월말)'!Y36-'법정동(2013년말)'!Y37","v":{"v":0,"d":"0.0"}},{"$f":"'법정동(2014.12월말)'!Z36-'법정동(2013년말)'!Z37","v":{"v":0,"d":"0.0"}},{"$f":"'법정동(2014.12월말)'!AA36-'법정동(2013년말)'!AA37","v":{"v":0,"d":"0.0"}},{"$f":"'법정동(2014.12월말)'!AB36-'법정동(2013년말)'!AB37","v":{"v":0,"d":"0.0"}},{"$f":"'법정동(2014.12월말)'!AC36-'법정동(2013년말)'!AC37","v":{"v":0,"d":"0.0"}},{"$f":"'법정동(2014.12월말)'!AD36-'법정동(2013년말)'!AD37","v":{"v":0,"d":"0.0"}},{"$f":"'법정동(2014.12월말)'!AE36-'법정동(2013년말)'!AE37","v":{"v":0,"d":"0.0"}},{"$f":"'법정동(2014.12월말)'!AF36-'법정동(2013년말)'!AF37","v":{"v":0,"d":"0.0"}},{"$f":"'법정동(2014.12월말)'!AG36-'법정동(2013년말)'!AG37","v":{"v":0,"d":"0.0"}},{"$f":"'법정동(2014.12월말)'!AH36-'법정동(2013년말)'!AH37","v":{"v":0,"d":"0.0"}},{"$f":"'법정동(2014.12월말)'!AI36-'법정동(2013년말)'!AI37","v":{"v":0,"d":"0.0"}},{"$f":"'법정동(2014.12월말)'!AJ36-'법정동(2013년말)'!AJ37","v":{"v":0,"d":"0.0"}},{"$f":"'법정동(2014.12월말)'!AK36-'법정동(2013년말)'!AK37","v":{"v":0,"d":"0.0"}},{"$f":"'법정동(2014.12월말)'!AL36-'법정동(2013년말)'!AL37","v":{"v":0,"d":"0.0"}},{"$f":"'법정동(2014.12월말)'!AM36-'법정동(2013년말)'!AM37","v":{"v":0,"d":"0.0"}},{"$f":"'법정동(2014.12월말)'!AN36-'법정동(2013년말)'!AN37","v":{"v":0,"d":"0.0"}},{"$f":"'법정동(2014.12월말)'!AO36-'법정동(2013년말)'!AO37","v":{"v":0,"d":"0.0"}},{"$f":"'법정동(2014.12월말)'!AP36-'법정동(2013년말)'!AP37","v":{"v":0,"d":"0.0"}},{"$f":"'법정동(2014.12월말)'!AQ36-'법정동(2013년말)'!AQ37","v":{"v":0,"d":"0.0"}},{"$f":"'법정동(2014.12월말)'!AR36-'법정동(2013년말)'!AR37","v":{"v":0,"d":"0.0"}},{"$f":"'법정동(2014.12월말)'!AS36-'법정동(2013년말)'!AS37","v":{"v":0,"d":"0.0"}},{"$f":"'법정동(2014.12월말)'!AT36-'법정동(2013년말)'!AT37","v":{"v":0,"d":"0.0"}},{"$f":"'법정동(2014.12월말)'!AU36-'법정동(2013년말)'!AU37","v":{"v":0,"d":"0.0"}},{"$f":"'법정동(2014.12월말)'!AV36-'법정동(2013년말)'!AV37","v":{"v":0,"d":"0.0"}},{"$f":"'법정동(2014.12월말)'!AW36-'법정동(2013년말)'!AW37","v":{"v":0,"d":"0.0"}},{"$f":"'법정동(2014.12월말)'!AX36-'법정동(2013년말)'!AX37","v":{"v":0,"d":"0.0"}},{"$f":"'법정동(2014.12월말)'!AY36-'법정동(2013년말)'!AY37","v":{"v":0,"d":"0.0"}},{"$f":"'법정동(2014.12월말)'!AZ36-'법정동(2013년말)'!AZ37","v":{"v":0,"d":"0.0"}},{"$f":"'법정동(2014.12월말)'!BA36-'법정동(2013년말)'!BA37","v":{"v":0,"d":"0.0"}},{"$f":"'법정동(2014.12월말)'!BB36-'법정동(2013년말)'!BB37","v":{"v":0,"d":"0.0"}},{"$f":"'법정동(2014.12월말)'!BC36-'법정동(2013년말)'!BC37","v":{"v":0,"d":"0.0"}},{"$f":"'법정동(2014.12월말)'!BD36-'법정동(2013년말)'!BD37","v":{"v":0,"d":"0.0"}},{"$f":"'법정동(2014.12월말)'!BE36-'법정동(2013년말)'!BE37","v":{"v":0,"d":"0.0"}},{"$f":"'법정동(2014.12월말)'!BF36-'법정동(2013년말)'!BF37","v":{"v":0,"d":"0.0"}},{"$f":"'법정동(2014.12월말)'!BG36-'법정동(2013년말)'!BG37","v":{"v":0,"d":"0.0"}}]
["소호동",{"$f":"'법정동(2014.12월말)'!B37-'법정동(2013년말)'!B38","v":{"v":0,"d":"0.0"}},{"$f":"'법정동(2014.12월말)'!C37-'법정동(2013년말)'!C38","v":{"v":-94,"d":"-94.0"}},{"$f":"'법정동(2014.12월말)'!D37-'법정동(2013년말)'!D38","v":{"v":-15352,"d":"-15,352.0"}},{"$f":"'법정동(2014.12월말)'!E37-'법정동(2013년말)'!E38","v":{"v":-27,"d":"-27.0"}},{"$f":"'법정동(2014.12월말)'!F37-'법정동(2013년말)'!F38","v":{"v":-32987,"d":"-32,987.0"}},{"$f":"'법정동(2014.12월말)'!G37-'법정동(2013년말)'!G38","v":{"v":-62,"d":"-62.0"}},{"$f":"'법정동(2014.12월말)'!H37-'법정동(2013년말)'!H38","v":{"v":0,"d":"0.0"}},{"$f":"'법정동(2014.12월말)'!I37-'법정동(2013년말)'!I38","v":{"v":0,"d":"0.0"}},{"$f":"'법정동(2014.12월말)'!J37-'법정동(2013년말)'!J38","v":{"v":0,"d":"0.0"}},{"$f":"'법정동(2014.12월말)'!K37-'법정동(2013년말)'!K38","v":{"v":0,"d":"0.0"}},{"$f":"'법정동(2014.12월말)'!L37-'법정동(2013년말)'!L38","v":{"v":-18479,"d":"-18,479.0"}},{"$f":"'법정동(2014.12월말)'!M37-'법정동(2013년말)'!M38","v":{"v":-6,"d":"-6.0"}},{"$f":"'법정동(2014.12월말)'!N37-'법정동(2013년말)'!N38","v":{"v":0,"d":"0.0"}},{"$f":"'법정동(2014.12월말)'!O37-'법정동(2013년말)'!O38","v":{"v":0,"d":"0.0"}},{"$f":"'법정동(2014.12월말)'!P37-'법정동(2013년말)'!P38","v":{"v":0,"d":"0.0"}},{"$f":"'법정동(2014.12월말)'!Q37-'법정동(2013년말)'!Q38","v":{"v":0,"d":"0.0"}},{"$f":"'법정동(2014.12월말)'!R37-'법정동(2013년말)'!R38","v":{"v":-192.80000000004657,"d":"-192.8"}},{"$f":"'법정동(2014.12월말)'!S37-'법정동(2013년말)'!S38","v":{"v":-6,"d":"-6.0"}},{"$f":"'법정동(2014.12월말)'!T37-'법정동(2013년말)'!T38","v":{"v":0,"d":"0.0"}},{"$f":"'법정동(2014.12월말)'!U37-'법정동(2013년말)'!U38","v":{"v":0,"d":"0.0"}},{"$f":"'법정동(2014.12월말)'!V37-'법정동(2013년말)'!V38","v":{"v":0,"d":"0.0"}},{"$f":"'법정동(2014.12월말)'!W37-'법정동(2013년말)'!W38","v":{"v":0,"d":"0.0"}},{"$f":"'법정동(2014.12월말)'!X37-'법정동(2013년말)'!X38","v":{"v":220.8000000000011,"d":"220.8"}},{"$f":"'법정동(2014.12월말)'!Y37-'법정동(2013년말)'!Y38","v":{"v":1,"d":"1.0"}},{"$f":"'법정동(2014.12월말)'!Z37-'법정동(2013년말)'!Z38","v":{"v":0,"d":"0.0"}},{"$f":"'법정동(2014.12월말)'!AA37-'법정동(2013년말)'!AA38","v":{"v":0,"d":"0.0"}},{"$f":"'법정동(2014.12월말)'!AB37-'법정동(2013년말)'!AB38","v":{"v":0,"d":"0.0"}},{"$f":"'법정동(2014.12월말)'!AC37-'법정동(2013년말)'!AC38","v":{"v":0,"d":"0.0"}},{"$f":"'법정동(2014.12월말)'!AD37-'법정동(2013년말)'!AD38","v":{"v":68180.99999999997,"d":"68,181.0"}},{"$f":"'법정동(2014.12월말)'!AE37-'법정동(2013년말)'!AE38","v":{"v":10,"d":"10.0"}},{"$f":"'법정동(2014.12월말)'!AF37-'법정동(2013년말)'!AF38","v":{"v":0,"d":"0.0"}},{"$f":"'법정동(2014.12월말)'!AG37-'법정동(2013년말)'!AG38","v":{"v":0,"d":"0.0"}},{"$f":"'법정동(2014.12월말)'!AH37-'법정동(2013년말)'!AH38","v":{"v":0,"d":"0.0"}},{"$f":"'법정동(2014.12월말)'!AI37-'법정동(2013년말)'!AI38","v":{"v":0,"d":"0.0"}},{"$f":"'법정동(2014.12월말)'!AJ37-'법정동(2013년말)'!AJ38","v":{"v":0,"d":"0.0"}},{"$f":"'법정동(2014.12월말)'!AK37-'법정동(2013년말)'!AK38","v":{"v":0,"d":"0.0"}},{"$f":"'법정동(2014.12월말)'!AL37-'법정동(2013년말)'!AL38","v":{"v":0,"d":"0.0"}},{"$f":"'법정동(2014.12월말)'!AM37-'법정동(2013년말)'!AM38","v":{"v":0,"d":"0.0"}},{"$f":"'법정동(2014.12월말)'!AN37-'법정동(2013년말)'!AN38","v":{"v":-240,"d":"-240.0"}},{"$f":"'법정동(2014.12월말)'!AO37-'법정동(2013년말)'!AO38","v":{"v":-1,"d":"-1.0"}},{"$f":"'법정동(2014.12월말)'!AP37-'법정동(2013년말)'!AP38","v":{"v":0,"d":"0.0"}},{"$f":"'법정동(2014.12월말)'!AQ37-'법정동(2013년말)'!AQ38","v":{"v":0,"d":"0.0"}},{"$f":"'법정동(2014.12월말)'!AR37-'법정동(2013년말)'!AR38","v":{"v":0,"d":"0.0"}},{"$f":"'법정동(2014.12월말)'!AS37-'법정동(2013년말)'!AS38","v":{"v":0,"d":"0.0"}},{"$f":"'법정동(2014.12월말)'!AT37-'법정동(2013년말)'!AT38","v":{"v":0,"d":"0.0"}},{"$f":"'법정동(2014.12월말)'!AU37-'법정동(2013년말)'!AU38","v":{"v":0,"d":"0.0"}},{"$f":"'법정동(2014.12월말)'!AV37-'법정동(2013년말)'!AV38","v":{"v":0,"d":"0.0"}},{"$f":"'법정동(2014.12월말)'!AW37-'법정동(2013년말)'!AW38","v":{"v":0,"d":"0.0"}},{"$f":"'법정동(2014.12월말)'!AX37-'법정동(2013년말)'!AX38","v":{"v":0,"d":"0.0"}},{"$f":"'법정동(2014.12월말)'!AY37-'법정동(2013년말)'!AY38","v":{"v":0,"d":"0.0"}},{"$f":"'법정동(2014.12월말)'!AZ37-'법정동(2013년말)'!AZ38","v":{"v":0,"d":"0.0"}},{"$f":"'법정동(2014.12월말)'!BA37-'법정동(2013년말)'!BA38","v":{"v":0,"d":"0.0"}},{"$f":"'법정동(2014.12월말)'!BB37-'법정동(2013년말)'!BB38","v":{"v":0,"d":"0.0"}},{"$f":"'법정동(2014.12월말)'!BC37-'법정동(2013년말)'!BC38","v":{"v":0,"d":"0.0"}},{"$f":"'법정동(2014.12월말)'!BD37-'법정동(2013년말)'!BD38","v":{"v":-1151,"d":"-1,151.0"}},{"$f":"'법정동(2014.12월말)'!BE37-'법정동(2013년말)'!BE38","v":{"v":-3,"d":"-3.0"}},{"$f":"'법정동(2014.12월말)'!BF37-'법정동(2013년말)'!BF38","v":{"v":0,"d":"0.0"}},{"$f":"'법정동(2014.12월말)'!BG37-'법정동(2013년말)'!BG38","v":{"v":0,"d":"0.0"}}]
["시전동",{"$f":"'법정동(2014.12월말)'!B38-'법정동(2013년말)'!B39","v":{"v":0,"d":"0.0"}},{"$f":"'법정동(2014.12월말)'!C38-'법정동(2013년말)'!C39","v":{"v":12,"d":"12.0"}},{"$f":"'법정동(2014.12월말)'!D38-'법정동(2013년말)'!D39","v":{"v":0,"d":"0.0"}},{"$f":"'법정동(2014.12월말)'!E38-'법정동(2013년말)'!E39","v":{"v":2,"d":"2.0"}},{"$f":"'법정동(2014.12월말)'!F38-'법정동(2013년말)'!F39","v":{"v":0,"d":"0.0"}},{"$f":"'법정동(2014.12월말)'!G38-'법정동(2013년말)'!G39","v":{"v":6,"d":"6.0"}},{"$f":"'법정동(2014.12월말)'!H38-'법정동(2013년말)'!H39","v":{"v":0,"d":"0.0"}},{"$f":"'법정동(2014.12월말)'!I38-'법정동(2013년말)'!I39","v":{"v":0,"d":"0.0"}},{"$f":"'법정동(2014.12월말)'!J38-'법정동(2013년말)'!J39","v":{"v":0,"d":"0.0"}},{"$f":"'법정동(2014.12월말)'!K38-'법정동(2013년말)'!K39","v":{"v":0,"d":"0.0"}},{"$f":"'법정동(2014.12월말)'!L38-'법정동(2013년말)'!L39","v":{"v":0,"d":"0.0"}},{"$f":"'법정동(2014.12월말)'!M38-'법정동(2013년말)'!M39","v":{"v":1,"d":"1.0"}},{"$f":"'법정동(2014.12월말)'!N38-'법정동(2013년말)'!N39","v":{"v":0,"d":"0.0"}},{"$f":"'법정동(2014.12월말)'!O38-'법정동(2013년말)'!O39","v":{"v":0,"d":"0.0"}},{"$f":"'법정동(2014.12월말)'!P38-'법정동(2013년말)'!P39","v":{"v":0,"d":"0.0"}},{"$f":"'법정동(2014.12월말)'!Q38-'법정동(2013년말)'!Q39","v":{"v":0,"d":"0.0"}},{"$f":"'법정동(2014.12월말)'!R38-'법정동(2013년말)'!R39","v":{"v":0,"d":"0.0"}},{"$f":"'법정동(2014.12월말)'!S38-'법정동(2013년말)'!S39","v":{"v":0,"d":"0.0"}},{"$f":"'법정동(2014.12월말)'!T38-'법정동(2013년말)'!T39","v":{"v":0,"d":"0.0"}},{"$f":"'법정동(2014.12월말)'!U38-'법정동(2013년말)'!U39","v":{"v":0,"d":"0.0"}},{"$f":"'법정동(2014.12월말)'!V38-'법정동(2013년말)'!V39","v":{"v":0,"d":"0.0"}},{"$f":"'법정동(2014.12월말)'!W38-'법정동(2013년말)'!W39","v":{"v":0,"d":"0.0"}},{"$f":"'법정동(2014.12월말)'!X38-'법정동(2013년말)'!X39","v":{"v":0,"d":"0.0"}},{"$f":"'법정동(2014.12월말)'!Y38-'법정동(2013년말)'!Y39","v":{"v":0,"d":"0.0"}},{"$f":"'법정동(2014.12월말)'!Z38-'법정동(2013년말)'!Z39","v":{"v":0,"d":"0.0"}},{"$f":"'법정동(2014.12월말)'!AA38-'법정동(2013년말)'!AA39","v":{"v":0,"d":"0.0"}},{"$f":"'법정동(2014.12월말)'!AB38-'법정동(2013년말)'!AB39","v":{"v":0,"d":"0.0"}},{"$f":"'법정동(2014.12월말)'!AC38-'법정동(2013년말)'!AC39","v":{"v":0,"d":"0.0"}},{"$f":"'법정동(2014.12월말)'!AD38-'법정동(2013년말)'!AD39","v":{"v":0,"d":"0.0"}},{"$f":"'법정동(2014.12월말)'!AE38-'법정동(2013년말)'!AE39","v":{"v":1,"d":"1.0"}},{"$f":"'법정동(2014.12월말)'!AF38-'법정동(2013년말)'!AF39","v":{"v":0,"d":"0.0"}},{"$f":"'법정동(2014.12월말)'!AG38-'법정동(2013년말)'!AG39","v":{"v":0,"d":"0.0"}},{"$f":"'법정동(2014.12월말)'!AH38-'법정동(2013년말)'!AH39","v":{"v":0,"d":"0.0"}},{"$f":"'법정동(2014.12월말)'!AI38-'법정동(2013년말)'!AI39","v":{"v":0,"d":"0.0"}},{"$f":"'법정동(2014.12월말)'!AJ38-'법정동(2013년말)'!AJ39","v":{"v":0,"d":"0.0"}},{"$f":"'법정동(2014.12월말)'!AK38-'법정동(2013년말)'!AK39","v":{"v":0,"d":"0.0"}},{"$f":"'법정동(2014.12월말)'!AL38-'법정동(2013년말)'!AL39","v":{"v":0,"d":"0.0"}},{"$f":"'법정동(2014.12월말)'!AM38-'법정동(2013년말)'!AM39","v":{"v":2,"d":"2.0"}},{"$f":"'법정동(2014.12월말)'!AN38-'법정동(2013년말)'!AN39","v":{"v":0,"d":"0.0"}},{"$f":"'법정동(2014.12월말)'!AO38-'법정동(2013년말)'!AO39","v":{"v":0,"d":"0.0"}},{"$f":"'법정동(2014.12월말)'!AP38-'법정동(2013년말)'!AP39","v":{"v":0,"d":"0.0"}},{"$f":"'법정동(2014.12월말)'!AQ38-'법정동(2013년말)'!AQ39","v":{"v":0,"d":"0.0"}},{"$f":"'법정동(2014.12월말)'!AR38-'법정동(2013년말)'!AR39","v":{"v":0,"d":"0.0"}},{"$f":"'법정동(2014.12월말)'!AS38-'법정동(2013년말)'!AS39","v":{"v":0,"d":"0.0"}},{"$f":"'법정동(2014.12월말)'!AT38-'법정동(2013년말)'!AT39","v":{"v":0,"d":"0.0"}},{"$f":"'법정동(2014.12월말)'!AU38-'법정동(2013년말)'!AU39","v":{"v":0,"d":"0.0"}},{"$f":"'법정동(2014.12월말)'!AV38-'법정동(2013년말)'!AV39","v":{"v":0,"d":"0.0"}},{"$f":"'법정동(2014.12월말)'!AW38-'법정동(2013년말)'!AW39","v":{"v":0,"d":"0.0"}},{"$f":"'법정동(2014.12월말)'!AX38-'법정동(2013년말)'!AX39","v":{"v":0,"d":"0.0"}},{"$f":"'법정동(2014.12월말)'!AY38-'법정동(2013년말)'!AY39","v":{"v":0,"d":"0.0"}},{"$f":"'법정동(2014.12월말)'!AZ38-'법정동(2013년말)'!AZ39","v":{"v":0,"d":"0.0"}},{"$f":"'법정동(2014.12월말)'!BA38-'법정동(2013년말)'!BA39","v":{"v":0,"d":"0.0"}},{"$f":"'법정동(2014.12월말)'!BB38-'법정동(2013년말)'!BB39","v":{"v":0,"d":"0.0"}},{"$f":"'법정동(2014.12월말)'!BC38-'법정동(2013년말)'!BC39","v":{"v":0,"d":"0.0"}},{"$f":"'법정동(2014.12월말)'!BD38-'법정동(2013년말)'!BD39","v":{"v":0,"d":"0.0"}},{"$f":"'법정동(2014.12월말)'!BE38-'법정동(2013년말)'!BE39","v":{"v":0,"d":"0.0"}},{"$f":"'법정동(2014.12월말)'!BF38-'법정동(2013년말)'!BF39","v":{"v":0,"d":"0.0"}},{"$f":"'법정동(2014.12월말)'!BG38-'법정동(2013년말)'!BG39","v":{"v":0,"d":"0.0"}}]
["신기동",{"$f":"'법정동(2014.12월말)'!B39-'법정동(2013년말)'!B40","v":{"v":0,"d":"0.0"}},{"$f":"'법정동(2014.12월말)'!C39-'법정동(2013년말)'!C40","v":{"v":1,"d":"1.0"}},{"$f":"'법정동(2014.12월말)'!D39-'법정동(2013년말)'!D40","v":{"v":0,"d":"0.0"}},{"$f":"'법정동(2014.12월말)'!E39-'법정동(2013년말)'!E40","v":{"v":0,"d":"0.0"}},{"$f":"'법정동(2014.12월말)'!F39-'법정동(2013년말)'!F40","v":{"v":0,"d":"0.0"}},{"$f":"'법정동(2014.12월말)'!G39-'법정동(2013년말)'!G40","v":{"v":0,"d":"0.0"}},{"$f":"'법정동(2014.12월말)'!H39-'법정동(2013년말)'!H40","v":{"v":0,"d":"0.0"}},{"$f":"'법정동(2014.12월말)'!I39-'법정동(2013년말)'!I40","v":{"v":0,"d":"0.0"}},{"$f":"'법정동(2014.12월말)'!J39-'법정동(2013년말)'!J40","v":{"v":0,"d":"0.0"}},{"$f":"'법정동(2014.12월말)'!K39-'법정동(2013년말)'!K40","v":{"v":0,"d":"0.0"}},{"$f":"'법정동(2014.12월말)'!L39-'법정동(2013년말)'!L40","v":{"v":0,"d":"0.0"}},{"$f":"'법정동(2014.12월말)'!M39-'법정동(2013년말)'!M40","v":{"v":0,"d":"0.0"}},{"$f":"'법정동(2014.12월말)'!N39-'법정동(2013년말)'!N40","v":{"v":0,"d":"0.0"}},{"$f":"'법정동(2014.12월말)'!O39-'법정동(2013년말)'!O40","v":{"v":0,"d":"0.0"}},{"$f":"'법정동(2014.12월말)'!P39-'법정동(2013년말)'!P40","v":{"v":0,"d":"0.0"}},{"$f":"'법정동(2014.12월말)'!Q39-'법정동(2013년말)'!Q40","v":{"v":0,"d":"0.0"}},{"$f":"'법정동(2014.12월말)'!R39-'법정동(2013년말)'!R40","v":{"v":-737.1000000000931,"d":"-737.1"}},{"$f":"'법정동(2014.12월말)'!S39-'법정동(2013년말)'!S40","v":{"v":0,"d":"0.0"}},{"$f":"'법정동(2014.12월말)'!T39-'법정동(2013년말)'!T40","v":{"v":0,"d":"0.0"}},{"$f":"'법정동(2014.12월말)'!U39-'법정동(2013년말)'!U40","v":{"v":0,"d":"0.0"}},{"$f":"'법정동(2014.12월말)'!V39-'법정동(2013년말)'!V40","v":{"v":0,"d":"0.0"}},{"$f":"'법정동(2014.12월말)'!W39-'법정동(2013년말)'!W40","v":{"v":0,"d":"0.0"}},{"$f":"'법정동(2014.12월말)'!X39-'법정동(2013년말)'!X40","v":{"v":737.0999999999999,"d":"737.1"}},{"$f":"'법정동(2014.12월말)'!Y39-'법정동(2013년말)'!Y40","v":{"v":1,"d":"1.0"}},{"$f":"'법정동(2014.12월말)'!Z39-'법정동(2013년말)'!Z40","v":{"v":0,"d":"0.0"}},{"$f":"'법정동(2014.12월말)'!AA39-'법정동(2013년말)'!AA40","v":{"v":0,"d":"0.0"}},{"$f":"'법정동(2014.12월말)'!AB39-'법정동(2013년말)'!AB40","v":{"v":0,"d":"0.0"}},{"$f":"'법정동(2014.12월말)'!AC39-'법정동(2013년말)'!AC40","v":{"v":0,"d":"0.0"}},{"$f":"'법정동(2014.12월말)'!AD39-'법정동(2013년말)'!AD40","v":{"v":0,"d":"0.0"}},{"$f":"'법정동(2014.12월말)'!AE39-'법정동(2013년말)'!AE40","v":{"v":0,"d":"0.0"}},{"$f":"'법정동(2014.12월말)'!AF39-'법정동(2013년말)'!AF40","v":{"v":0,"d":"0.0"}},{"$f":"'법정동(2014.12월말)'!AG39-'법정동(2013년말)'!AG40","v":{"v":0,"d":"0.0"}},{"$f":"'법정동(2014.12월말)'!AH39-'법정동(2013년말)'!AH40","v":{"v":0,"d":"0.0"}},{"$f":"'법정동(2014.12월말)'!AI39-'법정동(2013년말)'!AI40","v":{"v":0,"d":"0.0"}},{"$f":"'법정동(2014.12월말)'!AJ39-'법정동(2013년말)'!AJ40","v":{"v":0,"d":"0.0"}},{"$f":"'법정동(2014.12월말)'!AK39-'법정동(2013년말)'!AK40","v":{"v":0,"d":"0.0"}},{"$f":"'법정동(2014.12월말)'!AL39-'법정동(2013년말)'!AL40","v":{"v":0,"d":"0.0"}},{"$f":"'법정동(2014.12월말)'!AM39-'법정동(2013년말)'!AM40","v":{"v":0,"d":"0.0"}},{"$f":"'법정동(2014.12월말)'!AN39-'법정동(2013년말)'!AN40","v":{"v":0,"d":"0.0"}},{"$f":"'법정동(2014.12월말)'!AO39-'법정동(2013년말)'!AO40","v":{"v":0,"d":"0.0"}},{"$f":"'법정동(2014.12월말)'!AP39-'법정동(2013년말)'!AP40","v":{"v":0,"d":"0.0"}},{"$f":"'법정동(2014.12월말)'!AQ39-'법정동(2013년말)'!AQ40","v":{"v":0,"d":"0.0"}},{"$f":"'법정동(2014.12월말)'!AR39-'법정동(2013년말)'!AR40","v":{"v":0,"d":"0.0"}},{"$f":"'법정동(2014.12월말)'!AS39-'법정동(2013년말)'!AS40","v":{"v":0,"d":"0.0"}},{"$f":"'법정동(2014.12월말)'!AT39-'법정동(2013년말)'!AT40","v":{"v":0,"d":"0.0"}},{"$f":"'법정동(2014.12월말)'!AU39-'법정동(2013년말)'!AU40","v":{"v":0,"d":"0.0"}},{"$f":"'법정동(2014.12월말)'!AV39-'법정동(2013년말)'!AV40","v":{"v":0,"d":"0.0"}},{"$f":"'법정동(2014.12월말)'!AW39-'법정동(2013년말)'!AW40","v":{"v":0,"d":"0.0"}},{"$f":"'법정동(2014.12월말)'!AX39-'법정동(2013년말)'!AX40","v":{"v":0,"d":"0.0"}},{"$f":"'법정동(2014.12월말)'!AY39-'법정동(2013년말)'!AY40","v":{"v":0,"d":"0.0"}},{"$f":"'법정동(2014.12월말)'!AZ39-'법정동(2013년말)'!AZ40","v":{"v":0,"d":"0.0"}},{"$f":"'법정동(2014.12월말)'!BA39-'법정동(2013년말)'!BA40","v":{"v":0,"d":"0.0"}},{"$f":"'법정동(2014.12월말)'!BB39-'법정동(2013년말)'!BB40","v":{"v":0,"d":"0.0"}},{"$f":"'법정동(2014.12월말)'!BC39-'법정동(2013년말)'!BC40","v":{"v":0,"d":"0.0"}},{"$f":"'법정동(2014.12월말)'!BD39-'법정동(2013년말)'!BD40","v":{"v":0,"d":"0.0"}},{"$f":"'법정동(2014.12월말)'!BE39-'법정동(2013년말)'!BE40","v":{"v":0,"d":"0.0"}},{"$f":"'법정동(2014.12월말)'!BF39-'법정동(2013년말)'!BF40","v":{"v":0,"d":"0.0"}},{"$f":"'법정동(2014.12월말)'!BG39-'법정동(2013년말)'!BG40","v":{"v":0,"d":"0.0"}}]
["웅천동",{"$f":"'법정동(2014.12월말)'!B40-'법정동(2013년말)'!B41","v":{"v":-1307.0000000004657,"d":"-1,307.0"}},{"$f":"'법정동(2014.12월말)'!C40-'법정동(2013년말)'!C41","v":{"v":54,"d":"54.0"}},{"$f":"'법정동(2014.12월말)'!D40-'법정동(2013년말)'!D41","v":{"v":-19125,"d":"-19,125.0"}},{"$f":"'법정동(2014.12월말)'!E40-'법정동(2013년말)'!E41","v":{"v":-21,"d":"-21.0"}},{"$f":"'법정동(2014.12월말)'!F40-'법정동(2013년말)'!F41","v":{"v":-23332,"d":"-23,332.0"}},{"$f":"'법정동(2014.12월말)'!G40-'법정동(2013년말)'!G41","v":{"v":-29,"d":"-29.0"}},{"$f":"'법정동(2014.12월말)'!H40-'법정동(2013년말)'!H41","v":{"v":0,"d":"0.0"}},{"$f":"'법정동(2014.12월말)'!I40-'법정동(2013년말)'!I41","v":{"v":0,"d":"0.0"}},{"$f":"'법정동(2014.12월말)'!J40-'법정동(2013년말)'!J41","v":{"v":0,"d":"0.0"}},{"$f":"'법정동(2014.12월말)'!K40-'법정동(2013년말)'!K41","v":{"v":0,"d":"0.0"}},{"$f":"'법정동(2014.12월말)'!L40-'법정동(2013년말)'!L41","v":{"v":-3613,"d":"-3,613.0"}},{"$f":"'법정동(2014.12월말)'!M40-'법정동(2013년말)'!M41","v":{"v":0,"d":"0.0"}},{"$f":"'법정동(2014.12월말)'!N40-'법정동(2013년말)'!N41","v":{"v":0,"d":"0.0"}},{"$f":"'법정동(2014.12월말)'!O40-'법정동(2013년말)'!O41","v":{"v":0,"d":"0.0"}},{"$f":"'법정동(2014.12월말)'!P40-'법정동(2013년말)'!P41","v":{"v":0,"d":"0.0"}},{"$f":"'법정동(2014.12월말)'!Q40-'법정동(2013년말)'!Q41","v":{"v":0,"d":"0.0"}},{"$f":"'법정동(2014.12월말)'!R40-'법정동(2013년말)'!R41","v":{"v":22614.70000000001,"d":"22,614.7"}},{"$f":"'법정동(2014.12월말)'!S40-'법정동(2013년말)'!S41","v":{"v":102,"d":"102.0"}},{"$f":"'법정동(2014.12월말)'!T40-'법정동(2013년말)'!T41","v":{"v":0,"d":"0.0"}},{"$f":"'법정동(2014.12월말)'!U40-'법정동(2013년말)'!U41","v":{"v":0,"d":"0.0"}},{"$f":"'법정동(2014.12월말)'!V40-'법정동(2013년말)'!V41","v":{"v":0,"d":"0.0"}},{"$f":"'법정동(2014.12월말)'!W40-'법정동(2013년말)'!W41","v":{"v":0,"d":"0.0"}},{"$f":"'법정동(2014.12월말)'!X40-'법정동(2013년말)'!X41","v":{"v":1204.2000000000007,"d":"1,204.2"}},{"$f":"'법정동(2014.12월말)'!Y40-'법정동(2013년말)'!Y41","v":{"v":2,"d":"2.0"}},{"$f":"'법정동(2014.12월말)'!Z40-'법정동(2013년말)'!Z41","v":{"v":0,"d":"0.0"}},{"$f":"'법정동(2014.12월말)'!AA40-'법정동(2013년말)'!AA41","v":{"v":0,"d":"0.0"}},{"$f":"'법정동(2014.12월말)'!AB40-'법정동(2013년말)'!AB41","v":{"v":0,"d":"0.0"}},{"$f":"'법정동(2014.12월말)'!AC40-'법정동(2013년말)'!AC41","v":{"v":0,"d":"0.0"}},{"$f":"'법정동(2014.12월말)'!AD40-'법정동(2013년말)'!AD41","v":{"v":20069.600000000035,"d":"20,069.6"}},{"$f":"'법정동(2014.12월말)'!AE40-'법정동(2013년말)'!AE41","v":{"v":-8,"d":"-8.0"}},{"$f":"'법정동(2014.12월말)'!AF40-'법정동(2013년말)'!AF41","v":{"v":0,"d":"0.0"}},{"$f":"'법정동(2014.12월말)'!AG40-'법정동(2013년말)'!AG41","v":{"v":0,"d":"0.0"}},{"$f":"'법정동(2014.12월말)'!AH40-'법정동(2013년말)'!AH41","v":{"v":0,"d":"0.0"}},{"$f":"'법정동(2014.12월말)'!AI40-'법정동(2013년말)'!AI41","v":{"v":0,"d":"0.0"}},{"$f":"'법정동(2014.12월말)'!AJ40-'법정동(2013년말)'!AJ41","v":{"v":0,"d":"0.0"}},{"$f":"'법정동(2014.12월말)'!AK40-'법정동(2013년말)'!AK41","v":{"v":0,"d":"0.0"}},{"$f":"'법정동(2014.12월말)'!AL40-'법정동(2013년말)'!AL41","v":{"v":-353,"d":"-353.0"}},{"$f":"'법정동(2014.12월말)'!AM40-'법정동(2013년말)'!AM41","v":{"v":7,"d":"7.0"}},{"$f":"'법정동(2014.12월말)'!AN40-'법정동(2013년말)'!AN41","v":{"v":0,"d":"0.0"}},{"$f":"'법정동(2014.12월말)'!AO40-'법정동(2013년말)'!AO41","v":{"v":0,"d":"0.0"}},{"$f":"'법정동(2014.12월말)'!AP40-'법정동(2013년말)'!AP41","v":{"v":0,"d":"0.0"}},{"$f":"'법정동(2014.12월말)'!AQ40-'법정동(2013년말)'!AQ41","v":{"v":0,"d":"0.0"}},{"$f":"'법정동(2014.12월말)'!AR40-'법정동(2013년말)'!AR41","v":{"v":0,"d":"0.0"}},{"$f":"'법정동(2014.12월말)'!AS40-'법정동(2013년말)'!AS41","v":{"v":0,"d":"0.0"}},{"$f":"'법정동(2014.12월말)'!AT40-'법정동(2013년말)'!AT41","v":{"v":609.6000000000058,"d":"609.6"}},{"$f":"'법정동(2014.12월말)'!AU40-'법정동(2013년말)'!AU41","v":{"v":1,"d":"1.0"}},{"$f":"'법정동(2014.12월말)'!AV40-'법정동(2013년말)'!AV41","v":{"v":0,"d":"0.0"}},{"$f":"'법정동(2014.12월말)'!AW40-'법정동(2013년말)'!AW41","v":{"v":0,"d":"0.0"}},{"$f":"'법정동(2014.12월말)'!AX40-'법정동(2013년말)'!AX41","v":{"v":0,"d":"0.0"}},{"$f":"'법정동(2014.12월말)'!AY40-'법정동(2013년말)'!AY41","v":{"v":0,"d":"0.0"}},{"$f":"'법정동(2014.12월말)'!AZ40-'법정동(2013년말)'!AZ41","v":{"v":934.9000000000001,"d":"934.9"}},{"$f":"'법정동(2014.12월말)'!BA40-'법정동(2013년말)'!BA41","v":{"v":1,"d":"1.0"}},{"$f":"'법정동(2014.12월말)'!BB40-'법정동(2013년말)'!BB41","v":{"v":0,"d":"0.0"}},{"$f":"'법정동(2014.12월말)'!BC40-'법정동(2013년말)'!BC41","v":{"v":0,"d":"0.0"}},{"$f":"'법정동(2014.12월말)'!BD40-'법정동(2013년말)'!BD41","v":{"v":-317,"d":"-317.0"}},{"$f":"'법정동(2014.12월말)'!BE40-'법정동(2013년말)'!BE41","v":{"v":-1,"d":"-1.0"}},{"$f":"'법정동(2014.12월말)'!BF40-'법정동(2013년말)'!BF41","v":{"v":0,"d":"0.0"}},{"$f":"'법정동(2014.12월말)'!BG40-'법정동(2013년말)'!BG41","v":{"v":0,"d":"0.0"}}]
["선원동",{"$f":"'법정동(2014.12월말)'!B41-'법정동(2013년말)'!B42","v":{"v":-76,"d":"-76.0"}},{"$f":"'법정동(2014.12월말)'!C41-'법정동(2013년말)'!C42","v":{"v":1,"d":"1.0"}},{"$f":"'법정동(2014.12월말)'!D41-'법정동(2013년말)'!D42","v":{"v":7919,"d":"7,919.0"}},{"$f":"'법정동(2014.12월말)'!E41-'법정동(2013년말)'!E42","v":{"v":3,"d":"3.0"}},{"$f":"'법정동(2014.12월말)'!F41-'법정동(2013년말)'!F42","v":{"v":-7986,"d":"-7,986.0"}},{"$f":"'법정동(2014.12월말)'!G41-'법정동(2013년말)'!G42","v":{"v":-5,"d":"-5.0"}},{"$f":"'법정동(2014.12월말)'!H41-'법정동(2013년말)'!H42","v":{"v":0,"d":"0.0"}},{"$f":"'법정동(2014.12월말)'!I41-'법정동(2013년말)'!I42","v":{"v":0,"d":"0.0"}},{"$f":"'법정동(2014.12월말)'!J41-'법정동(2013년말)'!J42","v":{"v":0,"d":"0.0"}},{"$f":"'법정동(2014.12월말)'!K41-'법정동(2013년말)'!K42","v":{"v":0,"d":"0.0"}},{"$f":"'법정동(2014.12월말)'!L41-'법정동(2013년말)'!L42","v":{"v":-4952,"d":"-4,952.0"}},{"$f":"'법정동(2014.12월말)'!M41-'법정동(2013년말)'!M42","v":{"v":1,"d":"1.0"}},{"$f":"'법정동(2014.12월말)'!N41-'법정동(2013년말)'!N42","v":{"v":0,"d":"0.0"}},{"$f":"'법정동(2014.12월말)'!O41-'법정동(2013년말)'!O42","v":{"v":0,"d":"0.0"}},{"$f":"'법정동(2014.12월말)'!P41-'법정동(2013년말)'!P42","v":{"v":0,"d":"0.0"}},{"$f":"'법정동(2014.12월말)'!Q41-'법정동(2013년말)'!Q42","v":{"v":0,"d":"0.0"}},{"$f":"'법정동(2014.12월말)'!R41-'법정동(2013년말)'!R42","v":{"v":4632.800000000047,"d":"4,632.8"}},{"$f":"'법정동(2014.12월말)'!S41-'법정동(2013년말)'!S42","v":{"v":-1,"d":"-1.0"}},{"$f":"'법정동(2014.12월말)'!T41-'법정동(2013년말)'!T42","v":{"v":0,"d":"0.0"}},{"$f":"'법정동(2014.12월말)'!U41-'법정동(2013년말)'!U42","v":{"v":0,"d":"0.0"}},{"$f":"'법정동(2014.12월말)'!V41-'법정동(2013년말)'!V42","v":{"v":0,"d":"0.0"}},{"$f":"'법정동(2014.12월말)'!W41-'법정동(2013년말)'!W42","v":{"v":0,"d":"0.0"}},{"$f":"'법정동(2014.12월말)'!X41-'법정동(2013년말)'!X42","v":{"v":760,"d":"760.0"}},{"$f":"'법정동(2014.12월말)'!Y41-'법정동(2013년말)'!Y42","v":{"v":2,"d":"2.0"}},{"$f":"'법정동(2014.12월말)'!Z41-'법정동(2013년말)'!Z42","v":{"v":-511.0999999999999,"d":"-511.1"}},{"$f":"'법정동(2014.12월말)'!AA41-'법정동(2013년말)'!AA42","v":{"v":-1,"d":"-1.0"}},{"$f":"'법정동(2014.12월말)'!AB41-'법정동(2013년말)'!AB42","v":{"v":-544,"d":"-544.0"}},{"$f":"'법정동(2014.12월말)'!AC41-'법정동(2013년말)'!AC42","v":{"v":-1,"d":"-1.0"}},{"$f":"'법정동(2014.12월말)'!AD41-'법정동(2013년말)'!AD42","v":{"v":764.2999999999884,"d":"764.3"}},{"$f":"'법정동(2014.12월말)'!AE41-'법정동(2013년말)'!AE42","v":{"v":4,"d":"4.0"}},{"$f":"'법정동(2014.12월말)'!AF41-'법정동(2013년말)'!AF42","v":{"v":0,"d":"0.0"}},{"$f":"'법정동(2014.12월말)'!AG41-'법정동(2013년말)'!AG42","v":{"v":0,"d":"0.0"}},{"$f":"'법정동(2014.12월말)'!AH41-'법정동(2013년말)'!AH42","v":{"v":0,"d":"0.0"}},{"$f":"'법정동(2014.12월말)'!AI41-'법정동(2013년말)'!AI42","v":{"v":0,"d":"0.0"}},{"$f":"'법정동(2014.12월말)'!AJ41-'법정동(2013년말)'!AJ42","v":{"v":0,"d":"0.0"}},{"$f":"'법정동(2014.12월말)'!AK41-'법정동(2013년말)'!AK42","v":{"v":0,"d":"0.0"}},{"$f":"'법정동(2014.12월말)'!AL41-'법정동(2013년말)'!AL42","v":{"v":0,"d":"0.0"}},{"$f":"'법정동(2014.12월말)'!AM41-'법정동(2013년말)'!AM42","v":{"v":0,"d":"0.0"}},{"$f":"'법정동(2014.12월말)'!AN41-'법정동(2013년말)'!AN42","v":{"v":0,"d":"0.0"}},{"$f":"'법정동(2014.12월말)'!AO41-'법정동(2013년말)'!AO42","v":{"v":0,"d":"0.0"}},{"$f":"'법정동(2014.12월말)'!AP41-'법정동(2013년말)'!AP42","v":{"v":0,"d":"0.0"}},{"$f":"'법정동(2014.12월말)'!AQ41-'법정동(2013년말)'!AQ42","v":{"v":0,"d":"0.0"}},{"$f":"'법정동(2014.12월말)'!AR41-'법정동(2013년말)'!AR42","v":{"v":0,"d":"0.0"}},{"$f":"'법정동(2014.12월말)'!AS41-'법정동(2013년말)'!AS42","v":{"v":0,"d":"0.0"}},{"$f":"'법정동(2014.12월말)'!AT41-'법정동(2013년말)'!AT42","v":{"v":0,"d":"0.0"}},{"$f":"'법정동(2014.12월말)'!AU41-'법정동(2013년말)'!AU42","v":{"v":0,"d":"0.0"}},{"$f":"'법정동(2014.12월말)'!AV41-'법정동(2013년말)'!AV42","v":{"v":0,"d":"0.0"}},{"$f":"'법정동(2014.12월말)'!AW41-'법정동(2013년말)'!AW42","v":{"v":0,"d":"0.0"}},{"$f":"'법정동(2014.12월말)'!AX41-'법정동(2013년말)'!AX42","v":{"v":0,"d":"0.0"}},{"$f":"'법정동(2014.12월말)'!AY41-'법정동(2013년말)'!AY42","v":{"v":0,"d":"0.0"}},{"$f":"'법정동(2014.12월말)'!AZ41-'법정동(2013년말)'!AZ42","v":{"v":0,"d":"0.0"}},{"$f":"'법정동(2014.12월말)'!BA41-'법정동(2013년말)'!BA42","v":{"v":0,"d":"0.0"}},{"$f":"'법정동(2014.12월말)'!BB41-'법정동(2013년말)'!BB42","v":{"v":0,"d":"0.0"}},{"$f":"'법정동(2014.12월말)'!BC41-'법정동(2013년말)'!BC42","v":{"v":0,"d":"0.0"}},{"$f":"'법정동(2014.12월말)'!BD41-'법정동(2013년말)'!BD42","v":{"v":-159,"d":"-159.0"}},{"$f":"'법정동(2014.12월말)'!BE41-'법정동(2013년말)'!BE42","v":{"v":-1,"d":"-1.0"}},{"$f":"'법정동(2014.12월말)'!BF41-'법정동(2013년말)'!BF42","v":{"v":0,"d":"0.0"}},{"$f":"'법정동(2014.12월말)'!BG41-'법정동(2013년말)'!BG42","v":{"v":0,"d":"0.0"}}]
["여천동",{"$f":"'법정동(2014.12월말)'!B42-'법정동(2013년말)'!B43","v":{"v":0,"d":"0.0"}},{"$f":"'법정동(2014.12월말)'!C42-'법정동(2013년말)'!C43","v":{"v":-5,"d":"-5.0"}},{"$f":"'법정동(2014.12월말)'!D42-'법정동(2013년말)'!D43","v":{"v":627,"d":"627.0"}},{"$f":"'법정동(2014.12월말)'!E42-'법정동(2013년말)'!E43","v":{"v":2,"d":"2.0"}},{"$f":"'법정동(2014.12월말)'!F42-'법정동(2013년말)'!F43","v":{"v":-10242,"d":"-10,242.0"}},{"$f":"'법정동(2014.12월말)'!G42-'법정동(2013년말)'!G43","v":{"v":-15,"d":"-15.0"}},{"$f":"'법정동(2014.12월말)'!H42-'법정동(2013년말)'!H43","v":{"v":0,"d":"0.0"}},{"$f":"'법정동(2014.12월말)'!I42-'법정동(2013년말)'!I43","v":{"v":0,"d":"0.0"}},{"$f":"'법정동(2014.12월말)'!J42-'법정동(2013년말)'!J43","v":{"v":0,"d":"0.0"}},{"$f":"'법정동(2014.12월말)'!K42-'법정동(2013년말)'!K43","v":{"v":0,"d":"0.0"}},{"$f":"'법정동(2014.12월말)'!L42-'법정동(2013년말)'!L43","v":{"v":0,"d":"0.0"}},{"$f":"'법정동(2014.12월말)'!M42-'법정동(2013년말)'!M43","v":{"v":0,"d":"0.0"}},{"$f":"'법정동(2014.12월말)'!N42-'법정동(2013년말)'!N43","v":{"v":0,"d":"0.0"}},{"$f":"'법정동(2014.12월말)'!O42-'법정동(2013년말)'!O43","v":{"v":0,"d":"0.0"}},{"$f":"'법정동(2014.12월말)'!P42-'법정동(2013년말)'!P43","v":{"v":0,"d":"0.0"}},{"$f":"'법정동(2014.12월말)'!Q42-'법정동(2013년말)'!Q43","v":{"v":0,"d":"0.0"}},{"$f":"'법정동(2014.12월말)'!R42-'법정동(2013년말)'!R43","v":{"v":-579,"d":"-579.0"}},{"$f":"'법정동(2014.12월말)'!S42-'법정동(2013년말)'!S43","v":{"v":-1,"d":"-1.0"}},{"$f":"'법정동(2014.12월말)'!T42-'법정동(2013년말)'!T43","v":{"v":2381,"d":"2,381.0"}},{"$f":"'법정동(2014.12월말)'!U42-'법정동(2013년말)'!U43","v":{"v":2,"d":"2.0"}},{"$f":"'법정동(2014.12월말)'!V42-'법정동(2013년말)'!V43","v":{"v":0,"d":"0.0"}},{"$f":"'법정동(2014.12월말)'!W42-'법정동(2013년말)'!W43","v":{"v":0,"d":"0.0"}},{"$f":"'법정동(2014.12월말)'!X42-'법정동(2013년말)'!X43","v":{"v":736,"d":"736.0"}},{"$f":"'법정동(2014.12월말)'!Y42-'법정동(2013년말)'!Y43","v":{"v":-1,"d":"-1.0"}},{"$f":"'법정동(2014.12월말)'!Z42-'법정동(2013년말)'!Z43","v":{"v":0,"d":"0.0"}},{"$f":"'법정동(2014.12월말)'!AA42-'법정동(2013년말)'!AA43","v":{"v":0,"d":"0.0"}},{"$f":"'법정동(2014.12월말)'!AB42-'법정동(2013년말)'!AB43","v":{"v":4327,"d":"4,327.0"}},{"$f":"'법정동(2014.12월말)'!AC42-'법정동(2013년말)'!AC43","v":{"v":2,"d":"2.0"}},{"$f":"'법정동(2014.12월말)'!AD42-'법정동(2013년말)'!AD43","v":{"v":181,"d":"181.0"}},{"$f":"'법정동(2014.12월말)'!AE42-'법정동(2013년말)'!AE43","v":{"v":4,"d":"4.0"}},{"$f":"'법정동(2014.12월말)'!AF42-'법정동(2013년말)'!AF43","v":{"v":0,"d":"0.0"}},{"$f":"'법정동(2014.12월말)'!AG42-'법정동(2013년말)'!AG43","v":{"v":0,"d":"0.0"}},{"$f":"'법정동(2014.12월말)'!AH42-'법정동(2013년말)'!AH43","v":{"v":0,"d":"0.0"}},{"$f":"'법정동(2014.12월말)'!AI42-'법정동(2013년말)'!AI43","v":{"v":0,"d":"0.0"}},{"$f":"'법정동(2014.12월말)'!AJ42-'법정동(2013년말)'!AJ43","v":{"v":-377,"d":"-377.0"}},{"$f":"'법정동(2014.12월말)'!AK42-'법정동(2013년말)'!AK43","v":{"v":-1,"d":"-1.0"}},{"$f":"'법정동(2014.12월말)'!AL42-'법정동(2013년말)'!AL43","v":{"v":0,"d":"0.0"}},{"$f":"'법정동(2014.12월말)'!AM42-'법정동(2013년말)'!AM43","v":{"v":0,"d":"0.0"}},{"$f":"'법정동(2014.12월말)'!AN42-'법정동(2013년말)'!AN43","v":{"v":0,"d":"0.0"}},{"$f":"'법정동(2014.12월말)'!AO42-'법정동(2013년말)'!AO43","v":{"v":0,"d":"0.0"}},{"$f":"'법정동(2014.12월말)'!AP42-'법정동(2013년말)'!AP43","v":{"v":0,"d":"0.0"}},{"$f":"'법정동(2014.12월말)'!AQ42-'법정동(2013년말)'!AQ43","v":{"v":0,"d":"0.0"}},{"$f":"'법정동(2014.12월말)'!AR42-'법정동(2013년말)'!AR43","v":{"v":0,"d":"0.0"}},{"$f":"'법정동(2014.12월말)'!AS42-'법정동(2013년말)'!AS43","v":{"v":0,"d":"0.0"}},{"$f":"'법정동(2014.12월말)'!AT42-'법정동(2013년말)'!AT43","v":{"v":0,"d":"0.0"}},{"$f":"'법정동(2014.12월말)'!AU42-'법정동(2013년말)'!AU43","v":{"v":0,"d":"0.0"}},{"$f":"'법정동(2014.12월말)'!AV42-'법정동(2013년말)'!AV43","v":{"v":0,"d":"0.0"}},{"$f":"'법정동(2014.12월말)'!AW42-'법정동(2013년말)'!AW43","v":{"v":0,"d":"0.0"}},{"$f":"'법정동(2014.12월말)'!AX42-'법정동(2013년말)'!AX43","v":{"v":0,"d":"0.0"}},{"$f":"'법정동(2014.12월말)'!AY42-'법정동(2013년말)'!AY43","v":{"v":0,"d":"0.0"}},{"$f":"'법정동(2014.12월말)'!AZ42-'법정동(2013년말)'!AZ43","v":{"v":0,"d":"0.0"}},{"$f":"'법정동(2014.12월말)'!BA42-'법정동(2013년말)'!BA43","v":{"v":0,"d":"0.0"}},{"$f":"'법정동(2014.12월말)'!BB42-'법정동(2013년말)'!BB43","v":{"v":0,"d":"0.0"}},{"$f":"'법정동(2014.12월말)'!BC42-'법정동(2013년말)'!BC43","v":{"v":0,"d":"0.0"}},{"$f":"'법정동(2014.12월말)'!BD42-'법정동(2013년말)'!BD43","v":{"v":0,"d":"0.0"}},{"$f":"'법정동(2014.12월말)'!BE42-'법정동(2013년말)'!BE43","v":{"v":0,"d":"0.0"}},{"$f":"'법정동(2014.12월말)'!BF42-'법정동(2013년말)'!BF43","v":{"v":2946,"d":"2,946.0"}},{"$f":"'법정동(2014.12월말)'!BG42-'법정동(2013년말)'!BG43","v":{"v":3,"d":"3.0"}}]
["화장동",{"$f":"'법정동(2014.12월말)'!B43-'법정동(2013년말)'!B44","v":{"v":350.99999999953434,"d":"351.0"}},{"$f":"'법정동(2014.12월말)'!C43-'법정동(2013년말)'!C44","v":{"v":1,"d":"1.0"}},{"$f":"'법정동(2014.12월말)'!D43-'법정동(2013년말)'!D44","v":{"v":-353,"d":"-353.0"}},{"$f":"'법정동(2014.12월말)'!E43-'법정동(2013년말)'!E44","v":{"v":-1,"d":"-1.0"}},{"$f":"'법정동(2014.12월말)'!F43-'법정동(2013년말)'!F44","v":{"v":-1286,"d":"-1,286.0"}},{"$f":"'법정동(2014.12월말)'!G43-'법정동(2013년말)'!G44","v":{"v":-5,"d":"-5.0"}},{"$f":"'법정동(2014.12월말)'!H43-'법정동(2013년말)'!H44","v":{"v":0,"d":"0.0"}},{"$f":"'법정동(2014.12월말)'!I43-'법정동(2013년말)'!I44","v":{"v":0,"d":"0.0"}},{"$f":"'법정동(2014.12월말)'!J43-'법정동(2013년말)'!J44","v":{"v":0,"d":"0.0"}},{"$f":"'법정동(2014.12월말)'!K43-'법정동(2013년말)'!K44","v":{"v":0,"d":"0.0"}},{"$f":"'법정동(2014.12월말)'!L43-'법정동(2013년말)'!L44","v":{"v":-32091,"d":"-32,091.0"}},{"$f":"'법정동(2014.12월말)'!M43-'법정동(2013년말)'!M44","v":{"v":-1,"d":"-1.0"}},{"$f":"'법정동(2014.12월말)'!N43-'법정동(2013년말)'!N44","v":{"v":0,"d":"0.0"}},{"$f":"'법정동(2014.12월말)'!O43-'법정동(2013년말)'!O44","v":{"v":0,"d":"0.0"}},{"$f":"'법정동(2014.12월말)'!P43-'법정동(2013년말)'!P44","v":{"v":0,"d":"0.0"}},{"$f":"'법정동(2014.12월말)'!Q43-'법정동(2013년말)'!Q44","v":{"v":0,"d":"0.0"}},{"$f":"'법정동(2014.12월말)'!R43-'법정동(2013년말)'!R44","v":{"v":64.40000000002328,"d":"64.4"}},{"$f":"'법정동(2014.12월말)'!S43-'법정동(2013년말)'!S44","v":{"v":-2,"d":"-2.0"}},{"$f":"'법정동(2014.12월말)'!T43-'법정동(2013년말)'!T44","v":{"v":307,"d":"307.0"}},{"$f":"'법정동(2014.12월말)'!U43-'법정동(2013년말)'!U44","v":{"v":1,"d":"1.0"}},{"$f":"'법정동(2014.12월말)'!V43-'법정동(2013년말)'!V44","v":{"v":0,"d":"0.0"}},{"$f":"'법정동(2014.12월말)'!W43-'법정동(2013년말)'!W44","v":{"v":0,"d":"0.0"}},{"$f":"'법정동(2014.12월말)'!X43-'법정동(2013년말)'!X44","v":{"v":0,"d":"0.0"}},{"$f":"'법정동(2014.12월말)'!Y43-'법정동(2013년말)'!Y44","v":{"v":0,"d":"0.0"}},{"$f":"'법정동(2014.12월말)'!Z43-'법정동(2013년말)'!Z44","v":{"v":0,"d":"0.0"}},{"$f":"'법정동(2014.12월말)'!AA43-'법정동(2013년말)'!AA44","v":{"v":0,"d":"0.0"}},{"$f":"'법정동(2014.12월말)'!AB43-'법정동(2013년말)'!AB44","v":{"v":0,"d":"0.0"}},{"$f":"'법정동(2014.12월말)'!AC43-'법정동(2013년말)'!AC44","v":{"v":-1,"d":"-1.0"}},{"$f":"'법정동(2014.12월말)'!AD43-'법정동(2013년말)'!AD44","v":{"v":-347,"d":"-347.0"}},{"$f":"'법정동(2014.12월말)'!AE43-'법정동(2013년말)'!AE44","v":{"v":3,"d":"3.0"}},{"$f":"'법정동(2014.12월말)'!AF43-'법정동(2013년말)'!AF44","v":{"v":258,"d":"258.0"}},{"$f":"'법정동(2014.12월말)'!AG43-'법정동(2013년말)'!AG44","v":{"v":1,"d":"1.0"}},{"$f":"'법정동(2014.12월말)'!AH43-'법정동(2013년말)'!AH44","v":{"v":0,"d":"0.0"}},{"$f":"'법정동(2014.12월말)'!AI43-'법정동(2013년말)'!AI44","v":{"v":0,"d":"0.0"}},{"$f":"'법정동(2014.12월말)'!AJ43-'법정동(2013년말)'!AJ44","v":{"v":0,"d":"0.0"}},{"$f":"'법정동(2014.12월말)'!AK43-'법정동(2013년말)'!AK44","v":{"v":0,"d":"0.0"}},{"$f":"'법정동(2014.12월말)'!AL43-'법정동(2013년말)'!AL44","v":{"v":0,"d":"0.0"}},{"$f":"'법정동(2014.12월말)'!AM43-'법정동(2013년말)'!AM44","v":{"v":0,"d":"0.0"}},{"$f":"'법정동(2014.12월말)'!AN43-'법정동(2013년말)'!AN44","v":{"v":0,"d":"0.0"}},{"$f":"'법정동(2014.12월말)'!AO43-'법정동(2013년말)'!AO44","v":{"v":0,"d":"0.0"}},{"$f":"'법정동(2014.12월말)'!AP43-'법정동(2013년말)'!AP44","v":{"v":0,"d":"0.0"}},{"$f":"'법정동(2014.12월말)'!AQ43-'법정동(2013년말)'!AQ44","v":{"v":0,"d":"0.0"}},{"$f":"'법정동(2014.12월말)'!AR43-'법정동(2013년말)'!AR44","v":{"v":0,"d":"0.0"}},{"$f":"'법정동(2014.12월말)'!AS43-'법정동(2013년말)'!AS44","v":{"v":0,"d":"0.0"}},{"$f":"'법정동(2014.12월말)'!AT43-'법정동(2013년말)'!AT44","v":{"v":0,"d":"0.0"}},{"$f":"'법정동(2014.12월말)'!AU43-'법정동(2013년말)'!AU44","v":{"v":0,"d":"0.0"}},{"$f":"'법정동(2014.12월말)'!AV43-'법정동(2013년말)'!AV44","v":{"v":28326,"d":"28,326.0"}},{"$f":"'법정동(2014.12월말)'!AW43-'법정동(2013년말)'!AW44","v":{"v":3,"d":"3.0"}},{"$f":"'법정동(2014.12월말)'!AX43-'법정동(2013년말)'!AX44","v":{"v":0,"d":"0.0"}},{"$f":"'법정동(2014.12월말)'!AY43-'법정동(2013년말)'!AY44","v":{"v":0,"d":"0.0"}},{"$f":"'법정동(2014.12월말)'!AZ43-'법정동(2013년말)'!AZ44","v":{"v":699.5999999999999,"d":"699.6"}},{"$f":"'법정동(2014.12월말)'!BA43-'법정동(2013년말)'!BA44","v":{"v":1,"d":"1.0"}},{"$f":"'법정동(2014.12월말)'!BB43-'법정동(2013년말)'!BB44","v":{"v":0,"d":"0.0"}},{"$f":"'법정동(2014.12월말)'!BC43-'법정동(2013년말)'!BC44","v":{"v":0,"d":"0.0"}},{"$f":"'법정동(2014.12월말)'!BD43-'법정동(2013년말)'!BD44","v":{"v":0,"d":"0.0"}},{"$f":"'법정동(2014.12월말)'!BE43-'법정동(2013년말)'!BE44","v":{"v":0,"d":"0.0"}},{"$f":"'법정동(2014.12월말)'!BF43-'법정동(2013년말)'!BF44","v":{"v":4773,"d":"4,773.0"}},{"$f":"'법정동(2014.12월말)'!BG43-'법정동(2013년말)'!BG44","v":{"v":2,"d":"2.0"}}]
["주삼동",{"$f":"'법정동(2014.12월말)'!B44-'법정동(2013년말)'!B45","v":{"v":-198.29999999981374,"d":"-198.3"}},{"$f":"'법정동(2014.12월말)'!C44-'법정동(2013년말)'!C45","v":{"v":-134,"d":"-134.0"}},{"$f":"'법정동(2014.12월말)'!D44-'법정동(2013년말)'!D45","v":{"v":-37867,"d":"-37,867.0"}},{"$f":"'법정동(2014.12월말)'!E44-'법정동(2013년말)'!E45","v":{"v":-51,"d":"-51.0"}},{"$f":"'법정동(2014.12월말)'!F44-'법정동(2013년말)'!F45","v":{"v":-20868,"d":"-20,868.0"}},{"$f":"'법정동(2014.12월말)'!G44-'법정동(2013년말)'!G45","v":{"v":-14,"d":"-14.0"}},{"$f":"'법정동(2014.12월말)'!H44-'법정동(2013년말)'!H45","v":{"v":0,"d":"0.0"}},{"$f":"'법정동(2014.12월말)'!I44-'법정동(2013년말)'!I45","v":{"v":0,"d":"0.0"}},{"$f":"'법정동(2014.12월말)'!J44-'법정동(2013년말)'!J45","v":{"v":-875,"d":"-875.0"}},{"$f":"'법정동(2014.12월말)'!K44-'법정동(2013년말)'!K45","v":{"v":-1,"d":"-1.0"}},{"$f":"'법정동(2014.12월말)'!L44-'법정동(2013년말)'!L45","v":{"v":-10742,"d":"-10,742.0"}},{"$f":"'법정동(2014.12월말)'!M44-'법정동(2013년말)'!M45","v":{"v":-20,"d":"-20.0"}},{"$f":"'법정동(2014.12월말)'!N44-'법정동(2013년말)'!N45","v":{"v":0,"d":"0.0"}},{"$f":"'법정동(2014.12월말)'!O44-'법정동(2013년말)'!O45","v":{"v":0,"d":"0.0"}},{"$f":"'법정동(2014.12월말)'!P44-'법정동(2013년말)'!P45","v":{"v":0,"d":"0.0"}},{"$f":"'법정동(2014.12월말)'!Q44-'법정동(2013년말)'!Q45","v":{"v":0,"d":"0.0"}},{"$f":"'법정동(2014.12월말)'!R44-'법정동(2013년말)'!R45","v":{"v":-2436,"d":"-2,436.0"}},{"$f":"'법정동(2014.12월말)'!S44-'법정동(2013년말)'!S45","v":{"v":-12,"d":"-12.0"}},{"$f":"'법정동(2014.12월말)'!T44-'법정동(2013년말)'!T45","v":{"v":13790.899999999994,"d":"13,790.9"}},{"$f":"'법정동(2014.12월말)'!U44-'법정동(2013년말)'!U45","v":{"v":5,"d":"5.0"}},{"$f":"'법정동(2014.12월말)'!V44-'법정동(2013년말)'!V45","v":{"v":0,"d":"0.0"}},{"$f":"'법정동(2014.12월말)'!W44-'법정동(2013년말)'!W45","v":{"v":0,"d":"0.0"}},{"$f":"'법정동(2014.12월말)'!X44-'법정동(2013년말)'!X45","v":{"v":45759.9,"d":"45,759.9"}},{"$f":"'법정동(2014.12월말)'!Y44-'법정동(2013년말)'!Y45","v":{"v":1,"d":"1.0"}},{"$f":"'법정동(2014.12월말)'!Z44-'법정동(2013년말)'!Z45","v":{"v":0,"d":"0.0"}},{"$f":"'법정동(2014.12월말)'!AA44-'법정동(2013년말)'!AA45","v":{"v":0,"d":"0.0"}},{"$f":"'법정동(2014.12월말)'!AB44-'법정동(2013년말)'!AB45","v":{"v":810,"d":"810.0"}},{"$f":"'법정동(2014.12월말)'!AC44-'법정동(2013년말)'!AC45","v":{"v":1,"d":"1.0"}},{"$f":"'법정동(2014.12월말)'!AD44-'법정동(2013년말)'!AD45","v":{"v":9752.900000000023,"d":"9,752.9"}},{"$f":"'법정동(2014.12월말)'!AE44-'법정동(2013년말)'!AE45","v":{"v":-42,"d":"-42.0"}},{"$f":"'법정동(2014.12월말)'!AF44-'법정동(2013년말)'!AF45","v":{"v":0,"d":"0.0"}},{"$f":"'법정동(2014.12월말)'!AG44-'법정동(2013년말)'!AG45","v":{"v":0,"d":"0.0"}},{"$f":"'법정동(2014.12월말)'!AH44-'법정동(2013년말)'!AH45","v":{"v":0,"d":"0.0"}},{"$f":"'법정동(2014.12월말)'!AI44-'법정동(2013년말)'!AI45","v":{"v":0,"d":"0.0"}},{"$f":"'법정동(2014.12월말)'!AJ44-'법정동(2013년말)'!AJ45","v":{"v":0,"d":"0.0"}},{"$f":"'법정동(2014.12월말)'!AK44-'법정동(2013년말)'!AK45","v":{"v":0,"d":"0.0"}},{"$f":"'법정동(2014.12월말)'!AL44-'법정동(2013년말)'!AL45","v":{"v":-26,"d":"-26.0"}},{"$f":"'법정동(2014.12월말)'!AM44-'법정동(2013년말)'!AM45","v":{"v":0,"d":"0.0"}},{"$f":"'법정동(2014.12월말)'!AN44-'법정동(2013년말)'!AN45","v":{"v":0,"d":"0.0"}},{"$f":"'법정동(2014.12월말)'!AO44-'법정동(2013년말)'!AO45","v":{"v":0,"d":"0.0"}},{"$f":"'법정동(2014.12월말)'!AP44-'법정동(2013년말)'!AP45","v":{"v":0,"d":"0.0"}},{"$f":"'법정동(2014.12월말)'!AQ44-'법정동(2013년말)'!AQ45","v":{"v":0,"d":"0.0"}},{"$f":"'법정동(2014.12월말)'!AR44-'법정동(2013년말)'!AR45","v":{"v":0,"d":"0.0"}},{"$f":"'법정동(2014.12월말)'!AS44-'법정동(2013년말)'!AS45","v":{"v":0,"d":"0.0"}},{"$f":"'법정동(2014.12월말)'!AT44-'법정동(2013년말)'!AT45","v":{"v":0,"d":"0.0"}},{"$f":"'법정동(2014.12월말)'!AU44-'법정동(2013년말)'!AU45","v":{"v":0,"d":"0.0"}},{"$f":"'법정동(2014.12월말)'!AV44-'법정동(2013년말)'!AV45","v":{"v":0,"d":"0.0"}},{"$f":"'법정동(2014.12월말)'!AW44-'법정동(2013년말)'!AW45","v":{"v":0,"d":"0.0"}},{"$f":"'법정동(2014.12월말)'!AX44-'법정동(2013년말)'!AX45","v":{"v":0,"d":"0.0"}},{"$f":"'법정동(2014.12월말)'!AY44-'법정동(2013년말)'!AY45","v":{"v":0,"d":"0.0"}},{"$f":"'법정동(2014.12월말)'!AZ44-'법정동(2013년말)'!AZ45","v":{"v":0,"d":"0.0"}},{"$f":"'법정동(2014.12월말)'!BA44-'법정동(2013년말)'!BA45","v":{"v":0,"d":"0.0"}},{"$f":"'법정동(2014.12월말)'!BB44-'법정동(2013년말)'!BB45","v":{"v":0,"d":"0.0"}},{"$f":"'법정동(2014.12월말)'!BC44-'법정동(2013년말)'!BC45","v":{"v":0,"d":"0.0"}},{"$f":"'법정동(2014.12월말)'!BD44-'법정동(2013년말)'!BD45","v":{"v":0,"d":"0.0"}},{"$f":"'법정동(2014.12월말)'!BE44-'법정동(2013년말)'!BE45","v":{"v":0,"d":"0.0"}},{"$f":"'법정동(2014.12월말)'!BF44-'법정동(2013년말)'!BF45","v":{"v":2502,"d":"2,502.0"}},{"$f":"'법정동(2014.12월말)'!BG44-'법정동(2013년말)'!BG45","v":{"v":-1,"d":"-1.0"}}]
["봉계동",{"$f":"'법정동(2014.12월말)'!B45-'법정동(2013년말)'!B46","v":{"v":732,"d":"732.0"}},{"$f":"'법정동(2014.12월말)'!C45-'법정동(2013년말)'!C46","v":{"v":-5,"d":"-5.0"}},{"$f":"'법정동(2014.12월말)'!D45-'법정동(2013년말)'!D46","v":{"v":-9428,"d":"-9,428.0"}},{"$f":"'법정동(2014.12월말)'!E45-'법정동(2013년말)'!E46","v":{"v":-30,"d":"-30.0"}},{"$f":"'법정동(2014.12월말)'!F45-'법정동(2013년말)'!F46","v":{"v":-2004,"d":"-2,004.0"}},{"$f":"'법정동(2014.12월말)'!G45-'법정동(2013년말)'!G46","v":{"v":-10,"d":"-10.0"}},{"$f":"'법정동(2014.12월말)'!H45-'법정동(2013년말)'!H46","v":{"v":0,"d":"0.0"}},{"$f":"'법정동(2014.12월말)'!I45-'법정동(2013년말)'!I46","v":{"v":0,"d":"0.0"}},{"$f":"'법정동(2014.12월말)'!J45-'법정동(2013년말)'!J46","v":{"v":0,"d":"0.0"}},{"$f":"'법정동(2014.12월말)'!K45-'법정동(2013년말)'!K46","v":{"v":0,"d":"0.0"}},{"$f":"'법정동(2014.12월말)'!L45-'법정동(2013년말)'!L46","v":{"v":-17720,"d":"-17,720.0"}},{"$f":"'법정동(2014.12월말)'!M45-'법정동(2013년말)'!M46","v":{"v":-7,"d":"-7.0"}},{"$f":"'법정동(2014.12월말)'!N45-'법정동(2013년말)'!N46","v":{"v":0,"d":"0.0"}},{"$f":"'법정동(2014.12월말)'!O45-'법정동(2013년말)'!O46","v":{"v":0,"d":"0.0"}},{"$f":"'법정동(2014.12월말)'!P45-'법정동(2013년말)'!P46","v":{"v":0,"d":"0.0"}},{"$f":"'법정동(2014.12월말)'!Q45-'법정동(2013년말)'!Q46","v":{"v":0,"d":"0.0"}},{"$f":"'법정동(2014.12월말)'!R45-'법정동(2013년말)'!R46","v":{"v":12205,"d":"12,205.0"}},{"$f":"'법정동(2014.12월말)'!S45-'법정동(2013년말)'!S46","v":{"v":8,"d":"8.0"}},{"$f":"'법정동(2014.12월말)'!T45-'법정동(2013년말)'!T46","v":{"v":3719,"d":"3,719.0"}},{"$f":"'법정동(2014.12월말)'!U45-'법정동(2013년말)'!U46","v":{"v":2,"d":"2.0"}},{"$f":"'법정동(2014.12월말)'!V45-'법정동(2013년말)'!V46","v":{"v":0,"d":"0.0"}},{"$f":"'법정동(2014.12월말)'!W45-'법정동(2013년말)'!W46","v":{"v":0,"d":"0.0"}},{"$f":"'법정동(2014.12월말)'!X45-'법정동(2013년말)'!X46","v":{"v":4864,"d":"4,864.0"}},{"$f":"'법정동(2014.12월말)'!Y45-'법정동(2013년말)'!Y46","v":{"v":3,"d":"3.0"}},{"$f":"'법정동(2014.12월말)'!Z45-'법정동(2013년말)'!Z46","v":{"v":0,"d":"0.0"}},{"$f":"'법정동(2014.12월말)'!AA45-'법정동(2013년말)'!AA46","v":{"v":0,"d":"0.0"}},{"$f":"'법정동(2014.12월말)'!AB45-'법정동(2013년말)'!AB46","v":{"v":-684,"d":"-684.0"}},{"$f":"'법정동(2014.12월말)'!AC45-'법정동(2013년말)'!AC46","v":{"v":-2,"d":"-2.0"}},{"$f":"'법정동(2014.12월말)'!AD45-'법정동(2013년말)'!AD46","v":{"v":10389,"d":"10,389.0"}},{"$f":"'법정동(2014.12월말)'!AE45-'법정동(2013년말)'!AE46","v":{"v":27,"d":"27.0"}},{"$f":"'법정동(2014.12월말)'!AF45-'법정동(2013년말)'!AF46","v":{"v":0,"d":"0.0"}},{"$f":"'법정동(2014.12월말)'!AG45-'법정동(2013년말)'!AG46","v":{"v":0,"d":"0.0"}},{"$f":"'법정동(2014.12월말)'!AH45-'법정동(2013년말)'!AH46","v":{"v":0,"d":"0.0"}},{"$f":"'법정동(2014.12월말)'!AI45-'법정동(2013년말)'!AI46","v":{"v":0,"d":"0.0"}},{"$f":"'법정동(2014.12월말)'!AJ45-'법정동(2013년말)'!AJ46","v":{"v":0,"d":"0.0"}},{"$f":"'법정동(2014.12월말)'!AK45-'법정동(2013년말)'!AK46","v":{"v":0,"d":"0.0"}},{"$f":"'법정동(2014.12월말)'!AL45-'법정동(2013년말)'!AL46","v":{"v":0,"d":"0.0"}},{"$f":"'법정동(2014.12월말)'!AM45-'법정동(2013년말)'!AM46","v":{"v":0,"d":"0.0"}},{"$f":"'법정동(2014.12월말)'!AN45-'법정동(2013년말)'!AN46","v":{"v":0,"d":"0.0"}},{"$f":"'법정동(2014.12월말)'!AO45-'법정동(2013년말)'!AO46","v":{"v":0,"d":"0.0"}},{"$f":"'법정동(2014.12월말)'!AP45-'법정동(2013년말)'!AP46","v":{"v":0,"d":"0.0"}},{"$f":"'법정동(2014.12월말)'!AQ45-'법정동(2013년말)'!AQ46","v":{"v":0,"d":"0.0"}},{"$f":"'법정동(2014.12월말)'!AR45-'법정동(2013년말)'!AR46","v":{"v":0,"d":"0.0"}},{"$f":"'법정동(2014.12월말)'!AS45-'법정동(2013년말)'!AS46","v":{"v":0,"d":"0.0"}},{"$f":"'법정동(2014.12월말)'!AT45-'법정동(2013년말)'!AT46","v":{"v":0,"d":"0.0"}},{"$f":"'법정동(2014.12월말)'!AU45-'법정동(2013년말)'!AU46","v":{"v":0,"d":"0.0"}},{"$f":"'법정동(2014.12월말)'!AV45-'법정동(2013년말)'!AV46","v":{"v":0,"d":"0.0"}},{"$f":"'법정동(2014.12월말)'!AW45-'법정동(2013년말)'!AW46","v":{"v":0,"d":"0.0"}},{"$f":"'법정동(2014.12월말)'!AX45-'법정동(2013년말)'!AX46","v":{"v":0,"d":"0.0"}},{"$f":"'법정동(2014.12월말)'!AY45-'법정동(2013년말)'!AY46","v":{"v":0,"d":"0.0"}},{"$f":"'법정동(2014.12월말)'!AZ45-'법정동(2013년말)'!AZ46","v":{"v":0,"d":"0.0"}},{"$f":"'법정동(2014.12월말)'!BA45-'법정동(2013년말)'!BA46","v":{"v":0,"d":"0.0"}},{"$f":"'법정동(2014.12월말)'!BB45-'법정동(2013년말)'!BB46","v":{"v":0,"d":"0.0"}},{"$f":"'법정동(2014.12월말)'!BC45-'법정동(2013년말)'!BC46","v":{"v":0,"d":"0.0"}},{"$f":"'법정동(2014.12월말)'!BD45-'법정동(2013년말)'!BD46","v":{"v":0,"d":"0.0"}},{"$f":"'법정동(2014.12월말)'!BE45-'법정동(2013년말)'!BE46","v":{"v":0,"d":"0.0"}},{"$f":"'법정동(2014.12월말)'!BF45-'법정동(2013년말)'!BF46","v":{"v":-609,"d":"-609.0"}},{"$f":"'법정동(2014.12월말)'!BG45-'법정동(2013년말)'!BG46","v":{"v":4,"d":"4.0"}}]
["해산동",{"$f":"'법정동(2014.12월말)'!B46-'법정동(2013년말)'!B47","v":{"v":-70,"d":"-70.0"}},{"$f":"'법정동(2014.12월말)'!C46-'법정동(2013년말)'!C47","v":{"v":-148,"d":"-148.0"}},{"$f":"'법정동(2014.12월말)'!D46-'법정동(2013년말)'!D47","v":{"v":-2827,"d":"-2,827.0"}},{"$f":"'법정동(2014.12월말)'!E46-'법정동(2013년말)'!E47","v":{"v":-5,"d":"-5.0"}},{"$f":"'법정동(2014.12월말)'!F46-'법정동(2013년말)'!F47","v":{"v":-12759,"d":"-12,759.0"}},{"$f":"'법정동(2014.12월말)'!G46-'법정동(2013년말)'!G47","v":{"v":-5,"d":"-5.0"}},{"$f":"'법정동(2014.12월말)'!H46-'법정동(2013년말)'!H47","v":{"v":0,"d":"0.0"}},{"$f":"'법정동(2014.12월말)'!I46-'법정동(2013년말)'!I47","v":{"v":0,"d":"0.0"}},{"$f":"'법정동(2014.12월말)'!J46-'법정동(2013년말)'!J47","v":{"v":0,"d":"0.0"}},{"$f":"'법정동(2014.12월말)'!K46-'법정동(2013년말)'!K47","v":{"v":0,"d":"0.0"}},{"$f":"'법정동(2014.12월말)'!L46-'법정동(2013년말)'!L47","v":{"v":-3017,"d":"-3,017.0"}},{"$f":"'법정동(2014.12월말)'!M46-'법정동(2013년말)'!M47","v":{"v":1,"d":"1.0"}},{"$f":"'법정동(2014.12월말)'!N46-'법정동(2013년말)'!N47","v":{"v":0,"d":"0.0"}},{"$f":"'법정동(2014.12월말)'!O46-'법정동(2013년말)'!O47","v":{"v":0,"d":"0.0"}},{"$f":"'법정동(2014.12월말)'!P46-'법정동(2013년말)'!P47","v":{"v":0,"d":"0.0"}},{"$f":"'법정동(2014.12월말)'!Q46-'법정동(2013년말)'!Q47","v":{"v":0,"d":"0.0"}},{"$f":"'법정동(2014.12월말)'!R46-'법정동(2013년말)'!R47","v":{"v":11497,"d":"11,497.0"}},{"$f":"'법정동(2014.12월말)'!S46-'법정동(2013년말)'!S47","v":{"v":4,"d":"4.0"}},{"$f":"'법정동(2014.12월말)'!T46-'법정동(2013년말)'!T47","v":{"v":3596,"d":"3,596.0"}},{"$f":"'법정동(2014.12월말)'!U46-'법정동(2013년말)'!U47","v":{"v":2,"d":"2.0"}},{"$f":"'법정동(2014.12월말)'!V46-'법정동(2013년말)'!V47","v":{"v":0,"d":"0.0"}},{"$f":"'법정동(2014.12월말)'!W46-'법정동(2013년말)'!W47","v":{"v":0,"d":"0.0"}},{"$f":"'법정동(2014.12월말)'!X46-'법정동(2013년말)'!X47","v":{"v":0,"d":"0.0"}},{"$f":"'법정동(2014.12월말)'!Y46-'법정동(2013년말)'!Y47","v":{"v":0,"d":"0.0"}},{"$f":"'법정동(2014.12월말)'!Z46-'법정동(2013년말)'!Z47","v":{"v":-307,"d":"-307.0"}},{"$f":"'법정동(2014.12월말)'!AA46-'법정동(2013년말)'!AA47","v":{"v":-3,"d":"-3.0"}},{"$f":"'법정동(2014.12월말)'!AB46-'법정동(2013년말)'!AB47","v":{"v":0,"d":"0.0"}},{"$f":"'법정동(2014.12월말)'!AC46-'법정동(2013년말)'!AC47","v":{"v":0,"d":"0.0"}},{"$f":"'법정동(2014.12월말)'!AD46-'법정동(2013년말)'!AD47","v":{"v":3710,"d":"3,710.0"}},{"$f":"'법정동(2014.12월말)'!AE46-'법정동(2013년말)'!AE47","v":{"v":-142,"d":"-142.0"}},{"$f":"'법정동(2014.12월말)'!AF46-'법정동(2013년말)'!AF47","v":{"v":0,"d":"0.0"}},{"$f":"'법정동(2014.12월말)'!AG46-'법정동(2013년말)'!AG47","v":{"v":0,"d":"0.0"}},{"$f":"'법정동(2014.12월말)'!AH46-'법정동(2013년말)'!AH47","v":{"v":0,"d":"0.0"}},{"$f":"'법정동(2014.12월말)'!AI46-'법정동(2013년말)'!AI47","v":{"v":0,"d":"0.0"}},{"$f":"'법정동(2014.12월말)'!AJ46-'법정동(2013년말)'!AJ47","v":{"v":0,"d":"0.0"}},{"$f":"'법정동(2014.12월말)'!AK46-'법정동(2013년말)'!AK47","v":{"v":0,"d":"0.0"}},{"$f":"'법정동(2014.12월말)'!AL46-'법정동(2013년말)'!AL47","v":{"v":0,"d":"0.0"}},{"$f":"'법정동(2014.12월말)'!AM46-'법정동(2013년말)'!AM47","v":{"v":0,"d":"0.0"}},{"$f":"'법정동(2014.12월말)'!AN46-'법정동(2013년말)'!AN47","v":{"v":0,"d":"0.0"}},{"$f":"'법정동(2014.12월말)'!AO46-'법정동(2013년말)'!AO47","v":{"v":0,"d":"0.0"}},{"$f":"'법정동(2014.12월말)'!AP46-'법정동(2013년말)'!AP47","v":{"v":0,"d":"0.0"}},{"$f":"'법정동(2014.12월말)'!AQ46-'법정동(2013년말)'!AQ47","v":{"v":0,"d":"0.0"}},{"$f":"'법정동(2014.12월말)'!AR46-'법정동(2013년말)'!AR47","v":{"v":0,"d":"0.0"}},{"$f":"'법정동(2014.12월말)'!AS46-'법정동(2013년말)'!AS47","v":{"v":0,"d":"0.0"}},{"$f":"'법정동(2014.12월말)'!AT46-'법정동(2013년말)'!AT47","v":{"v":0,"d":"0.0"}},{"$f":"'법정동(2014.12월말)'!AU46-'법정동(2013년말)'!AU47","v":{"v":0,"d":"0.0"}},{"$f":"'법정동(2014.12월말)'!AV46-'법정동(2013년말)'!AV47","v":{"v":0,"d":"0.0"}},{"$f":"'법정동(2014.12월말)'!AW46-'법정동(2013년말)'!AW47","v":{"v":0,"d":"0.0"}},{"$f":"'법정동(2014.12월말)'!AX46-'법정동(2013년말)'!AX47","v":{"v":0,"d":"0.0"}},{"$f":"'법정동(2014.12월말)'!AY46-'법정동(2013년말)'!AY47","v":{"v":0,"d":"0.0"}},{"$f":"'법정동(2014.12월말)'!AZ46-'법정동(2013년말)'!AZ47","v":{"v":0,"d":"0.0"}},{"$f":"'법정동(2014.12월말)'!BA46-'법정동(2013년말)'!BA47","v":{"v":0,"d":"0.0"}},{"$f":"'법정동(2014.12월말)'!BB46-'법정동(2013년말)'!BB47","v":{"v":0,"d":"0.0"}},{"$f":"'법정동(2014.12월말)'!BC46-'법정동(2013년말)'!BC47","v":{"v":0,"d":"0.0"}},{"$f":"'법정동(2014.12월말)'!BD46-'법정동(2013년말)'!BD47","v":{"v":0,"d":"0.0"}},{"$f":"'법정동(2014.12월말)'!BE46-'법정동(2013년말)'!BE47","v":{"v":0,"d":"0.0"}},{"$f":"'법정동(2014.12월말)'!BF46-'법정동(2013년말)'!BF47","v":{"v":37,"d":"37.0"}},{"$f":"'법정동(2014.12월말)'!BG46-'법정동(2013년말)'!BG47","v":{"v":0,"d":"0.0"}}]
["화치동",{"$f":"'법정동(2014.12월말)'!B47-'법정동(2013년말)'!B48","v":{"v":1003210.5,"d":"1,003,210.5"}},{"$f":"'법정동(2014.12월말)'!C47-'법정동(2013년말)'!C48","v":{"v":16,"d":"16.0"}},{"$f":"'법정동(2014.12월말)'!D47-'법정동(2013년말)'!D48","v":{"v":0,"d":"0.0"}},{"$f":"'법정동(2014.12월말)'!E47-'법정동(2013년말)'!E48","v":{"v":0,"d":"0.0"}},{"$f":"'법정동(2014.12월말)'!F47-'법정동(2013년말)'!F48","v":{"v":-104,"d":"-104.0"}},{"$f":"'법정동(2014.12월말)'!G47-'법정동(2013년말)'!G48","v":{"v":0,"d":"0.0"}},{"$f":"'법정동(2014.12월말)'!H47-'법정동(2013년말)'!H48","v":{"v":0,"d":"0.0"}},{"$f":"'법정동(2014.12월말)'!I47-'법정동(2013년말)'!I48","v":{"v":0,"d":"0.0"}},{"$f":"'법정동(2014.12월말)'!J47-'법정동(2013년말)'!J48","v":{"v":0,"d":"0.0"}},{"$f":"'법정동(2014.12월말)'!K47-'법정동(2013년말)'!K48","v":{"v":0,"d":"0.0"}},{"$f":"'법정동(2014.12월말)'!L47-'법정동(2013년말)'!L48","v":{"v":-3226,"d":"-3,226.0"}},{"$f":"'법정동(2014.12월말)'!M47-'법정동(2013년말)'!M48","v":{"v":-3,"d":"-3.0"}},{"$f":"'법정동(2014.12월말)'!N47-'법정동(2013년말)'!N48","v":{"v":0,"d":"0.0"}},{"$f":"'법정동(2014.12월말)'!O47-'법정동(2013년말)'!O48","v":{"v":0,"d":"0.0"}},{"$f":"'법정동(2014.12월말)'!P47-'법정동(2013년말)'!P48","v":{"v":0,"d":"0.0"}},{"$f":"'법정동(2014.12월말)'!Q47-'법정동(2013년말)'!Q48","v":{"v":0,"d":"0.0"}},{"$f":"'법정동(2014.12월말)'!R47-'법정동(2013년말)'!R48","v":{"v":0,"d":"0.0"}},{"$f":"'법정동(2014.12월말)'!S47-'법정동(2013년말)'!S48","v":{"v":0,"d":"0.0"}},{"$f":"'법정동(2014.12월말)'!T47-'법정동(2013년말)'!T48","v":{"v":906901.7999999998,"d":"906,901.8"}},{"$f":"'법정동(2014.12월말)'!U47-'법정동(2013년말)'!U48","v":{"v":7,"d":"7.0"}},{"$f":"'법정동(2014.12월말)'!V47-'법정동(2013년말)'!V48","v":{"v":0,"d":"0.0"}},{"$f":"'법정동(2014.12월말)'!W47-'법정동(2013년말)'!W48","v":{"v":0,"d":"0.0"}},{"$f":"'법정동(2014.12월말)'!X47-'법정동(2013년말)'!X48","v":{"v":0,"d":"0.0"}},{"$f":"'법정동(2014.12월말)'!Y47-'법정동(2013년말)'!Y48","v":{"v":0,"d":"0.0"}},{"$f":"'법정동(2014.12월말)'!Z47-'법정동(2013년말)'!Z48","v":{"v":0,"d":"0.0"}},{"$f":"'법정동(2014.12월말)'!AA47-'법정동(2013년말)'!AA48","v":{"v":0,"d":"0.0"}},{"$f":"'법정동(2014.12월말)'!AB47-'법정동(2013년말)'!AB48","v":{"v":0,"d":"0.0"}},{"$f":"'법정동(2014.12월말)'!AC47-'법정동(2013년말)'!AC48","v":{"v":0,"d":"0.0"}},{"$f":"'법정동(2014.12월말)'!AD47-'법정동(2013년말)'!AD48","v":{"v":67994.39999999997,"d":"67,994.4"}},{"$f":"'법정동(2014.12월말)'!AE47-'법정동(2013년말)'!AE48","v":{"v":6,"d":"6.0"}},{"$f":"'법정동(2014.12월말)'!AF47-'법정동(2013년말)'!AF48","v":{"v":0,"d":"0.0"}},{"$f":"'법정동(2014.12월말)'!AG47-'법정동(2013년말)'!AG48","v":{"v":0,"d":"0.0"}},{"$f":"'법정동(2014.12월말)'!AH47-'법정동(2013년말)'!AH48","v":{"v":5606.799999999999,"d":"5,606.8"}},{"$f":"'법정동(2014.12월말)'!AI47-'법정동(2013년말)'!AI48","v":{"v":2,"d":"2.0"}},{"$f":"'법정동(2014.12월말)'!AJ47-'법정동(2013년말)'!AJ48","v":{"v":21406.600000000035,"d":"21,406.6"}},{"$f":"'법정동(2014.12월말)'!AK47-'법정동(2013년말)'!AK48","v":{"v":1,"d":"1.0"}},{"$f":"'법정동(2014.12월말)'!AL47-'법정동(2013년말)'!AL48","v":{"v":566.7000000000007,"d":"566.7"}},{"$f":"'법정동(2014.12월말)'!AM47-'법정동(2013년말)'!AM48","v":{"v":2,"d":"2.0"}},{"$f":"'법정동(2014.12월말)'!AN47-'법정동(2013년말)'!AN48","v":{"v":0,"d":"0.0"}},{"$f":"'법정동(2014.12월말)'!AO47-'법정동(2013년말)'!AO48","v":{"v":0,"d":"0.0"}},{"$f":"'법정동(2014.12월말)'!AP47-'법정동(2013년말)'!AP48","v":{"v":0,"d":"0.0"}},{"$f":"'법정동(2014.12월말)'!AQ47-'법정동(2013년말)'!AQ48","v":{"v":0,"d":"0.0"}},{"$f":"'법정동(2014.12월말)'!AR47-'법정동(2013년말)'!AR48","v":{"v":0,"d":"0.0"}},{"$f":"'법정동(2014.12월말)'!AS47-'법정동(2013년말)'!AS48","v":{"v":0,"d":"0.0"}},{"$f":"'법정동(2014.12월말)'!AT47-'법정동(2013년말)'!AT48","v":{"v":4064.2,"d":"4,064.2"}},{"$f":"'법정동(2014.12월말)'!AU47-'법정동(2013년말)'!AU48","v":{"v":1,"d":"1.0"}},{"$f":"'법정동(2014.12월말)'!AV47-'법정동(2013년말)'!AV48","v":{"v":0,"d":"0.0"}},{"$f":"'법정동(2014.12월말)'!AW47-'법정동(2013년말)'!AW48","v":{"v":0,"d":"0.0"}},{"$f":"'법정동(2014.12월말)'!AX47-'법정동(2013년말)'!AX48","v":{"v":0,"d":"0.0"}},{"$f":"'법정동(2014.12월말)'!AY47-'법정동(2013년말)'!AY48","v":{"v":0,"d":"0.0"}},{"$f":"'법정동(2014.12월말)'!AZ47-'법정동(2013년말)'!AZ48","v":{"v":0,"d":"0.0"}},{"$f":"'법정동(2014.12월말)'!BA47-'법정동(2013년말)'!BA48","v":{"v":0,"d":"0.0"}},{"$f":"'법정동(2014.12월말)'!BB47-'법정동(2013년말)'!BB48","v":{"v":0,"d":"0.0"}},{"$f":"'법정동(2014.12월말)'!BC47-'법정동(2013년말)'!BC48","v":{"v":0,"d":"0.0"}},{"$f":"'법정동(2014.12월말)'!BD47-'법정동(2013년말)'!BD48","v":{"v":0,"d":"0.0"}},{"$f":"'법정동(2014.12월말)'!BE47-'법정동(2013년말)'!BE48","v":{"v":0,"d":"0.0"}},{"$f":"'법정동(2014.12월말)'!BF47-'법정동(2013년말)'!BF48","v":{"v":0,"d":"0.0"}},{"$f":"'법정동(2014.12월말)'!BG47-'법정동(2013년말)'!BG48","v":{"v":0,"d":"0.0"}}]
["월하동",{"$f":"'법정동(2014.12월말)'!B48-'법정동(2013년말)'!B49","v":{"v":0,"d":"0.0"}},{"$f":"'법정동(2014.12월말)'!C48-'법정동(2013년말)'!C49","v":{"v":-1,"d":"-1.0"}},{"$f":"'법정동(2014.12월말)'!D48-'법정동(2013년말)'!D49","v":{"v":-1591,"d":"-1,591.0"}},{"$f":"'법정동(2014.12월말)'!E48-'법정동(2013년말)'!E49","v":{"v":-2,"d":"-2.0"}},{"$f":"'법정동(2014.12월말)'!F48-'법정동(2013년말)'!F49","v":{"v":0,"d":"0.0"}},{"$f":"'법정동(2014.12월말)'!G48-'법정동(2013년말)'!G49","v":{"v":0,"d":"0.0"}},{"$f":"'법정동(2014.12월말)'!H48-'법정동(2013년말)'!H49","v":{"v":0,"d":"0.0"}},{"$f":"'법정동(2014.12월말)'!I48-'법정동(2013년말)'!I49","v":{"v":0,"d":"0.0"}},{"$f":"'법정동(2014.12월말)'!J48-'법정동(2013년말)'!J49","v":{"v":0,"d":"0.0"}},{"$f":"'법정동(2014.12월말)'!K48-'법정동(2013년말)'!K49","v":{"v":0,"d":"0.0"}},{"$f":"'법정동(2014.12월말)'!L48-'법정동(2013년말)'!L49","v":{"v":0,"d":"0.0"}},{"$f":"'법정동(2014.12월말)'!M48-'법정동(2013년말)'!M49","v":{"v":0,"d":"0.0"}},{"$f":"'법정동(2014.12월말)'!N48-'법정동(2013년말)'!N49","v":{"v":0,"d":"0.0"}},{"$f":"'법정동(2014.12월말)'!O48-'법정동(2013년말)'!O49","v":{"v":0,"d":"0.0"}},{"$f":"'법정동(2014.12월말)'!P48-'법정동(2013년말)'!P49","v":{"v":0,"d":"0.0"}},{"$f":"'법정동(2014.12월말)'!Q48-'법정동(2013년말)'!Q49","v":{"v":0,"d":"0.0"}},{"$f":"'법정동(2014.12월말)'!R48-'법정동(2013년말)'!R49","v":{"v":0,"d":"0.0"}},{"$f":"'법정동(2014.12월말)'!S48-'법정동(2013년말)'!S49","v":{"v":0,"d":"0.0"}},{"$f":"'법정동(2014.12월말)'!T48-'법정동(2013년말)'!T49","v":{"v":1591,"d":"1,591.0"}},{"$f":"'법정동(2014.12월말)'!U48-'법정동(2013년말)'!U49","v":{"v":1,"d":"1.0"}},{"$f":"'법정동(2014.12월말)'!V48-'법정동(2013년말)'!V49","v":{"v":0,"d":"0.0"}},{"$f":"'법정동(2014.12월말)'!W48-'법정동(2013년말)'!W49","v":{"v":0,"d":"0.0"}},{"$f":"'법정동(2014.12월말)'!X48-'법정동(2013년말)'!X49","v":{"v":0,"d":"0.0"}},{"$f":"'법정동(2014.12월말)'!Y48-'법정동(2013년말)'!Y49","v":{"v":0,"d":"0.0"}},{"$f":"'법정동(2014.12월말)'!Z48-'법정동(2013년말)'!Z49","v":{"v":0,"d":"0.0"}},{"$f":"'법정동(2014.12월말)'!AA48-'법정동(2013년말)'!AA49","v":{"v":0,"d":"0.0"}},{"$f":"'법정동(2014.12월말)'!AB48-'법정동(2013년말)'!AB49","v":{"v":0,"d":"0.0"}},{"$f":"'법정동(2014.12월말)'!AC48-'법정동(2013년말)'!AC49","v":{"v":0,"d":"0.0"}},{"$f":"'법정동(2014.12월말)'!AD48-'법정동(2013년말)'!AD49","v":{"v":0,"d":"0.0"}},{"$f":"'법정동(2014.12월말)'!AE48-'법정동(2013년말)'!AE49","v":{"v":0,"d":"0.0"}},{"$f":"'법정동(2014.12월말)'!AF48-'법정동(2013년말)'!AF49","v":{"v":0,"d":"0.0"}},{"$f":"'법정동(2014.12월말)'!AG48-'법정동(2013년말)'!AG49","v":{"v":0,"d":"0.0"}},{"$f":"'법정동(2014.12월말)'!AH48-'법정동(2013년말)'!AH49","v":{"v":0,"d":"0.0"}},{"$f":"'법정동(2014.12월말)'!AI48-'법정동(2013년말)'!AI49","v":{"v":0,"d":"0.0"}},{"$f":"'법정동(2014.12월말)'!AJ48-'법정동(2013년말)'!AJ49","v":{"v":0,"d":"0.0"}},{"$f":"'법정동(2014.12월말)'!AK48-'법정동(2013년말)'!AK49","v":{"v":0,"d":"0.0"}},{"$f":"'법정동(2014.12월말)'!AL48-'법정동(2013년말)'!AL49","v":{"v":0,"d":"0.0"}},{"$f":"'법정동(2014.12월말)'!AM48-'법정동(2013년말)'!AM49","v":{"v":0,"d":"0.0"}},{"$f":"'법정동(2014.12월말)'!AN48-'법정동(2013년말)'!AN49","v":{"v":0,"d":"0.0"}},{"$f":"'법정동(2014.12월말)'!AO48-'법정동(2013년말)'!AO49","v":{"v":0,"d":"0.0"}},{"$f":"'법정동(2014.12월말)'!AP48-'법정동(2013년말)'!AP49","v":{"v":0,"d":"0.0"}},{"$f":"'법정동(2014.12월말)'!AQ48-'법정동(2013년말)'!AQ49","v":{"v":0,"d":"0.0"}},{"$f":"'법정동(2014.12월말)'!AR48-'법정동(2013년말)'!AR49","v":{"v":0,"d":"0.0"}},{"$f":"'법정동(2014.12월말)'!AS48-'법정동(2013년말)'!AS49","v":{"v":0,"d":"0.0"}},{"$f":"'법정동(2014.12월말)'!AT48-'법정동(2013년말)'!AT49","v":{"v":0,"d":"0.0"}},{"$f":"'법정동(2014.12월말)'!AU48-'법정동(2013년말)'!AU49","v":{"v":0,"d":"0.0"}},{"$f":"'법정동(2014.12월말)'!AV48-'법정동(2013년말)'!AV49","v":{"v":0,"d":"0.0"}},{"$f":"'법정동(2014.12월말)'!AW48-'법정동(2013년말)'!AW49","v":{"v":0,"d":"0.0"}},{"$f":"'법정동(2014.12월말)'!AX48-'법정동(2013년말)'!AX49","v":{"v":0,"d":"0.0"}},{"$f":"'법정동(2014.12월말)'!AY48-'법정동(2013년말)'!AY49","v":{"v":0,"d":"0.0"}},{"$f":"'법정동(2014.12월말)'!AZ48-'법정동(2013년말)'!AZ49","v":{"v":0,"d":"0.0"}},{"$f":"'법정동(2014.12월말)'!BA48-'법정동(2013년말)'!BA49","v":{"v":0,"d":"0.0"}},{"$f":"'법정동(2014.12월말)'!BB48-'법정동(2013년말)'!BB49","v":{"v":0,"d":"0.0"}},{"$f":"'법정동(2014.12월말)'!BC48-'법정동(2013년말)'!BC49","v":{"v":0,"d":"0.0"}},{"$f":"'법정동(2014.12월말)'!BD48-'법정동(2013년말)'!BD49","v":{"v":0,"d":"0.0"}},{"$f":"'법정동(2014.12월말)'!BE48-'법정동(2013년말)'!BE49","v":{"v":0,"d":"0.0"}},{"$f":"'법정동(2014.12월말)'!BF48-'법정동(2013년말)'!BF49","v":{"v":0,"d":"0.0"}},{"$f":"'법정동(2014.12월말)'!BG48-'법정동(2013년말)'!BG49","v":{"v":0,"d":"0.0"}}]
["평여동",{"$f":"'법정동(2014.12월말)'!B49-'법정동(2013년말)'!B50","v":{"v":0,"d":"0.0"}},{"$f":"'법정동(2014.12월말)'!C49-'법정동(2013년말)'!C50","v":{"v":2,"d":"2.0"}},{"$f":"'법정동(2014.12월말)'!D49-'법정동(2013년말)'!D50","v":{"v":-99,"d":"-99.0"}},{"$f":"'법정동(2014.12월말)'!E49-'법정동(2013년말)'!E50","v":{"v":0,"d":"0.0"}},{"$f":"'법정동(2014.12월말)'!F49-'법정동(2013년말)'!F50","v":{"v":0,"d":"0.0"}},{"$f":"'법정동(2014.12월말)'!G49-'법정동(2013년말)'!G50","v":{"v":0,"d":"0.0"}},{"$f":"'법정동(2014.12월말)'!H49-'법정동(2013년말)'!H50","v":{"v":0,"d":"0.0"}},{"$f":"'법정동(2014.12월말)'!I49-'법정동(2013년말)'!I50","v":{"v":0,"d":"0.0"}},{"$f":"'법정동(2014.12월말)'!J49-'법정동(2013년말)'!J50","v":{"v":0,"d":"0.0"}},{"$f":"'법정동(2014.12월말)'!K49-'법정동(2013년말)'!K50","v":{"v":0,"d":"0.0"}},{"$f":"'법정동(2014.12월말)'!L49-'법정동(2013년말)'!L50","v":{"v":0,"d":"0.0"}},{"$f":"'법정동(2014.12월말)'!M49-'법정동(2013년말)'!M50","v":{"v":1,"d":"1.0"}},{"$f":"'법정동(2014.12월말)'!N49-'법정동(2013년말)'!N50","v":{"v":0,"d":"0.0"}},{"$f":"'법정동(2014.12월말)'!O49-'법정동(2013년말)'!O50","v":{"v":0,"d":"0.0"}},{"$f":"'법정동(2014.12월말)'!P49-'법정동(2013년말)'!P50","v":{"v":0,"d":"0.0"}},{"$f":"'법정동(2014.12월말)'!Q49-'법정동(2013년말)'!Q50","v":{"v":0,"d":"0.0"}},{"$f":"'법정동(2014.12월말)'!R49-'법정동(2013년말)'!R50","v":{"v":0,"d":"0.0"}},{"$f":"'법정동(2014.12월말)'!S49-'법정동(2013년말)'!S50","v":{"v":0,"d":"0.0"}},{"$f":"'법정동(2014.12월말)'!T49-'법정동(2013년말)'!T50","v":{"v":0,"d":"0.0"}},{"$f":"'법정동(2014.12월말)'!U49-'법정동(2013년말)'!U50","v":{"v":0,"d":"0.0"}},{"$f":"'법정동(2014.12월말)'!V49-'법정동(2013년말)'!V50","v":{"v":0,"d":"0.0"}},{"$f":"'법정동(2014.12월말)'!W49-'법정동(2013년말)'!W50","v":{"v":0,"d":"0.0"}},{"$f":"'법정동(2014.12월말)'!X49-'법정동(2013년말)'!X50","v":{"v":0,"d":"0.0"}},{"$f":"'법정동(2014.12월말)'!Y49-'법정동(2013년말)'!Y50","v":{"v":0,"d":"0.0"}},{"$f":"'법정동(2014.12월말)'!Z49-'법정동(2013년말)'!Z50","v":{"v":0,"d":"0.0"}},{"$f":"'법정동(2014.12월말)'!AA49-'법정동(2013년말)'!AA50","v":{"v":0,"d":"0.0"}},{"$f":"'법정동(2014.12월말)'!AB49-'법정동(2013년말)'!AB50","v":{"v":0,"d":"0.0"}},{"$f":"'법정동(2014.12월말)'!AC49-'법정동(2013년말)'!AC50","v":{"v":0,"d":"0.0"}},{"$f":"'법정동(2014.12월말)'!AD49-'법정동(2013년말)'!AD50","v":{"v":-3,"d":"-3.0"}},{"$f":"'법정동(2014.12월말)'!AE49-'법정동(2013년말)'!AE50","v":{"v":-1,"d":"-1.0"}},{"$f":"'법정동(2014.12월말)'!AF49-'법정동(2013년말)'!AF50","v":{"v":3,"d":"3.0"}},{"$f":"'법정동(2014.12월말)'!AG49-'법정동(2013년말)'!AG50","v":{"v":1,"d":"1.0"}},{"$f":"'법정동(2014.12월말)'!AH49-'법정동(2013년말)'!AH50","v":{"v":0,"d":"0.0"}},{"$f":"'법정동(2014.12월말)'!AI49-'법정동(2013년말)'!AI50","v":{"v":0,"d":"0.0"}},{"$f":"'법정동(2014.12월말)'!AJ49-'법정동(2013년말)'!AJ50","v":{"v":0,"d":"0.0"}},{"$f":"'법정동(2014.12월말)'!AK49-'법정동(2013년말)'!AK50","v":{"v":0,"d":"0.0"}},{"$f":"'법정동(2014.12월말)'!AL49-'법정동(2013년말)'!AL50","v":{"v":0,"d":"0.0"}},{"$f":"'법정동(2014.12월말)'!AM49-'법정동(2013년말)'!AM50","v":{"v":0,"d":"0.0"}},{"$f":"'법정동(2014.12월말)'!AN49-'법정동(2013년말)'!AN50","v":{"v":0,"d":"0.0"}},{"$f":"'법정동(2014.12월말)'!AO49-'법정동(2013년말)'!AO50","v":{"v":0,"d":"0.0"}},{"$f":"'법정동(2014.12월말)'!AP49-'법정동(2013년말)'!AP50","v":{"v":0,"d":"0.0"}},{"$f":"'법정동(2014.12월말)'!AQ49-'법정동(2013년말)'!AQ50","v":{"v":0,"d":"0.0"}},{"$f":"'법정동(2014.12월말)'!AR49-'법정동(2013년말)'!AR50","v":{"v":0,"d":"0.0"}},{"$f":"'법정동(2014.12월말)'!AS49-'법정동(2013년말)'!AS50","v":{"v":0,"d":"0.0"}},{"$f":"'법정동(2014.12월말)'!AT49-'법정동(2013년말)'!AT50","v":{"v":0,"d":"0.0"}},{"$f":"'법정동(2014.12월말)'!AU49-'법정동(2013년말)'!AU50","v":{"v":0,"d":"0.0"}},{"$f":"'법정동(2014.12월말)'!AV49-'법정동(2013년말)'!AV50","v":{"v":0,"d":"0.0"}},{"$f":"'법정동(2014.12월말)'!AW49-'법정동(2013년말)'!AW50","v":{"v":0,"d":"0.0"}},{"$f":"'법정동(2014.12월말)'!AX49-'법정동(2013년말)'!AX50","v":{"v":0,"d":"0.0"}},{"$f":"'법정동(2014.12월말)'!AY49-'법정동(2013년말)'!AY50","v":{"v":0,"d":"0.0"}},{"$f":"'법정동(2014.12월말)'!AZ49-'법정동(2013년말)'!AZ50","v":{"v":0,"d":"0.0"}},{"$f":"'법정동(2014.12월말)'!BA49-'법정동(2013년말)'!BA50","v":{"v":0,"d":"0.0"}},{"$f":"'법정동(2014.12월말)'!BB49-'법정동(2013년말)'!BB50","v":{"v":0,"d":"0.0"}},{"$f":"'법정동(2014.12월말)'!BC49-'법정동(2013년말)'!BC50","v":{"v":0,"d":"0.0"}},{"$f":"'법정동(2014.12월말)'!BD49-'법정동(2013년말)'!BD50","v":{"v":99,"d":"99.0"}},{"$f":"'법정동(2014.12월말)'!BE49-'법정동(2013년말)'!BE50","v":{"v":1,"d":"1.0"}},{"$f":"'법정동(2014.12월말)'!BF49-'법정동(2013년말)'!BF50","v":{"v":0,"d":"0.0"}},{"$f":"'법정동(2014.12월말)'!BG49-'법정동(2013년말)'!BG50","v":{"v":0,"d":"0.0"}}]
["중흥동",{"$f":"'법정동(2014.12월말)'!B50-'법정동(2013년말)'!B51","v":{"v":3191248.5,"d":"3,191,248.5"}},{"$f":"'법정동(2014.12월말)'!C50-'법정동(2013년말)'!C51","v":{"v":30,"d":"30.0"}},{"$f":"'법정동(2014.12월말)'!D50-'법정동(2013년말)'!D51","v":{"v":-20843,"d":"-20,843.0"}},{"$f":"'법정동(2014.12월말)'!E50-'법정동(2013년말)'!E51","v":{"v":-15,"d":"-15.0"}},{"$f":"'법정동(2014.12월말)'!F50-'법정동(2013년말)'!F51","v":{"v":-2026,"d":"-2,026.0"}},{"$f":"'법정동(2014.12월말)'!G50-'법정동(2013년말)'!G51","v":{"v":4,"d":"4.0"}},{"$f":"'법정동(2014.12월말)'!H50-'법정동(2013년말)'!H51","v":{"v":0,"d":"0.0"}},{"$f":"'법정동(2014.12월말)'!I50-'법정동(2013년말)'!I51","v":{"v":0,"d":"0.0"}},{"$f":"'법정동(2014.12월말)'!J50-'법정동(2013년말)'!J51","v":{"v":0,"d":"0.0"}},{"$f":"'법정동(2014.12월말)'!K50-'법정동(2013년말)'!K51","v":{"v":0,"d":"0.0"}},{"$f":"'법정동(2014.12월말)'!L50-'법정동(2013년말)'!L51","v":{"v":-67076.5,"d":"-67,076.5"}},{"$f":"'법정동(2014.12월말)'!M50-'법정동(2013년말)'!M51","v":{"v":-41,"d":"-41.0"}},{"$f":"'법정동(2014.12월말)'!N50-'법정동(2013년말)'!N51","v":{"v":0,"d":"0.0"}},{"$f":"'법정동(2014.12월말)'!O50-'법정동(2013년말)'!O51","v":{"v":0,"d":"0.0"}},{"$f":"'법정동(2014.12월말)'!P50-'법정동(2013년말)'!P51","v":{"v":0,"d":"0.0"}},{"$f":"'법정동(2014.12월말)'!Q50-'법정동(2013년말)'!Q51","v":{"v":0,"d":"0.0"}},{"$f":"'법정동(2014.12월말)'!R50-'법정동(2013년말)'!R51","v":{"v":-2085,"d":"-2,085.0"}},{"$f":"'법정동(2014.12월말)'!S50-'법정동(2013년말)'!S51","v":{"v":4,"d":"4.0"}},{"$f":"'법정동(2014.12월말)'!T50-'법정동(2013년말)'!T51","v":{"v":2826144.5000000005,"d":"2,826,144.5"}},{"$f":"'법정동(2014.12월말)'!U50-'법정동(2013년말)'!U51","v":{"v":3,"d":"3.0"}},{"$f":"'법정동(2014.12월말)'!V50-'법정동(2013년말)'!V51","v":{"v":0,"d":"0.0"}},{"$f":"'법정동(2014.12월말)'!W50-'법정동(2013년말)'!W51","v":{"v":0,"d":"0.0"}},{"$f":"'법정동(2014.12월말)'!X50-'법정동(2013년말)'!X51","v":{"v":0,"d":"0.0"}},{"$f":"'법정동(2014.12월말)'!Y50-'법정동(2013년말)'!Y51","v":{"v":0,"d":"0.0"}},{"$f":"'법정동(2014.12월말)'!Z50-'법정동(2013년말)'!Z51","v":{"v":0,"d":"0.0"}},{"$f":"'법정동(2014.12월말)'!AA50-'법정동(2013년말)'!AA51","v":{"v":0,"d":"0.0"}},{"$f":"'법정동(2014.12월말)'!AB50-'법정동(2013년말)'!AB51","v":{"v":0,"d":"0.0"}},{"$f":"'법정동(2014.12월말)'!AC50-'법정동(2013년말)'!AC51","v":{"v":0,"d":"0.0"}},{"$f":"'법정동(2014.12월말)'!AD50-'법정동(2013년말)'!AD51","v":{"v":208524.19999999995,"d":"208,524.2"}},{"$f":"'법정동(2014.12월말)'!AE50-'법정동(2013년말)'!AE51","v":{"v":39,"d":"39.0"}},{"$f":"'법정동(2014.12월말)'!AF50-'법정동(2013년말)'!AF51","v":{"v":-417,"d":"-417.0"}},{"$f":"'법정동(2014.12월말)'!AG50-'법정동(2013년말)'!AG51","v":{"v":-7,"d":"-7.0"}},{"$f":"'법정동(2014.12월말)'!AH50-'법정동(2013년말)'!AH51","v":{"v":15405.500000000002,"d":"15,405.5"}},{"$f":"'법정동(2014.12월말)'!AI50-'법정동(2013년말)'!AI51","v":{"v":1,"d":"1.0"}},{"$f":"'법정동(2014.12월말)'!AJ50-'법정동(2013년말)'!AJ51","v":{"v":95662.6,"d":"95,662.6"}},{"$f":"'법정동(2014.12월말)'!AK50-'법정동(2013년말)'!AK51","v":{"v":18,"d":"18.0"}},{"$f":"'법정동(2014.12월말)'!AL50-'법정동(2013년말)'!AL51","v":{"v":70533.8,"d":"70,533.8"}},{"$f":"'법정동(2014.12월말)'!AM50-'법정동(2013년말)'!AM51","v":{"v":10,"d":"10.0"}},{"$f":"'법정동(2014.12월말)'!AN50-'법정동(2013년말)'!AN51","v":{"v":0,"d":"0.0"}},{"$f":"'법정동(2014.12월말)'!AO50-'법정동(2013년말)'!AO51","v":{"v":0,"d":"0.0"}},{"$f":"'법정동(2014.12월말)'!AP50-'법정동(2013년말)'!AP51","v":{"v":0,"d":"0.0"}},{"$f":"'법정동(2014.12월말)'!AQ50-'법정동(2013년말)'!AQ51","v":{"v":0,"d":"0.0"}},{"$f":"'법정동(2014.12월말)'!AR50-'법정동(2013년말)'!AR51","v":{"v":0,"d":"0.0"}},{"$f":"'법정동(2014.12월말)'!AS50-'법정동(2013년말)'!AS51","v":{"v":0,"d":"0.0"}},{"$f":"'법정동(2014.12월말)'!AT50-'법정동(2013년말)'!AT51","v":{"v":77081.9,"d":"77,081.9"}},{"$f":"'법정동(2014.12월말)'!AU50-'법정동(2013년말)'!AU51","v":{"v":5,"d":"5.0"}},{"$f":"'법정동(2014.12월말)'!AV50-'법정동(2013년말)'!AV51","v":{"v":0,"d":"0.0"}},{"$f":"'법정동(2014.12월말)'!AW50-'법정동(2013년말)'!AW51","v":{"v":0,"d":"0.0"}},{"$f":"'법정동(2014.12월말)'!AX50-'법정동(2013년말)'!AX51","v":{"v":0,"d":"0.0"}},{"$f":"'법정동(2014.12월말)'!AY50-'법정동(2013년말)'!AY51","v":{"v":0,"d":"0.0"}},{"$f":"'법정동(2014.12월말)'!AZ50-'법정동(2013년말)'!AZ51","v":{"v":0,"d":"0.0"}},{"$f":"'법정동(2014.12월말)'!BA50-'법정동(2013년말)'!BA51","v":{"v":0,"d":"0.0"}},{"$f":"'법정동(2014.12월말)'!BB50-'법정동(2013년말)'!BB51","v":{"v":0,"d":"0.0"}},{"$f":"'법정동(2014.12월말)'!BC50-'법정동(2013년말)'!BC51","v":{"v":0,"d":"0.0"}},{"$f":"'법정동(2014.12월말)'!BD50-'법정동(2013년말)'!BD51","v":{"v":0,"d":"0.0"}},{"$f":"'법정동(2014.12월말)'!BE50-'법정동(2013년말)'!BE51","v":{"v":0,"d":"0.0"}},{"$f":"'법정동(2014.12월말)'!BF50-'법정동(2013년말)'!BF51","v":{"v":-9656.5,"d":"-9,656.5"}},{"$f":"'법정동(2014.12월말)'!BG50-'법정동(2013년말)'!BG51","v":{"v":9,"d":"9.0"}}]
["적량동",{"$f":"'법정동(2014.12월말)'!B51-'법정동(2013년말)'!B52","v":{"v":47653.40000000037,"d":"47,653.4"}},{"$f":"'법정동(2014.12월말)'!C51-'법정동(2013년말)'!C52","v":{"v":-9,"d":"-9.0"}},{"$f":"'법정동(2014.12월말)'!D51-'법정동(2013년말)'!D52","v":{"v":-4358,"d":"-4,358.0"}},{"$f":"'법정동(2014.12월말)'!E51-'법정동(2013년말)'!E52","v":{"v":-9,"d":"-9.0"}},{"$f":"'법정동(2014.12월말)'!F51-'법정동(2013년말)'!F52","v":{"v":-3667,"d":"-3,667.0"}},{"$f":"'법정동(2014.12월말)'!G51-'법정동(2013년말)'!G52","v":{"v":-6,"d":"-6.0"}},{"$f":"'법정동(2014.12월말)'!H51-'법정동(2013년말)'!H52","v":{"v":0,"d":"0.0"}},{"$f":"'법정동(2014.12월말)'!I51-'법정동(2013년말)'!I52","v":{"v":0,"d":"0.0"}},{"$f":"'법정동(2014.12월말)'!J51-'법정동(2013년말)'!J52","v":{"v":0,"d":"0.0"}},{"$f":"'법정동(2014.12월말)'!K51-'법정동(2013년말)'!K52","v":{"v":0,"d":"0.0"}},{"$f":"'법정동(2014.12월말)'!L51-'법정동(2013년말)'!L52","v":{"v":-4316,"d":"-4,316.0"}},{"$f":"'법정동(2014.12월말)'!M51-'법정동(2013년말)'!M52","v":{"v":-4,"d":"-4.0"}},{"$f":"'법정동(2014.12월말)'!N51-'법정동(2013년말)'!N52","v":{"v":0,"d":"0.0"}},{"$f":"'법정동(2014.12월말)'!O51-'법정동(2013년말)'!O52","v":{"v":0,"d":"0.0"}},{"$f":"'법정동(2014.12월말)'!P51-'법정동(2013년말)'!P52","v":{"v":0,"d":"0.0"}},{"$f":"'법정동(2014.12월말)'!Q51-'법정동(2013년말)'!Q52","v":{"v":0,"d":"0.0"}},{"$f":"'법정동(2014.12월말)'!R51-'법정동(2013년말)'!R52","v":{"v":0,"d":"0.0"}},{"$f":"'법정동(2014.12월말)'!S51-'법정동(2013년말)'!S52","v":{"v":0,"d":"0.0"}},{"$f":"'법정동(2014.12월말)'!T51-'법정동(2013년말)'!T52","v":{"v":12149.699999999953,"d":"12,149.7"}},{"$f":"'법정동(2014.12월말)'!U51-'법정동(2013년말)'!U52","v":{"v":2,"d":"2.0"}},{"$f":"'법정동(2014.12월말)'!V51-'법정동(2013년말)'!V52","v":{"v":0,"d":"0.0"}},{"$f":"'법정동(2014.12월말)'!W51-'법정동(2013년말)'!W52","v":{"v":0,"d":"0.0"}},{"$f":"'법정동(2014.12월말)'!X51-'법정동(2013년말)'!X52","v":{"v":0,"d":"0.0"}},{"$f":"'법정동(2014.12월말)'!Y51-'법정동(2013년말)'!Y52","v":{"v":0,"d":"0.0"}},{"$f":"'법정동(2014.12월말)'!Z51-'법정동(2013년말)'!Z52","v":{"v":0,"d":"0.0"}},{"$f":"'법정동(2014.12월말)'!AA51-'법정동(2013년말)'!AA52","v":{"v":0,"d":"0.0"}},{"$f":"'법정동(2014.12월말)'!AB51-'법정동(2013년말)'!AB52","v":{"v":0,"d":"0.0"}},{"$f":"'법정동(2014.12월말)'!AC51-'법정동(2013년말)'!AC52","v":{"v":0,"d":"0.0"}},{"$f":"'법정동(2014.12월말)'!AD51-'법정동(2013년말)'!AD52","v":{"v":18251.5,"d":"18,251.5"}},{"$f":"'법정동(2014.12월말)'!AE51-'법정동(2013년말)'!AE52","v":{"v":4,"d":"4.0"}},{"$f":"'법정동(2014.12월말)'!AF51-'법정동(2013년말)'!AF52","v":{"v":0,"d":"0.0"}},{"$f":"'법정동(2014.12월말)'!AG51-'법정동(2013년말)'!AG52","v":{"v":0,"d":"0.0"}},{"$f":"'법정동(2014.12월말)'!AH51-'법정동(2013년말)'!AH52","v":{"v":69.40000000000055,"d":"69.4"}},{"$f":"'법정동(2014.12월말)'!AI51-'법정동(2013년말)'!AI52","v":{"v":1,"d":"1.0"}},{"$f":"'법정동(2014.12월말)'!AJ51-'법정동(2013년말)'!AJ52","v":{"v":0,"d":"0.0"}},{"$f":"'법정동(2014.12월말)'!AK51-'법정동(2013년말)'!AK52","v":{"v":0,"d":"0.0"}},{"$f":"'법정동(2014.12월말)'!AL51-'법정동(2013년말)'!AL52","v":{"v":14856.600000000002,"d":"14,856.6"}},{"$f":"'법정동(2014.12월말)'!AM51-'법정동(2013년말)'!AM52","v":{"v":1,"d":"1.0"}},{"$f":"'법정동(2014.12월말)'!AN51-'법정동(2013년말)'!AN52","v":{"v":0,"d":"0.0"}},{"$f":"'법정동(2014.12월말)'!AO51-'법정동(2013년말)'!AO52","v":{"v":0,"d":"0.0"}},{"$f":"'법정동(2014.12월말)'!AP51-'법정동(2013년말)'!AP52","v":{"v":0,"d":"0.0"}},{"$f":"'법정동(2014.12월말)'!AQ51-'법정동(2013년말)'!AQ52","v":{"v":0,"d":"0.0"}},{"$f":"'법정동(2014.12월말)'!AR51-'법정동(2013년말)'!AR52","v":{"v":0,"d":"0.0"}},{"$f":"'법정동(2014.12월말)'!AS51-'법정동(2013년말)'!AS52","v":{"v":0,"d":"0.0"}},{"$f":"'법정동(2014.12월말)'!AT51-'법정동(2013년말)'!AT52","v":{"v":14667.2,"d":"14,667.2"}},{"$f":"'법정동(2014.12월말)'!AU51-'법정동(2013년말)'!AU52","v":{"v":2,"d":"2.0"}},{"$f":"'법정동(2014.12월말)'!AV51-'법정동(2013년말)'!AV52","v":{"v":0,"d":"0.0"}},{"$f":"'법정동(2014.12월말)'!AW51-'법정동(2013년말)'!AW52","v":{"v":0,"d":"0.0"}},{"$f":"'법정동(2014.12월말)'!AX51-'법정동(2013년말)'!AX52","v":{"v":0,"d":"0.0"}},{"$f":"'법정동(2014.12월말)'!AY51-'법정동(2013년말)'!AY52","v":{"v":0,"d":"0.0"}},{"$f":"'법정동(2014.12월말)'!AZ51-'법정동(2013년말)'!AZ52","v":{"v":0,"d":"0.0"}},{"$f":"'법정동(2014.12월말)'!BA51-'법정동(2013년말)'!BA52","v":{"v":0,"d":"0.0"}},{"$f":"'법정동(2014.12월말)'!BB51-'법정동(2013년말)'!BB52","v":{"v":0,"d":"0.0"}},{"$f":"'법정동(2014.12월말)'!BC51-'법정동(2013년말)'!BC52","v":{"v":0,"d":"0.0"}},{"$f":"'법정동(2014.12월말)'!BD51-'법정동(2013년말)'!BD52","v":{"v":0,"d":"0.0"}},{"$f":"'법정동(2014.12월말)'!BE51-'법정동(2013년말)'!BE52","v":{"v":0,"d":"0.0"}},{"$f":"'법정동(2014.12월말)'!BF51-'법정동(2013년말)'!BF52","v":{"v":0,"d":"0.0"}},{"$f":"'법정동(2014.12월말)'!BG51-'법정동(2013년말)'!BG52","v":{"v":0,"d":"0.0"}}]
["월내동",{"$f":"'법정동(2014.12월말)'!B52-'법정동(2013년말)'!B53","v":{"v":-320.90000000037253,"d":"-320.9"}},{"$f":"'법정동(2014.12월말)'!C52-'법정동(2013년말)'!C53","v":{"v":-17,"d":"-17.0"}},{"$f":"'법정동(2014.12월말)'!D52-'법정동(2013년말)'!D53","v":{"v":-7750,"d":"-7,750.0"}},{"$f":"'법정동(2014.12월말)'!E52-'법정동(2013년말)'!E53","v":{"v":-5,"d":"-5.0"}},{"$f":"'법정동(2014.12월말)'!F52-'법정동(2013년말)'!F53","v":{"v":0,"d":"0.0"}},{"$f":"'법정동(2014.12월말)'!G52-'법정동(2013년말)'!G53","v":{"v":0,"d":"0.0"}},{"$f":"'법정동(2014.12월말)'!H52-'법정동(2013년말)'!H53","v":{"v":0,"d":"0.0"}},{"$f":"'법정동(2014.12월말)'!I52-'법정동(2013년말)'!I53","v":{"v":0,"d":"0.0"}},{"$f":"'법정동(2014.12월말)'!J52-'법정동(2013년말)'!J53","v":{"v":0,"d":"0.0"}},{"$f":"'법정동(2014.12월말)'!K52-'법정동(2013년말)'!K53","v":{"v":0,"d":"0.0"}},{"$f":"'법정동(2014.12월말)'!L52-'법정동(2013년말)'!L53","v":{"v":-19767,"d":"-19,767.0"}},{"$f":"'법정동(2014.12월말)'!M52-'법정동(2013년말)'!M53","v":{"v":-10,"d":"-10.0"}},{"$f":"'법정동(2014.12월말)'!N52-'법정동(2013년말)'!N53","v":{"v":0,"d":"0.0"}},{"$f":"'법정동(2014.12월말)'!O52-'법정동(2013년말)'!O53","v":{"v":0,"d":"0.0"}},{"$f":"'법정동(2014.12월말)'!P52-'법정동(2013년말)'!P53","v":{"v":0,"d":"0.0"}},{"$f":"'법정동(2014.12월말)'!Q52-'법정동(2013년말)'!Q53","v":{"v":0,"d":"0.0"}},{"$f":"'법정동(2014.12월말)'!R52-'법정동(2013년말)'!R53","v":{"v":0,"d":"0.0"}},{"$f":"'법정동(2014.12월말)'!S52-'법정동(2013년말)'!S53","v":{"v":0,"d":"0.0"}},{"$f":"'법정동(2014.12월말)'!T52-'법정동(2013년말)'!T53","v":{"v":33547.69999999995,"d":"33,547.7"}},{"$f":"'법정동(2014.12월말)'!U52-'법정동(2013년말)'!U53","v":{"v":2,"d":"2.0"}},{"$f":"'법정동(2014.12월말)'!V52-'법정동(2013년말)'!V53","v":{"v":0,"d":"0.0"}},{"$f":"'법정동(2014.12월말)'!W52-'법정동(2013년말)'!W53","v":{"v":0,"d":"0.0"}},{"$f":"'법정동(2014.12월말)'!X52-'법정동(2013년말)'!X53","v":{"v":0,"d":"0.0"}},{"$f":"'법정동(2014.12월말)'!Y52-'법정동(2013년말)'!Y53","v":{"v":0,"d":"0.0"}},{"$f":"'법정동(2014.12월말)'!Z52-'법정동(2013년말)'!Z53","v":{"v":0,"d":"0.0"}},{"$f":"'법정동(2014.12월말)'!AA52-'법정동(2013년말)'!AA53","v":{"v":0,"d":"0.0"}},{"$f":"'법정동(2014.12월말)'!AB52-'법정동(2013년말)'!AB53","v":{"v":0,"d":"0.0"}},{"$f":"'법정동(2014.12월말)'!AC52-'법정동(2013년말)'!AC53","v":{"v":0,"d":"0.0"}},{"$f":"'법정동(2014.12월말)'!AD52-'법정동(2013년말)'!AD53","v":{"v":-239.60000000000582,"d":"-239.6"}},{"$f":"'법정동(2014.12월말)'!AE52-'법정동(2013년말)'!AE53","v":{"v":0,"d":"0.0"}},{"$f":"'법정동(2014.12월말)'!AF52-'법정동(2013년말)'!AF53","v":{"v":0,"d":"0.0"}},{"$f":"'법정동(2014.12월말)'!AG52-'법정동(2013년말)'!AG53","v":{"v":0,"d":"0.0"}},{"$f":"'법정동(2014.12월말)'!AH52-'법정동(2013년말)'!AH53","v":{"v":0,"d":"0.0"}},{"$f":"'법정동(2014.12월말)'!AI52-'법정동(2013년말)'!AI53","v":{"v":0,"d":"0.0"}},{"$f":"'법정동(2014.12월말)'!AJ52-'법정동(2013년말)'!AJ53","v":{"v":0,"d":"0.0"}},{"$f":"'법정동(2014.12월말)'!AK52-'법정동(2013년말)'!AK53","v":{"v":0,"d":"0.0"}},{"$f":"'법정동(2014.12월말)'!AL52-'법정동(2013년말)'!AL53","v":{"v":0,"d":"0.0"}},{"$f":"'법정동(2014.12월말)'!AM52-'법정동(2013년말)'!AM53","v":{"v":0,"d":"0.0"}},{"$f":"'법정동(2014.12월말)'!AN52-'법정동(2013년말)'!AN53","v":{"v":0,"d":"0.0"}},{"$f":"'법정동(2014.12월말)'!AO52-'법정동(2013년말)'!AO53","v":{"v":0,"d":"0.0"}},{"$f":"'법정동(2014.12월말)'!AP52-'법정동(2013년말)'!AP53","v":{"v":0,"d":"0.0"}},{"$f":"'법정동(2014.12월말)'!AQ52-'법정동(2013년말)'!AQ53","v":{"v":0,"d":"0.0"}},{"$f":"'법정동(2014.12월말)'!AR52-'법정동(2013년말)'!AR53","v":{"v":0,"d":"0.0"}},{"$f":"'법정동(2014.12월말)'!AS52-'법정동(2013년말)'!AS53","v":{"v":0,"d":"0.0"}},{"$f":"'법정동(2014.12월말)'!AT52-'법정동(2013년말)'!AT53","v":{"v":0,"d":"0.0"}},{"$f":"'법정동(2014.12월말)'!AU52-'법정동(2013년말)'!AU53","v":{"v":0,"d":"0.0"}},{"$f":"'법정동(2014.12월말)'!AV52-'법정동(2013년말)'!AV53","v":{"v":0,"d":"0.0"}},{"$f":"'법정동(2014.12월말)'!AW52-'법정동(2013년말)'!AW53","v":{"v":0,"d":"0.0"}},{"$f":"'법정동(2014.12월말)'!AX52-'법정동(2013년말)'!AX53","v":{"v":0,"d":"0.0"}},{"$f":"'법정동(2014.12월말)'!AY52-'법정동(2013년말)'!AY53","v":{"v":0,"d":"0.0"}},{"$f":"'법정동(2014.12월말)'!AZ52-'법정동(2013년말)'!AZ53","v":{"v":0,"d":"0.0"}},{"$f":"'법정동(2014.12월말)'!BA52-'법정동(2013년말)'!BA53","v":{"v":0,"d":"0.0"}},{"$f":"'법정동(2014.12월말)'!BB52-'법정동(2013년말)'!BB53","v":{"v":0,"d":"0.0"}},{"$f":"'법정동(2014.12월말)'!BC52-'법정동(2013년말)'!BC53","v":{"v":0,"d":"0.0"}},{"$f":"'법정동(2014.12월말)'!BD52-'법정동(2013년말)'!BD53","v":{"v":0,"d":"0.0"}},{"$f":"'법정동(2014.12월말)'!BE52-'법정동(2013년말)'!BE53","v":{"v":0,"d":"0.0"}},{"$f":"'법정동(2014.12월말)'!BF52-'법정동(2013년말)'!BF53","v":{"v":-6112,"d":"-6,112.0"}},{"$f":"'법정동(2014.12월말)'!BG52-'법정동(2013년말)'!BG53","v":{"v":-4,"d":"-4.0"}}]
["묘도동",{"$f":"'법정동(2014.12월말)'!B53-'법정동(2013년말)'!B54","v":{"v":483,"d":"483.0"}},{"$f":"'법정동(2014.12월말)'!C53-'법정동(2013년말)'!C54","v":{"v":136,"d":"136.0"}},{"$f":"'법정동(2014.12월말)'!D53-'법정동(2013년말)'!D54","v":{"v":-2251,"d":"-2,251.0"}},{"$f":"'법정동(2014.12월말)'!E53-'법정동(2013년말)'!E54","v":{"v":7,"d":"7.0"}},{"$f":"'법정동(2014.12월말)'!F53-'법정동(2013년말)'!F54","v":{"v":-2552,"d":"-2,552.0"}},{"$f":"'법정동(2014.12월말)'!G53-'법정동(2013년말)'!G54","v":{"v":34,"d":"34.0"}},{"$f":"'법정동(2014.12월말)'!H53-'법정동(2013년말)'!H54","v":{"v":0,"d":"0.0"}},{"$f":"'법정동(2014.12월말)'!I53-'법정동(2013년말)'!I54","v":{"v":0,"d":"0.0"}},{"$f":"'법정동(2014.12월말)'!J53-'법정동(2013년말)'!J54","v":{"v":0,"d":"0.0"}},{"$f":"'법정동(2014.12월말)'!K53-'법정동(2013년말)'!K54","v":{"v":0,"d":"0.0"}},{"$f":"'법정동(2014.12월말)'!L53-'법정동(2013년말)'!L54","v":{"v":-1877,"d":"-1,877.0"}},{"$f":"'법정동(2014.12월말)'!M53-'법정동(2013년말)'!M54","v":{"v":48,"d":"48.0"}},{"$f":"'법정동(2014.12월말)'!N53-'법정동(2013년말)'!N54","v":{"v":0,"d":"0.0"}},{"$f":"'법정동(2014.12월말)'!O53-'법정동(2013년말)'!O54","v":{"v":0,"d":"0.0"}},{"$f":"'법정동(2014.12월말)'!P53-'법정동(2013년말)'!P54","v":{"v":0,"d":"0.0"}},{"$f":"'법정동(2014.12월말)'!Q53-'법정동(2013년말)'!Q54","v":{"v":0,"d":"0.0"}},{"$f":"'법정동(2014.12월말)'!R53-'법정동(2013년말)'!R54","v":{"v":2470,"d":"2,470.0"}},{"$f":"'법정동(2014.12월말)'!S53-'법정동(2013년말)'!S54","v":{"v":6,"d":"6.0"}},{"$f":"'법정동(2014.12월말)'!T53-'법정동(2013년말)'!T54","v":{"v":0,"d":"0.0"}},{"$f":"'법정동(2014.12월말)'!U53-'법정동(2013년말)'!U54","v":{"v":0,"d":"0.0"}},{"$f":"'법정동(2014.12월말)'!V53-'법정동(2013년말)'!V54","v":{"v":0,"d":"0.0"}},{"$f":"'법정동(2014.12월말)'!W53-'법정동(2013년말)'!W54","v":{"v":0,"d":"0.0"}},{"$f":"'법정동(2014.12월말)'!X53-'법정동(2013년말)'!X54","v":{"v":0,"d":"0.0"}},{"$f":"'법정동(2014.12월말)'!Y53-'법정동(2013년말)'!Y54","v":{"v":0,"d":"0.0"}},{"$f":"'법정동(2014.12월말)'!Z53-'법정동(2013년말)'!Z54","v":{"v":0,"d":"0.0"}},{"$f":"'법정동(2014.12월말)'!AA53-'법정동(2013년말)'!AA54","v":{"v":1,"d":"1.0"}},{"$f":"'법정동(2014.12월말)'!AB53-'법정동(2013년말)'!AB54","v":{"v":0,"d":"0.0"}},{"$f":"'법정동(2014.12월말)'!AC53-'법정동(2013년말)'!AC54","v":{"v":2,"d":"2.0"}},{"$f":"'법정동(2014.12월말)'!AD53-'법정동(2013년말)'!AD54","v":{"v":70,"d":"70.0"}},{"$f":"'법정동(2014.12월말)'!AE53-'법정동(2013년말)'!AE54","v":{"v":27,"d":"27.0"}},{"$f":"'법정동(2014.12월말)'!AF53-'법정동(2013년말)'!AF54","v":{"v":0,"d":"0.0"}},{"$f":"'법정동(2014.12월말)'!AG53-'법정동(2013년말)'!AG54","v":{"v":0,"d":"0.0"}},{"$f":"'법정동(2014.12월말)'!AH53-'법정동(2013년말)'!AH54","v":{"v":278,"d":"278.0"}},{"$f":"'법정동(2014.12월말)'!AI53-'법정동(2013년말)'!AI54","v":{"v":1,"d":"1.0"}},{"$f":"'법정동(2014.12월말)'!AJ53-'법정동(2013년말)'!AJ54","v":{"v":0,"d":"0.0"}},{"$f":"'법정동(2014.12월말)'!AK53-'법정동(2013년말)'!AK54","v":{"v":5,"d":"5.0"}},{"$f":"'법정동(2014.12월말)'!AL53-'법정동(2013년말)'!AL54","v":{"v":301,"d":"301.0"}},{"$f":"'법정동(2014.12월말)'!AM53-'법정동(2013년말)'!AM54","v":{"v":1,"d":"1.0"}},{"$f":"'법정동(2014.12월말)'!AN53-'법정동(2013년말)'!AN54","v":{"v":0,"d":"0.0"}},{"$f":"'법정동(2014.12월말)'!AO53-'법정동(2013년말)'!AO54","v":{"v":0,"d":"0.0"}},{"$f":"'법정동(2014.12월말)'!AP53-'법정동(2013년말)'!AP54","v":{"v":0,"d":"0.0"}},{"$f":"'법정동(2014.12월말)'!AQ53-'법정동(2013년말)'!AQ54","v":{"v":0,"d":"0.0"}},{"$f":"'법정동(2014.12월말)'!AR53-'법정동(2013년말)'!AR54","v":{"v":0,"d":"0.0"}},{"$f":"'법정동(2014.12월말)'!AS53-'법정동(2013년말)'!AS54","v":{"v":0,"d":"0.0"}},{"$f":"'법정동(2014.12월말)'!AT53-'법정동(2013년말)'!AT54","v":{"v":0,"d":"0.0"}},{"$f":"'법정동(2014.12월말)'!AU53-'법정동(2013년말)'!AU54","v":{"v":0,"d":"0.0"}},{"$f":"'법정동(2014.12월말)'!AV53-'법정동(2013년말)'!AV54","v":{"v":0,"d":"0.0"}},{"$f":"'법정동(2014.12월말)'!AW53-'법정동(2013년말)'!AW54","v":{"v":0,"d":"0.0"}},{"$f":"'법정동(2014.12월말)'!AX53-'법정동(2013년말)'!AX54","v":{"v":0,"d":"0.0"}},{"$f":"'법정동(2014.12월말)'!AY53-'법정동(2013년말)'!AY54","v":{"v":0,"d":"0.0"}},{"$f":"'법정동(2014.12월말)'!AZ53-'법정동(2013년말)'!AZ54","v":{"v":0,"d":"0.0"}},{"$f":"'법정동(2014.12월말)'!BA53-'법정동(2013년말)'!BA54","v":{"v":1,"d":"1.0"}},{"$f":"'법정동(2014.12월말)'!BB53-'법정동(2013년말)'!BB54","v":{"v":0,"d":"0.0"}},{"$f":"'법정동(2014.12월말)'!BC53-'법정동(2013년말)'!BC54","v":{"v":0,"d":"0.0"}},{"$f":"'법정동(2014.12월말)'!BD53-'법정동(2013년말)'!BD54","v":{"v":0,"d":"0.0"}},{"$f":"'법정동(2014.12월말)'!BE53-'법정동(2013년말)'!BE54","v":{"v":0,"d":"0.0"}},{"$f":"'법정동(2014.12월말)'!BF53-'법정동(2013년말)'!BF54","v":{"v":4044,"d":"4,044.0"}},{"$f":"'법정동(2014.12월말)'!BG53-'법정동(2013년말)'!BG54","v":{"v":3,"d":"3.0"}}]
["낙포동",{"$f":"'법정동(2014.12월말)'!B54-'법정동(2013년말)'!B55","v":{"v":85663.09999999963,"d":"85,663.1"}},{"$f":"'법정동(2014.12월말)'!C54-'법정동(2013년말)'!C55","v":{"v":12,"d":"12.0"}},{"$f":"'법정동(2014.12월말)'!D54-'법정동(2013년말)'!D55","v":{"v":0,"d":"0.0"}},{"$f":"'법정동(2014.12월말)'!E54-'법정동(2013년말)'!E55","v":{"v":0,"d":"0.0"}},{"$f":"'법정동(2014.12월말)'!F54-'법정동(2013년말)'!F55","v":{"v":0,"d":"0.0"}},{"$f":"'법정동(2014.12월말)'!G54-'법정동(2013년말)'!G55","v":{"v":0,"d":"0.0"}},{"$f":"'법정동(2014.12월말)'!H54-'법정동(2013년말)'!H55","v":{"v":0,"d":"0.0"}},{"$f":"'법정동(2014.12월말)'!I54-'법정동(2013년말)'!I55","v":{"v":0,"d":"0.0"}},{"$f":"'법정동(2014.12월말)'!J54-'법정동(2013년말)'!J55","v":{"v":0,"d":"0.0"}},{"$f":"'법정동(2014.12월말)'!K54-'법정동(2013년말)'!K55","v":{"v":0,"d":"0.0"}},{"$f":"'법정동(2014.12월말)'!L54-'법정동(2013년말)'!L55","v":{"v":0,"d":"0.0"}},{"$f":"'법정동(2014.12월말)'!M54-'법정동(2013년말)'!M55","v":{"v":10,"d":"10.0"}},{"$f":"'법정동(2014.12월말)'!N54-'법정동(2013년말)'!N55","v":{"v":0,"d":"0.0"}},{"$f":"'법정동(2014.12월말)'!O54-'법정동(2013년말)'!O55","v":{"v":0,"d":"0.0"}},{"$f":"'법정동(2014.12월말)'!P54-'법정동(2013년말)'!P55","v":{"v":0,"d":"0.0"}},{"$f":"'법정동(2014.12월말)'!Q54-'법정동(2013년말)'!Q55","v":{"v":0,"d":"0.0"}},{"$f":"'법정동(2014.12월말)'!R54-'법정동(2013년말)'!R55","v":{"v":0,"d":"0.0"}},{"$f":"'법정동(2014.12월말)'!S54-'법정동(2013년말)'!S55","v":{"v":0,"d":"0.0"}},{"$f":"'법정동(2014.12월말)'!T54-'법정동(2013년말)'!T55","v":{"v":0,"d":"0.0"}},{"$f":"'법정동(2014.12월말)'!U54-'법정동(2013년말)'!U55","v":{"v":0,"d":"0.0"}},{"$f":"'법정동(2014.12월말)'!V54-'법정동(2013년말)'!V55","v":{"v":0,"d":"0.0"}},{"$f":"'법정동(2014.12월말)'!W54-'법정동(2013년말)'!W55","v":{"v":0,"d":"0.0"}},{"$f":"'법정동(2014.12월말)'!X54-'법정동(2013년말)'!X55","v":{"v":0,"d":"0.0"}},{"$f":"'법정동(2014.12월말)'!Y54-'법정동(2013년말)'!Y55","v":{"v":0,"d":"0.0"}},{"$f":"'법정동(2014.12월말)'!Z54-'법정동(2013년말)'!Z55","v":{"v":0,"d":"0.0"}},{"$f":"'법정동(2014.12월말)'!AA54-'법정동(2013년말)'!AA55","v":{"v":0,"d":"0.0"}},{"$f":"'법정동(2014.12월말)'!AB54-'법정동(2013년말)'!AB55","v":{"v":0,"d":"0.0"}},{"$f":"'법정동(2014.12월말)'!AC54-'법정동(2013년말)'!AC55","v":{"v":0,"d":"0.0"}},{"$f":"'법정동(2014.12월말)'!AD54-'법정동(2013년말)'!AD55","v":{"v":0,"d":"0.0"}},{"$f":"'법정동(2014.12월말)'!AE54-'법정동(2013년말)'!AE55","v":{"v":0,"d":"0.0"}},{"$f":"'법정동(2014.12월말)'!AF54-'법정동(2013년말)'!AF55","v":{"v":0,"d":"0.0"}},{"$f":"'법정동(2014.12월말)'!AG54-'법정동(2013년말)'!AG55","v":{"v":0,"d":"0.0"}},{"$f":"'법정동(2014.12월말)'!AH54-'법정동(2013년말)'!AH55","v":{"v":0,"d":"0.0"}},{"$f":"'법정동(2014.12월말)'!AI54-'법정동(2013년말)'!AI55","v":{"v":0,"d":"0.0"}},{"$f":"'법정동(2014.12월말)'!AJ54-'법정동(2013년말)'!AJ55","v":{"v":0,"d":"0.0"}},{"$f":"'법정동(2014.12월말)'!AK54-'법정동(2013년말)'!AK55","v":{"v":0,"d":"0.0"}},{"$f":"'법정동(2014.12월말)'!AL54-'법정동(2013년말)'!AL55","v":{"v":0,"d":"0.0"}},{"$f":"'법정동(2014.12월말)'!AM54-'법정동(2013년말)'!AM55","v":{"v":0,"d":"0.0"}},{"$f":"'법정동(2014.12월말)'!AN54-'법정동(2013년말)'!AN55","v":{"v":0,"d":"0.0"}},{"$f":"'법정동(2014.12월말)'!AO54-'법정동(2013년말)'!AO55","v":{"v":0,"d":"0.0"}},{"$f":"'법정동(2014.12월말)'!AP54-'법정동(2013년말)'!AP55","v":{"v":0,"d":"0.0"}},{"$f":"'법정동(2014.12월말)'!AQ54-'법정동(2013년말)'!AQ55","v":{"v":0,"d":"0.0"}},{"$f":"'법정동(2014.12월말)'!AR54-'법정동(2013년말)'!AR55","v":{"v":0,"d":"0.0"}},{"$f":"'법정동(2014.12월말)'!AS54-'법정동(2013년말)'!AS55","v":{"v":0,"d":"0.0"}},{"$f":"'법정동(2014.12월말)'!AT54-'법정동(2013년말)'!AT55","v":{"v":0,"d":"0.0"}},{"$f":"'법정동(2014.12월말)'!AU54-'법정동(2013년말)'!AU55","v":{"v":0,"d":"0.0"}},{"$f":"'법정동(2014.12월말)'!AV54-'법정동(2013년말)'!AV55","v":{"v":0,"d":"0.0"}},{"$f":"'법정동(2014.12월말)'!AW54-'법정동(2013년말)'!AW55","v":{"v":0,"d":"0.0"}},{"$f":"'법정동(2014.12월말)'!AX54-'법정동(2013년말)'!AX55","v":{"v":0,"d":"0.0"}},{"$f":"'법정동(2014.12월말)'!AY54-'법정동(2013년말)'!AY55","v":{"v":0,"d":"0.0"}},{"$f":"'법정동(2014.12월말)'!AZ54-'법정동(2013년말)'!AZ55","v":{"v":0,"d":"0.0"}},{"$f":"'법정동(2014.12월말)'!BA54-'법정동(2013년말)'!BA55","v":{"v":0,"d":"0.0"}},{"$f":"'법정동(2014.12월말)'!BB54-'법정동(2013년말)'!BB55","v":{"v":0,"d":"0.0"}},{"$f":"'법정동(2014.12월말)'!BC54-'법정동(2013년말)'!BC55","v":{"v":0,"d":"0.0"}},{"$f":"'법정동(2014.12월말)'!BD54-'법정동(2013년말)'!BD55","v":{"v":0,"d":"0.0"}},{"$f":"'법정동(2014.12월말)'!BE54-'법정동(2013년말)'!BE55","v":{"v":0,"d":"0.0"}},{"$f":"'법정동(2014.12월말)'!BF54-'법정동(2013년말)'!BF55","v":{"v":85663.09999999986,"d":"85,663.1"}},{"$f":"'법정동(2014.12월말)'!BG54-'법정동(2013년말)'!BG55","v":{"v":2,"d":"2.0"}}]
["신덕동",{"$f":"'법정동(2014.12월말)'!B55-'법정동(2013년말)'!B56","v":{"v":0,"d":"0.0"}},{"$f":"'법정동(2014.12월말)'!C55-'법정동(2013년말)'!C56","v":{"v":4,"d":"4.0"}},{"$f":"'법정동(2014.12월말)'!D55-'법정동(2013년말)'!D56","v":{"v":-122,"d":"-122.0"}},{"$f":"'법정동(2014.12월말)'!E55-'법정동(2013년말)'!E56","v":{"v":-1,"d":"-1.0"}},{"$f":"'법정동(2014.12월말)'!F55-'법정동(2013년말)'!F56","v":{"v":-774,"d":"-774.0"}},{"$f":"'법정동(2014.12월말)'!G55-'법정동(2013년말)'!G56","v":{"v":-1,"d":"-1.0"}},{"$f":"'법정동(2014.12월말)'!H55-'법정동(2013년말)'!H56","v":{"v":0,"d":"0.0"}},{"$f":"'법정동(2014.12월말)'!I55-'법정동(2013년말)'!I56","v":{"v":0,"d":"0.0"}},{"$f":"'법정동(2014.12월말)'!J55-'법정동(2013년말)'!J56","v":{"v":0,"d":"0.0"}},{"$f":"'법정동(2014.12월말)'!K55-'법정동(2013년말)'!K56","v":{"v":0,"d":"0.0"}},{"$f":"'법정동(2014.12월말)'!L55-'법정동(2013년말)'!L56","v":{"v":0,"d":"0.0"}},{"$f":"'법정동(2014.12월말)'!M55-'법정동(2013년말)'!M56","v":{"v":0,"d":"0.0"}},{"$f":"'법정동(2014.12월말)'!N55-'법정동(2013년말)'!N56","v":{"v":0,"d":"0.0"}},{"$f":"'법정동(2014.12월말)'!O55-'법정동(2013년말)'!O56","v":{"v":0,"d":"0.0"}},{"$f":"'법정동(2014.12월말)'!P55-'법정동(2013년말)'!P56","v":{"v":0,"d":"0.0"}},{"$f":"'법정동(2014.12월말)'!Q55-'법정동(2013년말)'!Q56","v":{"v":0,"d":"0.0"}},{"$f":"'법정동(2014.12월말)'!R55-'법정동(2013년말)'!R56","v":{"v":90,"d":"90.0"}},{"$f":"'법정동(2014.12월말)'!S55-'법정동(2013년말)'!S56","v":{"v":1,"d":"1.0"}},{"$f":"'법정동(2014.12월말)'!T55-'법정동(2013년말)'!T56","v":{"v":0,"d":"0.0"}},{"$f":"'법정동(2014.12월말)'!U55-'법정동(2013년말)'!U56","v":{"v":0,"d":"0.0"}},{"$f":"'법정동(2014.12월말)'!V55-'법정동(2013년말)'!V56","v":{"v":0,"d":"0.0"}},{"$f":"'법정동(2014.12월말)'!W55-'법정동(2013년말)'!W56","v":{"v":0,"d":"0.0"}},{"$f":"'법정동(2014.12월말)'!X55-'법정동(2013년말)'!X56","v":{"v":0,"d":"0.0"}},{"$f":"'법정동(2014.12월말)'!Y55-'법정동(2013년말)'!Y56","v":{"v":0,"d":"0.0"}},{"$f":"'법정동(2014.12월말)'!Z55-'법정동(2013년말)'!Z56","v":{"v":0,"d":"0.0"}},{"$f":"'법정동(2014.12월말)'!AA55-'법정동(2013년말)'!AA56","v":{"v":0,"d":"0.0"}},{"$f":"'법정동(2014.12월말)'!AB55-'법정동(2013년말)'!AB56","v":{"v":0,"d":"0.0"}},{"$f":"'법정동(2014.12월말)'!AC55-'법정동(2013년말)'!AC56","v":{"v":0,"d":"0.0"}},{"$f":"'법정동(2014.12월말)'!AD55-'법정동(2013년말)'!AD56","v":{"v":66,"d":"66.0"}},{"$f":"'법정동(2014.12월말)'!AE55-'법정동(2013년말)'!AE56","v":{"v":3,"d":"3.0"}},{"$f":"'법정동(2014.12월말)'!AF55-'법정동(2013년말)'!AF56","v":{"v":0,"d":"0.0"}},{"$f":"'법정동(2014.12월말)'!AG55-'법정동(2013년말)'!AG56","v":{"v":0,"d":"0.0"}},{"$f":"'법정동(2014.12월말)'!AH55-'법정동(2013년말)'!AH56","v":{"v":0,"d":"0.0"}},{"$f":"'법정동(2014.12월말)'!AI55-'법정동(2013년말)'!AI56","v":{"v":0,"d":"0.0"}},{"$f":"'법정동(2014.12월말)'!AJ55-'법정동(2013년말)'!AJ56","v":{"v":0,"d":"0.0"}},{"$f":"'법정동(2014.12월말)'!AK55-'법정동(2013년말)'!AK56","v":{"v":0,"d":"0.0"}},{"$f":"'법정동(2014.12월말)'!AL55-'법정동(2013년말)'!AL56","v":{"v":0,"d":"0.0"}},{"$f":"'법정동(2014.12월말)'!AM55-'법정동(2013년말)'!AM56","v":{"v":0,"d":"0.0"}},{"$f":"'법정동(2014.12월말)'!AN55-'법정동(2013년말)'!AN56","v":{"v":0,"d":"0.0"}},{"$f":"'법정동(2014.12월말)'!AO55-'법정동(2013년말)'!AO56","v":{"v":0,"d":"0.0"}},{"$f":"'법정동(2014.12월말)'!AP55-'법정동(2013년말)'!AP56","v":{"v":0,"d":"0.0"}},{"$f":"'법정동(2014.12월말)'!AQ55-'법정동(2013년말)'!AQ56","v":{"v":0,"d":"0.0"}},{"$f":"'법정동(2014.12월말)'!AR55-'법정동(2013년말)'!AR56","v":{"v":0,"d":"0.0"}},{"$f":"'법정동(2014.12월말)'!AS55-'법정동(2013년말)'!AS56","v":{"v":0,"d":"0.0"}},{"$f":"'법정동(2014.12월말)'!AT55-'법정동(2013년말)'!AT56","v":{"v":0,"d":"0.0"}},{"$f":"'법정동(2014.12월말)'!AU55-'법정동(2013년말)'!AU56","v":{"v":0,"d":"0.0"}},{"$f":"'법정동(2014.12월말)'!AV55-'법정동(2013년말)'!AV56","v":{"v":0,"d":"0.0"}},{"$f":"'법정동(2014.12월말)'!AW55-'법정동(2013년말)'!AW56","v":{"v":0,"d":"0.0"}},{"$f":"'법정동(2014.12월말)'!AX55-'법정동(2013년말)'!AX56","v":{"v":0,"d":"0.0"}},{"$f":"'법정동(2014.12월말)'!AY55-'법정동(2013년말)'!AY56","v":{"v":0,"d":"0.0"}},{"$f":"'법정동(2014.12월말)'!AZ55-'법정동(2013년말)'!AZ56","v":{"v":0,"d":"0.0"}},{"$f":"'법정동(2014.12월말)'!BA55-'법정동(2013년말)'!BA56","v":{"v":0,"d":"0.0"}},{"$f":"'법정동(2014.12월말)'!BB55-'법정동(2013년말)'!BB56","v":{"v":0,"d":"0.0"}},{"$f":"'법정동(2014.12월말)'!BC55-'법정동(2013년말)'!BC56","v":{"v":0,"d":"0.0"}},{"$f":"'법정동(2014.12월말)'!BD55-'법정동(2013년말)'!BD56","v":{"v":0,"d":"0.0"}},{"$f":"'법정동(2014.12월말)'!BE55-'법정동(2013년말)'!BE56","v":{"v":0,"d":"0.0"}},{"$f":"'법정동(2014.12월말)'!BF55-'법정동(2013년말)'!BF56","v":{"v":740,"d":"740.0"}},{"$f":"'법정동(2014.12월말)'!BG55-'법정동(2013년말)'!BG56","v":{"v":2,"d":"2.0"}}]
["상암동",{"$f":"'법정동(2014.12월말)'!B56-'법정동(2013년말)'!B57","v":{"v":-352,"d":"-352.0"}},{"$f":"'법정동(2014.12월말)'!C56-'법정동(2013년말)'!C57","v":{"v":20,"d":"20.0"}},{"$f":"'법정동(2014.12월말)'!D56-'법정동(2013년말)'!D57","v":{"v":-3597,"d":"-3,597.0"}},{"$f":"'법정동(2014.12월말)'!E56-'법정동(2013년말)'!E57","v":{"v":-7,"d":"-7.0"}},{"$f":"'법정동(2014.12월말)'!F56-'법정동(2013년말)'!F57","v":{"v":-16602,"d":"-16,602.0"}},{"$f":"'법정동(2014.12월말)'!G56-'법정동(2013년말)'!G57","v":{"v":-14,"d":"-14.0"}},{"$f":"'법정동(2014.12월말)'!H56-'법정동(2013년말)'!H57","v":{"v":0,"d":"0.0"}},{"$f":"'법정동(2014.12월말)'!I56-'법정동(2013년말)'!I57","v":{"v":0,"d":"0.0"}},{"$f":"'법정동(2014.12월말)'!J56-'법정동(2013년말)'!J57","v":{"v":0,"d":"0.0"}},{"$f":"'법정동(2014.12월말)'!K56-'법정동(2013년말)'!K57","v":{"v":0,"d":"0.0"}},{"$f":"'법정동(2014.12월말)'!L56-'법정동(2013년말)'!L57","v":{"v":0,"d":"0.0"}},{"$f":"'법정동(2014.12월말)'!M56-'법정동(2013년말)'!M57","v":{"v":1,"d":"1.0"}},{"$f":"'법정동(2014.12월말)'!N56-'법정동(2013년말)'!N57","v":{"v":0,"d":"0.0"}},{"$f":"'법정동(2014.12월말)'!O56-'법정동(2013년말)'!O57","v":{"v":0,"d":"0.0"}},{"$f":"'법정동(2014.12월말)'!P56-'법정동(2013년말)'!P57","v":{"v":0,"d":"0.0"}},{"$f":"'법정동(2014.12월말)'!Q56-'법정동(2013년말)'!Q57","v":{"v":0,"d":"0.0"}},{"$f":"'법정동(2014.12월말)'!R56-'법정동(2013년말)'!R57","v":{"v":11591,"d":"11,591.0"}},{"$f":"'법정동(2014.12월말)'!S56-'법정동(2013년말)'!S57","v":{"v":16,"d":"16.0"}},{"$f":"'법정동(2014.12월말)'!T56-'법정동(2013년말)'!T57","v":{"v":3663,"d":"3,663.0"}},{"$f":"'법정동(2014.12월말)'!U56-'법정동(2013년말)'!U57","v":{"v":3,"d":"3.0"}},{"$f":"'법정동(2014.12월말)'!V56-'법정동(2013년말)'!V57","v":{"v":0,"d":"0.0"}},{"$f":"'법정동(2014.12월말)'!W56-'법정동(2013년말)'!W57","v":{"v":0,"d":"0.0"}},{"$f":"'법정동(2014.12월말)'!X56-'법정동(2013년말)'!X57","v":{"v":865,"d":"865.0"}},{"$f":"'법정동(2014.12월말)'!Y56-'법정동(2013년말)'!Y57","v":{"v":2,"d":"2.0"}},{"$f":"'법정동(2014.12월말)'!Z56-'법정동(2013년말)'!Z57","v":{"v":0,"d":"0.0"}},{"$f":"'법정동(2014.12월말)'!AA56-'법정동(2013년말)'!AA57","v":{"v":0,"d":"0.0"}},{"$f":"'법정동(2014.12월말)'!AB56-'법정동(2013년말)'!AB57","v":{"v":-465,"d":"-465.0"}},{"$f":"'법정동(2014.12월말)'!AC56-'법정동(2013년말)'!AC57","v":{"v":-1,"d":"-1.0"}},{"$f":"'법정동(2014.12월말)'!AD56-'법정동(2013년말)'!AD57","v":{"v":1063,"d":"1,063.0"}},{"$f":"'법정동(2014.12월말)'!AE56-'법정동(2013년말)'!AE57","v":{"v":14,"d":"14.0"}},{"$f":"'법정동(2014.12월말)'!AF56-'법정동(2013년말)'!AF57","v":{"v":0,"d":"0.0"}},{"$f":"'법정동(2014.12월말)'!AG56-'법정동(2013년말)'!AG57","v":{"v":0,"d":"0.0"}},{"$f":"'법정동(2014.12월말)'!AH56-'법정동(2013년말)'!AH57","v":{"v":0,"d":"0.0"}},{"$f":"'법정동(2014.12월말)'!AI56-'법정동(2013년말)'!AI57","v":{"v":0,"d":"0.0"}},{"$f":"'법정동(2014.12월말)'!AJ56-'법정동(2013년말)'!AJ57","v":{"v":0,"d":"0.0"}},{"$f":"'법정동(2014.12월말)'!AK56-'법정동(2013년말)'!AK57","v":{"v":0,"d":"0.0"}},{"$f":"'법정동(2014.12월말)'!AL56-'법정동(2013년말)'!AL57","v":{"v":-307,"d":"-307.0"}},{"$f":"'법정동(2014.12월말)'!AM56-'법정동(2013년말)'!AM57","v":{"v":0,"d":"0.0"}},{"$f":"'법정동(2014.12월말)'!AN56-'법정동(2013년말)'!AN57","v":{"v":0,"d":"0.0"}},{"$f":"'법정동(2014.12월말)'!AO56-'법정동(2013년말)'!AO57","v":{"v":0,"d":"0.0"}},{"$f":"'법정동(2014.12월말)'!AP56-'법정동(2013년말)'!AP57","v":{"v":0,"d":"0.0"}},{"$f":"'법정동(2014.12월말)'!AQ56-'법정동(2013년말)'!AQ57","v":{"v":0,"d":"0.0"}},{"$f":"'법정동(2014.12월말)'!AR56-'법정동(2013년말)'!AR57","v":{"v":0,"d":"0.0"}},{"$f":"'법정동(2014.12월말)'!AS56-'법정동(2013년말)'!AS57","v":{"v":0,"d":"0.0"}},{"$f":"'법정동(2014.12월말)'!AT56-'법정동(2013년말)'!AT57","v":{"v":0,"d":"0.0"}},{"$f":"'법정동(2014.12월말)'!AU56-'법정동(2013년말)'!AU57","v":{"v":0,"d":"0.0"}},{"$f":"'법정동(2014.12월말)'!AV56-'법정동(2013년말)'!AV57","v":{"v":0,"d":"0.0"}},{"$f":"'법정동(2014.12월말)'!AW56-'법정동(2013년말)'!AW57","v":{"v":0,"d":"0.0"}},{"$f":"'법정동(2014.12월말)'!AX56-'법정동(2013년말)'!AX57","v":{"v":0,"d":"0.0"}},{"$f":"'법정동(2014.12월말)'!AY56-'법정동(2013년말)'!AY57","v":{"v":0,"d":"0.0"}},{"$f":"'법정동(2014.12월말)'!AZ56-'법정동(2013년말)'!AZ57","v":{"v":241,"d":"241.0"}},{"$f":"'법정동(2014.12월말)'!BA56-'법정동(2013년말)'!BA57","v":{"v":1,"d":"1.0"}},{"$f":"'법정동(2014.12월말)'!BB56-'법정동(2013년말)'!BB57","v":{"v":0,"d":"0.0"}},{"$f":"'법정동(2014.12월말)'!BC56-'법정동(2013년말)'!BC57","v":{"v":0,"d":"0.0"}},{"$f":"'법정동(2014.12월말)'!BD56-'법정동(2013년말)'!BD57","v":{"v":0,"d":"0.0"}},{"$f":"'법정동(2014.12월말)'!BE56-'법정동(2013년말)'!BE57","v":{"v":0,"d":"0.0"}},{"$f":"'법정동(2014.12월말)'!BF56-'법정동(2013년말)'!BF57","v":{"v":3196,"d":"3,196.0"}},{"$f":"'법정동(2014.12월말)'!BG56-'법정동(2013년말)'!BG57","v":{"v":5,"d":"5.0"}}]
["호명동",{"$f":"'법정동(2014.12월말)'!B57-'법정동(2013년말)'!B58","v":{"v":39,"d":"39.0"}},{"$f":"'법정동(2014.12월말)'!C57-'법정동(2013년말)'!C58","v":{"v":11,"d":"11.0"}},{"$f":"'법정동(2014.12월말)'!D57-'법정동(2013년말)'!D58","v":{"v":-3501,"d":"-3,501.0"}},{"$f":"'법정동(2014.12월말)'!E57-'법정동(2013년말)'!E58","v":{"v":1,"d":"1.0"}},{"$f":"'법정동(2014.12월말)'!F57-'법정동(2013년말)'!F58","v":{"v":-14616,"d":"-14,616.0"}},{"$f":"'법정동(2014.12월말)'!G57-'법정동(2013년말)'!G58","v":{"v":-15,"d":"-15.0"}},{"$f":"'법정동(2014.12월말)'!H57-'법정동(2013년말)'!H58","v":{"v":0,"d":"0.0"}},{"$f":"'법정동(2014.12월말)'!I57-'법정동(2013년말)'!I58","v":{"v":0,"d":"0.0"}},{"$f":"'법정동(2014.12월말)'!J57-'법정동(2013년말)'!J58","v":{"v":0,"d":"0.0"}},{"$f":"'법정동(2014.12월말)'!K57-'법정동(2013년말)'!K58","v":{"v":0,"d":"0.0"}},{"$f":"'법정동(2014.12월말)'!L57-'법정동(2013년말)'!L58","v":{"v":-9508,"d":"-9,508.0"}},{"$f":"'법정동(2014.12월말)'!M57-'법정동(2013년말)'!M58","v":{"v":0,"d":"0.0"}},{"$f":"'법정동(2014.12월말)'!N57-'법정동(2013년말)'!N58","v":{"v":0,"d":"0.0"}},{"$f":"'법정동(2014.12월말)'!O57-'법정동(2013년말)'!O58","v":{"v":0,"d":"0.0"}},{"$f":"'법정동(2014.12월말)'!P57-'법정동(2013년말)'!P58","v":{"v":0,"d":"0.0"}},{"$f":"'법정동(2014.12월말)'!Q57-'법정동(2013년말)'!Q58","v":{"v":0,"d":"0.0"}},{"$f":"'법정동(2014.12월말)'!R57-'법정동(2013년말)'!R58","v":{"v":20021,"d":"20,021.0"}},{"$f":"'법정동(2014.12월말)'!S57-'법정동(2013년말)'!S58","v":{"v":12,"d":"12.0"}},{"$f":"'법정동(2014.12월말)'!T57-'법정동(2013년말)'!T58","v":{"v":0,"d":"0.0"}},{"$f":"'법정동(2014.12월말)'!U57-'법정동(2013년말)'!U58","v":{"v":0,"d":"0.0"}},{"$f":"'법정동(2014.12월말)'!V57-'법정동(2013년말)'!V58","v":{"v":0,"d":"0.0"}},{"$f":"'법정동(2014.12월말)'!W57-'법정동(2013년말)'!W58","v":{"v":0,"d":"0.0"}},{"$f":"'법정동(2014.12월말)'!X57-'법정동(2013년말)'!X58","v":{"v":0,"d":"0.0"}},{"$f":"'법정동(2014.12월말)'!Y57-'법정동(2013년말)'!Y58","v":{"v":0,"d":"0.0"}},{"$f":"'법정동(2014.12월말)'!Z57-'법정동(2013년말)'!Z58","v":{"v":1525,"d":"1,525.0"}},{"$f":"'법정동(2014.12월말)'!AA57-'법정동(2013년말)'!AA58","v":{"v":1,"d":"1.0"}},{"$f":"'법정동(2014.12월말)'!AB57-'법정동(2013년말)'!AB58","v":{"v":990,"d":"990.0"}},{"$f":"'법정동(2014.12월말)'!AC57-'법정동(2013년말)'!AC58","v":{"v":1,"d":"1.0"}},{"$f":"'법정동(2014.12월말)'!AD57-'법정동(2013년말)'!AD58","v":{"v":575,"d":"575.0"}},{"$f":"'법정동(2014.12월말)'!AE57-'법정동(2013년말)'!AE58","v":{"v":6,"d":"6.0"}},{"$f":"'법정동(2014.12월말)'!AF57-'법정동(2013년말)'!AF58","v":{"v":0,"d":"0.0"}},{"$f":"'법정동(2014.12월말)'!AG57-'법정동(2013년말)'!AG58","v":{"v":0,"d":"0.0"}},{"$f":"'법정동(2014.12월말)'!AH57-'법정동(2013년말)'!AH58","v":{"v":0,"d":"0.0"}},{"$f":"'법정동(2014.12월말)'!AI57-'법정동(2013년말)'!AI58","v":{"v":0,"d":"0.0"}},{"$f":"'법정동(2014.12월말)'!AJ57-'법정동(2013년말)'!AJ58","v":{"v":-952,"d":"-952.0"}},{"$f":"'법정동(2014.12월말)'!AK57-'법정동(2013년말)'!AK58","v":{"v":-1,"d":"-1.0"}},{"$f":"'법정동(2014.12월말)'!AL57-'법정동(2013년말)'!AL58","v":{"v":0,"d":"0.0"}},{"$f":"'법정동(2014.12월말)'!AM57-'법정동(2013년말)'!AM58","v":{"v":0,"d":"0.0"}},{"$f":"'법정동(2014.12월말)'!AN57-'법정동(2013년말)'!AN58","v":{"v":0,"d":"0.0"}},{"$f":"'법정동(2014.12월말)'!AO57-'법정동(2013년말)'!AO58","v":{"v":0,"d":"0.0"}},{"$f":"'법정동(2014.12월말)'!AP57-'법정동(2013년말)'!AP58","v":{"v":0,"d":"0.0"}},{"$f":"'법정동(2014.12월말)'!AQ57-'법정동(2013년말)'!AQ58","v":{"v":0,"d":"0.0"}},{"$f":"'법정동(2014.12월말)'!AR57-'법정동(2013년말)'!AR58","v":{"v":0,"d":"0.0"}},{"$f":"'법정동(2014.12월말)'!AS57-'법정동(2013년말)'!AS58","v":{"v":0,"d":"0.0"}},{"$f":"'법정동(2014.12월말)'!AT57-'법정동(2013년말)'!AT58","v":{"v":0,"d":"0.0"}},{"$f":"'법정동(2014.12월말)'!AU57-'법정동(2013년말)'!AU58","v":{"v":0,"d":"0.0"}},{"$f":"'법정동(2014.12월말)'!AV57-'법정동(2013년말)'!AV58","v":{"v":0,"d":"0.0"}},{"$f":"'법정동(2014.12월말)'!AW57-'법정동(2013년말)'!AW58","v":{"v":0,"d":"0.0"}},{"$f":"'법정동(2014.12월말)'!AX57-'법정동(2013년말)'!AX58","v":{"v":0,"d":"0.0"}},{"$f":"'법정동(2014.12월말)'!AY57-'법정동(2013년말)'!AY58","v":{"v":0,"d":"0.0"}},{"$f":"'법정동(2014.12월말)'!AZ57-'법정동(2013년말)'!AZ58","v":{"v":0,"d":"0.0"}},{"$f":"'법정동(2014.12월말)'!BA57-'법정동(2013년말)'!BA58","v":{"v":0,"d":"0.0"}},{"$f":"'법정동(2014.12월말)'!BB57-'법정동(2013년말)'!BB58","v":{"v":0,"d":"0.0"}},{"$f":"'법정동(2014.12월말)'!BC57-'법정동(2013년말)'!BC58","v":{"v":0,"d":"0.0"}},{"$f":"'법정동(2014.12월말)'!BD57-'법정동(2013년말)'!BD58","v":{"v":0,"d":"0.0"}},{"$f":"'법정동(2014.12월말)'!BE57-'법정동(2013년말)'!BE58","v":{"v":0,"d":"0.0"}},{"$f":"'법정동(2014.12월말)'!BF57-'법정동(2013년말)'!BF58","v":{"v":5505,"d":"5,505.0"}},{"$f":"'법정동(2014.12월말)'!BG57-'법정동(2013년말)'!BG58","v":{"v":6,"d":"6.0"}}]
["돌산읍 군내리",{"$f":"'법정동(2014.12월말)'!B58-'법정동(2013년말)'!B59","v":{"v":577,"d":"577.0"}},{"$f":"'법정동(2014.12월말)'!C58-'법정동(2013년말)'!C59","v":{"v":-31,"d":"-31.0"}},{"$f":"'법정동(2014.12월말)'!D58-'법정동(2013년말)'!D59","v":{"v":-10484,"d":"-10,484.0"}},{"$f":"'법정동(2014.12월말)'!E58-'법정동(2013년말)'!E59","v":{"v":-42,"d":"-42.0"}},{"$f":"'법정동(2014.12월말)'!F58-'법정동(2013년말)'!F59","v":{"v":-202,"d":"-202.0"}},{"$f":"'법정동(2014.12월말)'!G58-'법정동(2013년말)'!G59","v":{"v":-1,"d":"-1.0"}},{"$f":"'법정동(2014.12월말)'!H58-'법정동(2013년말)'!H59","v":{"v":0,"d":"0.0"}},{"$f":"'법정동(2014.12월말)'!I58-'법정동(2013년말)'!I59","v":{"v":0,"d":"0.0"}},{"$f":"'법정동(2014.12월말)'!J58-'법정동(2013년말)'!J59","v":{"v":0,"d":"0.0"}},{"$f":"'법정동(2014.12월말)'!K58-'법정동(2013년말)'!K59","v":{"v":0,"d":"0.0"}},{"$f":"'법정동(2014.12월말)'!L58-'법정동(2013년말)'!L59","v":{"v":408,"d":"408.0"}},{"$f":"'법정동(2014.12월말)'!M58-'법정동(2013년말)'!M59","v":{"v":2,"d":"2.0"}},{"$f":"'법정동(2014.12월말)'!N58-'법정동(2013년말)'!N59","v":{"v":0,"d":"0.0"}},{"$f":"'법정동(2014.12월말)'!O58-'법정동(2013년말)'!O59","v":{"v":0,"d":"0.0"}},{"$f":"'법정동(2014.12월말)'!P58-'법정동(2013년말)'!P59","v":{"v":0,"d":"0.0"}},{"$f":"'법정동(2014.12월말)'!Q58-'법정동(2013년말)'!Q59","v":{"v":0,"d":"0.0"}},{"$f":"'법정동(2014.12월말)'!R58-'법정동(2013년말)'!R59","v":{"v":476,"d":"476.0"}},{"$f":"'법정동(2014.12월말)'!S58-'법정동(2013년말)'!S59","v":{"v":1,"d":"1.0"}},{"$f":"'법정동(2014.12월말)'!T58-'법정동(2013년말)'!T59","v":{"v":0,"d":"0.0"}},{"$f":"'법정동(2014.12월말)'!U58-'법정동(2013년말)'!U59","v":{"v":0,"d":"0.0"}},{"$f":"'법정동(2014.12월말)'!V58-'법정동(2013년말)'!V59","v":{"v":0,"d":"0.0"}},{"$f":"'법정동(2014.12월말)'!W58-'법정동(2013년말)'!W59","v":{"v":0,"d":"0.0"}},{"$f":"'법정동(2014.12월말)'!X58-'법정동(2013년말)'!X59","v":{"v":0,"d":"0.0"}},{"$f":"'법정동(2014.12월말)'!Y58-'법정동(2013년말)'!Y59","v":{"v":0,"d":"0.0"}},{"$f":"'법정동(2014.12월말)'!Z58-'법정동(2013년말)'!Z59","v":{"v":0,"d":"0.0"}},{"$f":"'법정동(2014.12월말)'!AA58-'법정동(2013년말)'!AA59","v":{"v":0,"d":"0.0"}},{"$f":"'법정동(2014.12월말)'!AB58-'법정동(2013년말)'!AB59","v":{"v":1454,"d":"1,454.0"}},{"$f":"'법정동(2014.12월말)'!AC58-'법정동(2013년말)'!AC59","v":{"v":1,"d":"1.0"}},{"$f":"'법정동(2014.12월말)'!AD58-'법정동(2013년말)'!AD59","v":{"v":9050,"d":"9,050.0"}},{"$f":"'법정동(2014.12월말)'!AE58-'법정동(2013년말)'!AE59","v":{"v":10,"d":"10.0"}},{"$f":"'법정동(2014.12월말)'!AF58-'법정동(2013년말)'!AF59","v":{"v":0,"d":"0.0"}},{"$f":"'법정동(2014.12월말)'!AG58-'법정동(2013년말)'!AG59","v":{"v":0,"d":"0.0"}},{"$f":"'법정동(2014.12월말)'!AH58-'법정동(2013년말)'!AH59","v":{"v":0,"d":"0.0"}},{"$f":"'법정동(2014.12월말)'!AI58-'법정동(2013년말)'!AI59","v":{"v":0,"d":"0.0"}},{"$f":"'법정동(2014.12월말)'!AJ58-'법정동(2013년말)'!AJ59","v":{"v":0,"d":"0.0"}},{"$f":"'법정동(2014.12월말)'!AK58-'법정동(2013년말)'!AK59","v":{"v":0,"d":"0.0"}},{"$f":"'법정동(2014.12월말)'!AL58-'법정동(2013년말)'!AL59","v":{"v":0,"d":"0.0"}},{"$f":"'법정동(2014.12월말)'!AM58-'법정동(2013년말)'!AM59","v":{"v":0,"d":"0.0"}},{"$f":"'법정동(2014.12월말)'!AN58-'법정동(2013년말)'!AN59","v":{"v":0,"d":"0.0"}},{"$f":"'법정동(2014.12월말)'!AO58-'법정동(2013년말)'!AO59","v":{"v":0,"d":"0.0"}},{"$f":"'법정동(2014.12월말)'!AP58-'법정동(2013년말)'!AP59","v":{"v":0,"d":"0.0"}},{"$f":"'법정동(2014.12월말)'!AQ58-'법정동(2013년말)'!AQ59","v":{"v":0,"d":"0.0"}},{"$f":"'법정동(2014.12월말)'!AR58-'법정동(2013년말)'!AR59","v":{"v":0,"d":"0.0"}},{"$f":"'법정동(2014.12월말)'!AS58-'법정동(2013년말)'!AS59","v":{"v":0,"d":"0.0"}},{"$f":"'법정동(2014.12월말)'!AT58-'법정동(2013년말)'!AT59","v":{"v":0,"d":"0.0"}},{"$f":"'법정동(2014.12월말)'!AU58-'법정동(2013년말)'!AU59","v":{"v":0,"d":"0.0"}},{"$f":"'법정동(2014.12월말)'!AV58-'법정동(2013년말)'!AV59","v":{"v":0,"d":"0.0"}},{"$f":"'법정동(2014.12월말)'!AW58-'법정동(2013년말)'!AW59","v":{"v":0,"d":"0.0"}},{"$f":"'법정동(2014.12월말)'!AX58-'법정동(2013년말)'!AX59","v":{"v":0,"d":"0.0"}},{"$f":"'법정동(2014.12월말)'!AY58-'법정동(2013년말)'!AY59","v":{"v":0,"d":"0.0"}},{"$f":"'법정동(2014.12월말)'!AZ58-'법정동(2013년말)'!AZ59","v":{"v":0,"d":"0.0"}},{"$f":"'법정동(2014.12월말)'!BA58-'법정동(2013년말)'!BA59","v":{"v":0,"d":"0.0"}},{"$f":"'법정동(2014.12월말)'!BB58-'법정동(2013년말)'!BB59","v":{"v":0,"d":"0.0"}},{"$f":"'법정동(2014.12월말)'!BC58-'법정동(2013년말)'!BC59","v":{"v":0,"d":"0.0"}},{"$f":"'법정동(2014.12월말)'!BD58-'법정동(2013년말)'!BD59","v":{"v":0,"d":"0.0"}},{"$f":"'법정동(2014.12월말)'!BE58-'법정동(2013년말)'!BE59","v":{"v":0,"d":"0.0"}},{"$f":"'법정동(2014.12월말)'!BF58-'법정동(2013년말)'!BF59","v":{"v":-125,"d":"-125.0"}},{"$f":"'법정동(2014.12월말)'!BG58-'법정동(2013년말)'!BG59","v":{"v":-2,"d":"-2.0"}}]
["돌산읍 신복리",{"$f":"'법정동(2014.12월말)'!B59-'법정동(2013년말)'!B60","v":{"v":-251,"d":"-251.0"}},{"$f":"'법정동(2014.12월말)'!C59-'법정동(2013년말)'!C60","v":{"v":3,"d":"3.0"}},{"$f":"'법정동(2014.12월말)'!D59-'법정동(2013년말)'!D60","v":{"v":203,"d":"203.0"}},{"$f":"'법정동(2014.12월말)'!E59-'법정동(2013년말)'!E60","v":{"v":3,"d":"3.0"}},{"$f":"'법정동(2014.12월말)'!F59-'법정동(2013년말)'!F60","v":{"v":-705,"d":"-705.0"}},{"$f":"'법정동(2014.12월말)'!G59-'법정동(2013년말)'!G60","v":{"v":-2,"d":"-2.0"}},{"$f":"'법정동(2014.12월말)'!H59-'법정동(2013년말)'!H60","v":{"v":0,"d":"0.0"}},{"$f":"'법정동(2014.12월말)'!I59-'법정동(2013년말)'!I60","v":{"v":0,"d":"0.0"}},{"$f":"'법정동(2014.12월말)'!J59-'법정동(2013년말)'!J60","v":{"v":0,"d":"0.0"}},{"$f":"'법정동(2014.12월말)'!K59-'법정동(2013년말)'!K60","v":{"v":0,"d":"0.0"}},{"$f":"'법정동(2014.12월말)'!L59-'법정동(2013년말)'!L60","v":{"v":-251,"d":"-251.0"}},{"$f":"'법정동(2014.12월말)'!M59-'법정동(2013년말)'!M60","v":{"v":1,"d":"1.0"}},{"$f":"'법정동(2014.12월말)'!N59-'법정동(2013년말)'!N60","v":{"v":0,"d":"0.0"}},{"$f":"'법정동(2014.12월말)'!O59-'법정동(2013년말)'!O60","v":{"v":0,"d":"0.0"}},{"$f":"'법정동(2014.12월말)'!P59-'법정동(2013년말)'!P60","v":{"v":0,"d":"0.0"}},{"$f":"'법정동(2014.12월말)'!Q59-'법정동(2013년말)'!Q60","v":{"v":0,"d":"0.0"}},{"$f":"'법정동(2014.12월말)'!R59-'법정동(2013년말)'!R60","v":{"v":-97,"d":"-97.0"}},{"$f":"'법정동(2014.12월말)'!S59-'법정동(2013년말)'!S60","v":{"v":-1,"d":"-1.0"}},{"$f":"'법정동(2014.12월말)'!T59-'법정동(2013년말)'!T60","v":{"v":0,"d":"0.0"}},{"$f":"'법정동(2014.12월말)'!U59-'법정동(2013년말)'!U60","v":{"v":0,"d":"0.0"}},{"$f":"'법정동(2014.12월말)'!V59-'법정동(2013년말)'!V60","v":{"v":0,"d":"0.0"}},{"$f":"'법정동(2014.12월말)'!W59-'법정동(2013년말)'!W60","v":{"v":0,"d":"0.0"}},{"$f":"'법정동(2014.12월말)'!X59-'법정동(2013년말)'!X60","v":{"v":0,"d":"0.0"}},{"$f":"'법정동(2014.12월말)'!Y59-'법정동(2013년말)'!Y60","v":{"v":0,"d":"0.0"}},{"$f":"'법정동(2014.12월말)'!Z59-'법정동(2013년말)'!Z60","v":{"v":0,"d":"0.0"}},{"$f":"'법정동(2014.12월말)'!AA59-'법정동(2013년말)'!AA60","v":{"v":0,"d":"0.0"}},{"$f":"'법정동(2014.12월말)'!AB59-'법정동(2013년말)'!AB60","v":{"v":289,"d":"289.0"}},{"$f":"'법정동(2014.12월말)'!AC59-'법정동(2013년말)'!AC60","v":{"v":2,"d":"2.0"}},{"$f":"'법정동(2014.12월말)'!AD59-'법정동(2013년말)'!AD60","v":{"v":31,"d":"31.0"}},{"$f":"'법정동(2014.12월말)'!AE59-'법정동(2013년말)'!AE60","v":{"v":1,"d":"1.0"}},{"$f":"'법정동(2014.12월말)'!AF59-'법정동(2013년말)'!AF60","v":{"v":0,"d":"0.0"}},{"$f":"'법정동(2014.12월말)'!AG59-'법정동(2013년말)'!AG60","v":{"v":0,"d":"0.0"}},{"$f":"'법정동(2014.12월말)'!AH59-'법정동(2013년말)'!AH60","v":{"v":0,"d":"0.0"}},{"$f":"'법정동(2014.12월말)'!AI59-'법정동(2013년말)'!AI60","v":{"v":0,"d":"0.0"}},{"$f":"'법정동(2014.12월말)'!AJ59-'법정동(2013년말)'!AJ60","v":{"v":0,"d":"0.0"}},{"$f":"'법정동(2014.12월말)'!AK59-'법정동(2013년말)'!AK60","v":{"v":0,"d":"0.0"}},{"$f":"'법정동(2014.12월말)'!AL59-'법정동(2013년말)'!AL60","v":{"v":0,"d":"0.0"}},{"$f":"'법정동(2014.12월말)'!AM59-'법정동(2013년말)'!AM60","v":{"v":0,"d":"0.0"}},{"$f":"'법정동(2014.12월말)'!AN59-'법정동(2013년말)'!AN60","v":{"v":0,"d":"0.0"}},{"$f":"'법정동(2014.12월말)'!AO59-'법정동(2013년말)'!AO60","v":{"v":0,"d":"0.0"}},{"$f":"'법정동(2014.12월말)'!AP59-'법정동(2013년말)'!AP60","v":{"v":1287,"d":"1,287.0"}},{"$f":"'법정동(2014.12월말)'!AQ59-'법정동(2013년말)'!AQ60","v":{"v":1,"d":"1.0"}},{"$f":"'법정동(2014.12월말)'!AR59-'법정동(2013년말)'!AR60","v":{"v":0,"d":"0.0"}},{"$f":"'법정동(2014.12월말)'!AS59-'법정동(2013년말)'!AS60","v":{"v":0,"d":"0.0"}},{"$f":"'법정동(2014.12월말)'!AT59-'법정동(2013년말)'!AT60","v":{"v":0,"d":"0.0"}},{"$f":"'법정동(2014.12월말)'!AU59-'법정동(2013년말)'!AU60","v":{"v":0,"d":"0.0"}},{"$f":"'법정동(2014.12월말)'!AV59-'법정동(2013년말)'!AV60","v":{"v":0,"d":"0.0"}},{"$f":"'법정동(2014.12월말)'!AW59-'법정동(2013년말)'!AW60","v":{"v":0,"d":"0.0"}},{"$f":"'법정동(2014.12월말)'!AX59-'법정동(2013년말)'!AX60","v":{"v":0,"d":"0.0"}},{"$f":"'법정동(2014.12월말)'!AY59-'법정동(2013년말)'!AY60","v":{"v":0,"d":"0.0"}},{"$f":"'법정동(2014.12월말)'!AZ59-'법정동(2013년말)'!AZ60","v":{"v":0,"d":"0.0"}},{"$f":"'법정동(2014.12월말)'!BA59-'법정동(2013년말)'!BA60","v":{"v":0,"d":"0.0"}},{"$f":"'법정동(2014.12월말)'!BB59-'법정동(2013년말)'!BB60","v":{"v":0,"d":"0.0"}},{"$f":"'법정동(2014.12월말)'!BC59-'법정동(2013년말)'!BC60","v":{"v":0,"d":"0.0"}},{"$f":"'법정동(2014.12월말)'!BD59-'법정동(2013년말)'!BD60","v":{"v":-724,"d":"-724.0"}},{"$f":"'법정동(2014.12월말)'!BE59-'법정동(2013년말)'!BE60","v":{"v":-1,"d":"-1.0"}},{"$f":"'법정동(2014.12월말)'!BF59-'법정동(2013년말)'!BF60","v":{"v":-284,"d":"-284.0"}},{"$f":"'법정동(2014.12월말)'!BG59-'법정동(2013년말)'!BG60","v":{"v":-1,"d":"-1.0"}}]
["돌산읍 금성리",{"$f":"'법정동(2014.12월말)'!B60-'법정동(2013년말)'!B61","v":{"v":0,"d":"0.0"}},{"$f":"'법정동(2014.12월말)'!C60-'법정동(2013년말)'!C61","v":{"v":-2,"d":"-2.0"}},{"$f":"'법정동(2014.12월말)'!D60-'법정동(2013년말)'!D61","v":{"v":-140,"d":"-140.0"}},{"$f":"'법정동(2014.12월말)'!E60-'법정동(2013년말)'!E61","v":{"v":-3,"d":"-3.0"}},{"$f":"'법정동(2014.12월말)'!F60-'법정동(2013년말)'!F61","v":{"v":-1350,"d":"-1,350.0"}},{"$f":"'법정동(2014.12월말)'!G60-'법정동(2013년말)'!G61","v":{"v":-5,"d":"-5.0"}},{"$f":"'법정동(2014.12월말)'!H60-'법정동(2013년말)'!H61","v":{"v":0,"d":"0.0"}},{"$f":"'법정동(2014.12월말)'!I60-'법정동(2013년말)'!I61","v":{"v":0,"d":"0.0"}},{"$f":"'법정동(2014.12월말)'!J60-'법정동(2013년말)'!J61","v":{"v":387,"d":"387.0"}},{"$f":"'법정동(2014.12월말)'!K60-'법정동(2013년말)'!K61","v":{"v":1,"d":"1.0"}},{"$f":"'법정동(2014.12월말)'!L60-'법정동(2013년말)'!L61","v":{"v":0,"d":"0.0"}},{"$f":"'법정동(2014.12월말)'!M60-'법정동(2013년말)'!M61","v":{"v":0,"d":"0.0"}},{"$f":"'법정동(2014.12월말)'!N60-'법정동(2013년말)'!N61","v":{"v":0,"d":"0.0"}},{"$f":"'법정동(2014.12월말)'!O60-'법정동(2013년말)'!O61","v":{"v":0,"d":"0.0"}},{"$f":"'법정동(2014.12월말)'!P60-'법정동(2013년말)'!P61","v":{"v":0,"d":"0.0"}},{"$f":"'법정동(2014.12월말)'!Q60-'법정동(2013년말)'!Q61","v":{"v":0,"d":"0.0"}},{"$f":"'법정동(2014.12월말)'!R60-'법정동(2013년말)'!R61","v":{"v":944,"d":"944.0"}},{"$f":"'법정동(2014.12월말)'!S60-'법정동(2013년말)'!S61","v":{"v":0,"d":"0.0"}},{"$f":"'법정동(2014.12월말)'!T60-'법정동(2013년말)'!T61","v":{"v":0,"d":"0.0"}},{"$f":"'법정동(2014.12월말)'!U60-'법정동(2013년말)'!U61","v":{"v":0,"d":"0.0"}},{"$f":"'법정동(2014.12월말)'!V60-'법정동(2013년말)'!V61","v":{"v":0,"d":"0.0"}},{"$f":"'법정동(2014.12월말)'!W60-'법정동(2013년말)'!W61","v":{"v":0,"d":"0.0"}},{"$f":"'법정동(2014.12월말)'!X60-'법정동(2013년말)'!X61","v":{"v":0,"d":"0.0"}},{"$f":"'법정동(2014.12월말)'!Y60-'법정동(2013년말)'!Y61","v":{"v":0,"d":"0.0"}},{"$f":"'법정동(2014.12월말)'!Z60-'법정동(2013년말)'!Z61","v":{"v":0,"d":"0.0"}},{"$f":"'법정동(2014.12월말)'!AA60-'법정동(2013년말)'!AA61","v":{"v":0,"d":"0.0"}},{"$f":"'법정동(2014.12월말)'!AB60-'법정동(2013년말)'!AB61","v":{"v":0,"d":"0.0"}},{"$f":"'법정동(2014.12월말)'!AC60-'법정동(2013년말)'!AC61","v":{"v":0,"d":"0.0"}},{"$f":"'법정동(2014.12월말)'!AD60-'법정동(2013년말)'!AD61","v":{"v":159,"d":"159.0"}},{"$f":"'법정동(2014.12월말)'!AE60-'법정동(2013년말)'!AE61","v":{"v":5,"d":"5.0"}},{"$f":"'법정동(2014.12월말)'!AF60-'법정동(2013년말)'!AF61","v":{"v":0,"d":"0.0"}},{"$f":"'법정동(2014.12월말)'!AG60-'법정동(2013년말)'!AG61","v":{"v":0,"d":"0.0"}},{"$f":"'법정동(2014.12월말)'!AH60-'법정동(2013년말)'!AH61","v":{"v":0,"d":"0.0"}},{"$f":"'법정동(2014.12월말)'!AI60-'법정동(2013년말)'!AI61","v":{"v":0,"d":"0.0"}},{"$f":"'법정동(2014.12월말)'!AJ60-'법정동(2013년말)'!AJ61","v":{"v":0,"d":"0.0"}},{"$f":"'법정동(2014.12월말)'!AK60-'법정동(2013년말)'!AK61","v":{"v":0,"d":"0.0"}},{"$f":"'법정동(2014.12월말)'!AL60-'법정동(2013년말)'!AL61","v":{"v":0,"d":"0.0"}},{"$f":"'법정동(2014.12월말)'!AM60-'법정동(2013년말)'!AM61","v":{"v":0,"d":"0.0"}},{"$f":"'법정동(2014.12월말)'!AN60-'법정동(2013년말)'!AN61","v":{"v":0,"d":"0.0"}},{"$f":"'법정동(2014.12월말)'!AO60-'법정동(2013년말)'!AO61","v":{"v":0,"d":"0.0"}},{"$f":"'법정동(2014.12월말)'!AP60-'법정동(2013년말)'!AP61","v":{"v":0,"d":"0.0"}},{"$f":"'법정동(2014.12월말)'!AQ60-'법정동(2013년말)'!AQ61","v":{"v":0,"d":"0.0"}},{"$f":"'법정동(2014.12월말)'!AR60-'법정동(2013년말)'!AR61","v":{"v":0,"d":"0.0"}},{"$f":"'법정동(2014.12월말)'!AS60-'법정동(2013년말)'!AS61","v":{"v":0,"d":"0.0"}},{"$f":"'법정동(2014.12월말)'!AT60-'법정동(2013년말)'!AT61","v":{"v":0,"d":"0.0"}},{"$f":"'법정동(2014.12월말)'!AU60-'법정동(2013년말)'!AU61","v":{"v":0,"d":"0.0"}},{"$f":"'법정동(2014.12월말)'!AV60-'법정동(2013년말)'!AV61","v":{"v":0,"d":"0.0"}},{"$f":"'법정동(2014.12월말)'!AW60-'법정동(2013년말)'!AW61","v":{"v":0,"d":"0.0"}},{"$f":"'법정동(2014.12월말)'!AX60-'법정동(2013년말)'!AX61","v":{"v":0,"d":"0.0"}},{"$f":"'법정동(2014.12월말)'!AY60-'법정동(2013년말)'!AY61","v":{"v":0,"d":"0.0"}},{"$f":"'법정동(2014.12월말)'!AZ60-'법정동(2013년말)'!AZ61","v":{"v":0,"d":"0.0"}},{"$f":"'법정동(2014.12월말)'!BA60-'법정동(2013년말)'!BA61","v":{"v":0,"d":"0.0"}},{"$f":"'법정동(2014.12월말)'!BB60-'법정동(2013년말)'!BB61","v":{"v":0,"d":"0.0"}},{"$f":"'법정동(2014.12월말)'!BC60-'법정동(2013년말)'!BC61","v":{"v":0,"d":"0.0"}},{"$f":"'법정동(2014.12월말)'!BD60-'법정동(2013년말)'!BD61","v":{"v":0,"d":"0.0"}},{"$f":"'법정동(2014.12월말)'!BE60-'법정동(2013년말)'!BE61","v":{"v":0,"d":"0.0"}},{"$f":"'법정동(2014.12월말)'!BF60-'법정동(2013년말)'!BF61","v":{"v":0,"d":"0.0"}},{"$f":"'법정동(2014.12월말)'!BG60-'법정동(2013년말)'!BG61","v":{"v":0,"d":"0.0"}}]
["돌산읍 율림리",{"$f":"'법정동(2014.12월말)'!B61-'법정동(2013년말)'!B62","v":{"v":709,"d":"709.0"}},{"$f":"'법정동(2014.12월말)'!C61-'법정동(2013년말)'!C62","v":{"v":-3,"d":"-3.0"}},{"$f":"'법정동(2014.12월말)'!D61-'법정동(2013년말)'!D62","v":{"v":548,"d":"548.0"}},{"$f":"'법정동(2014.12월말)'!E61-'법정동(2013년말)'!E62","v":{"v":-2,"d":"-2.0"}},{"$f":"'법정동(2014.12월말)'!F61-'법정동(2013년말)'!F62","v":{"v":-433,"d":"-433.0"}},{"$f":"'법정동(2014.12월말)'!G61-'법정동(2013년말)'!G62","v":{"v":-4,"d":"-4.0"}},{"$f":"'법정동(2014.12월말)'!H61-'법정동(2013년말)'!H62","v":{"v":0,"d":"0.0"}},{"$f":"'법정동(2014.12월말)'!I61-'법정동(2013년말)'!I62","v":{"v":0,"d":"0.0"}},{"$f":"'법정동(2014.12월말)'!J61-'법정동(2013년말)'!J62","v":{"v":0,"d":"0.0"}},{"$f":"'법정동(2014.12월말)'!K61-'법정동(2013년말)'!K62","v":{"v":0,"d":"0.0"}},{"$f":"'법정동(2014.12월말)'!L61-'법정동(2013년말)'!L62","v":{"v":-592,"d":"-592.0"}},{"$f":"'법정동(2014.12월말)'!M61-'법정동(2013년말)'!M62","v":{"v":-1,"d":"-1.0"}},{"$f":"'법정동(2014.12월말)'!N61-'법정동(2013년말)'!N62","v":{"v":0,"d":"0.0"}},{"$f":"'법정동(2014.12월말)'!O61-'법정동(2013년말)'!O62","v":{"v":0,"d":"0.0"}},{"$f":"'법정동(2014.12월말)'!P61-'법정동(2013년말)'!P62","v":{"v":0,"d":"0.0"}},{"$f":"'법정동(2014.12월말)'!Q61-'법정동(2013년말)'!Q62","v":{"v":0,"d":"0.0"}},{"$f":"'법정동(2014.12월말)'!R61-'법정동(2013년말)'!R62","v":{"v":455,"d":"455.0"}},{"$f":"'법정동(2014.12월말)'!S61-'법정동(2013년말)'!S62","v":{"v":2,"d":"2.0"}},{"$f":"'법정동(2014.12월말)'!T61-'법정동(2013년말)'!T62","v":{"v":0,"d":"0.0"}},{"$f":"'법정동(2014.12월말)'!U61-'법정동(2013년말)'!U62","v":{"v":0,"d":"0.0"}},{"$f":"'법정동(2014.12월말)'!V61-'법정동(2013년말)'!V62","v":{"v":0,"d":"0.0"}},{"$f":"'법정동(2014.12월말)'!W61-'법정동(2013년말)'!W62","v":{"v":0,"d":"0.0"}},{"$f":"'법정동(2014.12월말)'!X61-'법정동(2013년말)'!X62","v":{"v":0,"d":"0.0"}},{"$f":"'법정동(2014.12월말)'!Y61-'법정동(2013년말)'!Y62","v":{"v":0,"d":"0.0"}},{"$f":"'법정동(2014.12월말)'!Z61-'법정동(2013년말)'!Z62","v":{"v":0,"d":"0.0"}},{"$f":"'법정동(2014.12월말)'!AA61-'법정동(2013년말)'!AA62","v":{"v":0,"d":"0.0"}},{"$f":"'법정동(2014.12월말)'!AB61-'법정동(2013년말)'!AB62","v":{"v":0,"d":"0.0"}},{"$f":"'법정동(2014.12월말)'!AC61-'법정동(2013년말)'!AC62","v":{"v":0,"d":"0.0"}},{"$f":"'법정동(2014.12월말)'!AD61-'법정동(2013년말)'!AD62","v":{"v":194,"d":"194.0"}},{"$f":"'법정동(2014.12월말)'!AE61-'법정동(2013년말)'!AE62","v":{"v":1,"d":"1.0"}},{"$f":"'법정동(2014.12월말)'!AF61-'법정동(2013년말)'!AF62","v":{"v":0,"d":"0.0"}},{"$f":"'법정동(2014.12월말)'!AG61-'법정동(2013년말)'!AG62","v":{"v":0,"d":"0.0"}},{"$f":"'법정동(2014.12월말)'!AH61-'법정동(2013년말)'!AH62","v":{"v":0,"d":"0.0"}},{"$f":"'법정동(2014.12월말)'!AI61-'법정동(2013년말)'!AI62","v":{"v":0,"d":"0.0"}},{"$f":"'법정동(2014.12월말)'!AJ61-'법정동(2013년말)'!AJ62","v":{"v":0,"d":"0.0"}},{"$f":"'법정동(2014.12월말)'!AK61-'법정동(2013년말)'!AK62","v":{"v":0,"d":"0.0"}},{"$f":"'법정동(2014.12월말)'!AL61-'법정동(2013년말)'!AL62","v":{"v":537,"d":"537.0"}},{"$f":"'법정동(2014.12월말)'!AM61-'법정동(2013년말)'!AM62","v":{"v":1,"d":"1.0"}},{"$f":"'법정동(2014.12월말)'!AN61-'법정동(2013년말)'!AN62","v":{"v":0,"d":"0.0"}},{"$f":"'법정동(2014.12월말)'!AO61-'법정동(2013년말)'!AO62","v":{"v":0,"d":"0.0"}},{"$f":"'법정동(2014.12월말)'!AP61-'법정동(2013년말)'!AP62","v":{"v":0,"d":"0.0"}},{"$f":"'법정동(2014.12월말)'!AQ61-'법정동(2013년말)'!AQ62","v":{"v":0,"d":"0.0"}},{"$f":"'법정동(2014.12월말)'!AR61-'법정동(2013년말)'!AR62","v":{"v":0,"d":"0.0"}},{"$f":"'법정동(2014.12월말)'!AS61-'법정동(2013년말)'!AS62","v":{"v":0,"d":"0.0"}},{"$f":"'법정동(2014.12월말)'!AT61-'법정동(2013년말)'!AT62","v":{"v":0,"d":"0.0"}},{"$f":"'법정동(2014.12월말)'!AU61-'법정동(2013년말)'!AU62","v":{"v":0,"d":"0.0"}},{"$f":"'법정동(2014.12월말)'!AV61-'법정동(2013년말)'!AV62","v":{"v":0,"d":"0.0"}},{"$f":"'법정동(2014.12월말)'!AW61-'법정동(2013년말)'!AW62","v":{"v":0,"d":"0.0"}},{"$f":"'법정동(2014.12월말)'!AX61-'법정동(2013년말)'!AX62","v":{"v":0,"d":"0.0"}},{"$f":"'법정동(2014.12월말)'!AY61-'법정동(2013년말)'!AY62","v":{"v":0,"d":"0.0"}},{"$f":"'법정동(2014.12월말)'!AZ61-'법정동(2013년말)'!AZ62","v":{"v":0,"d":"0.0"}},{"$f":"'법정동(2014.12월말)'!BA61-'법정동(2013년말)'!BA62","v":{"v":0,"d":"0.0"}},{"$f":"'법정동(2014.12월말)'!BB61-'법정동(2013년말)'!BB62","v":{"v":0,"d":"0.0"}},{"$f":"'법정동(2014.12월말)'!BC61-'법정동(2013년말)'!BC62","v":{"v":0,"d":"0.0"}},{"$f":"'법정동(2014.12월말)'!BD61-'법정동(2013년말)'!BD62","v":{"v":0,"d":"0.0"}},{"$f":"'법정동(2014.12월말)'!BE61-'법정동(2013년말)'!BE62","v":{"v":0,"d":"0.0"}},{"$f":"'법정동(2014.12월말)'!BF61-'법정동(2013년말)'!BF62","v":{"v":0,"d":"0.0"}},{"$f":"'법정동(2014.12월말)'!BG61-'법정동(2013년말)'!BG62","v":{"v":0,"d":"0.0"}}]
["돌산읍 죽포리",{"$f":"'법정동(2014.12월말)'!B62-'법정동(2013년말)'!B63","v":{"v":-308,"d":"-308.0"}},{"$f":"'법정동(2014.12월말)'!C62-'법정동(2013년말)'!C63","v":{"v":-1,"d":"-1.0"}},{"$f":"'법정동(2014.12월말)'!D62-'법정동(2013년말)'!D63","v":{"v":-809,"d":"-809.0"}},{"$f":"'법정동(2014.12월말)'!E62-'법정동(2013년말)'!E63","v":{"v":5,"d":"5.0"}},{"$f":"'법정동(2014.12월말)'!F62-'법정동(2013년말)'!F63","v":{"v":-1126,"d":"-1,126.0"}},{"$f":"'법정동(2014.12월말)'!G62-'법정동(2013년말)'!G63","v":{"v":-8,"d":"-8.0"}},{"$f":"'법정동(2014.12월말)'!H62-'법정동(2013년말)'!H63","v":{"v":0,"d":"0.0"}},{"$f":"'법정동(2014.12월말)'!I62-'법정동(2013년말)'!I63","v":{"v":0,"d":"0.0"}},{"$f":"'법정동(2014.12월말)'!J62-'법정동(2013년말)'!J63","v":{"v":0,"d":"0.0"}},{"$f":"'법정동(2014.12월말)'!K62-'법정동(2013년말)'!K63","v":{"v":0,"d":"0.0"}},{"$f":"'법정동(2014.12월말)'!L62-'법정동(2013년말)'!L63","v":{"v":-10175,"d":"-10,175.0"}},{"$f":"'법정동(2014.12월말)'!M62-'법정동(2013년말)'!M63","v":{"v":-6,"d":"-6.0"}},{"$f":"'법정동(2014.12월말)'!N62-'법정동(2013년말)'!N63","v":{"v":0,"d":"0.0"}},{"$f":"'법정동(2014.12월말)'!O62-'법정동(2013년말)'!O63","v":{"v":0,"d":"0.0"}},{"$f":"'법정동(2014.12월말)'!P62-'법정동(2013년말)'!P63","v":{"v":0,"d":"0.0"}},{"$f":"'법정동(2014.12월말)'!Q62-'법정동(2013년말)'!Q63","v":{"v":0,"d":"0.0"}},{"$f":"'법정동(2014.12월말)'!R62-'법정동(2013년말)'!R63","v":{"v":1888,"d":"1,888.0"}},{"$f":"'법정동(2014.12월말)'!S62-'법정동(2013년말)'!S63","v":{"v":3,"d":"3.0"}},{"$f":"'법정동(2014.12월말)'!T62-'법정동(2013년말)'!T63","v":{"v":0,"d":"0.0"}},{"$f":"'법정동(2014.12월말)'!U62-'법정동(2013년말)'!U63","v":{"v":0,"d":"0.0"}},{"$f":"'법정동(2014.12월말)'!V62-'법정동(2013년말)'!V63","v":{"v":0,"d":"0.0"}},{"$f":"'법정동(2014.12월말)'!W62-'법정동(2013년말)'!W63","v":{"v":0,"d":"0.0"}},{"$f":"'법정동(2014.12월말)'!X62-'법정동(2013년말)'!X63","v":{"v":0,"d":"0.0"}},{"$f":"'법정동(2014.12월말)'!Y62-'법정동(2013년말)'!Y63","v":{"v":0,"d":"0.0"}},{"$f":"'법정동(2014.12월말)'!Z62-'법정동(2013년말)'!Z63","v":{"v":0,"d":"0.0"}},{"$f":"'법정동(2014.12월말)'!AA62-'법정동(2013년말)'!AA63","v":{"v":0,"d":"0.0"}},{"$f":"'법정동(2014.12월말)'!AB62-'법정동(2013년말)'!AB63","v":{"v":0,"d":"0.0"}},{"$f":"'법정동(2014.12월말)'!AC62-'법정동(2013년말)'!AC63","v":{"v":0,"d":"0.0"}},{"$f":"'법정동(2014.12월말)'!AD62-'법정동(2013년말)'!AD63","v":{"v":9914,"d":"9,914.0"}},{"$f":"'법정동(2014.12월말)'!AE62-'법정동(2013년말)'!AE63","v":{"v":6,"d":"6.0"}},{"$f":"'법정동(2014.12월말)'!AF62-'법정동(2013년말)'!AF63","v":{"v":0,"d":"0.0"}},{"$f":"'법정동(2014.12월말)'!AG62-'법정동(2013년말)'!AG63","v":{"v":0,"d":"0.0"}},{"$f":"'법정동(2014.12월말)'!AH62-'법정동(2013년말)'!AH63","v":{"v":0,"d":"0.0"}},{"$f":"'법정동(2014.12월말)'!AI62-'법정동(2013년말)'!AI63","v":{"v":0,"d":"0.0"}},{"$f":"'법정동(2014.12월말)'!AJ62-'법정동(2013년말)'!AJ63","v":{"v":0,"d":"0.0"}},{"$f":"'법정동(2014.12월말)'!AK62-'법정동(2013년말)'!AK63","v":{"v":0,"d":"0.0"}},{"$f":"'법정동(2014.12월말)'!AL62-'법정동(2013년말)'!AL63","v":{"v":0,"d":"0.0"}},{"$f":"'법정동(2014.12월말)'!AM62-'법정동(2013년말)'!AM63","v":{"v":0,"d":"0.0"}},{"$f":"'법정동(2014.12월말)'!AN62-'법정동(2013년말)'!AN63","v":{"v":0,"d":"0.0"}},{"$f":"'법정동(2014.12월말)'!AO62-'법정동(2013년말)'!AO63","v":{"v":0,"d":"0.0"}},{"$f":"'법정동(2014.12월말)'!AP62-'법정동(2013년말)'!AP63","v":{"v":0,"d":"0.0"}},{"$f":"'법정동(2014.12월말)'!AQ62-'법정동(2013년말)'!AQ63","v":{"v":0,"d":"0.0"}},{"$f":"'법정동(2014.12월말)'!AR62-'법정동(2013년말)'!AR63","v":{"v":0,"d":"0.0"}},{"$f":"'법정동(2014.12월말)'!AS62-'법정동(2013년말)'!AS63","v":{"v":0,"d":"0.0"}},{"$f":"'법정동(2014.12월말)'!AT62-'법정동(2013년말)'!AT63","v":{"v":0,"d":"0.0"}},{"$f":"'법정동(2014.12월말)'!AU62-'법정동(2013년말)'!AU63","v":{"v":0,"d":"0.0"}},{"$f":"'법정동(2014.12월말)'!AV62-'법정동(2013년말)'!AV63","v":{"v":0,"d":"0.0"}},{"$f":"'법정동(2014.12월말)'!AW62-'법정동(2013년말)'!AW63","v":{"v":0,"d":"0.0"}},{"$f":"'법정동(2014.12월말)'!AX62-'법정동(2013년말)'!AX63","v":{"v":0,"d":"0.0"}},{"$f":"'법정동(2014.12월말)'!AY62-'법정동(2013년말)'!AY63","v":{"v":0,"d":"0.0"}},{"$f":"'법정동(2014.12월말)'!AZ62-'법정동(2013년말)'!AZ63","v":{"v":0,"d":"0.0"}},{"$f":"'법정동(2014.12월말)'!BA62-'법정동(2013년말)'!BA63","v":{"v":0,"d":"0.0"}},{"$f":"'법정동(2014.12월말)'!BB62-'법정동(2013년말)'!BB63","v":{"v":0,"d":"0.0"}},{"$f":"'법정동(2014.12월말)'!BC62-'법정동(2013년말)'!BC63","v":{"v":0,"d":"0.0"}},{"$f":"'법정동(2014.12월말)'!BD62-'법정동(2013년말)'!BD63","v":{"v":0,"d":"0.0"}},{"$f":"'법정동(2014.12월말)'!BE62-'법정동(2013년말)'!BE63","v":{"v":0,"d":"0.0"}},{"$f":"'법정동(2014.12월말)'!BF62-'법정동(2013년말)'!BF63","v":{"v":0,"d":"0.0"}},{"$f":"'법정동(2014.12월말)'!BG62-'법정동(2013년말)'!BG63","v":{"v":-1,"d":"-1.0"}}]
["돌산읍 서덕리",{"$f":"'법정동(2014.12월말)'!B63-'법정동(2013년말)'!B64","v":{"v":513,"d":"513.0"}},{"$f":"'법정동(2014.12월말)'!C63-'법정동(2013년말)'!C64","v":{"v":7,"d":"7.0"}},{"$f":"'법정동(2014.12월말)'!D63-'법정동(2013년말)'!D64","v":{"v":-645,"d":"-645.0"}},{"$f":"'법정동(2014.12월말)'!E63-'법정동(2013년말)'!E64","v":{"v":2,"d":"2.0"}},{"$f":"'법정동(2014.12월말)'!F63-'법정동(2013년말)'!F64","v":{"v":-564,"d":"-564.0"}},{"$f":"'법정동(2014.12월말)'!G63-'법정동(2013년말)'!G64","v":{"v":0,"d":"0.0"}},{"$f":"'법정동(2014.12월말)'!H63-'법정동(2013년말)'!H64","v":{"v":0,"d":"0.0"}},{"$f":"'법정동(2014.12월말)'!I63-'법정동(2013년말)'!I64","v":{"v":0,"d":"0.0"}},{"$f":"'법정동(2014.12월말)'!J63-'법정동(2013년말)'!J64","v":{"v":0,"d":"0.0"}},{"$f":"'법정동(2014.12월말)'!K63-'법정동(2013년말)'!K64","v":{"v":0,"d":"0.0"}},{"$f":"'법정동(2014.12월말)'!L63-'법정동(2013년말)'!L64","v":{"v":589,"d":"589.0"}},{"$f":"'법정동(2014.12월말)'!M63-'법정동(2013년말)'!M64","v":{"v":0,"d":"0.0"}},{"$f":"'법정동(2014.12월말)'!N63-'법정동(2013년말)'!N64","v":{"v":0,"d":"0.0"}},{"$f":"'법정동(2014.12월말)'!O63-'법정동(2013년말)'!O64","v":{"v":0,"d":"0.0"}},{"$f":"'법정동(2014.12월말)'!P63-'법정동(2013년말)'!P64","v":{"v":0,"d":"0.0"}},{"$f":"'법정동(2014.12월말)'!Q63-'법정동(2013년말)'!Q64","v":{"v":0,"d":"0.0"}},{"$f":"'법정동(2014.12월말)'!R63-'법정동(2013년말)'!R64","v":{"v":1192,"d":"1,192.0"}},{"$f":"'법정동(2014.12월말)'!S63-'법정동(2013년말)'!S64","v":{"v":3,"d":"3.0"}},{"$f":"'법정동(2014.12월말)'!T63-'법정동(2013년말)'!T64","v":{"v":0,"d":"0.0"}},{"$f":"'법정동(2014.12월말)'!U63-'법정동(2013년말)'!U64","v":{"v":0,"d":"0.0"}},{"$f":"'법정동(2014.12월말)'!V63-'법정동(2013년말)'!V64","v":{"v":0,"d":"0.0"}},{"$f":"'법정동(2014.12월말)'!W63-'법정동(2013년말)'!W64","v":{"v":0,"d":"0.0"}},{"$f":"'법정동(2014.12월말)'!X63-'법정동(2013년말)'!X64","v":{"v":0,"d":"0.0"}},{"$f":"'법정동(2014.12월말)'!Y63-'법정동(2013년말)'!Y64","v":{"v":0,"d":"0.0"}},{"$f":"'법정동(2014.12월말)'!Z63-'법정동(2013년말)'!Z64","v":{"v":0,"d":"0.0"}},{"$f":"'법정동(2014.12월말)'!AA63-'법정동(2013년말)'!AA64","v":{"v":0,"d":"0.0"}},{"$f":"'법정동(2014.12월말)'!AB63-'법정동(2013년말)'!AB64","v":{"v":0,"d":"0.0"}},{"$f":"'법정동(2014.12월말)'!AC63-'법정동(2013년말)'!AC64","v":{"v":0,"d":"0.0"}},{"$f":"'법정동(2014.12월말)'!AD63-'법정동(2013년말)'!AD64","v":{"v":-59,"d":"-59.0"}},{"$f":"'법정동(2014.12월말)'!AE63-'법정동(2013년말)'!AE64","v":{"v":2,"d":"2.0"}},{"$f":"'법정동(2014.12월말)'!AF63-'법정동(2013년말)'!AF64","v":{"v":0,"d":"0.0"}},{"$f":"'법정동(2014.12월말)'!AG63-'법정동(2013년말)'!AG64","v":{"v":0,"d":"0.0"}},{"$f":"'법정동(2014.12월말)'!AH63-'법정동(2013년말)'!AH64","v":{"v":0,"d":"0.0"}},{"$f":"'법정동(2014.12월말)'!AI63-'법정동(2013년말)'!AI64","v":{"v":0,"d":"0.0"}},{"$f":"'법정동(2014.12월말)'!AJ63-'법정동(2013년말)'!AJ64","v":{"v":0,"d":"0.0"}},{"$f":"'법정동(2014.12월말)'!AK63-'법정동(2013년말)'!AK64","v":{"v":0,"d":"0.0"}},{"$f":"'법정동(2014.12월말)'!AL63-'법정동(2013년말)'!AL64","v":{"v":0,"d":"0.0"}},{"$f":"'법정동(2014.12월말)'!AM63-'법정동(2013년말)'!AM64","v":{"v":0,"d":"0.0"}},{"$f":"'법정동(2014.12월말)'!AN63-'법정동(2013년말)'!AN64","v":{"v":0,"d":"0.0"}},{"$f":"'법정동(2014.12월말)'!AO63-'법정동(2013년말)'!AO64","v":{"v":0,"d":"0.0"}},{"$f":"'법정동(2014.12월말)'!AP63-'법정동(2013년말)'!AP64","v":{"v":0,"d":"0.0"}},{"$f":"'법정동(2014.12월말)'!AQ63-'법정동(2013년말)'!AQ64","v":{"v":0,"d":"0.0"}},{"$f":"'법정동(2014.12월말)'!AR63-'법정동(2013년말)'!AR64","v":{"v":0,"d":"0.0"}},{"$f":"'법정동(2014.12월말)'!AS63-'법정동(2013년말)'!AS64","v":{"v":0,"d":"0.0"}},{"$f":"'법정동(2014.12월말)'!AT63-'법정동(2013년말)'!AT64","v":{"v":0,"d":"0.0"}},{"$f":"'법정동(2014.12월말)'!AU63-'법정동(2013년말)'!AU64","v":{"v":0,"d":"0.0"}},{"$f":"'법정동(2014.12월말)'!AV63-'법정동(2013년말)'!AV64","v":{"v":0,"d":"0.0"}},{"$f":"'법정동(2014.12월말)'!AW63-'법정동(2013년말)'!AW64","v":{"v":0,"d":"0.0"}},{"$f":"'법정동(2014.12월말)'!AX63-'법정동(2013년말)'!AX64","v":{"v":0,"d":"0.0"}},{"$f":"'법정동(2014.12월말)'!AY63-'법정동(2013년말)'!AY64","v":{"v":0,"d":"0.0"}},{"$f":"'법정동(2014.12월말)'!AZ63-'법정동(2013년말)'!AZ64","v":{"v":0,"d":"0.0"}},{"$f":"'법정동(2014.12월말)'!BA63-'법정동(2013년말)'!BA64","v":{"v":0,"d":"0.0"}},{"$f":"'법정동(2014.12월말)'!BB63-'법정동(2013년말)'!BB64","v":{"v":0,"d":"0.0"}},{"$f":"'법정동(2014.12월말)'!BC63-'법정동(2013년말)'!BC64","v":{"v":0,"d":"0.0"}},{"$f":"'법정동(2014.12월말)'!BD63-'법정동(2013년말)'!BD64","v":{"v":0,"d":"0.0"}},{"$f":"'법정동(2014.12월말)'!BE63-'법정동(2013년말)'!BE64","v":{"v":0,"d":"0.0"}},{"$f":"'법정동(2014.12월말)'!BF63-'법정동(2013년말)'!BF64","v":{"v":0,"d":"0.0"}},{"$f":"'법정동(2014.12월말)'!BG63-'법정동(2013년말)'!BG64","v":{"v":0,"d":"0.0"}}]
["돌산읍 금봉리",{"$f":"'법정동(2014.12월말)'!B64-'법정동(2013년말)'!B65","v":{"v":-85,"d":"-85.0"}},{"$f":"'법정동(2014.12월말)'!C64-'법정동(2013년말)'!C65","v":{"v":14,"d":"14.0"}},{"$f":"'법정동(2014.12월말)'!D64-'법정동(2013년말)'!D65","v":{"v":-5681,"d":"-5,681.0"}},{"$f":"'법정동(2014.12월말)'!E64-'법정동(2013년말)'!E65","v":{"v":0,"d":"0.0"}},{"$f":"'법정동(2014.12월말)'!F64-'법정동(2013년말)'!F65","v":{"v":-650,"d":"-650.0"}},{"$f":"'법정동(2014.12월말)'!G64-'법정동(2013년말)'!G65","v":{"v":0,"d":"0.0"}},{"$f":"'법정동(2014.12월말)'!H64-'법정동(2013년말)'!H65","v":{"v":0,"d":"0.0"}},{"$f":"'법정동(2014.12월말)'!I64-'법정동(2013년말)'!I65","v":{"v":0,"d":"0.0"}},{"$f":"'법정동(2014.12월말)'!J64-'법정동(2013년말)'!J65","v":{"v":0,"d":"0.0"}},{"$f":"'법정동(2014.12월말)'!K64-'법정동(2013년말)'!K65","v":{"v":0,"d":"0.0"}},{"$f":"'법정동(2014.12월말)'!L64-'법정동(2013년말)'!L65","v":{"v":-1320,"d":"-1,320.0"}},{"$f":"'법정동(2014.12월말)'!M64-'법정동(2013년말)'!M65","v":{"v":2,"d":"2.0"}},{"$f":"'법정동(2014.12월말)'!N64-'법정동(2013년말)'!N65","v":{"v":0,"d":"0.0"}},{"$f":"'법정동(2014.12월말)'!O64-'법정동(2013년말)'!O65","v":{"v":0,"d":"0.0"}},{"$f":"'법정동(2014.12월말)'!P64-'법정동(2013년말)'!P65","v":{"v":0,"d":"0.0"}},{"$f":"'법정동(2014.12월말)'!Q64-'법정동(2013년말)'!Q65","v":{"v":0,"d":"0.0"}},{"$f":"'법정동(2014.12월말)'!R64-'법정동(2013년말)'!R65","v":{"v":3027,"d":"3,027.0"}},{"$f":"'법정동(2014.12월말)'!S64-'법정동(2013년말)'!S65","v":{"v":5,"d":"5.0"}},{"$f":"'법정동(2014.12월말)'!T64-'법정동(2013년말)'!T65","v":{"v":0,"d":"0.0"}},{"$f":"'법정동(2014.12월말)'!U64-'법정동(2013년말)'!U65","v":{"v":0,"d":"0.0"}},{"$f":"'법정동(2014.12월말)'!V64-'법정동(2013년말)'!V65","v":{"v":0,"d":"0.0"}},{"$f":"'법정동(2014.12월말)'!W64-'법정동(2013년말)'!W65","v":{"v":0,"d":"0.0"}},{"$f":"'법정동(2014.12월말)'!X64-'법정동(2013년말)'!X65","v":{"v":0,"d":"0.0"}},{"$f":"'법정동(2014.12월말)'!Y64-'법정동(2013년말)'!Y65","v":{"v":0,"d":"0.0"}},{"$f":"'법정동(2014.12월말)'!Z64-'법정동(2013년말)'!Z65","v":{"v":0,"d":"0.0"}},{"$f":"'법정동(2014.12월말)'!AA64-'법정동(2013년말)'!AA65","v":{"v":0,"d":"0.0"}},{"$f":"'법정동(2014.12월말)'!AB64-'법정동(2013년말)'!AB65","v":{"v":0,"d":"0.0"}},{"$f":"'법정동(2014.12월말)'!AC64-'법정동(2013년말)'!AC65","v":{"v":0,"d":"0.0"}},{"$f":"'법정동(2014.12월말)'!AD64-'법정동(2013년말)'!AD65","v":{"v":99,"d":"99.0"}},{"$f":"'법정동(2014.12월말)'!AE64-'법정동(2013년말)'!AE65","v":{"v":3,"d":"3.0"}},{"$f":"'법정동(2014.12월말)'!AF64-'법정동(2013년말)'!AF65","v":{"v":0,"d":"0.0"}},{"$f":"'법정동(2014.12월말)'!AG64-'법정동(2013년말)'!AG65","v":{"v":0,"d":"0.0"}},{"$f":"'법정동(2014.12월말)'!AH64-'법정동(2013년말)'!AH65","v":{"v":0,"d":"0.0"}},{"$f":"'법정동(2014.12월말)'!AI64-'법정동(2013년말)'!AI65","v":{"v":0,"d":"0.0"}},{"$f":"'법정동(2014.12월말)'!AJ64-'법정동(2013년말)'!AJ65","v":{"v":0,"d":"0.0"}},{"$f":"'법정동(2014.12월말)'!AK64-'법정동(2013년말)'!AK65","v":{"v":0,"d":"0.0"}},{"$f":"'법정동(2014.12월말)'!AL64-'법정동(2013년말)'!AL65","v":{"v":0,"d":"0.0"}},{"$f":"'법정동(2014.12월말)'!AM64-'법정동(2013년말)'!AM65","v":{"v":0,"d":"0.0"}},{"$f":"'법정동(2014.12월말)'!AN64-'법정동(2013년말)'!AN65","v":{"v":0,"d":"0.0"}},{"$f":"'법정동(2014.12월말)'!AO64-'법정동(2013년말)'!AO65","v":{"v":0,"d":"0.0"}},{"$f":"'법정동(2014.12월말)'!AP64-'법정동(2013년말)'!AP65","v":{"v":5899,"d":"5,899.0"}},{"$f":"'법정동(2014.12월말)'!AQ64-'법정동(2013년말)'!AQ65","v":{"v":4,"d":"4.0"}},{"$f":"'법정동(2014.12월말)'!AR64-'법정동(2013년말)'!AR65","v":{"v":0,"d":"0.0"}},{"$f":"'법정동(2014.12월말)'!AS64-'법정동(2013년말)'!AS65","v":{"v":0,"d":"0.0"}},{"$f":"'법정동(2014.12월말)'!AT64-'법정동(2013년말)'!AT65","v":{"v":0,"d":"0.0"}},{"$f":"'법정동(2014.12월말)'!AU64-'법정동(2013년말)'!AU65","v":{"v":0,"d":"0.0"}},{"$f":"'법정동(2014.12월말)'!AV64-'법정동(2013년말)'!AV65","v":{"v":0,"d":"0.0"}},{"$f":"'법정동(2014.12월말)'!AW64-'법정동(2013년말)'!AW65","v":{"v":0,"d":"0.0"}},{"$f":"'법정동(2014.12월말)'!AX64-'법정동(2013년말)'!AX65","v":{"v":0,"d":"0.0"}},{"$f":"'법정동(2014.12월말)'!AY64-'법정동(2013년말)'!AY65","v":{"v":0,"d":"0.0"}},{"$f":"'법정동(2014.12월말)'!AZ64-'법정동(2013년말)'!AZ65","v":{"v":0,"d":"0.0"}},{"$f":"'법정동(2014.12월말)'!BA64-'법정동(2013년말)'!BA65","v":{"v":0,"d":"0.0"}},{"$f":"'법정동(2014.12월말)'!BB64-'법정동(2013년말)'!BB65","v":{"v":0,"d":"0.0"}},{"$f":"'법정동(2014.12월말)'!BC64-'법정동(2013년말)'!BC65","v":{"v":0,"d":"0.0"}},{"$f":"'법정동(2014.12월말)'!BD64-'법정동(2013년말)'!BD65","v":{"v":0,"d":"0.0"}},{"$f":"'법정동(2014.12월말)'!BE64-'법정동(2013년말)'!BE65","v":{"v":0,"d":"0.0"}},{"$f":"'법정동(2014.12월말)'!BF64-'법정동(2013년말)'!BF65","v":{"v":-1459,"d":"-1,459.0"}},{"$f":"'법정동(2014.12월말)'!BG64-'법정동(2013년말)'!BG65","v":{"v":0,"d":"0.0"}}]
["돌산읍 둔전리",{"$f":"'법정동(2014.12월말)'!B65-'법정동(2013년말)'!B66","v":{"v":500,"d":"500.0"}},{"$f":"'법정동(2014.12월말)'!C65-'법정동(2013년말)'!C66","v":{"v":13,"d":"13.0"}},{"$f":"'법정동(2014.12월말)'!D65-'법정동(2013년말)'!D66","v":{"v":-2497,"d":"-2,497.0"}},{"$f":"'법정동(2014.12월말)'!E65-'법정동(2013년말)'!E66","v":{"v":-2,"d":"-2.0"}},{"$f":"'법정동(2014.12월말)'!F65-'법정동(2013년말)'!F66","v":{"v":-1079,"d":"-1,079.0"}},{"$f":"'법정동(2014.12월말)'!G65-'법정동(2013년말)'!G66","v":{"v":-3,"d":"-3.0"}},{"$f":"'법정동(2014.12월말)'!H65-'법정동(2013년말)'!H66","v":{"v":0,"d":"0.0"}},{"$f":"'법정동(2014.12월말)'!I65-'법정동(2013년말)'!I66","v":{"v":0,"d":"0.0"}},{"$f":"'법정동(2014.12월말)'!J65-'법정동(2013년말)'!J66","v":{"v":0,"d":"0.0"}},{"$f":"'법정동(2014.12월말)'!K65-'법정동(2013년말)'!K66","v":{"v":0,"d":"0.0"}},{"$f":"'법정동(2014.12월말)'!L65-'법정동(2013년말)'!L66","v":{"v":-1440,"d":"-1,440.0"}},{"$f":"'법정동(2014.12월말)'!M65-'법정동(2013년말)'!M66","v":{"v":1,"d":"1.0"}},{"$f":"'법정동(2014.12월말)'!N65-'법정동(2013년말)'!N66","v":{"v":0,"d":"0.0"}},{"$f":"'법정동(2014.12월말)'!O65-'법정동(2013년말)'!O66","v":{"v":0,"d":"0.0"}},{"$f":"'법정동(2014.12월말)'!P65-'법정동(2013년말)'!P66","v":{"v":0,"d":"0.0"}},{"$f":"'법정동(2014.12월말)'!Q65-'법정동(2013년말)'!Q66","v":{"v":0,"d":"0.0"}},{"$f":"'법정동(2014.12월말)'!R65-'법정동(2013년말)'!R66","v":{"v":4180,"d":"4,180.0"}},{"$f":"'법정동(2014.12월말)'!S65-'법정동(2013년말)'!S66","v":{"v":5,"d":"5.0"}},{"$f":"'법정동(2014.12월말)'!T65-'법정동(2013년말)'!T66","v":{"v":182.69999999999982,"d":"182.7"}},{"$f":"'법정동(2014.12월말)'!U65-'법정동(2013년말)'!U66","v":{"v":2,"d":"2.0"}},{"$f":"'법정동(2014.12월말)'!V65-'법정동(2013년말)'!V66","v":{"v":0,"d":"0.0"}},{"$f":"'법정동(2014.12월말)'!W65-'법정동(2013년말)'!W66","v":{"v":0,"d":"0.0"}},{"$f":"'법정동(2014.12월말)'!X65-'법정동(2013년말)'!X66","v":{"v":0,"d":"0.0"}},{"$f":"'법정동(2014.12월말)'!Y65-'법정동(2013년말)'!Y66","v":{"v":0,"d":"0.0"}},{"$f":"'법정동(2014.12월말)'!Z65-'법정동(2013년말)'!Z66","v":{"v":0,"d":"0.0"}},{"$f":"'법정동(2014.12월말)'!AA65-'법정동(2013년말)'!AA66","v":{"v":0,"d":"0.0"}},{"$f":"'법정동(2014.12월말)'!AB65-'법정동(2013년말)'!AB66","v":{"v":-233,"d":"-233.0"}},{"$f":"'법정동(2014.12월말)'!AC65-'법정동(2013년말)'!AC66","v":{"v":-1,"d":"-1.0"}},{"$f":"'법정동(2014.12월말)'!AD65-'법정동(2013년말)'!AD66","v":{"v":961,"d":"961.0"}},{"$f":"'법정동(2014.12월말)'!AE65-'법정동(2013년말)'!AE66","v":{"v":11,"d":"11.0"}},{"$f":"'법정동(2014.12월말)'!AF65-'법정동(2013년말)'!AF66","v":{"v":0,"d":"0.0"}},{"$f":"'법정동(2014.12월말)'!AG65-'법정동(2013년말)'!AG66","v":{"v":0,"d":"0.0"}},{"$f":"'법정동(2014.12월말)'!AH65-'법정동(2013년말)'!AH66","v":{"v":0,"d":"0.0"}},{"$f":"'법정동(2014.12월말)'!AI65-'법정동(2013년말)'!AI66","v":{"v":0,"d":"0.0"}},{"$f":"'법정동(2014.12월말)'!AJ65-'법정동(2013년말)'!AJ66","v":{"v":0,"d":"0.0"}},{"$f":"'법정동(2014.12월말)'!AK65-'법정동(2013년말)'!AK66","v":{"v":0,"d":"0.0"}},{"$f":"'법정동(2014.12월말)'!AL65-'법정동(2013년말)'!AL66","v":{"v":425.3000000000029,"d":"425.3"}},{"$f":"'법정동(2014.12월말)'!AM65-'법정동(2013년말)'!AM66","v":{"v":0,"d":"0.0"}},{"$f":"'법정동(2014.12월말)'!AN65-'법정동(2013년말)'!AN66","v":{"v":0,"d":"0.0"}},{"$f":"'법정동(2014.12월말)'!AO65-'법정동(2013년말)'!AO66","v":{"v":0,"d":"0.0"}},{"$f":"'법정동(2014.12월말)'!AP65-'법정동(2013년말)'!AP66","v":{"v":0,"d":"0.0"}},{"$f":"'법정동(2014.12월말)'!AQ65-'법정동(2013년말)'!AQ66","v":{"v":0,"d":"0.0"}},{"$f":"'법정동(2014.12월말)'!AR65-'법정동(2013년말)'!AR66","v":{"v":0,"d":"0.0"}},{"$f":"'법정동(2014.12월말)'!AS65-'법정동(2013년말)'!AS66","v":{"v":0,"d":"0.0"}},{"$f":"'법정동(2014.12월말)'!AT65-'법정동(2013년말)'!AT66","v":{"v":0,"d":"0.0"}},{"$f":"'법정동(2014.12월말)'!AU65-'법정동(2013년말)'!AU66","v":{"v":0,"d":"0.0"}},{"$f":"'법정동(2014.12월말)'!AV65-'법정동(2013년말)'!AV66","v":{"v":0,"d":"0.0"}},{"$f":"'법정동(2014.12월말)'!AW65-'법정동(2013년말)'!AW66","v":{"v":0,"d":"0.0"}},{"$f":"'법정동(2014.12월말)'!AX65-'법정동(2013년말)'!AX66","v":{"v":0,"d":"0.0"}},{"$f":"'법정동(2014.12월말)'!AY65-'법정동(2013년말)'!AY66","v":{"v":0,"d":"0.0"}},{"$f":"'법정동(2014.12월말)'!AZ65-'법정동(2013년말)'!AZ66","v":{"v":0,"d":"0.0"}},{"$f":"'법정동(2014.12월말)'!BA65-'법정동(2013년말)'!BA66","v":{"v":0,"d":"0.0"}},{"$f":"'법정동(2014.12월말)'!BB65-'법정동(2013년말)'!BB66","v":{"v":0,"d":"0.0"}},{"$f":"'법정동(2014.12월말)'!BC65-'법정동(2013년말)'!BC66","v":{"v":0,"d":"0.0"}},{"$f":"'법정동(2014.12월말)'!BD65-'법정동(2013년말)'!BD66","v":{"v":0,"d":"0.0"}},{"$f":"'법정동(2014.12월말)'!BE65-'법정동(2013년말)'!BE66","v":{"v":0,"d":"0.0"}},{"$f":"'법정동(2014.12월말)'!BF65-'법정동(2013년말)'!BF66","v":{"v":0,"d":"0.0"}},{"$f":"'법정동(2014.12월말)'!BG65-'법정동(2013년말)'!BG66","v":{"v":0,"d":"0.0"}}]
["돌산읍 평사리",{"$f":"'법정동(2014.12월말)'!B66-'법정동(2013년말)'!B67","v":{"v":1052,"d":"1,052.0"}},{"$f":"'법정동(2014.12월말)'!C66-'법정동(2013년말)'!C67","v":{"v":-15,"d":"-15.0"}},{"$f":"'법정동(2014.12월말)'!D66-'법정동(2013년말)'!D67","v":{"v":-2375,"d":"-2,375.0"}},{"$f":"'법정동(2014.12월말)'!E66-'법정동(2013년말)'!E67","v":{"v":-8,"d":"-8.0"}},{"$f":"'법정동(2014.12월말)'!F66-'법정동(2013년말)'!F67","v":{"v":-5771,"d":"-5,771.0"}},{"$f":"'법정동(2014.12월말)'!G66-'법정동(2013년말)'!G67","v":{"v":-9,"d":"-9.0"}},{"$f":"'법정동(2014.12월말)'!H66-'법정동(2013년말)'!H67","v":{"v":0,"d":"0.0"}},{"$f":"'법정동(2014.12월말)'!I66-'법정동(2013년말)'!I67","v":{"v":0,"d":"0.0"}},{"$f":"'법정동(2014.12월말)'!J66-'법정동(2013년말)'!J67","v":{"v":0,"d":"0.0"}},{"$f":"'법정동(2014.12월말)'!K66-'법정동(2013년말)'!K67","v":{"v":0,"d":"0.0"}},{"$f":"'법정동(2014.12월말)'!L66-'법정동(2013년말)'!L67","v":{"v":-38970,"d":"-38,970.0"}},{"$f":"'법정동(2014.12월말)'!M66-'법정동(2013년말)'!M67","v":{"v":-29,"d":"-29.0"}},{"$f":"'법정동(2014.12월말)'!N66-'법정동(2013년말)'!N67","v":{"v":0,"d":"0.0"}},{"$f":"'법정동(2014.12월말)'!O66-'법정동(2013년말)'!O67","v":{"v":0,"d":"0.0"}},{"$f":"'법정동(2014.12월말)'!P66-'법정동(2013년말)'!P67","v":{"v":0,"d":"0.0"}},{"$f":"'법정동(2014.12월말)'!Q66-'법정동(2013년말)'!Q67","v":{"v":0,"d":"0.0"}},{"$f":"'법정동(2014.12월말)'!R66-'법정동(2013년말)'!R67","v":{"v":14027,"d":"14,027.0"}},{"$f":"'법정동(2014.12월말)'!S66-'법정동(2013년말)'!S67","v":{"v":15,"d":"15.0"}},{"$f":"'법정동(2014.12월말)'!T66-'법정동(2013년말)'!T67","v":{"v":303,"d":"303.0"}},{"$f":"'법정동(2014.12월말)'!U66-'법정동(2013년말)'!U67","v":{"v":2,"d":"2.0"}},{"$f":"'법정동(2014.12월말)'!V66-'법정동(2013년말)'!V67","v":{"v":0,"d":"0.0"}},{"$f":"'법정동(2014.12월말)'!W66-'법정동(2013년말)'!W67","v":{"v":0,"d":"0.0"}},{"$f":"'법정동(2014.12월말)'!X66-'법정동(2013년말)'!X67","v":{"v":0,"d":"0.0"}},{"$f":"'법정동(2014.12월말)'!Y66-'법정동(2013년말)'!Y67","v":{"v":0,"d":"0.0"}},{"$f":"'법정동(2014.12월말)'!Z66-'법정동(2013년말)'!Z67","v":{"v":0,"d":"0.0"}},{"$f":"'법정동(2014.12월말)'!AA66-'법정동(2013년말)'!AA67","v":{"v":0,"d":"0.0"}},{"$f":"'법정동(2014.12월말)'!AB66-'법정동(2013년말)'!AB67","v":{"v":0,"d":"0.0"}},{"$f":"'법정동(2014.12월말)'!AC66-'법정동(2013년말)'!AC67","v":{"v":0,"d":"0.0"}},{"$f":"'법정동(2014.12월말)'!AD66-'법정동(2013년말)'!AD67","v":{"v":36351,"d":"36,351.0"}},{"$f":"'법정동(2014.12월말)'!AE66-'법정동(2013년말)'!AE67","v":{"v":17,"d":"17.0"}},{"$f":"'법정동(2014.12월말)'!AF66-'법정동(2013년말)'!AF67","v":{"v":0,"d":"0.0"}},{"$f":"'법정동(2014.12월말)'!AG66-'법정동(2013년말)'!AG67","v":{"v":0,"d":"0.0"}},{"$f":"'법정동(2014.12월말)'!AH66-'법정동(2013년말)'!AH67","v":{"v":0,"d":"0.0"}},{"$f":"'법정동(2014.12월말)'!AI66-'법정동(2013년말)'!AI67","v":{"v":0,"d":"0.0"}},{"$f":"'법정동(2014.12월말)'!AJ66-'법정동(2013년말)'!AJ67","v":{"v":0,"d":"0.0"}},{"$f":"'법정동(2014.12월말)'!AK66-'법정동(2013년말)'!AK67","v":{"v":0,"d":"0.0"}},{"$f":"'법정동(2014.12월말)'!AL66-'법정동(2013년말)'!AL67","v":{"v":0,"d":"0.0"}},{"$f":"'법정동(2014.12월말)'!AM66-'법정동(2013년말)'!AM67","v":{"v":0,"d":"0.0"}},{"$f":"'법정동(2014.12월말)'!AN66-'법정동(2013년말)'!AN67","v":{"v":0,"d":"0.0"}},{"$f":"'법정동(2014.12월말)'!AO66-'법정동(2013년말)'!AO67","v":{"v":0,"d":"0.0"}},{"$f":"'법정동(2014.12월말)'!AP66-'법정동(2013년말)'!AP67","v":{"v":0,"d":"0.0"}},{"$f":"'법정동(2014.12월말)'!AQ66-'법정동(2013년말)'!AQ67","v":{"v":0,"d":"0.0"}},{"$f":"'법정동(2014.12월말)'!AR66-'법정동(2013년말)'!AR67","v":{"v":0,"d":"0.0"}},{"$f":"'법정동(2014.12월말)'!AS66-'법정동(2013년말)'!AS67","v":{"v":0,"d":"0.0"}},{"$f":"'법정동(2014.12월말)'!AT66-'법정동(2013년말)'!AT67","v":{"v":0,"d":"0.0"}},{"$f":"'법정동(2014.12월말)'!AU66-'법정동(2013년말)'!AU67","v":{"v":0,"d":"0.0"}},{"$f":"'법정동(2014.12월말)'!AV66-'법정동(2013년말)'!AV67","v":{"v":0,"d":"0.0"}},{"$f":"'법정동(2014.12월말)'!AW66-'법정동(2013년말)'!AW67","v":{"v":0,"d":"0.0"}},{"$f":"'법정동(2014.12월말)'!AX66-'법정동(2013년말)'!AX67","v":{"v":0,"d":"0.0"}},{"$f":"'법정동(2014.12월말)'!AY66-'법정동(2013년말)'!AY67","v":{"v":0,"d":"0.0"}},{"$f":"'법정동(2014.12월말)'!AZ66-'법정동(2013년말)'!AZ67","v":{"v":0,"d":"0.0"}},{"$f":"'법정동(2014.12월말)'!BA66-'법정동(2013년말)'!BA67","v":{"v":0,"d":"0.0"}},{"$f":"'법정동(2014.12월말)'!BB66-'법정동(2013년말)'!BB67","v":{"v":0,"d":"0.0"}},{"$f":"'법정동(2014.12월말)'!BC66-'법정동(2013년말)'!BC67","v":{"v":0,"d":"0.0"}},{"$f":"'법정동(2014.12월말)'!BD66-'법정동(2013년말)'!BD67","v":{"v":-132,"d":"-132.0"}},{"$f":"'법정동(2014.12월말)'!BE66-'법정동(2013년말)'!BE67","v":{"v":-1,"d":"-1.0"}},{"$f":"'법정동(2014.12월말)'!BF66-'법정동(2013년말)'!BF67","v":{"v":-2381,"d":"-2,381.0"}},{"$f":"'법정동(2014.12월말)'!BG66-'법정동(2013년말)'!BG67","v":{"v":-2,"d":"-2.0"}}]
["돌산읍 우두리",{"$f":"'법정동(2014.12월말)'!B67-'법정동(2013년말)'!B68","v":{"v":-12343,"d":"-12,343.0"}},{"$f":"'법정동(2014.12월말)'!C67-'법정동(2013년말)'!C68","v":{"v":-53,"d":"-53.0"}},{"$f":"'법정동(2014.12월말)'!D67-'법정동(2013년말)'!D68","v":{"v":-27812,"d":"-27,812.0"}},{"$f":"'법정동(2014.12월말)'!E67-'법정동(2013년말)'!E68","v":{"v":-36,"d":"-36.0"}},{"$f":"'법정동(2014.12월말)'!F67-'법정동(2013년말)'!F68","v":{"v":-16006,"d":"-16,006.0"}},{"$f":"'법정동(2014.12월말)'!G67-'법정동(2013년말)'!G68","v":{"v":-29,"d":"-29.0"}},{"$f":"'법정동(2014.12월말)'!H67-'법정동(2013년말)'!H68","v":{"v":0,"d":"0.0"}},{"$f":"'법정동(2014.12월말)'!I67-'법정동(2013년말)'!I68","v":{"v":0,"d":"0.0"}},{"$f":"'법정동(2014.12월말)'!J67-'법정동(2013년말)'!J68","v":{"v":0,"d":"0.0"}},{"$f":"'법정동(2014.12월말)'!K67-'법정동(2013년말)'!K68","v":{"v":0,"d":"0.0"}},{"$f":"'법정동(2014.12월말)'!L67-'법정동(2013년말)'!L68","v":{"v":-25127,"d":"-25,127.0"}},{"$f":"'법정동(2014.12월말)'!M67-'법정동(2013년말)'!M68","v":{"v":-21,"d":"-21.0"}},{"$f":"'법정동(2014.12월말)'!N67-'법정동(2013년말)'!N68","v":{"v":0,"d":"0.0"}},{"$f":"'법정동(2014.12월말)'!O67-'법정동(2013년말)'!O68","v":{"v":0,"d":"0.0"}},{"$f":"'법정동(2014.12월말)'!P67-'법정동(2013년말)'!P68","v":{"v":0,"d":"0.0"}},{"$f":"'법정동(2014.12월말)'!Q67-'법정동(2013년말)'!Q68","v":{"v":0,"d":"0.0"}},{"$f":"'법정동(2014.12월말)'!R67-'법정동(2013년말)'!R68","v":{"v":5308,"d":"5,308.0"}},{"$f":"'법정동(2014.12월말)'!S67-'법정동(2013년말)'!S68","v":{"v":-1,"d":"-1.0"}},{"$f":"'법정동(2014.12월말)'!T67-'법정동(2013년말)'!T68","v":{"v":356,"d":"356.0"}},{"$f":"'법정동(2014.12월말)'!U67-'법정동(2013년말)'!U68","v":{"v":2,"d":"2.0"}},{"$f":"'법정동(2014.12월말)'!V67-'법정동(2013년말)'!V68","v":{"v":0,"d":"0.0"}},{"$f":"'법정동(2014.12월말)'!W67-'법정동(2013년말)'!W68","v":{"v":0,"d":"0.0"}},{"$f":"'법정동(2014.12월말)'!X67-'법정동(2013년말)'!X68","v":{"v":0,"d":"0.0"}},{"$f":"'법정동(2014.12월말)'!Y67-'법정동(2013년말)'!Y68","v":{"v":0,"d":"0.0"}},{"$f":"'법정동(2014.12월말)'!Z67-'법정동(2013년말)'!Z68","v":{"v":0,"d":"0.0"}},{"$f":"'법정동(2014.12월말)'!AA67-'법정동(2013년말)'!AA68","v":{"v":0,"d":"0.0"}},{"$f":"'법정동(2014.12월말)'!AB67-'법정동(2013년말)'!AB68","v":{"v":0,"d":"0.0"}},{"$f":"'법정동(2014.12월말)'!AC67-'법정동(2013년말)'!AC68","v":{"v":0,"d":"0.0"}},{"$f":"'법정동(2014.12월말)'!AD67-'법정동(2013년말)'!AD68","v":{"v":43922,"d":"43,922.0"}},{"$f":"'법정동(2014.12월말)'!AE67-'법정동(2013년말)'!AE68","v":{"v":29,"d":"29.0"}},{"$f":"'법정동(2014.12월말)'!AF67-'법정동(2013년말)'!AF68","v":{"v":0,"d":"0.0"}},{"$f":"'법정동(2014.12월말)'!AG67-'법정동(2013년말)'!AG68","v":{"v":0,"d":"0.0"}},{"$f":"'법정동(2014.12월말)'!AH67-'법정동(2013년말)'!AH68","v":{"v":0,"d":"0.0"}},{"$f":"'법정동(2014.12월말)'!AI67-'법정동(2013년말)'!AI68","v":{"v":0,"d":"0.0"}},{"$f":"'법정동(2014.12월말)'!AJ67-'법정동(2013년말)'!AJ68","v":{"v":0,"d":"0.0"}},{"$f":"'법정동(2014.12월말)'!AK67-'법정동(2013년말)'!AK68","v":{"v":0,"d":"0.0"}},{"$f":"'법정동(2014.12월말)'!AL67-'법정동(2013년말)'!AL68","v":{"v":0,"d":"0.0"}},{"$f":"'법정동(2014.12월말)'!AM67-'법정동(2013년말)'!AM68","v":{"v":0,"d":"0.0"}},{"$f":"'법정동(2014.12월말)'!AN67-'법정동(2013년말)'!AN68","v":{"v":0,"d":"0.0"}},{"$f":"'법정동(2014.12월말)'!AO67-'법정동(2013년말)'!AO68","v":{"v":0,"d":"0.0"}},{"$f":"'법정동(2014.12월말)'!AP67-'법정동(2013년말)'!AP68","v":{"v":0,"d":"0.0"}},{"$f":"'법정동(2014.12월말)'!AQ67-'법정동(2013년말)'!AQ68","v":{"v":0,"d":"0.0"}},{"$f":"'법정동(2014.12월말)'!AR67-'법정동(2013년말)'!AR68","v":{"v":0,"d":"0.0"}},{"$f":"'법정동(2014.12월말)'!AS67-'법정동(2013년말)'!AS68","v":{"v":0,"d":"0.0"}},{"$f":"'법정동(2014.12월말)'!AT67-'법정동(2013년말)'!AT68","v":{"v":0,"d":"0.0"}},{"$f":"'법정동(2014.12월말)'!AU67-'법정동(2013년말)'!AU68","v":{"v":0,"d":"0.0"}},{"$f":"'법정동(2014.12월말)'!AV67-'법정동(2013년말)'!AV68","v":{"v":0,"d":"0.0"}},{"$f":"'법정동(2014.12월말)'!AW67-'법정동(2013년말)'!AW68","v":{"v":0,"d":"0.0"}},{"$f":"'법정동(2014.12월말)'!AX67-'법정동(2013년말)'!AX68","v":{"v":0,"d":"0.0"}},{"$f":"'법정동(2014.12월말)'!AY67-'법정동(2013년말)'!AY68","v":{"v":0,"d":"0.0"}},{"$f":"'법정동(2014.12월말)'!AZ67-'법정동(2013년말)'!AZ68","v":{"v":0,"d":"0.0"}},{"$f":"'법정동(2014.12월말)'!BA67-'법정동(2013년말)'!BA68","v":{"v":0,"d":"0.0"}},{"$f":"'법정동(2014.12월말)'!BB67-'법정동(2013년말)'!BB68","v":{"v":0,"d":"0.0"}},{"$f":"'법정동(2014.12월말)'!BC67-'법정동(2013년말)'!BC68","v":{"v":0,"d":"0.0"}},{"$f":"'법정동(2014.12월말)'!BD67-'법정동(2013년말)'!BD68","v":{"v":0,"d":"0.0"}},{"$f":"'법정동(2014.12월말)'!BE67-'법정동(2013년말)'!BE68","v":{"v":0,"d":"0.0"}},{"$f":"'법정동(2014.12월말)'!BF67-'법정동(2013년말)'!BF68","v":{"v":7016,"d":"7,016.0"}},{"$f":"'법정동(2014.12월말)'!BG67-'법정동(2013년말)'!BG68","v":{"v":3,"d":"3.0"}}]
["소라면 덕양리",{"$f":"'법정동(2014.12월말)'!B68-'법정동(2013년말)'!B69","v":{"v":337,"d":"337.0"}},{"$f":"'법정동(2014.12월말)'!C68-'법정동(2013년말)'!C69","v":{"v":20,"d":"20.0"}},{"$f":"'법정동(2014.12월말)'!D68-'법정동(2013년말)'!D69","v":{"v":-3856,"d":"-3,856.0"}},{"$f":"'법정동(2014.12월말)'!E68-'법정동(2013년말)'!E69","v":{"v":-3,"d":"-3.0"}},{"$f":"'법정동(2014.12월말)'!F68-'법정동(2013년말)'!F69","v":{"v":-2275,"d":"-2,275.0"}},{"$f":"'법정동(2014.12월말)'!G68-'법정동(2013년말)'!G69","v":{"v":-5,"d":"-5.0"}},{"$f":"'법정동(2014.12월말)'!H68-'법정동(2013년말)'!H69","v":{"v":0,"d":"0.0"}},{"$f":"'법정동(2014.12월말)'!I68-'법정동(2013년말)'!I69","v":{"v":0,"d":"0.0"}},{"$f":"'법정동(2014.12월말)'!J68-'법정동(2013년말)'!J69","v":{"v":330,"d":"330.0"}},{"$f":"'법정동(2014.12월말)'!K68-'법정동(2013년말)'!K69","v":{"v":1,"d":"1.0"}},{"$f":"'법정동(2014.12월말)'!L68-'법정동(2013년말)'!L69","v":{"v":-349,"d":"-349.0"}},{"$f":"'법정동(2014.12월말)'!M68-'법정동(2013년말)'!M69","v":{"v":2,"d":"2.0"}},{"$f":"'법정동(2014.12월말)'!N68-'법정동(2013년말)'!N69","v":{"v":0,"d":"0.0"}},{"$f":"'법정동(2014.12월말)'!O68-'법정동(2013년말)'!O69","v":{"v":0,"d":"0.0"}},{"$f":"'법정동(2014.12월말)'!P68-'법정동(2013년말)'!P69","v":{"v":0,"d":"0.0"}},{"$f":"'법정동(2014.12월말)'!Q68-'법정동(2013년말)'!Q69","v":{"v":0,"d":"0.0"}},{"$f":"'법정동(2014.12월말)'!R68-'법정동(2013년말)'!R69","v":{"v":2972,"d":"2,972.0"}},{"$f":"'법정동(2014.12월말)'!S68-'법정동(2013년말)'!S69","v":{"v":8,"d":"8.0"}},{"$f":"'법정동(2014.12월말)'!T68-'법정동(2013년말)'!T69","v":{"v":843,"d":"843.0"}},{"$f":"'법정동(2014.12월말)'!U68-'법정동(2013년말)'!U69","v":{"v":1,"d":"1.0"}},{"$f":"'법정동(2014.12월말)'!V68-'법정동(2013년말)'!V69","v":{"v":0,"d":"0.0"}},{"$f":"'법정동(2014.12월말)'!W68-'법정동(2013년말)'!W69","v":{"v":0,"d":"0.0"}},{"$f":"'법정동(2014.12월말)'!X68-'법정동(2013년말)'!X69","v":{"v":1123,"d":"1,123.0"}},{"$f":"'법정동(2014.12월말)'!Y68-'법정동(2013년말)'!Y69","v":{"v":1,"d":"1.0"}},{"$f":"'법정동(2014.12월말)'!Z68-'법정동(2013년말)'!Z69","v":{"v":0,"d":"0.0"}},{"$f":"'법정동(2014.12월말)'!AA68-'법정동(2013년말)'!AA69","v":{"v":0,"d":"0.0"}},{"$f":"'법정동(2014.12월말)'!AB68-'법정동(2013년말)'!AB69","v":{"v":0,"d":"0.0"}},{"$f":"'법정동(2014.12월말)'!AC68-'법정동(2013년말)'!AC69","v":{"v":0,"d":"0.0"}},{"$f":"'법정동(2014.12월말)'!AD68-'법정동(2013년말)'!AD69","v":{"v":1015,"d":"1,015.0"}},{"$f":"'법정동(2014.12월말)'!AE68-'법정동(2013년말)'!AE69","v":{"v":12,"d":"12.0"}},{"$f":"'법정동(2014.12월말)'!AF68-'법정동(2013년말)'!AF69","v":{"v":0,"d":"0.0"}},{"$f":"'법정동(2014.12월말)'!AG68-'법정동(2013년말)'!AG69","v":{"v":2,"d":"2.0"}},{"$f":"'법정동(2014.12월말)'!AH68-'법정동(2013년말)'!AH69","v":{"v":0,"d":"0.0"}},{"$f":"'법정동(2014.12월말)'!AI68-'법정동(2013년말)'!AI69","v":{"v":0,"d":"0.0"}},{"$f":"'법정동(2014.12월말)'!AJ68-'법정동(2013년말)'!AJ69","v":{"v":0,"d":"0.0"}},{"$f":"'법정동(2014.12월말)'!AK68-'법정동(2013년말)'!AK69","v":{"v":0,"d":"0.0"}},{"$f":"'법정동(2014.12월말)'!AL68-'법정동(2013년말)'!AL69","v":{"v":0,"d":"0.0"}},{"$f":"'법정동(2014.12월말)'!AM68-'법정동(2013년말)'!AM69","v":{"v":0,"d":"0.0"}},{"$f":"'법정동(2014.12월말)'!AN68-'법정동(2013년말)'!AN69","v":{"v":0,"d":"0.0"}},{"$f":"'법정동(2014.12월말)'!AO68-'법정동(2013년말)'!AO69","v":{"v":0,"d":"0.0"}},{"$f":"'법정동(2014.12월말)'!AP68-'법정동(2013년말)'!AP69","v":{"v":0,"d":"0.0"}},{"$f":"'법정동(2014.12월말)'!AQ68-'법정동(2013년말)'!AQ69","v":{"v":0,"d":"0.0"}},{"$f":"'법정동(2014.12월말)'!AR68-'법정동(2013년말)'!AR69","v":{"v":0,"d":"0.0"}},{"$f":"'법정동(2014.12월말)'!AS68-'법정동(2013년말)'!AS69","v":{"v":0,"d":"0.0"}},{"$f":"'법정동(2014.12월말)'!AT68-'법정동(2013년말)'!AT69","v":{"v":0,"d":"0.0"}},{"$f":"'법정동(2014.12월말)'!AU68-'법정동(2013년말)'!AU69","v":{"v":0,"d":"0.0"}},{"$f":"'법정동(2014.12월말)'!AV68-'법정동(2013년말)'!AV69","v":{"v":0,"d":"0.0"}},{"$f":"'법정동(2014.12월말)'!AW68-'법정동(2013년말)'!AW69","v":{"v":0,"d":"0.0"}},{"$f":"'법정동(2014.12월말)'!AX68-'법정동(2013년말)'!AX69","v":{"v":0,"d":"0.0"}},{"$f":"'법정동(2014.12월말)'!AY68-'법정동(2013년말)'!AY69","v":{"v":0,"d":"0.0"}},{"$f":"'법정동(2014.12월말)'!AZ68-'법정동(2013년말)'!AZ69","v":{"v":0,"d":"0.0"}},{"$f":"'법정동(2014.12월말)'!BA68-'법정동(2013년말)'!BA69","v":{"v":0,"d":"0.0"}},{"$f":"'법정동(2014.12월말)'!BB68-'법정동(2013년말)'!BB69","v":{"v":0,"d":"0.0"}},{"$f":"'법정동(2014.12월말)'!BC68-'법정동(2013년말)'!BC69","v":{"v":0,"d":"0.0"}},{"$f":"'법정동(2014.12월말)'!BD68-'법정동(2013년말)'!BD69","v":{"v":0,"d":"0.0"}},{"$f":"'법정동(2014.12월말)'!BE68-'법정동(2013년말)'!BE69","v":{"v":0,"d":"0.0"}},{"$f":"'법정동(2014.12월말)'!BF68-'법정동(2013년말)'!BF69","v":{"v":534,"d":"534.0"}},{"$f":"'법정동(2014.12월말)'!BG68-'법정동(2013년말)'!BG69","v":{"v":1,"d":"1.0"}}]
["소라면 죽림리",{"$f":"'법정동(2014.12월말)'!B69-'법정동(2013년말)'!B70","v":{"v":345,"d":"345.0"}},{"$f":"'법정동(2014.12월말)'!C69-'법정동(2013년말)'!C70","v":{"v":34,"d":"34.0"}},{"$f":"'법정동(2014.12월말)'!D69-'법정동(2013년말)'!D70","v":{"v":-715,"d":"-715.0"}},{"$f":"'법정동(2014.12월말)'!E69-'법정동(2013년말)'!E70","v":{"v":6,"d":"6.0"}},{"$f":"'법정동(2014.12월말)'!F69-'법정동(2013년말)'!F70","v":{"v":-2390,"d":"-2,390.0"}},{"$f":"'법정동(2014.12월말)'!G69-'법정동(2013년말)'!G70","v":{"v":7,"d":"7.0"}},{"$f":"'법정동(2014.12월말)'!H69-'법정동(2013년말)'!H70","v":{"v":0,"d":"0.0"}},{"$f":"'법정동(2014.12월말)'!I69-'법정동(2013년말)'!I70","v":{"v":0,"d":"0.0"}},{"$f":"'법정동(2014.12월말)'!J69-'법정동(2013년말)'!J70","v":{"v":0,"d":"0.0"}},{"$f":"'법정동(2014.12월말)'!K69-'법정동(2013년말)'!K70","v":{"v":0,"d":"0.0"}},{"$f":"'법정동(2014.12월말)'!L69-'법정동(2013년말)'!L70","v":{"v":-4050,"d":"-4,050.0"}},{"$f":"'법정동(2014.12월말)'!M69-'법정동(2013년말)'!M70","v":{"v":9,"d":"9.0"}},{"$f":"'법정동(2014.12월말)'!N69-'법정동(2013년말)'!N70","v":{"v":0,"d":"0.0"}},{"$f":"'법정동(2014.12월말)'!O69-'법정동(2013년말)'!O70","v":{"v":0,"d":"0.0"}},{"$f":"'법정동(2014.12월말)'!P69-'법정동(2013년말)'!P70","v":{"v":0,"d":"0.0"}},{"$f":"'법정동(2014.12월말)'!Q69-'법정동(2013년말)'!Q70","v":{"v":0,"d":"0.0"}},{"$f":"'법정동(2014.12월말)'!R69-'법정동(2013년말)'!R70","v":{"v":6329,"d":"6,329.0"}},{"$f":"'법정동(2014.12월말)'!S69-'법정동(2013년말)'!S70","v":{"v":3,"d":"3.0"}},{"$f":"'법정동(2014.12월말)'!T69-'법정동(2013년말)'!T70","v":{"v":0,"d":"0.0"}},{"$f":"'법정동(2014.12월말)'!U69-'법정동(2013년말)'!U70","v":{"v":0,"d":"0.0"}},{"$f":"'법정동(2014.12월말)'!V69-'법정동(2013년말)'!V70","v":{"v":0,"d":"0.0"}},{"$f":"'법정동(2014.12월말)'!W69-'법정동(2013년말)'!W70","v":{"v":0,"d":"0.0"}},{"$f":"'법정동(2014.12월말)'!X69-'법정동(2013년말)'!X70","v":{"v":863,"d":"863.0"}},{"$f":"'법정동(2014.12월말)'!Y69-'법정동(2013년말)'!Y70","v":{"v":1,"d":"1.0"}},{"$f":"'법정동(2014.12월말)'!Z69-'법정동(2013년말)'!Z70","v":{"v":0,"d":"0.0"}},{"$f":"'법정동(2014.12월말)'!AA69-'법정동(2013년말)'!AA70","v":{"v":0,"d":"0.0"}},{"$f":"'법정동(2014.12월말)'!AB69-'법정동(2013년말)'!AB70","v":{"v":0,"d":"0.0"}},{"$f":"'법정동(2014.12월말)'!AC69-'법정동(2013년말)'!AC70","v":{"v":0,"d":"0.0"}},{"$f":"'법정동(2014.12월말)'!AD69-'법정동(2013년말)'!AD70","v":{"v":308,"d":"308.0"}},{"$f":"'법정동(2014.12월말)'!AE69-'법정동(2013년말)'!AE70","v":{"v":3,"d":"3.0"}},{"$f":"'법정동(2014.12월말)'!AF69-'법정동(2013년말)'!AF70","v":{"v":0,"d":"0.0"}},{"$f":"'법정동(2014.12월말)'!AG69-'법정동(2013년말)'!AG70","v":{"v":0,"d":"0.0"}},{"$f":"'법정동(2014.12월말)'!AH69-'법정동(2013년말)'!AH70","v":{"v":0,"d":"0.0"}},{"$f":"'법정동(2014.12월말)'!AI69-'법정동(2013년말)'!AI70","v":{"v":0,"d":"0.0"}},{"$f":"'법정동(2014.12월말)'!AJ69-'법정동(2013년말)'!AJ70","v":{"v":0,"d":"0.0"}},{"$f":"'법정동(2014.12월말)'!AK69-'법정동(2013년말)'!AK70","v":{"v":0,"d":"0.0"}},{"$f":"'법정동(2014.12월말)'!AL69-'법정동(2013년말)'!AL70","v":{"v":0,"d":"0.0"}},{"$f":"'법정동(2014.12월말)'!AM69-'법정동(2013년말)'!AM70","v":{"v":4,"d":"4.0"}},{"$f":"'법정동(2014.12월말)'!AN69-'법정동(2013년말)'!AN70","v":{"v":0,"d":"0.0"}},{"$f":"'법정동(2014.12월말)'!AO69-'법정동(2013년말)'!AO70","v":{"v":0,"d":"0.0"}},{"$f":"'법정동(2014.12월말)'!AP69-'법정동(2013년말)'!AP70","v":{"v":0,"d":"0.0"}},{"$f":"'법정동(2014.12월말)'!AQ69-'법정동(2013년말)'!AQ70","v":{"v":0,"d":"0.0"}},{"$f":"'법정동(2014.12월말)'!AR69-'법정동(2013년말)'!AR70","v":{"v":0,"d":"0.0"}},{"$f":"'법정동(2014.12월말)'!AS69-'법정동(2013년말)'!AS70","v":{"v":0,"d":"0.0"}},{"$f":"'법정동(2014.12월말)'!AT69-'법정동(2013년말)'!AT70","v":{"v":0,"d":"0.0"}},{"$f":"'법정동(2014.12월말)'!AU69-'법정동(2013년말)'!AU70","v":{"v":0,"d":"0.0"}},{"$f":"'법정동(2014.12월말)'!AV69-'법정동(2013년말)'!AV70","v":{"v":0,"d":"0.0"}},{"$f":"'법정동(2014.12월말)'!AW69-'법정동(2013년말)'!AW70","v":{"v":0,"d":"0.0"}},{"$f":"'법정동(2014.12월말)'!AX69-'법정동(2013년말)'!AX70","v":{"v":0,"d":"0.0"}},{"$f":"'법정동(2014.12월말)'!AY69-'법정동(2013년말)'!AY70","v":{"v":0,"d":"0.0"}},{"$f":"'법정동(2014.12월말)'!AZ69-'법정동(2013년말)'!AZ70","v":{"v":0,"d":"0.0"}},{"$f":"'법정동(2014.12월말)'!BA69-'법정동(2013년말)'!BA70","v":{"v":1,"d":"1.0"}},{"$f":"'법정동(2014.12월말)'!BB69-'법정동(2013년말)'!BB70","v":{"v":0,"d":"0.0"}},{"$f":"'법정동(2014.12월말)'!BC69-'법정동(2013년말)'!BC70","v":{"v":0,"d":"0.0"}},{"$f":"'법정동(2014.12월말)'!BD69-'법정동(2013년말)'!BD70","v":{"v":0,"d":"0.0"}},{"$f":"'법정동(2014.12월말)'!BE69-'법정동(2013년말)'!BE70","v":{"v":0,"d":"0.0"}},{"$f":"'법정동(2014.12월말)'!BF69-'법정동(2013년말)'!BF70","v":{"v":0,"d":"0.0"}},{"$f":"'법정동(2014.12월말)'!BG69-'법정동(2013년말)'!BG70","v":{"v":0,"d":"0.0"}}]
["소라면 관기리",{"$f":"'법정동(2014.12월말)'!B70-'법정동(2013년말)'!B71","v":{"v":-63,"d":"-63.0"}},{"$f":"'법정동(2014.12월말)'!C70-'법정동(2013년말)'!C71","v":{"v":36,"d":"36.0"}},{"$f":"'법정동(2014.12월말)'!D70-'법정동(2013년말)'!D71","v":{"v":-1466.5999999999767,"d":"-1,466.6"}},{"$f":"'법정동(2014.12월말)'!E70-'법정동(2013년말)'!E71","v":{"v":0,"d":"0.0"}},{"$f":"'법정동(2014.12월말)'!F70-'법정동(2013년말)'!F71","v":{"v":-51715.39999999991,"d":"-51,715.4"}},{"$f":"'법정동(2014.12월말)'!G70-'법정동(2013년말)'!G71","v":{"v":21,"d":"21.0"}},{"$f":"'법정동(2014.12월말)'!H70-'법정동(2013년말)'!H71","v":{"v":0,"d":"0.0"}},{"$f":"'법정동(2014.12월말)'!I70-'법정동(2013년말)'!I71","v":{"v":0,"d":"0.0"}},{"$f":"'법정동(2014.12월말)'!J70-'법정동(2013년말)'!J71","v":{"v":0,"d":"0.0"}},{"$f":"'법정동(2014.12월말)'!K70-'법정동(2013년말)'!K71","v":{"v":0,"d":"0.0"}},{"$f":"'법정동(2014.12월말)'!L70-'법정동(2013년말)'!L71","v":{"v":-18431,"d":"-18,431.0"}},{"$f":"'법정동(2014.12월말)'!M70-'법정동(2013년말)'!M71","v":{"v":1,"d":"1.0"}},{"$f":"'법정동(2014.12월말)'!N70-'법정동(2013년말)'!N71","v":{"v":0,"d":"0.0"}},{"$f":"'법정동(2014.12월말)'!O70-'법정동(2013년말)'!O71","v":{"v":0,"d":"0.0"}},{"$f":"'법정동(2014.12월말)'!P70-'법정동(2013년말)'!P71","v":{"v":0,"d":"0.0"}},{"$f":"'법정동(2014.12월말)'!Q70-'법정동(2013년말)'!Q71","v":{"v":0,"d":"0.0"}},{"$f":"'법정동(2014.12월말)'!R70-'법정동(2013년말)'!R71","v":{"v":2246,"d":"2,246.0"}},{"$f":"'법정동(2014.12월말)'!S70-'법정동(2013년말)'!S71","v":{"v":3,"d":"3.0"}},{"$f":"'법정동(2014.12월말)'!T70-'법정동(2013년말)'!T71","v":{"v":0,"d":"0.0"}},{"$f":"'법정동(2014.12월말)'!U70-'법정동(2013년말)'!U71","v":{"v":0,"d":"0.0"}},{"$f":"'법정동(2014.12월말)'!V70-'법정동(2013년말)'!V71","v":{"v":0,"d":"0.0"}},{"$f":"'법정동(2014.12월말)'!W70-'법정동(2013년말)'!W71","v":{"v":0,"d":"0.0"}},{"$f":"'법정동(2014.12월말)'!X70-'법정동(2013년말)'!X71","v":{"v":0,"d":"0.0"}},{"$f":"'법정동(2014.12월말)'!Y70-'법정동(2013년말)'!Y71","v":{"v":0,"d":"0.0"}},{"$f":"'법정동(2014.12월말)'!Z70-'법정동(2013년말)'!Z71","v":{"v":0,"d":"0.0"}},{"$f":"'법정동(2014.12월말)'!AA70-'법정동(2013년말)'!AA71","v":{"v":0,"d":"0.0"}},{"$f":"'법정동(2014.12월말)'!AB70-'법정동(2013년말)'!AB71","v":{"v":359,"d":"359.0"}},{"$f":"'법정동(2014.12월말)'!AC70-'법정동(2013년말)'!AC71","v":{"v":1,"d":"1.0"}},{"$f":"'법정동(2014.12월말)'!AD70-'법정동(2013년말)'!AD71","v":{"v":69272,"d":"69,272.0"}},{"$f":"'법정동(2014.12월말)'!AE70-'법정동(2013년말)'!AE71","v":{"v":10,"d":"10.0"}},{"$f":"'법정동(2014.12월말)'!AF70-'법정동(2013년말)'!AF71","v":{"v":0,"d":"0.0"}},{"$f":"'법정동(2014.12월말)'!AG70-'법정동(2013년말)'!AG71","v":{"v":0,"d":"0.0"}},{"$f":"'법정동(2014.12월말)'!AH70-'법정동(2013년말)'!AH71","v":{"v":0,"d":"0.0"}},{"$f":"'법정동(2014.12월말)'!AI70-'법정동(2013년말)'!AI71","v":{"v":0,"d":"0.0"}},{"$f":"'법정동(2014.12월말)'!AJ70-'법정동(2013년말)'!AJ71","v":{"v":0,"d":"0.0"}},{"$f":"'법정동(2014.12월말)'!AK70-'법정동(2013년말)'!AK71","v":{"v":0,"d":"0.0"}},{"$f":"'법정동(2014.12월말)'!AL70-'법정동(2013년말)'!AL71","v":{"v":0,"d":"0.0"}},{"$f":"'법정동(2014.12월말)'!AM70-'법정동(2013년말)'!AM71","v":{"v":0,"d":"0.0"}},{"$f":"'법정동(2014.12월말)'!AN70-'법정동(2013년말)'!AN71","v":{"v":0,"d":"0.0"}},{"$f":"'법정동(2014.12월말)'!AO70-'법정동(2013년말)'!AO71","v":{"v":0,"d":"0.0"}},{"$f":"'법정동(2014.12월말)'!AP70-'법정동(2013년말)'!AP71","v":{"v":0,"d":"0.0"}},{"$f":"'법정동(2014.12월말)'!AQ70-'법정동(2013년말)'!AQ71","v":{"v":0,"d":"0.0"}},{"$f":"'법정동(2014.12월말)'!AR70-'법정동(2013년말)'!AR71","v":{"v":0,"d":"0.0"}},{"$f":"'법정동(2014.12월말)'!AS70-'법정동(2013년말)'!AS71","v":{"v":0,"d":"0.0"}},{"$f":"'법정동(2014.12월말)'!AT70-'법정동(2013년말)'!AT71","v":{"v":0,"d":"0.0"}},{"$f":"'법정동(2014.12월말)'!AU70-'법정동(2013년말)'!AU71","v":{"v":0,"d":"0.0"}},{"$f":"'법정동(2014.12월말)'!AV70-'법정동(2013년말)'!AV71","v":{"v":0,"d":"0.0"}},{"$f":"'법정동(2014.12월말)'!AW70-'법정동(2013년말)'!AW71","v":{"v":0,"d":"0.0"}},{"$f":"'법정동(2014.12월말)'!AX70-'법정동(2013년말)'!AX71","v":{"v":0,"d":"0.0"}},{"$f":"'법정동(2014.12월말)'!AY70-'법정동(2013년말)'!AY71","v":{"v":0,"d":"0.0"}},{"$f":"'법정동(2014.12월말)'!AZ70-'법정동(2013년말)'!AZ71","v":{"v":0,"d":"0.0"}},{"$f":"'법정동(2014.12월말)'!BA70-'법정동(2013년말)'!BA71","v":{"v":0,"d":"0.0"}},{"$f":"'법정동(2014.12월말)'!BB70-'법정동(2013년말)'!BB71","v":{"v":0,"d":"0.0"}},{"$f":"'법정동(2014.12월말)'!BC70-'법정동(2013년말)'!BC71","v":{"v":0,"d":"0.0"}},{"$f":"'법정동(2014.12월말)'!BD70-'법정동(2013년말)'!BD71","v":{"v":-264,"d":"-264.0"}},{"$f":"'법정동(2014.12월말)'!BE70-'법정동(2013년말)'!BE71","v":{"v":-1,"d":"-1.0"}},{"$f":"'법정동(2014.12월말)'!BF70-'법정동(2013년말)'!BF71","v":{"v":-63,"d":"-63.0"}},{"$f":"'법정동(2014.12월말)'!BG70-'법정동(2013년말)'!BG71","v":{"v":1,"d":"1.0"}}]
["소라면 현천리",{"$f":"'법정동(2014.12월말)'!B71-'법정동(2013년말)'!B72","v":{"v":365.9999999990687,"d":"366.0"}},{"$f":"'법정동(2014.12월말)'!C71-'법정동(2013년말)'!C72","v":{"v":16,"d":"16.0"}},{"$f":"'법정동(2014.12월말)'!D71-'법정동(2013년말)'!D72","v":{"v":-2308,"d":"-2,308.0"}},{"$f":"'법정동(2014.12월말)'!E71-'법정동(2013년말)'!E72","v":{"v":-1,"d":"-1.0"}},{"$f":"'법정동(2014.12월말)'!F71-'법정동(2013년말)'!F72","v":{"v":-5217,"d":"-5,217.0"}},{"$f":"'법정동(2014.12월말)'!G71-'법정동(2013년말)'!G72","v":{"v":-3,"d":"-3.0"}},{"$f":"'법정동(2014.12월말)'!H71-'법정동(2013년말)'!H72","v":{"v":0,"d":"0.0"}},{"$f":"'법정동(2014.12월말)'!I71-'법정동(2013년말)'!I72","v":{"v":0,"d":"0.0"}},{"$f":"'법정동(2014.12월말)'!J71-'법정동(2013년말)'!J72","v":{"v":0,"d":"0.0"}},{"$f":"'법정동(2014.12월말)'!K71-'법정동(2013년말)'!K72","v":{"v":0,"d":"0.0"}},{"$f":"'법정동(2014.12월말)'!L71-'법정동(2013년말)'!L72","v":{"v":-7129,"d":"-7,129.0"}},{"$f":"'법정동(2014.12월말)'!M71-'법정동(2013년말)'!M72","v":{"v":-8,"d":"-8.0"}},{"$f":"'법정동(2014.12월말)'!N71-'법정동(2013년말)'!N72","v":{"v":0,"d":"0.0"}},{"$f":"'법정동(2014.12월말)'!O71-'법정동(2013년말)'!O72","v":{"v":0,"d":"0.0"}},{"$f":"'법정동(2014.12월말)'!P71-'법정동(2013년말)'!P72","v":{"v":0,"d":"0.0"}},{"$f":"'법정동(2014.12월말)'!Q71-'법정동(2013년말)'!Q72","v":{"v":0,"d":"0.0"}},{"$f":"'법정동(2014.12월말)'!R71-'법정동(2013년말)'!R72","v":{"v":12670,"d":"12,670.0"}},{"$f":"'법정동(2014.12월말)'!S71-'법정동(2013년말)'!S72","v":{"v":19,"d":"19.0"}},{"$f":"'법정동(2014.12월말)'!T71-'법정동(2013년말)'!T72","v":{"v":0,"d":"0.0"}},{"$f":"'법정동(2014.12월말)'!U71-'법정동(2013년말)'!U72","v":{"v":0,"d":"0.0"}},{"$f":"'법정동(2014.12월말)'!V71-'법정동(2013년말)'!V72","v":{"v":0,"d":"0.0"}},{"$f":"'법정동(2014.12월말)'!W71-'법정동(2013년말)'!W72","v":{"v":0,"d":"0.0"}},{"$f":"'법정동(2014.12월말)'!X71-'법정동(2013년말)'!X72","v":{"v":0,"d":"0.0"}},{"$f":"'법정동(2014.12월말)'!Y71-'법정동(2013년말)'!Y72","v":{"v":0,"d":"0.0"}},{"$f":"'법정동(2014.12월말)'!Z71-'법정동(2013년말)'!Z72","v":{"v":0,"d":"0.0"}},{"$f":"'법정동(2014.12월말)'!AA71-'법정동(2013년말)'!AA72","v":{"v":0,"d":"0.0"}},{"$f":"'법정동(2014.12월말)'!AB71-'법정동(2013년말)'!AB72","v":{"v":0,"d":"0.0"}},{"$f":"'법정동(2014.12월말)'!AC71-'법정동(2013년말)'!AC72","v":{"v":0,"d":"0.0"}},{"$f":"'법정동(2014.12월말)'!AD71-'법정동(2013년말)'!AD72","v":{"v":2251,"d":"2,251.0"}},{"$f":"'법정동(2014.12월말)'!AE71-'법정동(2013년말)'!AE72","v":{"v":8,"d":"8.0"}},{"$f":"'법정동(2014.12월말)'!AF71-'법정동(2013년말)'!AF72","v":{"v":0,"d":"0.0"}},{"$f":"'법정동(2014.12월말)'!AG71-'법정동(2013년말)'!AG72","v":{"v":0,"d":"0.0"}},{"$f":"'법정동(2014.12월말)'!AH71-'법정동(2013년말)'!AH72","v":{"v":0,"d":"0.0"}},{"$f":"'법정동(2014.12월말)'!AI71-'법정동(2013년말)'!AI72","v":{"v":0,"d":"0.0"}},{"$f":"'법정동(2014.12월말)'!AJ71-'법정동(2013년말)'!AJ72","v":{"v":0,"d":"0.0"}},{"$f":"'법정동(2014.12월말)'!AK71-'법정동(2013년말)'!AK72","v":{"v":0,"d":"0.0"}},{"$f":"'법정동(2014.12월말)'!AL71-'법정동(2013년말)'!AL72","v":{"v":0,"d":"0.0"}},{"$f":"'법정동(2014.12월말)'!AM71-'법정동(2013년말)'!AM72","v":{"v":0,"d":"0.0"}},{"$f":"'법정동(2014.12월말)'!AN71-'법정동(2013년말)'!AN72","v":{"v":0,"d":"0.0"}},{"$f":"'법정동(2014.12월말)'!AO71-'법정동(2013년말)'!AO72","v":{"v":0,"d":"0.0"}},{"$f":"'법정동(2014.12월말)'!AP71-'법정동(2013년말)'!AP72","v":{"v":0,"d":"0.0"}},{"$f":"'법정동(2014.12월말)'!AQ71-'법정동(2013년말)'!AQ72","v":{"v":0,"d":"0.0"}},{"$f":"'법정동(2014.12월말)'!AR71-'법정동(2013년말)'!AR72","v":{"v":0,"d":"0.0"}},{"$f":"'법정동(2014.12월말)'!AS71-'법정동(2013년말)'!AS72","v":{"v":0,"d":"0.0"}},{"$f":"'법정동(2014.12월말)'!AT71-'법정동(2013년말)'!AT72","v":{"v":0,"d":"0.0"}},{"$f":"'법정동(2014.12월말)'!AU71-'법정동(2013년말)'!AU72","v":{"v":0,"d":"0.0"}},{"$f":"'법정동(2014.12월말)'!AV71-'법정동(2013년말)'!AV72","v":{"v":0,"d":"0.0"}},{"$f":"'법정동(2014.12월말)'!AW71-'법정동(2013년말)'!AW72","v":{"v":0,"d":"0.0"}},{"$f":"'법정동(2014.12월말)'!AX71-'법정동(2013년말)'!AX72","v":{"v":0,"d":"0.0"}},{"$f":"'법정동(2014.12월말)'!AY71-'법정동(2013년말)'!AY72","v":{"v":0,"d":"0.0"}},{"$f":"'법정동(2014.12월말)'!AZ71-'법정동(2013년말)'!AZ72","v":{"v":0,"d":"0.0"}},{"$f":"'법정동(2014.12월말)'!BA71-'법정동(2013년말)'!BA72","v":{"v":0,"d":"0.0"}},{"$f":"'법정동(2014.12월말)'!BB71-'법정동(2013년말)'!BB72","v":{"v":0,"d":"0.0"}},{"$f":"'법정동(2014.12월말)'!BC71-'법정동(2013년말)'!BC72","v":{"v":0,"d":"0.0"}},{"$f":"'법정동(2014.12월말)'!BD71-'법정동(2013년말)'!BD72","v":{"v":99,"d":"99.0"}},{"$f":"'법정동(2014.12월말)'!BE71-'법정동(2013년말)'!BE72","v":{"v":1,"d":"1.0"}},{"$f":"'법정동(2014.12월말)'!BF71-'법정동(2013년말)'!BF72","v":{"v":0,"d":"0.0"}},{"$f":"'법정동(2014.12월말)'!BG71-'법정동(2013년말)'!BG72","v":{"v":0,"d":"0.0"}}]
["소라면 복산리",{"$f":"'법정동(2014.12월말)'!B72-'법정동(2013년말)'!B73","v":{"v":202,"d":"202.0"}},{"$f":"'법정동(2014.12월말)'!C72-'법정동(2013년말)'!C73","v":{"v":-10,"d":"-10.0"}},{"$f":"'법정동(2014.12월말)'!D72-'법정동(2013년말)'!D73","v":{"v":-2283,"d":"-2,283.0"}},{"$f":"'법정동(2014.12월말)'!E72-'법정동(2013년말)'!E73","v":{"v":-7,"d":"-7.0"}},{"$f":"'법정동(2014.12월말)'!F72-'법정동(2013년말)'!F73","v":{"v":-1104,"d":"-1,104.0"}},{"$f":"'법정동(2014.12월말)'!G72-'법정동(2013년말)'!G73","v":{"v":-8,"d":"-8.0"}},{"$f":"'법정동(2014.12월말)'!H72-'법정동(2013년말)'!H73","v":{"v":0,"d":"0.0"}},{"$f":"'법정동(2014.12월말)'!I72-'법정동(2013년말)'!I73","v":{"v":0,"d":"0.0"}},{"$f":"'법정동(2014.12월말)'!J72-'법정동(2013년말)'!J73","v":{"v":0,"d":"0.0"}},{"$f":"'법정동(2014.12월말)'!K72-'법정동(2013년말)'!K73","v":{"v":0,"d":"0.0"}},{"$f":"'법정동(2014.12월말)'!L72-'법정동(2013년말)'!L73","v":{"v":-8060,"d":"-8,060.0"}},{"$f":"'법정동(2014.12월말)'!M72-'법정동(2013년말)'!M73","v":{"v":0,"d":"0.0"}},{"$f":"'법정동(2014.12월말)'!N72-'법정동(2013년말)'!N73","v":{"v":0,"d":"0.0"}},{"$f":"'법정동(2014.12월말)'!O72-'법정동(2013년말)'!O73","v":{"v":0,"d":"0.0"}},{"$f":"'법정동(2014.12월말)'!P72-'법정동(2013년말)'!P73","v":{"v":0,"d":"0.0"}},{"$f":"'법정동(2014.12월말)'!Q72-'법정동(2013년말)'!Q73","v":{"v":0,"d":"0.0"}},{"$f":"'법정동(2014.12월말)'!R72-'법정동(2013년말)'!R73","v":{"v":3834,"d":"3,834.0"}},{"$f":"'법정동(2014.12월말)'!S72-'법정동(2013년말)'!S73","v":{"v":8,"d":"8.0"}},{"$f":"'법정동(2014.12월말)'!T72-'법정동(2013년말)'!T73","v":{"v":6191,"d":"6,191.0"}},{"$f":"'법정동(2014.12월말)'!U72-'법정동(2013년말)'!U73","v":{"v":1,"d":"1.0"}},{"$f":"'법정동(2014.12월말)'!V72-'법정동(2013년말)'!V73","v":{"v":0,"d":"0.0"}},{"$f":"'법정동(2014.12월말)'!W72-'법정동(2013년말)'!W73","v":{"v":0,"d":"0.0"}},{"$f":"'법정동(2014.12월말)'!X72-'법정동(2013년말)'!X73","v":{"v":0,"d":"0.0"}},{"$f":"'법정동(2014.12월말)'!Y72-'법정동(2013년말)'!Y73","v":{"v":0,"d":"0.0"}},{"$f":"'법정동(2014.12월말)'!Z72-'법정동(2013년말)'!Z73","v":{"v":0,"d":"0.0"}},{"$f":"'법정동(2014.12월말)'!AA72-'법정동(2013년말)'!AA73","v":{"v":0,"d":"0.0"}},{"$f":"'법정동(2014.12월말)'!AB72-'법정동(2013년말)'!AB73","v":{"v":0,"d":"0.0"}},{"$f":"'법정동(2014.12월말)'!AC72-'법정동(2013년말)'!AC73","v":{"v":0,"d":"0.0"}},{"$f":"'법정동(2014.12월말)'!AD72-'법정동(2013년말)'!AD73","v":{"v":2425,"d":"2,425.0"}},{"$f":"'법정동(2014.12월말)'!AE72-'법정동(2013년말)'!AE73","v":{"v":-4,"d":"-4.0"}},{"$f":"'법정동(2014.12월말)'!AF72-'법정동(2013년말)'!AF73","v":{"v":0,"d":"0.0"}},{"$f":"'법정동(2014.12월말)'!AG72-'법정동(2013년말)'!AG73","v":{"v":0,"d":"0.0"}},{"$f":"'법정동(2014.12월말)'!AH72-'법정동(2013년말)'!AH73","v":{"v":0,"d":"0.0"}},{"$f":"'법정동(2014.12월말)'!AI72-'법정동(2013년말)'!AI73","v":{"v":0,"d":"0.0"}},{"$f":"'법정동(2014.12월말)'!AJ72-'법정동(2013년말)'!AJ73","v":{"v":0,"d":"0.0"}},{"$f":"'법정동(2014.12월말)'!AK72-'법정동(2013년말)'!AK73","v":{"v":0,"d":"0.0"}},{"$f":"'법정동(2014.12월말)'!AL72-'법정동(2013년말)'!AL73","v":{"v":0,"d":"0.0"}},{"$f":"'법정동(2014.12월말)'!AM72-'법정동(2013년말)'!AM73","v":{"v":0,"d":"0.0"}},{"$f":"'법정동(2014.12월말)'!AN72-'법정동(2013년말)'!AN73","v":{"v":0,"d":"0.0"}},{"$f":"'법정동(2014.12월말)'!AO72-'법정동(2013년말)'!AO73","v":{"v":0,"d":"0.0"}},{"$f":"'법정동(2014.12월말)'!AP72-'법정동(2013년말)'!AP73","v":{"v":0,"d":"0.0"}},{"$f":"'법정동(2014.12월말)'!AQ72-'법정동(2013년말)'!AQ73","v":{"v":0,"d":"0.0"}},{"$f":"'법정동(2014.12월말)'!AR72-'법정동(2013년말)'!AR73","v":{"v":0,"d":"0.0"}},{"$f":"'법정동(2014.12월말)'!AS72-'법정동(2013년말)'!AS73","v":{"v":0,"d":"0.0"}},{"$f":"'법정동(2014.12월말)'!AT72-'법정동(2013년말)'!AT73","v":{"v":0,"d":"0.0"}},{"$f":"'법정동(2014.12월말)'!AU72-'법정동(2013년말)'!AU73","v":{"v":0,"d":"0.0"}},{"$f":"'법정동(2014.12월말)'!AV72-'법정동(2013년말)'!AV73","v":{"v":0,"d":"0.0"}},{"$f":"'법정동(2014.12월말)'!AW72-'법정동(2013년말)'!AW73","v":{"v":0,"d":"0.0"}},{"$f":"'법정동(2014.12월말)'!AX72-'법정동(2013년말)'!AX73","v":{"v":0,"d":"0.0"}},{"$f":"'법정동(2014.12월말)'!AY72-'법정동(2013년말)'!AY73","v":{"v":0,"d":"0.0"}},{"$f":"'법정동(2014.12월말)'!AZ72-'법정동(2013년말)'!AZ73","v":{"v":0,"d":"0.0"}},{"$f":"'법정동(2014.12월말)'!BA72-'법정동(2013년말)'!BA73","v":{"v":0,"d":"0.0"}},{"$f":"'법정동(2014.12월말)'!BB72-'법정동(2013년말)'!BB73","v":{"v":0,"d":"0.0"}},{"$f":"'법정동(2014.12월말)'!BC72-'법정동(2013년말)'!BC73","v":{"v":0,"d":"0.0"}},{"$f":"'법정동(2014.12월말)'!BD72-'법정동(2013년말)'!BD73","v":{"v":0,"d":"0.0"}},{"$f":"'법정동(2014.12월말)'!BE72-'법정동(2013년말)'!BE73","v":{"v":0,"d":"0.0"}},{"$f":"'법정동(2014.12월말)'!BF72-'법정동(2013년말)'!BF73","v":{"v":-801,"d":"-801.0"}},{"$f":"'법정동(2014.12월말)'!BG72-'법정동(2013년말)'!BG73","v":{"v":0,"d":"0.0"}}]
["소라면 사곡리",{"$f":"'법정동(2014.12월말)'!B73-'법정동(2013년말)'!B74","v":{"v":-500,"d":"-500.0"}},{"$f":"'법정동(2014.12월말)'!C73-'법정동(2013년말)'!C74","v":{"v":4,"d":"4.0"}},{"$f":"'법정동(2014.12월말)'!D73-'법정동(2013년말)'!D74","v":{"v":-8106,"d":"-8,106.0"}},{"$f":"'법정동(2014.12월말)'!E73-'법정동(2013년말)'!E74","v":{"v":-9,"d":"-9.0"}},{"$f":"'법정동(2014.12월말)'!F73-'법정동(2013년말)'!F74","v":{"v":-142,"d":"-142.0"}},{"$f":"'법정동(2014.12월말)'!G73-'법정동(2013년말)'!G74","v":{"v":-1,"d":"-1.0"}},{"$f":"'법정동(2014.12월말)'!H73-'법정동(2013년말)'!H74","v":{"v":0,"d":"0.0"}},{"$f":"'법정동(2014.12월말)'!I73-'법정동(2013년말)'!I74","v":{"v":0,"d":"0.0"}},{"$f":"'법정동(2014.12월말)'!J73-'법정동(2013년말)'!J74","v":{"v":0,"d":"0.0"}},{"$f":"'법정동(2014.12월말)'!K73-'법정동(2013년말)'!K74","v":{"v":0,"d":"0.0"}},{"$f":"'법정동(2014.12월말)'!L73-'법정동(2013년말)'!L74","v":{"v":-367,"d":"-367.0"}},{"$f":"'법정동(2014.12월말)'!M73-'법정동(2013년말)'!M74","v":{"v":0,"d":"0.0"}},{"$f":"'법정동(2014.12월말)'!N73-'법정동(2013년말)'!N74","v":{"v":0,"d":"0.0"}},{"$f":"'법정동(2014.12월말)'!O73-'법정동(2013년말)'!O74","v":{"v":0,"d":"0.0"}},{"$f":"'법정동(2014.12월말)'!P73-'법정동(2013년말)'!P74","v":{"v":0,"d":"0.0"}},{"$f":"'법정동(2014.12월말)'!Q73-'법정동(2013년말)'!Q74","v":{"v":0,"d":"0.0"}},{"$f":"'법정동(2014.12월말)'!R73-'법정동(2013년말)'!R74","v":{"v":6050,"d":"6,050.0"}},{"$f":"'법정동(2014.12월말)'!S73-'법정동(2013년말)'!S74","v":{"v":6,"d":"6.0"}},{"$f":"'법정동(2014.12월말)'!T73-'법정동(2013년말)'!T74","v":{"v":0,"d":"0.0"}},{"$f":"'법정동(2014.12월말)'!U73-'법정동(2013년말)'!U74","v":{"v":0,"d":"0.0"}},{"$f":"'법정동(2014.12월말)'!V73-'법정동(2013년말)'!V74","v":{"v":0,"d":"0.0"}},{"$f":"'법정동(2014.12월말)'!W73-'법정동(2013년말)'!W74","v":{"v":0,"d":"0.0"}},{"$f":"'법정동(2014.12월말)'!X73-'법정동(2013년말)'!X74","v":{"v":1068,"d":"1,068.0"}},{"$f":"'법정동(2014.12월말)'!Y73-'법정동(2013년말)'!Y74","v":{"v":1,"d":"1.0"}},{"$f":"'법정동(2014.12월말)'!Z73-'법정동(2013년말)'!Z74","v":{"v":0,"d":"0.0"}},{"$f":"'법정동(2014.12월말)'!AA73-'법정동(2013년말)'!AA74","v":{"v":0,"d":"0.0"}},{"$f":"'법정동(2014.12월말)'!AB73-'법정동(2013년말)'!AB74","v":{"v":0,"d":"0.0"}},{"$f":"'법정동(2014.12월말)'!AC73-'법정동(2013년말)'!AC74","v":{"v":0,"d":"0.0"}},{"$f":"'법정동(2014.12월말)'!AD73-'법정동(2013년말)'!AD74","v":{"v":997,"d":"997.0"}},{"$f":"'법정동(2014.12월말)'!AE73-'법정동(2013년말)'!AE74","v":{"v":7,"d":"7.0"}},{"$f":"'법정동(2014.12월말)'!AF73-'법정동(2013년말)'!AF74","v":{"v":0,"d":"0.0"}},{"$f":"'법정동(2014.12월말)'!AG73-'법정동(2013년말)'!AG74","v":{"v":0,"d":"0.0"}},{"$f":"'법정동(2014.12월말)'!AH73-'법정동(2013년말)'!AH74","v":{"v":0,"d":"0.0"}},{"$f":"'법정동(2014.12월말)'!AI73-'법정동(2013년말)'!AI74","v":{"v":0,"d":"0.0"}},{"$f":"'법정동(2014.12월말)'!AJ73-'법정동(2013년말)'!AJ74","v":{"v":0,"d":"0.0"}},{"$f":"'법정동(2014.12월말)'!AK73-'법정동(2013년말)'!AK74","v":{"v":0,"d":"0.0"}},{"$f":"'법정동(2014.12월말)'!AL73-'법정동(2013년말)'!AL74","v":{"v":0,"d":"0.0"}},{"$f":"'법정동(2014.12월말)'!AM73-'법정동(2013년말)'!AM74","v":{"v":0,"d":"0.0"}},{"$f":"'법정동(2014.12월말)'!AN73-'법정동(2013년말)'!AN74","v":{"v":0,"d":"0.0"}},{"$f":"'법정동(2014.12월말)'!AO73-'법정동(2013년말)'!AO74","v":{"v":0,"d":"0.0"}},{"$f":"'법정동(2014.12월말)'!AP73-'법정동(2013년말)'!AP74","v":{"v":0,"d":"0.0"}},{"$f":"'법정동(2014.12월말)'!AQ73-'법정동(2013년말)'!AQ74","v":{"v":0,"d":"0.0"}},{"$f":"'법정동(2014.12월말)'!AR73-'법정동(2013년말)'!AR74","v":{"v":0,"d":"0.0"}},{"$f":"'법정동(2014.12월말)'!AS73-'법정동(2013년말)'!AS74","v":{"v":0,"d":"0.0"}},{"$f":"'법정동(2014.12월말)'!AT73-'법정동(2013년말)'!AT74","v":{"v":0,"d":"0.0"}},{"$f":"'법정동(2014.12월말)'!AU73-'법정동(2013년말)'!AU74","v":{"v":0,"d":"0.0"}},{"$f":"'법정동(2014.12월말)'!AV73-'법정동(2013년말)'!AV74","v":{"v":0,"d":"0.0"}},{"$f":"'법정동(2014.12월말)'!AW73-'법정동(2013년말)'!AW74","v":{"v":0,"d":"0.0"}},{"$f":"'법정동(2014.12월말)'!AX73-'법정동(2013년말)'!AX74","v":{"v":0,"d":"0.0"}},{"$f":"'법정동(2014.12월말)'!AY73-'법정동(2013년말)'!AY74","v":{"v":0,"d":"0.0"}},{"$f":"'법정동(2014.12월말)'!AZ73-'법정동(2013년말)'!AZ74","v":{"v":0,"d":"0.0"}},{"$f":"'법정동(2014.12월말)'!BA73-'법정동(2013년말)'!BA74","v":{"v":0,"d":"0.0"}},{"$f":"'법정동(2014.12월말)'!BB73-'법정동(2013년말)'!BB74","v":{"v":0,"d":"0.0"}},{"$f":"'법정동(2014.12월말)'!BC73-'법정동(2013년말)'!BC74","v":{"v":0,"d":"0.0"}},{"$f":"'법정동(2014.12월말)'!BD73-'법정동(2013년말)'!BD74","v":{"v":0,"d":"0.0"}},{"$f":"'법정동(2014.12월말)'!BE73-'법정동(2013년말)'!BE74","v":{"v":0,"d":"0.0"}},{"$f":"'법정동(2014.12월말)'!BF73-'법정동(2013년말)'!BF74","v":{"v":0,"d":"0.0"}},{"$f":"'법정동(2014.12월말)'!BG73-'법정동(2013년말)'!BG74","v":{"v":0,"d":"0.0"}}]
["소라면 봉두리",{"$f":"'법정동(2014.12월말)'!B74-'법정동(2013년말)'!B75","v":{"v":-162,"d":"-162.0"}},{"$f":"'법정동(2014.12월말)'!C74-'법정동(2013년말)'!C75","v":{"v":14,"d":"14.0"}},{"$f":"'법정동(2014.12월말)'!D74-'법정동(2013년말)'!D75","v":{"v":-542,"d":"-542.0"}},{"$f":"'법정동(2014.12월말)'!E74-'법정동(2013년말)'!E75","v":{"v":-1,"d":"-1.0"}},{"$f":"'법정동(2014.12월말)'!F74-'법정동(2013년말)'!F75","v":{"v":-1892,"d":"-1,892.0"}},{"$f":"'법정동(2014.12월말)'!G74-'법정동(2013년말)'!G75","v":{"v":-2,"d":"-2.0"}},{"$f":"'법정동(2014.12월말)'!H74-'법정동(2013년말)'!H75","v":{"v":0,"d":"0.0"}},{"$f":"'법정동(2014.12월말)'!I74-'법정동(2013년말)'!I75","v":{"v":0,"d":"0.0"}},{"$f":"'법정동(2014.12월말)'!J74-'법정동(2013년말)'!J75","v":{"v":0,"d":"0.0"}},{"$f":"'법정동(2014.12월말)'!K74-'법정동(2013년말)'!K75","v":{"v":0,"d":"0.0"}},{"$f":"'법정동(2014.12월말)'!L74-'법정동(2013년말)'!L75","v":{"v":-1819,"d":"-1,819.0"}},{"$f":"'법정동(2014.12월말)'!M74-'법정동(2013년말)'!M75","v":{"v":0,"d":"0.0"}},{"$f":"'법정동(2014.12월말)'!N74-'법정동(2013년말)'!N75","v":{"v":0,"d":"0.0"}},{"$f":"'법정동(2014.12월말)'!O74-'법정동(2013년말)'!O75","v":{"v":0,"d":"0.0"}},{"$f":"'법정동(2014.12월말)'!P74-'법정동(2013년말)'!P75","v":{"v":0,"d":"0.0"}},{"$f":"'법정동(2014.12월말)'!Q74-'법정동(2013년말)'!Q75","v":{"v":0,"d":"0.0"}},{"$f":"'법정동(2014.12월말)'!R74-'법정동(2013년말)'!R75","v":{"v":5257,"d":"5,257.0"}},{"$f":"'법정동(2014.12월말)'!S74-'법정동(2013년말)'!S75","v":{"v":10,"d":"10.0"}},{"$f":"'법정동(2014.12월말)'!T74-'법정동(2013년말)'!T75","v":{"v":0,"d":"0.0"}},{"$f":"'법정동(2014.12월말)'!U74-'법정동(2013년말)'!U75","v":{"v":0,"d":"0.0"}},{"$f":"'법정동(2014.12월말)'!V74-'법정동(2013년말)'!V75","v":{"v":0,"d":"0.0"}},{"$f":"'법정동(2014.12월말)'!W74-'법정동(2013년말)'!W75","v":{"v":0,"d":"0.0"}},{"$f":"'법정동(2014.12월말)'!X74-'법정동(2013년말)'!X75","v":{"v":675,"d":"675.0"}},{"$f":"'법정동(2014.12월말)'!Y74-'법정동(2013년말)'!Y75","v":{"v":1,"d":"1.0"}},{"$f":"'법정동(2014.12월말)'!Z74-'법정동(2013년말)'!Z75","v":{"v":0,"d":"0.0"}},{"$f":"'법정동(2014.12월말)'!AA74-'법정동(2013년말)'!AA75","v":{"v":0,"d":"0.0"}},{"$f":"'법정동(2014.12월말)'!AB74-'법정동(2013년말)'!AB75","v":{"v":0,"d":"0.0"}},{"$f":"'법정동(2014.12월말)'!AC74-'법정동(2013년말)'!AC75","v":{"v":0,"d":"0.0"}},{"$f":"'법정동(2014.12월말)'!AD74-'법정동(2013년말)'!AD75","v":{"v":440,"d":"440.0"}},{"$f":"'법정동(2014.12월말)'!AE74-'법정동(2013년말)'!AE75","v":{"v":7,"d":"7.0"}},{"$f":"'법정동(2014.12월말)'!AF74-'법정동(2013년말)'!AF75","v":{"v":0,"d":"0.0"}},{"$f":"'법정동(2014.12월말)'!AG74-'법정동(2013년말)'!AG75","v":{"v":0,"d":"0.0"}},{"$f":"'법정동(2014.12월말)'!AH74-'법정동(2013년말)'!AH75","v":{"v":0,"d":"0.0"}},{"$f":"'법정동(2014.12월말)'!AI74-'법정동(2013년말)'!AI75","v":{"v":0,"d":"0.0"}},{"$f":"'법정동(2014.12월말)'!AJ74-'법정동(2013년말)'!AJ75","v":{"v":0,"d":"0.0"}},{"$f":"'법정동(2014.12월말)'!AK74-'법정동(2013년말)'!AK75","v":{"v":0,"d":"0.0"}},{"$f":"'법정동(2014.12월말)'!AL74-'법정동(2013년말)'!AL75","v":{"v":0,"d":"0.0"}},{"$f":"'법정동(2014.12월말)'!AM74-'법정동(2013년말)'!AM75","v":{"v":0,"d":"0.0"}},{"$f":"'법정동(2014.12월말)'!AN74-'법정동(2013년말)'!AN75","v":{"v":0,"d":"0.0"}},{"$f":"'법정동(2014.12월말)'!AO74-'법정동(2013년말)'!AO75","v":{"v":0,"d":"0.0"}},{"$f":"'법정동(2014.12월말)'!AP74-'법정동(2013년말)'!AP75","v":{"v":0,"d":"0.0"}},{"$f":"'법정동(2014.12월말)'!AQ74-'법정동(2013년말)'!AQ75","v":{"v":0,"d":"0.0"}},{"$f":"'법정동(2014.12월말)'!AR74-'법정동(2013년말)'!AR75","v":{"v":0,"d":"0.0"}},{"$f":"'법정동(2014.12월말)'!AS74-'법정동(2013년말)'!AS75","v":{"v":0,"d":"0.0"}},{"$f":"'법정동(2014.12월말)'!AT74-'법정동(2013년말)'!AT75","v":{"v":0,"d":"0.0"}},{"$f":"'법정동(2014.12월말)'!AU74-'법정동(2013년말)'!AU75","v":{"v":0,"d":"0.0"}},{"$f":"'법정동(2014.12월말)'!AV74-'법정동(2013년말)'!AV75","v":{"v":0,"d":"0.0"}},{"$f":"'법정동(2014.12월말)'!AW74-'법정동(2013년말)'!AW75","v":{"v":0,"d":"0.0"}},{"$f":"'법정동(2014.12월말)'!AX74-'법정동(2013년말)'!AX75","v":{"v":0,"d":"0.0"}},{"$f":"'법정동(2014.12월말)'!AY74-'법정동(2013년말)'!AY75","v":{"v":0,"d":"0.0"}},{"$f":"'법정동(2014.12월말)'!AZ74-'법정동(2013년말)'!AZ75","v":{"v":0,"d":"0.0"}},{"$f":"'법정동(2014.12월말)'!BA74-'법정동(2013년말)'!BA75","v":{"v":0,"d":"0.0"}},{"$f":"'법정동(2014.12월말)'!BB74-'법정동(2013년말)'!BB75","v":{"v":0,"d":"0.0"}},{"$f":"'법정동(2014.12월말)'!BC74-'법정동(2013년말)'!BC75","v":{"v":0,"d":"0.0"}},{"$f":"'법정동(2014.12월말)'!BD74-'법정동(2013년말)'!BD75","v":{"v":0,"d":"0.0"}},{"$f":"'법정동(2014.12월말)'!BE74-'법정동(2013년말)'!BE75","v":{"v":0,"d":"0.0"}},{"$f":"'법정동(2014.12월말)'!BF74-'법정동(2013년말)'!BF75","v":{"v":-2281,"d":"-2,281.0"}},{"$f":"'법정동(2014.12월말)'!BG74-'법정동(2013년말)'!BG75","v":{"v":-1,"d":"-1.0"}}]
["소라면 대포리",{"$f":"'법정동(2014.12월말)'!B75-'법정동(2013년말)'!B76","v":{"v":2333.9999999981374,"d":"2,334.0"}},{"$f":"'법정동(2014.12월말)'!C75-'법정동(2013년말)'!C76","v":{"v":10,"d":"10.0"}},{"$f":"'법정동(2014.12월말)'!D75-'법정동(2013년말)'!D76","v":{"v":-5135,"d":"-5,135.0"}},{"$f":"'법정동(2014.12월말)'!E75-'법정동(2013년말)'!E76","v":{"v":-10,"d":"-10.0"}},{"$f":"'법정동(2014.12월말)'!F75-'법정동(2013년말)'!F76","v":{"v":-3297,"d":"-3,297.0"}},{"$f":"'법정동(2014.12월말)'!G75-'법정동(2013년말)'!G76","v":{"v":-8,"d":"-8.0"}},{"$f":"'법정동(2014.12월말)'!H75-'법정동(2013년말)'!H76","v":{"v":0,"d":"0.0"}},{"$f":"'법정동(2014.12월말)'!I75-'법정동(2013년말)'!I76","v":{"v":0,"d":"0.0"}},{"$f":"'법정동(2014.12월말)'!J75-'법정동(2013년말)'!J76","v":{"v":0,"d":"0.0"}},{"$f":"'법정동(2014.12월말)'!K75-'법정동(2013년말)'!K76","v":{"v":0,"d":"0.0"}},{"$f":"'법정동(2014.12월말)'!L75-'법정동(2013년말)'!L76","v":{"v":-7031,"d":"-7,031.0"}},{"$f":"'법정동(2014.12월말)'!M75-'법정동(2013년말)'!M76","v":{"v":0,"d":"0.0"}},{"$f":"'법정동(2014.12월말)'!N75-'법정동(2013년말)'!N76","v":{"v":0,"d":"0.0"}},{"$f":"'법정동(2014.12월말)'!O75-'법정동(2013년말)'!O76","v":{"v":0,"d":"0.0"}},{"$f":"'법정동(2014.12월말)'!P75-'법정동(2013년말)'!P76","v":{"v":0,"d":"0.0"}},{"$f":"'법정동(2014.12월말)'!Q75-'법정동(2013년말)'!Q76","v":{"v":0,"d":"0.0"}},{"$f":"'법정동(2014.12월말)'!R75-'법정동(2013년말)'!R76","v":{"v":5347,"d":"5,347.0"}},{"$f":"'법정동(2014.12월말)'!S75-'법정동(2013년말)'!S76","v":{"v":11,"d":"11.0"}},{"$f":"'법정동(2014.12월말)'!T75-'법정동(2013년말)'!T76","v":{"v":706,"d":"706.0"}},{"$f":"'법정동(2014.12월말)'!U75-'법정동(2013년말)'!U76","v":{"v":1,"d":"1.0"}},{"$f":"'법정동(2014.12월말)'!V75-'법정동(2013년말)'!V76","v":{"v":0,"d":"0.0"}},{"$f":"'법정동(2014.12월말)'!W75-'법정동(2013년말)'!W76","v":{"v":0,"d":"0.0"}},{"$f":"'법정동(2014.12월말)'!X75-'법정동(2013년말)'!X76","v":{"v":7817,"d":"7,817.0"}},{"$f":"'법정동(2014.12월말)'!Y75-'법정동(2013년말)'!Y76","v":{"v":6,"d":"6.0"}},{"$f":"'법정동(2014.12월말)'!Z75-'법정동(2013년말)'!Z76","v":{"v":0,"d":"0.0"}},{"$f":"'법정동(2014.12월말)'!AA75-'법정동(2013년말)'!AA76","v":{"v":0,"d":"0.0"}},{"$f":"'법정동(2014.12월말)'!AB75-'법정동(2013년말)'!AB76","v":{"v":0,"d":"0.0"}},{"$f":"'법정동(2014.12월말)'!AC75-'법정동(2013년말)'!AC76","v":{"v":-3,"d":"-3.0"}},{"$f":"'법정동(2014.12월말)'!AD75-'법정동(2013년말)'!AD76","v":{"v":2431,"d":"2,431.0"}},{"$f":"'법정동(2014.12월말)'!AE75-'법정동(2013년말)'!AE76","v":{"v":9,"d":"9.0"}},{"$f":"'법정동(2014.12월말)'!AF75-'법정동(2013년말)'!AF76","v":{"v":0,"d":"0.0"}},{"$f":"'법정동(2014.12월말)'!AG75-'법정동(2013년말)'!AG76","v":{"v":0,"d":"0.0"}},{"$f":"'법정동(2014.12월말)'!AH75-'법정동(2013년말)'!AH76","v":{"v":0,"d":"0.0"}},{"$f":"'법정동(2014.12월말)'!AI75-'법정동(2013년말)'!AI76","v":{"v":0,"d":"0.0"}},{"$f":"'법정동(2014.12월말)'!AJ75-'법정동(2013년말)'!AJ76","v":{"v":-431,"d":"-431.0"}},{"$f":"'법정동(2014.12월말)'!AK75-'법정동(2013년말)'!AK76","v":{"v":0,"d":"0.0"}},{"$f":"'법정동(2014.12월말)'!AL75-'법정동(2013년말)'!AL76","v":{"v":0,"d":"0.0"}},{"$f":"'법정동(2014.12월말)'!AM75-'법정동(2013년말)'!AM76","v":{"v":0,"d":"0.0"}},{"$f":"'법정동(2014.12월말)'!AN75-'법정동(2013년말)'!AN76","v":{"v":0,"d":"0.0"}},{"$f":"'법정동(2014.12월말)'!AO75-'법정동(2013년말)'!AO76","v":{"v":0,"d":"0.0"}},{"$f":"'법정동(2014.12월말)'!AP75-'법정동(2013년말)'!AP76","v":{"v":0,"d":"0.0"}},{"$f":"'법정동(2014.12월말)'!AQ75-'법정동(2013년말)'!AQ76","v":{"v":0,"d":"0.0"}},{"$f":"'법정동(2014.12월말)'!AR75-'법정동(2013년말)'!AR76","v":{"v":0,"d":"0.0"}},{"$f":"'법정동(2014.12월말)'!AS75-'법정동(2013년말)'!AS76","v":{"v":0,"d":"0.0"}},{"$f":"'법정동(2014.12월말)'!AT75-'법정동(2013년말)'!AT76","v":{"v":0,"d":"0.0"}},{"$f":"'법정동(2014.12월말)'!AU75-'법정동(2013년말)'!AU76","v":{"v":0,"d":"0.0"}},{"$f":"'법정동(2014.12월말)'!AV75-'법정동(2013년말)'!AV76","v":{"v":0,"d":"0.0"}},{"$f":"'법정동(2014.12월말)'!AW75-'법정동(2013년말)'!AW76","v":{"v":0,"d":"0.0"}},{"$f":"'법정동(2014.12월말)'!AX75-'법정동(2013년말)'!AX76","v":{"v":0,"d":"0.0"}},{"$f":"'법정동(2014.12월말)'!AY75-'법정동(2013년말)'!AY76","v":{"v":0,"d":"0.0"}},{"$f":"'법정동(2014.12월말)'!AZ75-'법정동(2013년말)'!AZ76","v":{"v":0,"d":"0.0"}},{"$f":"'법정동(2014.12월말)'!BA75-'법정동(2013년말)'!BA76","v":{"v":0,"d":"0.0"}},{"$f":"'법정동(2014.12월말)'!BB75-'법정동(2013년말)'!BB76","v":{"v":0,"d":"0.0"}},{"$f":"'법정동(2014.12월말)'!BC75-'법정동(2013년말)'!BC76","v":{"v":0,"d":"0.0"}},{"$f":"'법정동(2014.12월말)'!BD75-'법정동(2013년말)'!BD76","v":{"v":0,"d":"0.0"}},{"$f":"'법정동(2014.12월말)'!BE75-'법정동(2013년말)'!BE76","v":{"v":0,"d":"0.0"}},{"$f":"'법정동(2014.12월말)'!BF75-'법정동(2013년말)'!BF76","v":{"v":1927,"d":"1,927.0"}},{"$f":"'법정동(2014.12월말)'!BG75-'법정동(2013년말)'!BG76","v":{"v":4,"d":"4.0"}}]
["율촌면 조화리",{"$f":"'법정동(2014.12월말)'!B76-'법정동(2013년말)'!B77","v":{"v":0,"d":"0.0"}},{"$f":"'법정동(2014.12월말)'!C76-'법정동(2013년말)'!C77","v":{"v":20,"d":"20.0"}},{"$f":"'법정동(2014.12월말)'!D76-'법정동(2013년말)'!D77","v":{"v":-891,"d":"-891.0"}},{"$f":"'법정동(2014.12월말)'!E76-'법정동(2013년말)'!E77","v":{"v":4,"d":"4.0"}},{"$f":"'법정동(2014.12월말)'!F76-'법정동(2013년말)'!F77","v":{"v":-985,"d":"-985.0"}},{"$f":"'법정동(2014.12월말)'!G76-'법정동(2013년말)'!G77","v":{"v":11,"d":"11.0"}},{"$f":"'법정동(2014.12월말)'!H76-'법정동(2013년말)'!H77","v":{"v":0,"d":"0.0"}},{"$f":"'법정동(2014.12월말)'!I76-'법정동(2013년말)'!I77","v":{"v":0,"d":"0.0"}},{"$f":"'법정동(2014.12월말)'!J76-'법정동(2013년말)'!J77","v":{"v":0,"d":"0.0"}},{"$f":"'법정동(2014.12월말)'!K76-'법정동(2013년말)'!K77","v":{"v":0,"d":"0.0"}},{"$f":"'법정동(2014.12월말)'!L76-'법정동(2013년말)'!L77","v":{"v":0,"d":"0.0"}},{"$f":"'법정동(2014.12월말)'!M76-'법정동(2013년말)'!M77","v":{"v":0,"d":"0.0"}},{"$f":"'법정동(2014.12월말)'!N76-'법정동(2013년말)'!N77","v":{"v":0,"d":"0.0"}},{"$f":"'법정동(2014.12월말)'!O76-'법정동(2013년말)'!O77","v":{"v":0,"d":"0.0"}},{"$f":"'법정동(2014.12월말)'!P76-'법정동(2013년말)'!P77","v":{"v":0,"d":"0.0"}},{"$f":"'법정동(2014.12월말)'!Q76-'법정동(2013년말)'!Q77","v":{"v":0,"d":"0.0"}},{"$f":"'법정동(2014.12월말)'!R76-'법정동(2013년말)'!R77","v":{"v":1812,"d":"1,812.0"}},{"$f":"'법정동(2014.12월말)'!S76-'법정동(2013년말)'!S77","v":{"v":3,"d":"3.0"}},{"$f":"'법정동(2014.12월말)'!T76-'법정동(2013년말)'!T77","v":{"v":0,"d":"0.0"}},{"$f":"'법정동(2014.12월말)'!U76-'법정동(2013년말)'!U77","v":{"v":0,"d":"0.0"}},{"$f":"'법정동(2014.12월말)'!V76-'법정동(2013년말)'!V77","v":{"v":0,"d":"0.0"}},{"$f":"'법정동(2014.12월말)'!W76-'법정동(2013년말)'!W77","v":{"v":0,"d":"0.0"}},{"$f":"'법정동(2014.12월말)'!X76-'법정동(2013년말)'!X77","v":{"v":0,"d":"0.0"}},{"$f":"'법정동(2014.12월말)'!Y76-'법정동(2013년말)'!Y77","v":{"v":0,"d":"0.0"}},{"$f":"'법정동(2014.12월말)'!Z76-'법정동(2013년말)'!Z77","v":{"v":0,"d":"0.0"}},{"$f":"'법정동(2014.12월말)'!AA76-'법정동(2013년말)'!AA77","v":{"v":0,"d":"0.0"}},{"$f":"'법정동(2014.12월말)'!AB76-'법정동(2013년말)'!AB77","v":{"v":0,"d":"0.0"}},{"$f":"'법정동(2014.12월말)'!AC76-'법정동(2013년말)'!AC77","v":{"v":0,"d":"0.0"}},{"$f":"'법정동(2014.12월말)'!AD76-'법정동(2013년말)'!AD77","v":{"v":64,"d":"64.0"}},{"$f":"'법정동(2014.12월말)'!AE76-'법정동(2013년말)'!AE77","v":{"v":2,"d":"2.0"}},{"$f":"'법정동(2014.12월말)'!AF76-'법정동(2013년말)'!AF77","v":{"v":0,"d":"0.0"}},{"$f":"'법정동(2014.12월말)'!AG76-'법정동(2013년말)'!AG77","v":{"v":0,"d":"0.0"}},{"$f":"'법정동(2014.12월말)'!AH76-'법정동(2013년말)'!AH77","v":{"v":0,"d":"0.0"}},{"$f":"'법정동(2014.12월말)'!AI76-'법정동(2013년말)'!AI77","v":{"v":0,"d":"0.0"}},{"$f":"'법정동(2014.12월말)'!AJ76-'법정동(2013년말)'!AJ77","v":{"v":0,"d":"0.0"}},{"$f":"'법정동(2014.12월말)'!AK76-'법정동(2013년말)'!AK77","v":{"v":0,"d":"0.0"}},{"$f":"'법정동(2014.12월말)'!AL76-'법정동(2013년말)'!AL77","v":{"v":0,"d":"0.0"}},{"$f":"'법정동(2014.12월말)'!AM76-'법정동(2013년말)'!AM77","v":{"v":0,"d":"0.0"}},{"$f":"'법정동(2014.12월말)'!AN76-'법정동(2013년말)'!AN77","v":{"v":0,"d":"0.0"}},{"$f":"'법정동(2014.12월말)'!AO76-'법정동(2013년말)'!AO77","v":{"v":0,"d":"0.0"}},{"$f":"'법정동(2014.12월말)'!AP76-'법정동(2013년말)'!AP77","v":{"v":0,"d":"0.0"}},{"$f":"'법정동(2014.12월말)'!AQ76-'법정동(2013년말)'!AQ77","v":{"v":0,"d":"0.0"}},{"$f":"'법정동(2014.12월말)'!AR76-'법정동(2013년말)'!AR77","v":{"v":0,"d":"0.0"}},{"$f":"'법정동(2014.12월말)'!AS76-'법정동(2013년말)'!AS77","v":{"v":0,"d":"0.0"}},{"$f":"'법정동(2014.12월말)'!AT76-'법정동(2013년말)'!AT77","v":{"v":0,"d":"0.0"}},{"$f":"'법정동(2014.12월말)'!AU76-'법정동(2013년말)'!AU77","v":{"v":0,"d":"0.0"}},{"$f":"'법정동(2014.12월말)'!AV76-'법정동(2013년말)'!AV77","v":{"v":0,"d":"0.0"}},{"$f":"'법정동(2014.12월말)'!AW76-'법정동(2013년말)'!AW77","v":{"v":0,"d":"0.0"}},{"$f":"'법정동(2014.12월말)'!AX76-'법정동(2013년말)'!AX77","v":{"v":0,"d":"0.0"}},{"$f":"'법정동(2014.12월말)'!AY76-'법정동(2013년말)'!AY77","v":{"v":0,"d":"0.0"}},{"$f":"'법정동(2014.12월말)'!AZ76-'법정동(2013년말)'!AZ77","v":{"v":0,"d":"0.0"}},{"$f":"'법정동(2014.12월말)'!BA76-'법정동(2013년말)'!BA77","v":{"v":0,"d":"0.0"}},{"$f":"'법정동(2014.12월말)'!BB76-'법정동(2013년말)'!BB77","v":{"v":0,"d":"0.0"}},{"$f":"'법정동(2014.12월말)'!BC76-'법정동(2013년말)'!BC77","v":{"v":0,"d":"0.0"}},{"$f":"'법정동(2014.12월말)'!BD76-'법정동(2013년말)'!BD77","v":{"v":0,"d":"0.0"}},{"$f":"'법정동(2014.12월말)'!BE76-'법정동(2013년말)'!BE77","v":{"v":0,"d":"0.0"}},{"$f":"'법정동(2014.12월말)'!BF76-'법정동(2013년말)'!BF77","v":{"v":0,"d":"0.0"}},{"$f":"'법정동(2014.12월말)'!BG76-'법정동(2013년말)'!BG77","v":{"v":0,"d":"0.0"}}]
["율촌면 월산리",{"$f":"'법정동(2014.12월말)'!B77-'법정동(2013년말)'!B78","v":{"v":283,"d":"283.0"}},{"$f":"'법정동(2014.12월말)'!C77-'법정동(2013년말)'!C78","v":{"v":18,"d":"18.0"}},{"$f":"'법정동(2014.12월말)'!D77-'법정동(2013년말)'!D78","v":{"v":-889,"d":"-889.0"}},{"$f":"'법정동(2014.12월말)'!E77-'법정동(2013년말)'!E78","v":{"v":2,"d":"2.0"}},{"$f":"'법정동(2014.12월말)'!F77-'법정동(2013년말)'!F78","v":{"v":-1454,"d":"-1,454.0"}},{"$f":"'법정동(2014.12월말)'!G77-'법정동(2013년말)'!G78","v":{"v":2,"d":"2.0"}},{"$f":"'법정동(2014.12월말)'!H77-'법정동(2013년말)'!H78","v":{"v":0,"d":"0.0"}},{"$f":"'법정동(2014.12월말)'!I77-'법정동(2013년말)'!I78","v":{"v":0,"d":"0.0"}},{"$f":"'법정동(2014.12월말)'!J77-'법정동(2013년말)'!J78","v":{"v":0,"d":"0.0"}},{"$f":"'법정동(2014.12월말)'!K77-'법정동(2013년말)'!K78","v":{"v":0,"d":"0.0"}},{"$f":"'법정동(2014.12월말)'!L77-'법정동(2013년말)'!L78","v":{"v":283,"d":"283.0"}},{"$f":"'법정동(2014.12월말)'!M77-'법정동(2013년말)'!M78","v":{"v":8,"d":"8.0"}},{"$f":"'법정동(2014.12월말)'!N77-'법정동(2013년말)'!N78","v":{"v":0,"d":"0.0"}},{"$f":"'법정동(2014.12월말)'!O77-'법정동(2013년말)'!O78","v":{"v":0,"d":"0.0"}},{"$f":"'법정동(2014.12월말)'!P77-'법정동(2013년말)'!P78","v":{"v":0,"d":"0.0"}},{"$f":"'법정동(2014.12월말)'!Q77-'법정동(2013년말)'!Q78","v":{"v":0,"d":"0.0"}},{"$f":"'법정동(2014.12월말)'!R77-'법정동(2013년말)'!R78","v":{"v":2415,"d":"2,415.0"}},{"$f":"'법정동(2014.12월말)'!S77-'법정동(2013년말)'!S78","v":{"v":2,"d":"2.0"}},{"$f":"'법정동(2014.12월말)'!T77-'법정동(2013년말)'!T78","v":{"v":0,"d":"0.0"}},{"$f":"'법정동(2014.12월말)'!U77-'법정동(2013년말)'!U78","v":{"v":0,"d":"0.0"}},{"$f":"'법정동(2014.12월말)'!V77-'법정동(2013년말)'!V78","v":{"v":0,"d":"0.0"}},{"$f":"'법정동(2014.12월말)'!W77-'법정동(2013년말)'!W78","v":{"v":0,"d":"0.0"}},{"$f":"'법정동(2014.12월말)'!X77-'법정동(2013년말)'!X78","v":{"v":-218,"d":"-218.0"}},{"$f":"'법정동(2014.12월말)'!Y77-'법정동(2013년말)'!Y78","v":{"v":0,"d":"0.0"}},{"$f":"'법정동(2014.12월말)'!Z77-'법정동(2013년말)'!Z78","v":{"v":0,"d":"0.0"}},{"$f":"'법정동(2014.12월말)'!AA77-'법정동(2013년말)'!AA78","v":{"v":0,"d":"0.0"}},{"$f":"'법정동(2014.12월말)'!AB77-'법정동(2013년말)'!AB78","v":{"v":0,"d":"0.0"}},{"$f":"'법정동(2014.12월말)'!AC77-'법정동(2013년말)'!AC78","v":{"v":0,"d":"0.0"}},{"$f":"'법정동(2014.12월말)'!AD77-'법정동(2013년말)'!AD78","v":{"v":603,"d":"603.0"}},{"$f":"'법정동(2014.12월말)'!AE77-'법정동(2013년말)'!AE78","v":{"v":5,"d":"5.0"}},{"$f":"'법정동(2014.12월말)'!AF77-'법정동(2013년말)'!AF78","v":{"v":0,"d":"0.0"}},{"$f":"'법정동(2014.12월말)'!AG77-'법정동(2013년말)'!AG78","v":{"v":0,"d":"0.0"}},{"$f":"'법정동(2014.12월말)'!AH77-'법정동(2013년말)'!AH78","v":{"v":0,"d":"0.0"}},{"$f":"'법정동(2014.12월말)'!AI77-'법정동(2013년말)'!AI78","v":{"v":0,"d":"0.0"}},{"$f":"'법정동(2014.12월말)'!AJ77-'법정동(2013년말)'!AJ78","v":{"v":0,"d":"0.0"}},{"$f":"'법정동(2014.12월말)'!AK77-'법정동(2013년말)'!AK78","v":{"v":0,"d":"0.0"}},{"$f":"'법정동(2014.12월말)'!AL77-'법정동(2013년말)'!AL78","v":{"v":0,"d":"0.0"}},{"$f":"'법정동(2014.12월말)'!AM77-'법정동(2013년말)'!AM78","v":{"v":0,"d":"0.0"}},{"$f":"'법정동(2014.12월말)'!AN77-'법정동(2013년말)'!AN78","v":{"v":0,"d":"0.0"}},{"$f":"'법정동(2014.12월말)'!AO77-'법정동(2013년말)'!AO78","v":{"v":0,"d":"0.0"}},{"$f":"'법정동(2014.12월말)'!AP77-'법정동(2013년말)'!AP78","v":{"v":0,"d":"0.0"}},{"$f":"'법정동(2014.12월말)'!AQ77-'법정동(2013년말)'!AQ78","v":{"v":0,"d":"0.0"}},{"$f":"'법정동(2014.12월말)'!AR77-'법정동(2013년말)'!AR78","v":{"v":0,"d":"0.0"}},{"$f":"'법정동(2014.12월말)'!AS77-'법정동(2013년말)'!AS78","v":{"v":0,"d":"0.0"}},{"$f":"'법정동(2014.12월말)'!AT77-'법정동(2013년말)'!AT78","v":{"v":0,"d":"0.0"}},{"$f":"'법정동(2014.12월말)'!AU77-'법정동(2013년말)'!AU78","v":{"v":0,"d":"0.0"}},{"$f":"'법정동(2014.12월말)'!AV77-'법정동(2013년말)'!AV78","v":{"v":0,"d":"0.0"}},{"$f":"'법정동(2014.12월말)'!AW77-'법정동(2013년말)'!AW78","v":{"v":0,"d":"0.0"}},{"$f":"'법정동(2014.12월말)'!AX77-'법정동(2013년말)'!AX78","v":{"v":0,"d":"0.0"}},{"$f":"'법정동(2014.12월말)'!AY77-'법정동(2013년말)'!AY78","v":{"v":0,"d":"0.0"}},{"$f":"'법정동(2014.12월말)'!AZ77-'법정동(2013년말)'!AZ78","v":{"v":0,"d":"0.0"}},{"$f":"'법정동(2014.12월말)'!BA77-'법정동(2013년말)'!BA78","v":{"v":0,"d":"0.0"}},{"$f":"'법정동(2014.12월말)'!BB77-'법정동(2013년말)'!BB78","v":{"v":0,"d":"0.0"}},{"$f":"'법정동(2014.12월말)'!BC77-'법정동(2013년말)'!BC78","v":{"v":0,"d":"0.0"}},{"$f":"'법정동(2014.12월말)'!BD77-'법정동(2013년말)'!BD78","v":{"v":0,"d":"0.0"}},{"$f":"'법정동(2014.12월말)'!BE77-'법정동(2013년말)'!BE78","v":{"v":0,"d":"0.0"}},{"$f":"'법정동(2014.12월말)'!BF77-'법정동(2013년말)'!BF78","v":{"v":-457,"d":"-457.0"}},{"$f":"'법정동(2014.12월말)'!BG77-'법정동(2013년말)'!BG78","v":{"v":-1,"d":"-1.0"}}]
["율촌면 산수리",{"$f":"'법정동(2014.12월말)'!B78-'법정동(2013년말)'!B79","v":{"v":-6,"d":"-6.0"}},{"$f":"'법정동(2014.12월말)'!C78-'법정동(2013년말)'!C79","v":{"v":22,"d":"22.0"}},{"$f":"'법정동(2014.12월말)'!D78-'법정동(2013년말)'!D79","v":{"v":1859,"d":"1,859.0"}},{"$f":"'법정동(2014.12월말)'!E78-'법정동(2013년말)'!E79","v":{"v":5,"d":"5.0"}},{"$f":"'법정동(2014.12월말)'!F78-'법정동(2013년말)'!F79","v":{"v":-1859,"d":"-1,859.0"}},{"$f":"'법정동(2014.12월말)'!G78-'법정동(2013년말)'!G79","v":{"v":-1,"d":"-1.0"}},{"$f":"'법정동(2014.12월말)'!H78-'법정동(2013년말)'!H79","v":{"v":0,"d":"0.0"}},{"$f":"'법정동(2014.12월말)'!I78-'법정동(2013년말)'!I79","v":{"v":0,"d":"0.0"}},{"$f":"'법정동(2014.12월말)'!J78-'법정동(2013년말)'!J79","v":{"v":0,"d":"0.0"}},{"$f":"'법정동(2014.12월말)'!K78-'법정동(2013년말)'!K79","v":{"v":0,"d":"0.0"}},{"$f":"'법정동(2014.12월말)'!L78-'법정동(2013년말)'!L79","v":{"v":-105,"d":"-105.0"}},{"$f":"'법정동(2014.12월말)'!M78-'법정동(2013년말)'!M79","v":{"v":16,"d":"16.0"}},{"$f":"'법정동(2014.12월말)'!N78-'법정동(2013년말)'!N79","v":{"v":0,"d":"0.0"}},{"$f":"'법정동(2014.12월말)'!O78-'법정동(2013년말)'!O79","v":{"v":0,"d":"0.0"}},{"$f":"'법정동(2014.12월말)'!P78-'법정동(2013년말)'!P79","v":{"v":0,"d":"0.0"}},{"$f":"'법정동(2014.12월말)'!Q78-'법정동(2013년말)'!Q79","v":{"v":0,"d":"0.0"}},{"$f":"'법정동(2014.12월말)'!R78-'법정동(2013년말)'!R79","v":{"v":-6,"d":"-6.0"}},{"$f":"'법정동(2014.12월말)'!S78-'법정동(2013년말)'!S79","v":{"v":0,"d":"0.0"}},{"$f":"'법정동(2014.12월말)'!T78-'법정동(2013년말)'!T79","v":{"v":0,"d":"0.0"}},{"$f":"'법정동(2014.12월말)'!U78-'법정동(2013년말)'!U79","v":{"v":0,"d":"0.0"}},{"$f":"'법정동(2014.12월말)'!V78-'법정동(2013년말)'!V79","v":{"v":0,"d":"0.0"}},{"$f":"'법정동(2014.12월말)'!W78-'법정동(2013년말)'!W79","v":{"v":0,"d":"0.0"}},{"$f":"'법정동(2014.12월말)'!X78-'법정동(2013년말)'!X79","v":{"v":0,"d":"0.0"}},{"$f":"'법정동(2014.12월말)'!Y78-'법정동(2013년말)'!Y79","v":{"v":0,"d":"0.0"}},{"$f":"'법정동(2014.12월말)'!Z78-'법정동(2013년말)'!Z79","v":{"v":0,"d":"0.0"}},{"$f":"'법정동(2014.12월말)'!AA78-'법정동(2013년말)'!AA79","v":{"v":0,"d":"0.0"}},{"$f":"'법정동(2014.12월말)'!AB78-'법정동(2013년말)'!AB79","v":{"v":0,"d":"0.0"}},{"$f":"'법정동(2014.12월말)'!AC78-'법정동(2013년말)'!AC79","v":{"v":0,"d":"0.0"}},{"$f":"'법정동(2014.12월말)'!AD78-'법정동(2013년말)'!AD79","v":{"v":6,"d":"6.0"}},{"$f":"'법정동(2014.12월말)'!AE78-'법정동(2013년말)'!AE79","v":{"v":1,"d":"1.0"}},{"$f":"'법정동(2014.12월말)'!AF78-'법정동(2013년말)'!AF79","v":{"v":0,"d":"0.0"}},{"$f":"'법정동(2014.12월말)'!AG78-'법정동(2013년말)'!AG79","v":{"v":0,"d":"0.0"}},{"$f":"'법정동(2014.12월말)'!AH78-'법정동(2013년말)'!AH79","v":{"v":0,"d":"0.0"}},{"$f":"'법정동(2014.12월말)'!AI78-'법정동(2013년말)'!AI79","v":{"v":0,"d":"0.0"}},{"$f":"'법정동(2014.12월말)'!AJ78-'법정동(2013년말)'!AJ79","v":{"v":0,"d":"0.0"}},{"$f":"'법정동(2014.12월말)'!AK78-'법정동(2013년말)'!AK79","v":{"v":0,"d":"0.0"}},{"$f":"'법정동(2014.12월말)'!AL78-'법정동(2013년말)'!AL79","v":{"v":0,"d":"0.0"}},{"$f":"'법정동(2014.12월말)'!AM78-'법정동(2013년말)'!AM79","v":{"v":0,"d":"0.0"}},{"$f":"'법정동(2014.12월말)'!AN78-'법정동(2013년말)'!AN79","v":{"v":0,"d":"0.0"}},{"$f":"'법정동(2014.12월말)'!AO78-'법정동(2013년말)'!AO79","v":{"v":0,"d":"0.0"}},{"$f":"'법정동(2014.12월말)'!AP78-'법정동(2013년말)'!AP79","v":{"v":0,"d":"0.0"}},{"$f":"'법정동(2014.12월말)'!AQ78-'법정동(2013년말)'!AQ79","v":{"v":0,"d":"0.0"}},{"$f":"'법정동(2014.12월말)'!AR78-'법정동(2013년말)'!AR79","v":{"v":0,"d":"0.0"}},{"$f":"'법정동(2014.12월말)'!AS78-'법정동(2013년말)'!AS79","v":{"v":0,"d":"0.0"}},{"$f":"'법정동(2014.12월말)'!AT78-'법정동(2013년말)'!AT79","v":{"v":0,"d":"0.0"}},{"$f":"'법정동(2014.12월말)'!AU78-'법정동(2013년말)'!AU79","v":{"v":0,"d":"0.0"}},{"$f":"'법정동(2014.12월말)'!AV78-'법정동(2013년말)'!AV79","v":{"v":0,"d":"0.0"}},{"$f":"'법정동(2014.12월말)'!AW78-'법정동(2013년말)'!AW79","v":{"v":0,"d":"0.0"}},{"$f":"'법정동(2014.12월말)'!AX78-'법정동(2013년말)'!AX79","v":{"v":0,"d":"0.0"}},{"$f":"'법정동(2014.12월말)'!AY78-'법정동(2013년말)'!AY79","v":{"v":0,"d":"0.0"}},{"$f":"'법정동(2014.12월말)'!AZ78-'법정동(2013년말)'!AZ79","v":{"v":0,"d":"0.0"}},{"$f":"'법정동(2014.12월말)'!BA78-'법정동(2013년말)'!BA79","v":{"v":0,"d":"0.0"}},{"$f":"'법정동(2014.12월말)'!BB78-'법정동(2013년말)'!BB79","v":{"v":0,"d":"0.0"}},{"$f":"'법정동(2014.12월말)'!BC78-'법정동(2013년말)'!BC79","v":{"v":0,"d":"0.0"}},{"$f":"'법정동(2014.12월말)'!BD78-'법정동(2013년말)'!BD79","v":{"v":99,"d":"99.0"}},{"$f":"'법정동(2014.12월말)'!BE78-'법정동(2013년말)'!BE79","v":{"v":1,"d":"1.0"}},{"$f":"'법정동(2014.12월말)'!BF78-'법정동(2013년말)'!BF79","v":{"v":0,"d":"0.0"}},{"$f":"'법정동(2014.12월말)'!BG78-'법정동(2013년말)'!BG79","v":{"v":0,"d":"0.0"}}]
["율촌면 가장리",{"$f":"'법정동(2014.12월말)'!B79-'법정동(2013년말)'!B80","v":{"v":0,"d":"0.0"}},{"$f":"'법정동(2014.12월말)'!C79-'법정동(2013년말)'!C80","v":{"v":-9,"d":"-9.0"}},{"$f":"'법정동(2014.12월말)'!D79-'법정동(2013년말)'!D80","v":{"v":-4292,"d":"-4,292.0"}},{"$f":"'법정동(2014.12월말)'!E79-'법정동(2013년말)'!E80","v":{"v":-9,"d":"-9.0"}},{"$f":"'법정동(2014.12월말)'!F79-'법정동(2013년말)'!F80","v":{"v":-2513,"d":"-2,513.0"}},{"$f":"'법정동(2014.12월말)'!G79-'법정동(2013년말)'!G80","v":{"v":-7,"d":"-7.0"}},{"$f":"'법정동(2014.12월말)'!H79-'법정동(2013년말)'!H80","v":{"v":0,"d":"0.0"}},{"$f":"'법정동(2014.12월말)'!I79-'법정동(2013년말)'!I80","v":{"v":0,"d":"0.0"}},{"$f":"'법정동(2014.12월말)'!J79-'법정동(2013년말)'!J80","v":{"v":0,"d":"0.0"}},{"$f":"'법정동(2014.12월말)'!K79-'법정동(2013년말)'!K80","v":{"v":0,"d":"0.0"}},{"$f":"'법정동(2014.12월말)'!L79-'법정동(2013년말)'!L80","v":{"v":-858,"d":"-858.0"}},{"$f":"'법정동(2014.12월말)'!M79-'법정동(2013년말)'!M80","v":{"v":-1,"d":"-1.0"}},{"$f":"'법정동(2014.12월말)'!N79-'법정동(2013년말)'!N80","v":{"v":0,"d":"0.0"}},{"$f":"'법정동(2014.12월말)'!O79-'법정동(2013년말)'!O80","v":{"v":0,"d":"0.0"}},{"$f":"'법정동(2014.12월말)'!P79-'법정동(2013년말)'!P80","v":{"v":0,"d":"0.0"}},{"$f":"'법정동(2014.12월말)'!Q79-'법정동(2013년말)'!Q80","v":{"v":0,"d":"0.0"}},{"$f":"'법정동(2014.12월말)'!R79-'법정동(2013년말)'!R80","v":{"v":0,"d":"0.0"}},{"$f":"'법정동(2014.12월말)'!S79-'법정동(2013년말)'!S80","v":{"v":-2,"d":"-2.0"}},{"$f":"'법정동(2014.12월말)'!T79-'법정동(2013년말)'!T80","v":{"v":0,"d":"0.0"}},{"$f":"'법정동(2014.12월말)'!U79-'법정동(2013년말)'!U80","v":{"v":0,"d":"0.0"}},{"$f":"'법정동(2014.12월말)'!V79-'법정동(2013년말)'!V80","v":{"v":0,"d":"0.0"}},{"$f":"'법정동(2014.12월말)'!W79-'법정동(2013년말)'!W80","v":{"v":0,"d":"0.0"}},{"$f":"'법정동(2014.12월말)'!X79-'법정동(2013년말)'!X80","v":{"v":1623,"d":"1,623.0"}},{"$f":"'법정동(2014.12월말)'!Y79-'법정동(2013년말)'!Y80","v":{"v":1,"d":"1.0"}},{"$f":"'법정동(2014.12월말)'!Z79-'법정동(2013년말)'!Z80","v":{"v":0,"d":"0.0"}},{"$f":"'법정동(2014.12월말)'!AA79-'법정동(2013년말)'!AA80","v":{"v":0,"d":"0.0"}},{"$f":"'법정동(2014.12월말)'!AB79-'법정동(2013년말)'!AB80","v":{"v":0,"d":"0.0"}},{"$f":"'법정동(2014.12월말)'!AC79-'법정동(2013년말)'!AC80","v":{"v":0,"d":"0.0"}},{"$f":"'법정동(2014.12월말)'!AD79-'법정동(2013년말)'!AD80","v":{"v":6040,"d":"6,040.0"}},{"$f":"'법정동(2014.12월말)'!AE79-'법정동(2013년말)'!AE80","v":{"v":9,"d":"9.0"}},{"$f":"'법정동(2014.12월말)'!AF79-'법정동(2013년말)'!AF80","v":{"v":0,"d":"0.0"}},{"$f":"'법정동(2014.12월말)'!AG79-'법정동(2013년말)'!AG80","v":{"v":0,"d":"0.0"}},{"$f":"'법정동(2014.12월말)'!AH79-'법정동(2013년말)'!AH80","v":{"v":0,"d":"0.0"}},{"$f":"'법정동(2014.12월말)'!AI79-'법정동(2013년말)'!AI80","v":{"v":0,"d":"0.0"}},{"$f":"'법정동(2014.12월말)'!AJ79-'법정동(2013년말)'!AJ80","v":{"v":0,"d":"0.0"}},{"$f":"'법정동(2014.12월말)'!AK79-'법정동(2013년말)'!AK80","v":{"v":0,"d":"0.0"}},{"$f":"'법정동(2014.12월말)'!AL79-'법정동(2013년말)'!AL80","v":{"v":0,"d":"0.0"}},{"$f":"'법정동(2014.12월말)'!AM79-'법정동(2013년말)'!AM80","v":{"v":0,"d":"0.0"}},{"$f":"'법정동(2014.12월말)'!AN79-'법정동(2013년말)'!AN80","v":{"v":0,"d":"0.0"}},{"$f":"'법정동(2014.12월말)'!AO79-'법정동(2013년말)'!AO80","v":{"v":0,"d":"0.0"}},{"$f":"'법정동(2014.12월말)'!AP79-'법정동(2013년말)'!AP80","v":{"v":0,"d":"0.0"}},{"$f":"'법정동(2014.12월말)'!AQ79-'법정동(2013년말)'!AQ80","v":{"v":0,"d":"0.0"}},{"$f":"'법정동(2014.12월말)'!AR79-'법정동(2013년말)'!AR80","v":{"v":0,"d":"0.0"}},{"$f":"'법정동(2014.12월말)'!AS79-'법정동(2013년말)'!AS80","v":{"v":0,"d":"0.0"}},{"$f":"'법정동(2014.12월말)'!AT79-'법정동(2013년말)'!AT80","v":{"v":0,"d":"0.0"}},{"$f":"'법정동(2014.12월말)'!AU79-'법정동(2013년말)'!AU80","v":{"v":0,"d":"0.0"}},{"$f":"'법정동(2014.12월말)'!AV79-'법정동(2013년말)'!AV80","v":{"v":0,"d":"0.0"}},{"$f":"'법정동(2014.12월말)'!AW79-'법정동(2013년말)'!AW80","v":{"v":0,"d":"0.0"}},{"$f":"'법정동(2014.12월말)'!AX79-'법정동(2013년말)'!AX80","v":{"v":0,"d":"0.0"}},{"$f":"'법정동(2014.12월말)'!AY79-'법정동(2013년말)'!AY80","v":{"v":0,"d":"0.0"}},{"$f":"'법정동(2014.12월말)'!AZ79-'법정동(2013년말)'!AZ80","v":{"v":0,"d":"0.0"}},{"$f":"'법정동(2014.12월말)'!BA79-'법정동(2013년말)'!BA80","v":{"v":0,"d":"0.0"}},{"$f":"'법정동(2014.12월말)'!BB79-'법정동(2013년말)'!BB80","v":{"v":0,"d":"0.0"}},{"$f":"'법정동(2014.12월말)'!BC79-'법정동(2013년말)'!BC80","v":{"v":0,"d":"0.0"}},{"$f":"'법정동(2014.12월말)'!BD79-'법정동(2013년말)'!BD80","v":{"v":0,"d":"0.0"}},{"$f":"'법정동(2014.12월말)'!BE79-'법정동(2013년말)'!BE80","v":{"v":0,"d":"0.0"}},{"$f":"'법정동(2014.12월말)'!BF79-'법정동(2013년말)'!BF80","v":{"v":0,"d":"0.0"}},{"$f":"'법정동(2014.12월말)'!BG79-'법정동(2013년말)'!BG80","v":{"v":0,"d":"0.0"}}]
["율촌면 봉전리",{"$f":"'법정동(2014.12월말)'!B80-'법정동(2013년말)'!B81","v":{"v":70,"d":"70.0"}},{"$f":"'법정동(2014.12월말)'!C80-'법정동(2013년말)'!C81","v":{"v":3,"d":"3.0"}},{"$f":"'법정동(2014.12월말)'!D80-'법정동(2013년말)'!D81","v":{"v":-4975,"d":"-4,975.0"}},{"$f":"'법정동(2014.12월말)'!E80-'법정동(2013년말)'!E81","v":{"v":-5,"d":"-5.0"}},{"$f":"'법정동(2014.12월말)'!F80-'법정동(2013년말)'!F81","v":{"v":-2906,"d":"-2,906.0"}},{"$f":"'법정동(2014.12월말)'!G80-'법정동(2013년말)'!G81","v":{"v":-3,"d":"-3.0"}},{"$f":"'법정동(2014.12월말)'!H80-'법정동(2013년말)'!H81","v":{"v":0,"d":"0.0"}},{"$f":"'법정동(2014.12월말)'!I80-'법정동(2013년말)'!I81","v":{"v":0,"d":"0.0"}},{"$f":"'법정동(2014.12월말)'!J80-'법정동(2013년말)'!J81","v":{"v":0,"d":"0.0"}},{"$f":"'법정동(2014.12월말)'!K80-'법정동(2013년말)'!K81","v":{"v":0,"d":"0.0"}},{"$f":"'법정동(2014.12월말)'!L80-'법정동(2013년말)'!L81","v":{"v":77,"d":"77.0"}},{"$f":"'법정동(2014.12월말)'!M80-'법정동(2013년말)'!M81","v":{"v":0,"d":"0.0"}},{"$f":"'법정동(2014.12월말)'!N80-'법정동(2013년말)'!N81","v":{"v":0,"d":"0.0"}},{"$f":"'법정동(2014.12월말)'!O80-'법정동(2013년말)'!O81","v":{"v":0,"d":"0.0"}},{"$f":"'법정동(2014.12월말)'!P80-'법정동(2013년말)'!P81","v":{"v":0,"d":"0.0"}},{"$f":"'법정동(2014.12월말)'!Q80-'법정동(2013년말)'!Q81","v":{"v":0,"d":"0.0"}},{"$f":"'법정동(2014.12월말)'!R80-'법정동(2013년말)'!R81","v":{"v":6851,"d":"6,851.0"}},{"$f":"'법정동(2014.12월말)'!S80-'법정동(2013년말)'!S81","v":{"v":7,"d":"7.0"}},{"$f":"'법정동(2014.12월말)'!T80-'법정동(2013년말)'!T81","v":{"v":0,"d":"0.0"}},{"$f":"'법정동(2014.12월말)'!U80-'법정동(2013년말)'!U81","v":{"v":0,"d":"0.0"}},{"$f":"'법정동(2014.12월말)'!V80-'법정동(2013년말)'!V81","v":{"v":0,"d":"0.0"}},{"$f":"'법정동(2014.12월말)'!W80-'법정동(2013년말)'!W81","v":{"v":0,"d":"0.0"}},{"$f":"'법정동(2014.12월말)'!X80-'법정동(2013년말)'!X81","v":{"v":0,"d":"0.0"}},{"$f":"'법정동(2014.12월말)'!Y80-'법정동(2013년말)'!Y81","v":{"v":0,"d":"0.0"}},{"$f":"'법정동(2014.12월말)'!Z80-'법정동(2013년말)'!Z81","v":{"v":0,"d":"0.0"}},{"$f":"'법정동(2014.12월말)'!AA80-'법정동(2013년말)'!AA81","v":{"v":0,"d":"0.0"}},{"$f":"'법정동(2014.12월말)'!AB80-'법정동(2013년말)'!AB81","v":{"v":13,"d":"13.0"}},{"$f":"'법정동(2014.12월말)'!AC80-'법정동(2013년말)'!AC81","v":{"v":0,"d":"0.0"}},{"$f":"'법정동(2014.12월말)'!AD80-'법정동(2013년말)'!AD81","v":{"v":1010,"d":"1,010.0"}},{"$f":"'법정동(2014.12월말)'!AE80-'법정동(2013년말)'!AE81","v":{"v":4,"d":"4.0"}},{"$f":"'법정동(2014.12월말)'!AF80-'법정동(2013년말)'!AF81","v":{"v":0,"d":"0.0"}},{"$f":"'법정동(2014.12월말)'!AG80-'법정동(2013년말)'!AG81","v":{"v":0,"d":"0.0"}},{"$f":"'법정동(2014.12월말)'!AH80-'법정동(2013년말)'!AH81","v":{"v":0,"d":"0.0"}},{"$f":"'법정동(2014.12월말)'!AI80-'법정동(2013년말)'!AI81","v":{"v":0,"d":"0.0"}},{"$f":"'법정동(2014.12월말)'!AJ80-'법정동(2013년말)'!AJ81","v":{"v":0,"d":"0.0"}},{"$f":"'법정동(2014.12월말)'!AK80-'법정동(2013년말)'!AK81","v":{"v":0,"d":"0.0"}},{"$f":"'법정동(2014.12월말)'!AL80-'법정동(2013년말)'!AL81","v":{"v":0,"d":"0.0"}},{"$f":"'법정동(2014.12월말)'!AM80-'법정동(2013년말)'!AM81","v":{"v":0,"d":"0.0"}},{"$f":"'법정동(2014.12월말)'!AN80-'법정동(2013년말)'!AN81","v":{"v":0,"d":"0.0"}},{"$f":"'법정동(2014.12월말)'!AO80-'법정동(2013년말)'!AO81","v":{"v":0,"d":"0.0"}},{"$f":"'법정동(2014.12월말)'!AP80-'법정동(2013년말)'!AP81","v":{"v":0,"d":"0.0"}},{"$f":"'법정동(2014.12월말)'!AQ80-'법정동(2013년말)'!AQ81","v":{"v":0,"d":"0.0"}},{"$f":"'법정동(2014.12월말)'!AR80-'법정동(2013년말)'!AR81","v":{"v":0,"d":"0.0"}},{"$f":"'법정동(2014.12월말)'!AS80-'법정동(2013년말)'!AS81","v":{"v":0,"d":"0.0"}},{"$f":"'법정동(2014.12월말)'!AT80-'법정동(2013년말)'!AT81","v":{"v":0,"d":"0.0"}},{"$f":"'법정동(2014.12월말)'!AU80-'법정동(2013년말)'!AU81","v":{"v":0,"d":"0.0"}},{"$f":"'법정동(2014.12월말)'!AV80-'법정동(2013년말)'!AV81","v":{"v":0,"d":"0.0"}},{"$f":"'법정동(2014.12월말)'!AW80-'법정동(2013년말)'!AW81","v":{"v":0,"d":"0.0"}},{"$f":"'법정동(2014.12월말)'!AX80-'법정동(2013년말)'!AX81","v":{"v":0,"d":"0.0"}},{"$f":"'법정동(2014.12월말)'!AY80-'법정동(2013년말)'!AY81","v":{"v":0,"d":"0.0"}},{"$f":"'법정동(2014.12월말)'!AZ80-'법정동(2013년말)'!AZ81","v":{"v":0,"d":"0.0"}},{"$f":"'법정동(2014.12월말)'!BA80-'법정동(2013년말)'!BA81","v":{"v":0,"d":"0.0"}},{"$f":"'법정동(2014.12월말)'!BB80-'법정동(2013년말)'!BB81","v":{"v":0,"d":"0.0"}},{"$f":"'법정동(2014.12월말)'!BC80-'법정동(2013년말)'!BC81","v":{"v":0,"d":"0.0"}},{"$f":"'법정동(2014.12월말)'!BD80-'법정동(2013년말)'!BD81","v":{"v":0,"d":"0.0"}},{"$f":"'법정동(2014.12월말)'!BE80-'법정동(2013년말)'!BE81","v":{"v":0,"d":"0.0"}},{"$f":"'법정동(2014.12월말)'!BF80-'법정동(2013년말)'!BF81","v":{"v":0,"d":"0.0"}},{"$f":"'법정동(2014.12월말)'!BG80-'법정동(2013년말)'!BG81","v":{"v":0,"d":"0.0"}}]
["율촌면 반월리",{"$f":"'법정동(2014.12월말)'!B81-'법정동(2013년말)'!B82","v":{"v":0,"d":"0.0"}},{"$f":"'법정동(2014.12월말)'!C81-'법정동(2013년말)'!C82","v":{"v":0,"d":"0.0"}},{"$f":"'법정동(2014.12월말)'!D81-'법정동(2013년말)'!D82","v":{"v":0,"d":"0.0"}},{"$f":"'법정동(2014.12월말)'!E81-'법정동(2013년말)'!E82","v":{"v":0,"d":"0.0"}},{"$f":"'법정동(2014.12월말)'!F81-'법정동(2013년말)'!F82","v":{"v":0,"d":"0.0"}},{"$f":"'법정동(2014.12월말)'!G81-'법정동(2013년말)'!G82","v":{"v":0,"d":"0.0"}},{"$f":"'법정동(2014.12월말)'!H81-'법정동(2013년말)'!H82","v":{"v":0,"d":"0.0"}},{"$f":"'법정동(2014.12월말)'!I81-'법정동(2013년말)'!I82","v":{"v":0,"d":"0.0"}},{"$f":"'법정동(2014.12월말)'!J81-'법정동(2013년말)'!J82","v":{"v":0,"d":"0.0"}},{"$f":"'법정동(2014.12월말)'!K81-'법정동(2013년말)'!K82","v":{"v":0,"d":"0.0"}},{"$f":"'법정동(2014.12월말)'!L81-'법정동(2013년말)'!L82","v":{"v":0,"d":"0.0"}},{"$f":"'법정동(2014.12월말)'!M81-'법정동(2013년말)'!M82","v":{"v":0,"d":"0.0"}},{"$f":"'법정동(2014.12월말)'!N81-'법정동(2013년말)'!N82","v":{"v":0,"d":"0.0"}},{"$f":"'법정동(2014.12월말)'!O81-'법정동(2013년말)'!O82","v":{"v":0,"d":"0.0"}},{"$f":"'법정동(2014.12월말)'!P81-'법정동(2013년말)'!P82","v":{"v":0,"d":"0.0"}},{"$f":"'법정동(2014.12월말)'!Q81-'법정동(2013년말)'!Q82","v":{"v":0,"d":"0.0"}},{"$f":"'법정동(2014.12월말)'!R81-'법정동(2013년말)'!R82","v":{"v":0,"d":"0.0"}},{"$f":"'법정동(2014.12월말)'!S81-'법정동(2013년말)'!S82","v":{"v":0,"d":"0.0"}},{"$f":"'법정동(2014.12월말)'!T81-'법정동(2013년말)'!T82","v":{"v":0,"d":"0.0"}},{"$f":"'법정동(2014.12월말)'!U81-'법정동(2013년말)'!U82","v":{"v":0,"d":"0.0"}},{"$f":"'법정동(2014.12월말)'!V81-'법정동(2013년말)'!V82","v":{"v":0,"d":"0.0"}},{"$f":"'법정동(2014.12월말)'!W81-'법정동(2013년말)'!W82","v":{"v":0,"d":"0.0"}},{"$f":"'법정동(2014.12월말)'!X81-'법정동(2013년말)'!X82","v":{"v":0,"d":"0.0"}},{"$f":"'법정동(2014.12월말)'!Y81-'법정동(2013년말)'!Y82","v":{"v":0,"d":"0.0"}},{"$f":"'법정동(2014.12월말)'!Z81-'법정동(2013년말)'!Z82","v":{"v":0,"d":"0.0"}},{"$f":"'법정동(2014.12월말)'!AA81-'법정동(2013년말)'!AA82","v":{"v":0,"d":"0.0"}},{"$f":"'법정동(2014.12월말)'!AB81-'법정동(2013년말)'!AB82","v":{"v":0,"d":"0.0"}},{"$f":"'법정동(2014.12월말)'!AC81-'법정동(2013년말)'!AC82","v":{"v":0,"d":"0.0"}},{"$f":"'법정동(2014.12월말)'!AD81-'법정동(2013년말)'!AD82","v":{"v":0,"d":"0.0"}},{"$f":"'법정동(2014.12월말)'!AE81-'법정동(2013년말)'!AE82","v":{"v":0,"d":"0.0"}},{"$f":"'법정동(2014.12월말)'!AF81-'법정동(2013년말)'!AF82","v":{"v":0,"d":"0.0"}},{"$f":"'법정동(2014.12월말)'!AG81-'법정동(2013년말)'!AG82","v":{"v":0,"d":"0.0"}},{"$f":"'법정동(2014.12월말)'!AH81-'법정동(2013년말)'!AH82","v":{"v":0,"d":"0.0"}},{"$f":"'법정동(2014.12월말)'!AI81-'법정동(2013년말)'!AI82","v":{"v":0,"d":"0.0"}},{"$f":"'법정동(2014.12월말)'!AJ81-'법정동(2013년말)'!AJ82","v":{"v":0,"d":"0.0"}},{"$f":"'법정동(2014.12월말)'!AK81-'법정동(2013년말)'!AK82","v":{"v":0,"d":"0.0"}},{"$f":"'법정동(2014.12월말)'!AL81-'법정동(2013년말)'!AL82","v":{"v":0,"d":"0.0"}},{"$f":"'법정동(2014.12월말)'!AM81-'법정동(2013년말)'!AM82","v":{"v":0,"d":"0.0"}},{"$f":"'법정동(2014.12월말)'!AN81-'법정동(2013년말)'!AN82","v":{"v":0,"d":"0.0"}},{"$f":"'법정동(2014.12월말)'!AO81-'법정동(2013년말)'!AO82","v":{"v":0,"d":"0.0"}},{"$f":"'법정동(2014.12월말)'!AP81-'법정동(2013년말)'!AP82","v":{"v":0,"d":"0.0"}},{"$f":"'법정동(2014.12월말)'!AQ81-'법정동(2013년말)'!AQ82","v":{"v":0,"d":"0.0"}},{"$f":"'법정동(2014.12월말)'!AR81-'법정동(2013년말)'!AR82","v":{"v":0,"d":"0.0"}},{"$f":"'법정동(2014.12월말)'!AS81-'법정동(2013년말)'!AS82","v":{"v":0,"d":"0.0"}},{"$f":"'법정동(2014.12월말)'!AT81-'법정동(2013년말)'!AT82","v":{"v":0,"d":"0.0"}},{"$f":"'법정동(2014.12월말)'!AU81-'법정동(2013년말)'!AU82","v":{"v":0,"d":"0.0"}},{"$f":"'법정동(2014.12월말)'!AV81-'법정동(2013년말)'!AV82","v":{"v":0,"d":"0.0"}},{"$f":"'법정동(2014.12월말)'!AW81-'법정동(2013년말)'!AW82","v":{"v":0,"d":"0.0"}},{"$f":"'법정동(2014.12월말)'!AX81-'법정동(2013년말)'!AX82","v":{"v":0,"d":"0.0"}},{"$f":"'법정동(2014.12월말)'!AY81-'법정동(2013년말)'!AY82","v":{"v":0,"d":"0.0"}},{"$f":"'법정동(2014.12월말)'!AZ81-'법정동(2013년말)'!AZ82","v":{"v":0,"d":"0.0"}},{"$f":"'법정동(2014.12월말)'!BA81-'법정동(2013년말)'!BA82","v":{"v":0,"d":"0.0"}},{"$f":"'법정동(2014.12월말)'!BB81-'법정동(2013년말)'!BB82","v":{"v":0,"d":"0.0"}},{"$f":"'법정동(2014.12월말)'!BC81-'법정동(2013년말)'!BC82","v":{"v":0,"d":"0.0"}},{"$f":"'법정동(2014.12월말)'!BD81-'법정동(2013년말)'!BD82","v":{"v":0,"d":"0.0"}},{"$f":"'법정동(2014.12월말)'!BE81-'법정동(2013년말)'!BE82","v":{"v":0,"d":"0.0"}},{"$f":"'법정동(2014.12월말)'!BF81-'법정동(2013년말)'!BF82","v":{"v":0,"d":"0.0"}},{"$f":"'법정동(2014.12월말)'!BG81-'법정동(2013년말)'!BG82","v":{"v":0,"d":"0.0"}}]
["율촌면 취적리",{"$f":"'법정동(2014.12월말)'!B82-'법정동(2013년말)'!B83","v":{"v":-117,"d":"-117.0"}},{"$f":"'법정동(2014.12월말)'!C82-'법정동(2013년말)'!C83","v":{"v":8,"d":"8.0"}},{"$f":"'법정동(2014.12월말)'!D82-'법정동(2013년말)'!D83","v":{"v":-410,"d":"-410.0"}},{"$f":"'법정동(2014.12월말)'!E82-'법정동(2013년말)'!E83","v":{"v":-2,"d":"-2.0"}},{"$f":"'법정동(2014.12월말)'!F82-'법정동(2013년말)'!F83","v":{"v":-3677,"d":"-3,677.0"}},{"$f":"'법정동(2014.12월말)'!G82-'법정동(2013년말)'!G83","v":{"v":-2,"d":"-2.0"}},{"$f":"'법정동(2014.12월말)'!H82-'법정동(2013년말)'!H83","v":{"v":0,"d":"0.0"}},{"$f":"'법정동(2014.12월말)'!I82-'법정동(2013년말)'!I83","v":{"v":0,"d":"0.0"}},{"$f":"'법정동(2014.12월말)'!J82-'법정동(2013년말)'!J83","v":{"v":0,"d":"0.0"}},{"$f":"'법정동(2014.12월말)'!K82-'법정동(2013년말)'!K83","v":{"v":0,"d":"0.0"}},{"$f":"'법정동(2014.12월말)'!L82-'법정동(2013년말)'!L83","v":{"v":-117,"d":"-117.0"}},{"$f":"'법정동(2014.12월말)'!M82-'법정동(2013년말)'!M83","v":{"v":1,"d":"1.0"}},{"$f":"'법정동(2014.12월말)'!N82-'법정동(2013년말)'!N83","v":{"v":0,"d":"0.0"}},{"$f":"'법정동(2014.12월말)'!O82-'법정동(2013년말)'!O83","v":{"v":0,"d":"0.0"}},{"$f":"'법정동(2014.12월말)'!P82-'법정동(2013년말)'!P83","v":{"v":0,"d":"0.0"}},{"$f":"'법정동(2014.12월말)'!Q82-'법정동(2013년말)'!Q83","v":{"v":0,"d":"0.0"}},{"$f":"'법정동(2014.12월말)'!R82-'법정동(2013년말)'!R83","v":{"v":1660,"d":"1,660.0"}},{"$f":"'법정동(2014.12월말)'!S82-'법정동(2013년말)'!S83","v":{"v":6,"d":"6.0"}},{"$f":"'법정동(2014.12월말)'!T82-'법정동(2013년말)'!T83","v":{"v":0,"d":"0.0"}},{"$f":"'법정동(2014.12월말)'!U82-'법정동(2013년말)'!U83","v":{"v":0,"d":"0.0"}},{"$f":"'법정동(2014.12월말)'!V82-'법정동(2013년말)'!V83","v":{"v":0,"d":"0.0"}},{"$f":"'법정동(2014.12월말)'!W82-'법정동(2013년말)'!W83","v":{"v":0,"d":"0.0"}},{"$f":"'법정동(2014.12월말)'!X82-'법정동(2013년말)'!X83","v":{"v":0,"d":"0.0"}},{"$f":"'법정동(2014.12월말)'!Y82-'법정동(2013년말)'!Y83","v":{"v":0,"d":"0.0"}},{"$f":"'법정동(2014.12월말)'!Z82-'법정동(2013년말)'!Z83","v":{"v":0,"d":"0.0"}},{"$f":"'법정동(2014.12월말)'!AA82-'법정동(2013년말)'!AA83","v":{"v":0,"d":"0.0"}},{"$f":"'법정동(2014.12월말)'!AB82-'법정동(2013년말)'!AB83","v":{"v":0,"d":"0.0"}},{"$f":"'법정동(2014.12월말)'!AC82-'법정동(2013년말)'!AC83","v":{"v":0,"d":"0.0"}},{"$f":"'법정동(2014.12월말)'!AD82-'법정동(2013년말)'!AD83","v":{"v":587,"d":"587.0"}},{"$f":"'법정동(2014.12월말)'!AE82-'법정동(2013년말)'!AE83","v":{"v":2,"d":"2.0"}},{"$f":"'법정동(2014.12월말)'!AF82-'법정동(2013년말)'!AF83","v":{"v":878,"d":"878.0"}},{"$f":"'법정동(2014.12월말)'!AG82-'법정동(2013년말)'!AG83","v":{"v":5,"d":"5.0"}},{"$f":"'법정동(2014.12월말)'!AH82-'법정동(2013년말)'!AH83","v":{"v":0,"d":"0.0"}},{"$f":"'법정동(2014.12월말)'!AI82-'법정동(2013년말)'!AI83","v":{"v":0,"d":"0.0"}},{"$f":"'법정동(2014.12월말)'!AJ82-'법정동(2013년말)'!AJ83","v":{"v":0,"d":"0.0"}},{"$f":"'법정동(2014.12월말)'!AK82-'법정동(2013년말)'!AK83","v":{"v":0,"d":"0.0"}},{"$f":"'법정동(2014.12월말)'!AL82-'법정동(2013년말)'!AL83","v":{"v":-812,"d":"-812.0"}},{"$f":"'법정동(2014.12월말)'!AM82-'법정동(2013년말)'!AM83","v":{"v":-2,"d":"-2.0"}},{"$f":"'법정동(2014.12월말)'!AN82-'법정동(2013년말)'!AN83","v":{"v":0,"d":"0.0"}},{"$f":"'법정동(2014.12월말)'!AO82-'법정동(2013년말)'!AO83","v":{"v":0,"d":"0.0"}},{"$f":"'법정동(2014.12월말)'!AP82-'법정동(2013년말)'!AP83","v":{"v":0,"d":"0.0"}},{"$f":"'법정동(2014.12월말)'!AQ82-'법정동(2013년말)'!AQ83","v":{"v":0,"d":"0.0"}},{"$f":"'법정동(2014.12월말)'!AR82-'법정동(2013년말)'!AR83","v":{"v":-4,"d":"-4.0"}},{"$f":"'법정동(2014.12월말)'!AS82-'법정동(2013년말)'!AS83","v":{"v":-1,"d":"-1.0"}},{"$f":"'법정동(2014.12월말)'!AT82-'법정동(2013년말)'!AT83","v":{"v":0,"d":"0.0"}},{"$f":"'법정동(2014.12월말)'!AU82-'법정동(2013년말)'!AU83","v":{"v":0,"d":"0.0"}},{"$f":"'법정동(2014.12월말)'!AV82-'법정동(2013년말)'!AV83","v":{"v":0,"d":"0.0"}},{"$f":"'법정동(2014.12월말)'!AW82-'법정동(2013년말)'!AW83","v":{"v":0,"d":"0.0"}},{"$f":"'법정동(2014.12월말)'!AX82-'법정동(2013년말)'!AX83","v":{"v":0,"d":"0.0"}},{"$f":"'법정동(2014.12월말)'!AY82-'법정동(2013년말)'!AY83","v":{"v":0,"d":"0.0"}},{"$f":"'법정동(2014.12월말)'!AZ82-'법정동(2013년말)'!AZ83","v":{"v":0,"d":"0.0"}},{"$f":"'법정동(2014.12월말)'!BA82-'법정동(2013년말)'!BA83","v":{"v":0,"d":"0.0"}},{"$f":"'법정동(2014.12월말)'!BB82-'법정동(2013년말)'!BB83","v":{"v":0,"d":"0.0"}},{"$f":"'법정동(2014.12월말)'!BC82-'법정동(2013년말)'!BC83","v":{"v":0,"d":"0.0"}},{"$f":"'법정동(2014.12월말)'!BD82-'법정동(2013년말)'!BD83","v":{"v":0,"d":"0.0"}},{"$f":"'법정동(2014.12월말)'!BE82-'법정동(2013년말)'!BE83","v":{"v":0,"d":"0.0"}},{"$f":"'법정동(2014.12월말)'!BF82-'법정동(2013년말)'!BF83","v":{"v":1778,"d":"1,778.0"}},{"$f":"'법정동(2014.12월말)'!BG82-'법정동(2013년말)'!BG83","v":{"v":1,"d":"1.0"}}]
["율촌면 신풍리",{"$f":"'법정동(2014.12월말)'!B83-'법정동(2013년말)'!B84","v":{"v":-94,"d":"-94.0"}},{"$f":"'법정동(2014.12월말)'!C83-'법정동(2013년말)'!C84","v":{"v":5,"d":"5.0"}},{"$f":"'법정동(2014.12월말)'!D83-'법정동(2013년말)'!D84","v":{"v":-1112,"d":"-1,112.0"}},{"$f":"'법정동(2014.12월말)'!E83-'법정동(2013년말)'!E84","v":{"v":2,"d":"2.0"}},{"$f":"'법정동(2014.12월말)'!F83-'법정동(2013년말)'!F84","v":{"v":-2,"d":"-2.0"}},{"$f":"'법정동(2014.12월말)'!G83-'법정동(2013년말)'!G84","v":{"v":0,"d":"0.0"}},{"$f":"'법정동(2014.12월말)'!H83-'법정동(2013년말)'!H84","v":{"v":-3413,"d":"-3,413.0"}},{"$f":"'법정동(2014.12월말)'!I83-'법정동(2013년말)'!I84","v":{"v":-2,"d":"-2.0"}},{"$f":"'법정동(2014.12월말)'!J83-'법정동(2013년말)'!J84","v":{"v":0,"d":"0.0"}},{"$f":"'법정동(2014.12월말)'!K83-'법정동(2013년말)'!K84","v":{"v":0,"d":"0.0"}},{"$f":"'법정동(2014.12월말)'!L83-'법정동(2013년말)'!L84","v":{"v":-122.79999999981374,"d":"-122.8"}},{"$f":"'법정동(2014.12월말)'!M83-'법정동(2013년말)'!M84","v":{"v":-2,"d":"-2.0"}},{"$f":"'법정동(2014.12월말)'!N83-'법정동(2013년말)'!N84","v":{"v":0,"d":"0.0"}},{"$f":"'법정동(2014.12월말)'!O83-'법정동(2013년말)'!O84","v":{"v":0,"d":"0.0"}},{"$f":"'법정동(2014.12월말)'!P83-'법정동(2013년말)'!P84","v":{"v":0,"d":"0.0"}},{"$f":"'법정동(2014.12월말)'!Q83-'법정동(2013년말)'!Q84","v":{"v":0,"d":"0.0"}},{"$f":"'법정동(2014.12월말)'!R83-'법정동(2013년말)'!R84","v":{"v":254.80000000004657,"d":"254.8"}},{"$f":"'법정동(2014.12월말)'!S83-'법정동(2013년말)'!S84","v":{"v":2,"d":"2.0"}},{"$f":"'법정동(2014.12월말)'!T83-'법정동(2013년말)'!T84","v":{"v":0,"d":"0.0"}},{"$f":"'법정동(2014.12월말)'!U83-'법정동(2013년말)'!U84","v":{"v":0,"d":"0.0"}},{"$f":"'법정동(2014.12월말)'!V83-'법정동(2013년말)'!V84","v":{"v":0,"d":"0.0"}},{"$f":"'법정동(2014.12월말)'!W83-'법정동(2013년말)'!W84","v":{"v":0,"d":"0.0"}},{"$f":"'법정동(2014.12월말)'!X83-'법정동(2013년말)'!X84","v":{"v":0,"d":"0.0"}},{"$f":"'법정동(2014.12월말)'!Y83-'법정동(2013년말)'!Y84","v":{"v":0,"d":"0.0"}},{"$f":"'법정동(2014.12월말)'!Z83-'법정동(2013년말)'!Z84","v":{"v":0,"d":"0.0"}},{"$f":"'법정동(2014.12월말)'!AA83-'법정동(2013년말)'!AA84","v":{"v":0,"d":"0.0"}},{"$f":"'법정동(2014.12월말)'!AB83-'법정동(2013년말)'!AB84","v":{"v":0,"d":"0.0"}},{"$f":"'법정동(2014.12월말)'!AC83-'법정동(2013년말)'!AC84","v":{"v":0,"d":"0.0"}},{"$f":"'법정동(2014.12월말)'!AD83-'법정동(2013년말)'!AD84","v":{"v":-224,"d":"-224.0"}},{"$f":"'법정동(2014.12월말)'!AE83-'법정동(2013년말)'!AE84","v":{"v":-1,"d":"-1.0"}},{"$f":"'법정동(2014.12월말)'!AF83-'법정동(2013년말)'!AF84","v":{"v":188,"d":"188.0"}},{"$f":"'법정동(2014.12월말)'!AG83-'법정동(2013년말)'!AG84","v":{"v":4,"d":"4.0"}},{"$f":"'법정동(2014.12월말)'!AH83-'법정동(2013년말)'!AH84","v":{"v":0,"d":"0.0"}},{"$f":"'법정동(2014.12월말)'!AI83-'법정동(2013년말)'!AI84","v":{"v":0,"d":"0.0"}},{"$f":"'법정동(2014.12월말)'!AJ83-'법정동(2013년말)'!AJ84","v":{"v":0,"d":"0.0"}},{"$f":"'법정동(2014.12월말)'!AK83-'법정동(2013년말)'!AK84","v":{"v":0,"d":"0.0"}},{"$f":"'법정동(2014.12월말)'!AL83-'법정동(2013년말)'!AL84","v":{"v":0,"d":"0.0"}},{"$f":"'법정동(2014.12월말)'!AM83-'법정동(2013년말)'!AM84","v":{"v":0,"d":"0.0"}},{"$f":"'법정동(2014.12월말)'!AN83-'법정동(2013년말)'!AN84","v":{"v":0,"d":"0.0"}},{"$f":"'법정동(2014.12월말)'!AO83-'법정동(2013년말)'!AO84","v":{"v":0,"d":"0.0"}},{"$f":"'법정동(2014.12월말)'!AP83-'법정동(2013년말)'!AP84","v":{"v":0,"d":"0.0"}},{"$f":"'법정동(2014.12월말)'!AQ83-'법정동(2013년말)'!AQ84","v":{"v":0,"d":"0.0"}},{"$f":"'법정동(2014.12월말)'!AR83-'법정동(2013년말)'!AR84","v":{"v":0,"d":"0.0"}},{"$f":"'법정동(2014.12월말)'!AS83-'법정동(2013년말)'!AS84","v":{"v":0,"d":"0.0"}},{"$f":"'법정동(2014.12월말)'!AT83-'법정동(2013년말)'!AT84","v":{"v":0,"d":"0.0"}},{"$f":"'법정동(2014.12월말)'!AU83-'법정동(2013년말)'!AU84","v":{"v":0,"d":"0.0"}},{"$f":"'법정동(2014.12월말)'!AV83-'법정동(2013년말)'!AV84","v":{"v":0,"d":"0.0"}},{"$f":"'법정동(2014.12월말)'!AW83-'법정동(2013년말)'!AW84","v":{"v":0,"d":"0.0"}},{"$f":"'법정동(2014.12월말)'!AX83-'법정동(2013년말)'!AX84","v":{"v":0,"d":"0.0"}},{"$f":"'법정동(2014.12월말)'!AY83-'법정동(2013년말)'!AY84","v":{"v":0,"d":"0.0"}},{"$f":"'법정동(2014.12월말)'!AZ83-'법정동(2013년말)'!AZ84","v":{"v":0,"d":"0.0"}},{"$f":"'법정동(2014.12월말)'!BA83-'법정동(2013년말)'!BA84","v":{"v":0,"d":"0.0"}},{"$f":"'법정동(2014.12월말)'!BB83-'법정동(2013년말)'!BB84","v":{"v":0,"d":"0.0"}},{"$f":"'법정동(2014.12월말)'!BC83-'법정동(2013년말)'!BC84","v":{"v":0,"d":"0.0"}},{"$f":"'법정동(2014.12월말)'!BD83-'법정동(2013년말)'!BD84","v":{"v":0,"d":"0.0"}},{"$f":"'법정동(2014.12월말)'!BE83-'법정동(2013년말)'!BE84","v":{"v":0,"d":"0.0"}},{"$f":"'법정동(2014.12월말)'!BF83-'법정동(2013년말)'!BF84","v":{"v":4337,"d":"4,337.0"}},{"$f":"'법정동(2014.12월말)'!BG83-'법정동(2013년말)'!BG84","v":{"v":2,"d":"2.0"}}]
["율촌면 상봉리",{"$f":"'법정동(2014.12월말)'!B84-'법정동(2013년말)'!B85","v":{"v":0,"d":"0.0"}},{"$f":"'법정동(2014.12월말)'!C84-'법정동(2013년말)'!C85","v":{"v":7,"d":"7.0"}},{"$f":"'법정동(2014.12월말)'!D84-'법정동(2013년말)'!D85","v":{"v":-616,"d":"-616.0"}},{"$f":"'법정동(2014.12월말)'!E84-'법정동(2013년말)'!E85","v":{"v":-1,"d":"-1.0"}},{"$f":"'법정동(2014.12월말)'!F84-'법정동(2013년말)'!F85","v":{"v":-1610,"d":"-1,610.0"}},{"$f":"'법정동(2014.12월말)'!G84-'법정동(2013년말)'!G85","v":{"v":-1,"d":"-1.0"}},{"$f":"'법정동(2014.12월말)'!H84-'법정동(2013년말)'!H85","v":{"v":0,"d":"0.0"}},{"$f":"'법정동(2014.12월말)'!I84-'법정동(2013년말)'!I85","v":{"v":0,"d":"0.0"}},{"$f":"'법정동(2014.12월말)'!J84-'법정동(2013년말)'!J85","v":{"v":0,"d":"0.0"}},{"$f":"'법정동(2014.12월말)'!K84-'법정동(2013년말)'!K85","v":{"v":0,"d":"0.0"}},{"$f":"'법정동(2014.12월말)'!L84-'법정동(2013년말)'!L85","v":{"v":0,"d":"0.0"}},{"$f":"'법정동(2014.12월말)'!M84-'법정동(2013년말)'!M85","v":{"v":5,"d":"5.0"}},{"$f":"'법정동(2014.12월말)'!N84-'법정동(2013년말)'!N85","v":{"v":0,"d":"0.0"}},{"$f":"'법정동(2014.12월말)'!O84-'법정동(2013년말)'!O85","v":{"v":0,"d":"0.0"}},{"$f":"'법정동(2014.12월말)'!P84-'법정동(2013년말)'!P85","v":{"v":0,"d":"0.0"}},{"$f":"'법정동(2014.12월말)'!Q84-'법정동(2013년말)'!Q85","v":{"v":0,"d":"0.0"}},{"$f":"'법정동(2014.12월말)'!R84-'법정동(2013년말)'!R85","v":{"v":512,"d":"512.0"}},{"$f":"'법정동(2014.12월말)'!S84-'법정동(2013년말)'!S85","v":{"v":1,"d":"1.0"}},{"$f":"'법정동(2014.12월말)'!T84-'법정동(2013년말)'!T85","v":{"v":1583,"d":"1,583.0"}},{"$f":"'법정동(2014.12월말)'!U84-'법정동(2013년말)'!U85","v":{"v":1,"d":"1.0"}},{"$f":"'법정동(2014.12월말)'!V84-'법정동(2013년말)'!V85","v":{"v":0,"d":"0.0"}},{"$f":"'법정동(2014.12월말)'!W84-'법정동(2013년말)'!W85","v":{"v":0,"d":"0.0"}},{"$f":"'법정동(2014.12월말)'!X84-'법정동(2013년말)'!X85","v":{"v":0,"d":"0.0"}},{"$f":"'법정동(2014.12월말)'!Y84-'법정동(2013년말)'!Y85","v":{"v":0,"d":"0.0"}},{"$f":"'법정동(2014.12월말)'!Z84-'법정동(2013년말)'!Z85","v":{"v":0,"d":"0.0"}},{"$f":"'법정동(2014.12월말)'!AA84-'법정동(2013년말)'!AA85","v":{"v":0,"d":"0.0"}},{"$f":"'법정동(2014.12월말)'!AB84-'법정동(2013년말)'!AB85","v":{"v":-44,"d":"-44.0"}},{"$f":"'법정동(2014.12월말)'!AC84-'법정동(2013년말)'!AC85","v":{"v":-1,"d":"-1.0"}},{"$f":"'법정동(2014.12월말)'!AD84-'법정동(2013년말)'!AD85","v":{"v":175,"d":"175.0"}},{"$f":"'법정동(2014.12월말)'!AE84-'법정동(2013년말)'!AE85","v":{"v":3,"d":"3.0"}},{"$f":"'법정동(2014.12월말)'!AF84-'법정동(2013년말)'!AF85","v":{"v":0,"d":"0.0"}},{"$f":"'법정동(2014.12월말)'!AG84-'법정동(2013년말)'!AG85","v":{"v":0,"d":"0.0"}},{"$f":"'법정동(2014.12월말)'!AH84-'법정동(2013년말)'!AH85","v":{"v":0,"d":"0.0"}},{"$f":"'법정동(2014.12월말)'!AI84-'법정동(2013년말)'!AI85","v":{"v":0,"d":"0.0"}},{"$f":"'법정동(2014.12월말)'!AJ84-'법정동(2013년말)'!AJ85","v":{"v":0,"d":"0.0"}},{"$f":"'법정동(2014.12월말)'!AK84-'법정동(2013년말)'!AK85","v":{"v":0,"d":"0.0"}},{"$f":"'법정동(2014.12월말)'!AL84-'법정동(2013년말)'!AL85","v":{"v":0,"d":"0.0"}},{"$f":"'법정동(2014.12월말)'!AM84-'법정동(2013년말)'!AM85","v":{"v":0,"d":"0.0"}},{"$f":"'법정동(2014.12월말)'!AN84-'법정동(2013년말)'!AN85","v":{"v":0,"d":"0.0"}},{"$f":"'법정동(2014.12월말)'!AO84-'법정동(2013년말)'!AO85","v":{"v":0,"d":"0.0"}},{"$f":"'법정동(2014.12월말)'!AP84-'법정동(2013년말)'!AP85","v":{"v":0,"d":"0.0"}},{"$f":"'법정동(2014.12월말)'!AQ84-'법정동(2013년말)'!AQ85","v":{"v":0,"d":"0.0"}},{"$f":"'법정동(2014.12월말)'!AR84-'법정동(2013년말)'!AR85","v":{"v":0,"d":"0.0"}},{"$f":"'법정동(2014.12월말)'!AS84-'법정동(2013년말)'!AS85","v":{"v":0,"d":"0.0"}},{"$f":"'법정동(2014.12월말)'!AT84-'법정동(2013년말)'!AT85","v":{"v":0,"d":"0.0"}},{"$f":"'법정동(2014.12월말)'!AU84-'법정동(2013년말)'!AU85","v":{"v":0,"d":"0.0"}},{"$f":"'법정동(2014.12월말)'!AV84-'법정동(2013년말)'!AV85","v":{"v":0,"d":"0.0"}},{"$f":"'법정동(2014.12월말)'!AW84-'법정동(2013년말)'!AW85","v":{"v":0,"d":"0.0"}},{"$f":"'법정동(2014.12월말)'!AX84-'법정동(2013년말)'!AX85","v":{"v":0,"d":"0.0"}},{"$f":"'법정동(2014.12월말)'!AY84-'법정동(2013년말)'!AY85","v":{"v":0,"d":"0.0"}},{"$f":"'법정동(2014.12월말)'!AZ84-'법정동(2013년말)'!AZ85","v":{"v":0,"d":"0.0"}},{"$f":"'법정동(2014.12월말)'!BA84-'법정동(2013년말)'!BA85","v":{"v":0,"d":"0.0"}},{"$f":"'법정동(2014.12월말)'!BB84-'법정동(2013년말)'!BB85","v":{"v":0,"d":"0.0"}},{"$f":"'법정동(2014.12월말)'!BC84-'법정동(2013년말)'!BC85","v":{"v":0,"d":"0.0"}},{"$f":"'법정동(2014.12월말)'!BD84-'법정동(2013년말)'!BD85","v":{"v":0,"d":"0.0"}},{"$f":"'법정동(2014.12월말)'!BE84-'법정동(2013년말)'!BE85","v":{"v":0,"d":"0.0"}},{"$f":"'법정동(2014.12월말)'!BF84-'법정동(2013년말)'!BF85","v":{"v":0,"d":"0.0"}},{"$f":"'법정동(2014.12월말)'!BG84-'법정동(2013년말)'!BG85","v":{"v":0,"d":"0.0"}}]
["율촌면 여동리",{"$f":"'법정동(2014.12월말)'!B85-'법정동(2013년말)'!B86","v":{"v":234459.80000000005,"d":"234,459.8"}},{"$f":"'법정동(2014.12월말)'!C85-'법정동(2013년말)'!C86","v":{"v":-232,"d":"-232.0"}},{"$f":"'법정동(2014.12월말)'!D85-'법정동(2013년말)'!D86","v":{"v":0,"d":"0.0"}},{"$f":"'법정동(2014.12월말)'!E85-'법정동(2013년말)'!E86","v":{"v":-126,"d":"-126.0"}},{"$f":"'법정동(2014.12월말)'!F85-'법정동(2013년말)'!F86","v":{"v":0,"d":"0.0"}},{"$f":"'법정동(2014.12월말)'!G85-'법정동(2013년말)'!G86","v":{"v":-15,"d":"-15.0"}},{"$f":"'법정동(2014.12월말)'!H85-'법정동(2013년말)'!H86","v":{"v":0,"d":"0.0"}},{"$f":"'법정동(2014.12월말)'!I85-'법정동(2013년말)'!I86","v":{"v":0,"d":"0.0"}},{"$f":"'법정동(2014.12월말)'!J85-'법정동(2013년말)'!J86","v":{"v":0,"d":"0.0"}},{"$f":"'법정동(2014.12월말)'!K85-'법정동(2013년말)'!K86","v":{"v":0,"d":"0.0"}},{"$f":"'법정동(2014.12월말)'!L85-'법정동(2013년말)'!L86","v":{"v":0,"d":"0.0"}},{"$f":"'법정동(2014.12월말)'!M85-'법정동(2013년말)'!M86","v":{"v":-51,"d":"-51.0"}},{"$f":"'법정동(2014.12월말)'!N85-'법정동(2013년말)'!N86","v":{"v":0,"d":"0.0"}},{"$f":"'법정동(2014.12월말)'!O85-'법정동(2013년말)'!O86","v":{"v":0,"d":"0.0"}},{"$f":"'법정동(2014.12월말)'!P85-'법정동(2013년말)'!P86","v":{"v":0,"d":"0.0"}},{"$f":"'법정동(2014.12월말)'!Q85-'법정동(2013년말)'!Q86","v":{"v":0,"d":"0.0"}},{"$f":"'법정동(2014.12월말)'!R85-'법정동(2013년말)'!R86","v":{"v":0,"d":"0.0"}},{"$f":"'법정동(2014.12월말)'!S85-'법정동(2013년말)'!S86","v":{"v":-59,"d":"-59.0"}},{"$f":"'법정동(2014.12월말)'!T85-'법정동(2013년말)'!T86","v":{"v":181217.8,"d":"181,217.8"}},{"$f":"'법정동(2014.12월말)'!U85-'법정동(2013년말)'!U86","v":{"v":17,"d":"17.0"}},{"$f":"'법정동(2014.12월말)'!V85-'법정동(2013년말)'!V86","v":{"v":0,"d":"0.0"}},{"$f":"'법정동(2014.12월말)'!W85-'법정동(2013년말)'!W86","v":{"v":-1,"d":"-1.0"}},{"$f":"'법정동(2014.12월말)'!X85-'법정동(2013년말)'!X86","v":{"v":12483.5,"d":"12,483.5"}},{"$f":"'법정동(2014.12월말)'!Y85-'법정동(2013년말)'!Y86","v":{"v":2,"d":"2.0"}},{"$f":"'법정동(2014.12월말)'!Z85-'법정동(2013년말)'!Z86","v":{"v":0,"d":"0.0"}},{"$f":"'법정동(2014.12월말)'!AA85-'법정동(2013년말)'!AA86","v":{"v":0,"d":"0.0"}},{"$f":"'법정동(2014.12월말)'!AB85-'법정동(2013년말)'!AB86","v":{"v":0,"d":"0.0"}},{"$f":"'법정동(2014.12월말)'!AC85-'법정동(2013년말)'!AC86","v":{"v":0,"d":"0.0"}},{"$f":"'법정동(2014.12월말)'!AD85-'법정동(2013년말)'!AD86","v":{"v":40758.5,"d":"40,758.5"}},{"$f":"'법정동(2014.12월말)'!AE85-'법정동(2013년말)'!AE86","v":{"v":1,"d":"1.0"}},{"$f":"'법정동(2014.12월말)'!AF85-'법정동(2013년말)'!AF86","v":{"v":0,"d":"0.0"}},{"$f":"'법정동(2014.12월말)'!AG85-'법정동(2013년말)'!AG86","v":{"v":0,"d":"0.0"}},{"$f":"'법정동(2014.12월말)'!AH85-'법정동(2013년말)'!AH86","v":{"v":0,"d":"0.0"}},{"$f":"'법정동(2014.12월말)'!AI85-'법정동(2013년말)'!AI86","v":{"v":0,"d":"0.0"}},{"$f":"'법정동(2014.12월말)'!AJ85-'법정동(2013년말)'!AJ86","v":{"v":0,"d":"0.0"}},{"$f":"'법정동(2014.12월말)'!AK85-'법정동(2013년말)'!AK86","v":{"v":0,"d":"0.0"}},{"$f":"'법정동(2014.12월말)'!AL85-'법정동(2013년말)'!AL86","v":{"v":0,"d":"0.0"}},{"$f":"'법정동(2014.12월말)'!AM85-'법정동(2013년말)'!AM86","v":{"v":0,"d":"0.0"}},{"$f":"'법정동(2014.12월말)'!AN85-'법정동(2013년말)'!AN86","v":{"v":0,"d":"0.0"}},{"$f":"'법정동(2014.12월말)'!AO85-'법정동(2013년말)'!AO86","v":{"v":0,"d":"0.0"}},{"$f":"'법정동(2014.12월말)'!AP85-'법정동(2013년말)'!AP86","v":{"v":0,"d":"0.0"}},{"$f":"'법정동(2014.12월말)'!AQ85-'법정동(2013년말)'!AQ86","v":{"v":0,"d":"0.0"}},{"$f":"'법정동(2014.12월말)'!AR85-'법정동(2013년말)'!AR86","v":{"v":0,"d":"0.0"}},{"$f":"'법정동(2014.12월말)'!AS85-'법정동(2013년말)'!AS86","v":{"v":0,"d":"0.0"}},{"$f":"'법정동(2014.12월말)'!AT85-'법정동(2013년말)'!AT86","v":{"v":0,"d":"0.0"}},{"$f":"'법정동(2014.12월말)'!AU85-'법정동(2013년말)'!AU86","v":{"v":0,"d":"0.0"}},{"$f":"'법정동(2014.12월말)'!AV85-'법정동(2013년말)'!AV86","v":{"v":0,"d":"0.0"}},{"$f":"'법정동(2014.12월말)'!AW85-'법정동(2013년말)'!AW86","v":{"v":0,"d":"0.0"}},{"$f":"'법정동(2014.12월말)'!AX85-'법정동(2013년말)'!AX86","v":{"v":0,"d":"0.0"}},{"$f":"'법정동(2014.12월말)'!AY85-'법정동(2013년말)'!AY86","v":{"v":0,"d":"0.0"}},{"$f":"'법정동(2014.12월말)'!AZ85-'법정동(2013년말)'!AZ86","v":{"v":0,"d":"0.0"}},{"$f":"'법정동(2014.12월말)'!BA85-'법정동(2013년말)'!BA86","v":{"v":0,"d":"0.0"}},{"$f":"'법정동(2014.12월말)'!BB85-'법정동(2013년말)'!BB86","v":{"v":0,"d":"0.0"}},{"$f":"'법정동(2014.12월말)'!BC85-'법정동(2013년말)'!BC86","v":{"v":0,"d":"0.0"}},{"$f":"'법정동(2014.12월말)'!BD85-'법정동(2013년말)'!BD86","v":{"v":0,"d":"0.0"}},{"$f":"'법정동(2014.12월말)'!BE85-'법정동(2013년말)'!BE86","v":{"v":0,"d":"0.0"}},{"$f":"'법정동(2014.12월말)'!BF85-'법정동(2013년말)'!BF86","v":{"v":0,"d":"0.0"}},{"$f":"'법정동(2014.12월말)'!BG85-'법정동(2013년말)'!BG86","v":{"v":0,"d":"0.0"}}]
["화양면 나진리",{"$f":"'법정동(2014.12월말)'!B86-'법정동(2013년말)'!B87","v":{"v":0,"d":"0.0"}},{"$f":"'법정동(2014.12월말)'!C86-'법정동(2013년말)'!C87","v":{"v":7,"d":"7.0"}},{"$f":"'법정동(2014.12월말)'!D86-'법정동(2013년말)'!D87","v":{"v":4244,"d":"4,244.0"}},{"$f":"'법정동(2014.12월말)'!E86-'법정동(2013년말)'!E87","v":{"v":1,"d":"1.0"}},{"$f":"'법정동(2014.12월말)'!F86-'법정동(2013년말)'!F87","v":{"v":-8301,"d":"-8,301.0"}},{"$f":"'법정동(2014.12월말)'!G86-'법정동(2013년말)'!G87","v":{"v":-3,"d":"-3.0"}},{"$f":"'법정동(2014.12월말)'!H86-'법정동(2013년말)'!H87","v":{"v":0,"d":"0.0"}},{"$f":"'법정동(2014.12월말)'!I86-'법정동(2013년말)'!I87","v":{"v":0,"d":"0.0"}},{"$f":"'법정동(2014.12월말)'!J86-'법정동(2013년말)'!J87","v":{"v":0,"d":"0.0"}},{"$f":"'법정동(2014.12월말)'!K86-'법정동(2013년말)'!K87","v":{"v":0,"d":"0.0"}},{"$f":"'법정동(2014.12월말)'!L86-'법정동(2013년말)'!L87","v":{"v":0,"d":"0.0"}},{"$f":"'법정동(2014.12월말)'!M86-'법정동(2013년말)'!M87","v":{"v":1,"d":"1.0"}},{"$f":"'법정동(2014.12월말)'!N86-'법정동(2013년말)'!N87","v":{"v":0,"d":"0.0"}},{"$f":"'법정동(2014.12월말)'!O86-'법정동(2013년말)'!O87","v":{"v":0,"d":"0.0"}},{"$f":"'법정동(2014.12월말)'!P86-'법정동(2013년말)'!P87","v":{"v":0,"d":"0.0"}},{"$f":"'법정동(2014.12월말)'!Q86-'법정동(2013년말)'!Q87","v":{"v":0,"d":"0.0"}},{"$f":"'법정동(2014.12월말)'!R86-'법정동(2013년말)'!R87","v":{"v":1347,"d":"1,347.0"}},{"$f":"'법정동(2014.12월말)'!S86-'법정동(2013년말)'!S87","v":{"v":5,"d":"5.0"}},{"$f":"'법정동(2014.12월말)'!T86-'법정동(2013년말)'!T87","v":{"v":0,"d":"0.0"}},{"$f":"'법정동(2014.12월말)'!U86-'법정동(2013년말)'!U87","v":{"v":0,"d":"0.0"}},{"$f":"'법정동(2014.12월말)'!V86-'법정동(2013년말)'!V87","v":{"v":0,"d":"0.0"}},{"$f":"'법정동(2014.12월말)'!W86-'법정동(2013년말)'!W87","v":{"v":0,"d":"0.0"}},{"$f":"'법정동(2014.12월말)'!X86-'법정동(2013년말)'!X87","v":{"v":0,"d":"0.0"}},{"$f":"'법정동(2014.12월말)'!Y86-'법정동(2013년말)'!Y87","v":{"v":0,"d":"0.0"}},{"$f":"'법정동(2014.12월말)'!Z86-'법정동(2013년말)'!Z87","v":{"v":0,"d":"0.0"}},{"$f":"'법정동(2014.12월말)'!AA86-'법정동(2013년말)'!AA87","v":{"v":0,"d":"0.0"}},{"$f":"'법정동(2014.12월말)'!AB86-'법정동(2013년말)'!AB87","v":{"v":1487,"d":"1,487.0"}},{"$f":"'법정동(2014.12월말)'!AC86-'법정동(2013년말)'!AC87","v":{"v":1,"d":"1.0"}},{"$f":"'법정동(2014.12월말)'!AD86-'법정동(2013년말)'!AD87","v":{"v":-103,"d":"-103.0"}},{"$f":"'법정동(2014.12월말)'!AE86-'법정동(2013년말)'!AE87","v":{"v":1,"d":"1.0"}},{"$f":"'법정동(2014.12월말)'!AF86-'법정동(2013년말)'!AF87","v":{"v":0,"d":"0.0"}},{"$f":"'법정동(2014.12월말)'!AG86-'법정동(2013년말)'!AG87","v":{"v":0,"d":"0.0"}},{"$f":"'법정동(2014.12월말)'!AH86-'법정동(2013년말)'!AH87","v":{"v":0,"d":"0.0"}},{"$f":"'법정동(2014.12월말)'!AI86-'법정동(2013년말)'!AI87","v":{"v":0,"d":"0.0"}},{"$f":"'법정동(2014.12월말)'!AJ86-'법정동(2013년말)'!AJ87","v":{"v":0,"d":"0.0"}},{"$f":"'법정동(2014.12월말)'!AK86-'법정동(2013년말)'!AK87","v":{"v":0,"d":"0.0"}},{"$f":"'법정동(2014.12월말)'!AL86-'법정동(2013년말)'!AL87","v":{"v":0,"d":"0.0"}},{"$f":"'법정동(2014.12월말)'!AM86-'법정동(2013년말)'!AM87","v":{"v":0,"d":"0.0"}},{"$f":"'법정동(2014.12월말)'!AN86-'법정동(2013년말)'!AN87","v":{"v":0,"d":"0.0"}},{"$f":"'법정동(2014.12월말)'!AO86-'법정동(2013년말)'!AO87","v":{"v":0,"d":"0.0"}},{"$f":"'법정동(2014.12월말)'!AP86-'법정동(2013년말)'!AP87","v":{"v":0,"d":"0.0"}},{"$f":"'법정동(2014.12월말)'!AQ86-'법정동(2013년말)'!AQ87","v":{"v":0,"d":"0.0"}},{"$f":"'법정동(2014.12월말)'!AR86-'법정동(2013년말)'!AR87","v":{"v":0,"d":"0.0"}},{"$f":"'법정동(2014.12월말)'!AS86-'법정동(2013년말)'!AS87","v":{"v":0,"d":"0.0"}},{"$f":"'법정동(2014.12월말)'!AT86-'법정동(2013년말)'!AT87","v":{"v":0,"d":"0.0"}},{"$f":"'법정동(2014.12월말)'!AU86-'법정동(2013년말)'!AU87","v":{"v":0,"d":"0.0"}},{"$f":"'법정동(2014.12월말)'!AV86-'법정동(2013년말)'!AV87","v":{"v":0,"d":"0.0"}},{"$f":"'법정동(2014.12월말)'!AW86-'법정동(2013년말)'!AW87","v":{"v":0,"d":"0.0"}},{"$f":"'법정동(2014.12월말)'!AX86-'법정동(2013년말)'!AX87","v":{"v":0,"d":"0.0"}},{"$f":"'법정동(2014.12월말)'!AY86-'법정동(2013년말)'!AY87","v":{"v":0,"d":"0.0"}},{"$f":"'법정동(2014.12월말)'!AZ86-'법정동(2013년말)'!AZ87","v":{"v":0,"d":"0.0"}},{"$f":"'법정동(2014.12월말)'!BA86-'법정동(2013년말)'!BA87","v":{"v":0,"d":"0.0"}},{"$f":"'법정동(2014.12월말)'!BB86-'법정동(2013년말)'!BB87","v":{"v":0,"d":"0.0"}},{"$f":"'법정동(2014.12월말)'!BC86-'법정동(2013년말)'!BC87","v":{"v":0,"d":"0.0"}},{"$f":"'법정동(2014.12월말)'!BD86-'법정동(2013년말)'!BD87","v":{"v":0,"d":"0.0"}},{"$f":"'법정동(2014.12월말)'!BE86-'법정동(2013년말)'!BE87","v":{"v":0,"d":"0.0"}},{"$f":"'법정동(2014.12월말)'!BF86-'법정동(2013년말)'!BF87","v":{"v":1326,"d":"1,326.0"}},{"$f":"'법정동(2014.12월말)'!BG86-'법정동(2013년말)'!BG87","v":{"v":1,"d":"1.0"}}]
["화양면 용주리",{"$f":"'법정동(2014.12월말)'!B87-'법정동(2013년말)'!B88","v":{"v":0,"d":"0.0"}},{"$f":"'법정동(2014.12월말)'!C87-'법정동(2013년말)'!C88","v":{"v":14,"d":"14.0"}},{"$f":"'법정동(2014.12월말)'!D87-'법정동(2013년말)'!D88","v":{"v":919,"d":"919.0"}},{"$f":"'법정동(2014.12월말)'!E87-'법정동(2013년말)'!E88","v":{"v":3,"d":"3.0"}},{"$f":"'법정동(2014.12월말)'!F87-'법정동(2013년말)'!F88","v":{"v":-3616,"d":"-3,616.0"}},{"$f":"'법정동(2014.12월말)'!G87-'법정동(2013년말)'!G88","v":{"v":-2,"d":"-2.0"}},{"$f":"'법정동(2014.12월말)'!H87-'법정동(2013년말)'!H88","v":{"v":0,"d":"0.0"}},{"$f":"'법정동(2014.12월말)'!I87-'법정동(2013년말)'!I88","v":{"v":2,"d":"2.0"}},{"$f":"'법정동(2014.12월말)'!J87-'법정동(2013년말)'!J88","v":{"v":0,"d":"0.0"}},{"$f":"'법정동(2014.12월말)'!K87-'법정동(2013년말)'!K88","v":{"v":0,"d":"0.0"}},{"$f":"'법정동(2014.12월말)'!L87-'법정동(2013년말)'!L88","v":{"v":0,"d":"0.0"}},{"$f":"'법정동(2014.12월말)'!M87-'법정동(2013년말)'!M88","v":{"v":1,"d":"1.0"}},{"$f":"'법정동(2014.12월말)'!N87-'법정동(2013년말)'!N88","v":{"v":0,"d":"0.0"}},{"$f":"'법정동(2014.12월말)'!O87-'법정동(2013년말)'!O88","v":{"v":0,"d":"0.0"}},{"$f":"'법정동(2014.12월말)'!P87-'법정동(2013년말)'!P88","v":{"v":0,"d":"0.0"}},{"$f":"'법정동(2014.12월말)'!Q87-'법정동(2013년말)'!Q88","v":{"v":0,"d":"0.0"}},{"$f":"'법정동(2014.12월말)'!R87-'법정동(2013년말)'!R88","v":{"v":441,"d":"441.0"}},{"$f":"'법정동(2014.12월말)'!S87-'법정동(2013년말)'!S88","v":{"v":4,"d":"4.0"}},{"$f":"'법정동(2014.12월말)'!T87-'법정동(2013년말)'!T88","v":{"v":0,"d":"0.0"}},{"$f":"'법정동(2014.12월말)'!U87-'법정동(2013년말)'!U88","v":{"v":1,"d":"1.0"}},{"$f":"'법정동(2014.12월말)'!V87-'법정동(2013년말)'!V88","v":{"v":0,"d":"0.0"}},{"$f":"'법정동(2014.12월말)'!W87-'법정동(2013년말)'!W88","v":{"v":0,"d":"0.0"}},{"$f":"'법정동(2014.12월말)'!X87-'법정동(2013년말)'!X88","v":{"v":330,"d":"330.0"}},{"$f":"'법정동(2014.12월말)'!Y87-'법정동(2013년말)'!Y88","v":{"v":1,"d":"1.0"}},{"$f":"'법정동(2014.12월말)'!Z87-'법정동(2013년말)'!Z88","v":{"v":0,"d":"0.0"}},{"$f":"'법정동(2014.12월말)'!AA87-'법정동(2013년말)'!AA88","v":{"v":0,"d":"0.0"}},{"$f":"'법정동(2014.12월말)'!AB87-'법정동(2013년말)'!AB88","v":{"v":0,"d":"0.0"}},{"$f":"'법정동(2014.12월말)'!AC87-'법정동(2013년말)'!AC88","v":{"v":0,"d":"0.0"}},{"$f":"'법정동(2014.12월말)'!AD87-'법정동(2013년말)'!AD88","v":{"v":140,"d":"140.0"}},{"$f":"'법정동(2014.12월말)'!AE87-'법정동(2013년말)'!AE88","v":{"v":4,"d":"4.0"}},{"$f":"'법정동(2014.12월말)'!AF87-'법정동(2013년말)'!AF88","v":{"v":0,"d":"0.0"}},{"$f":"'법정동(2014.12월말)'!AG87-'법정동(2013년말)'!AG88","v":{"v":0,"d":"0.0"}},{"$f":"'법정동(2014.12월말)'!AH87-'법정동(2013년말)'!AH88","v":{"v":0,"d":"0.0"}},{"$f":"'법정동(2014.12월말)'!AI87-'법정동(2013년말)'!AI88","v":{"v":0,"d":"0.0"}},{"$f":"'법정동(2014.12월말)'!AJ87-'법정동(2013년말)'!AJ88","v":{"v":0,"d":"0.0"}},{"$f":"'법정동(2014.12월말)'!AK87-'법정동(2013년말)'!AK88","v":{"v":0,"d":"0.0"}},{"$f":"'법정동(2014.12월말)'!AL87-'법정동(2013년말)'!AL88","v":{"v":0,"d":"0.0"}},{"$f":"'법정동(2014.12월말)'!AM87-'법정동(2013년말)'!AM88","v":{"v":0,"d":"0.0"}},{"$f":"'법정동(2014.12월말)'!AN87-'법정동(2013년말)'!AN88","v":{"v":0,"d":"0.0"}},{"$f":"'법정동(2014.12월말)'!AO87-'법정동(2013년말)'!AO88","v":{"v":0,"d":"0.0"}},{"$f":"'법정동(2014.12월말)'!AP87-'법정동(2013년말)'!AP88","v":{"v":0,"d":"0.0"}},{"$f":"'법정동(2014.12월말)'!AQ87-'법정동(2013년말)'!AQ88","v":{"v":0,"d":"0.0"}},{"$f":"'법정동(2014.12월말)'!AR87-'법정동(2013년말)'!AR88","v":{"v":0,"d":"0.0"}},{"$f":"'법정동(2014.12월말)'!AS87-'법정동(2013년말)'!AS88","v":{"v":0,"d":"0.0"}},{"$f":"'법정동(2014.12월말)'!AT87-'법정동(2013년말)'!AT88","v":{"v":0,"d":"0.0"}},{"$f":"'법정동(2014.12월말)'!AU87-'법정동(2013년말)'!AU88","v":{"v":0,"d":"0.0"}},{"$f":"'법정동(2014.12월말)'!AV87-'법정동(2013년말)'!AV88","v":{"v":0,"d":"0.0"}},{"$f":"'법정동(2014.12월말)'!AW87-'법정동(2013년말)'!AW88","v":{"v":0,"d":"0.0"}},{"$f":"'법정동(2014.12월말)'!AX87-'법정동(2013년말)'!AX88","v":{"v":0,"d":"0.0"}},{"$f":"'법정동(2014.12월말)'!AY87-'법정동(2013년말)'!AY88","v":{"v":0,"d":"0.0"}},{"$f":"'법정동(2014.12월말)'!AZ87-'법정동(2013년말)'!AZ88","v":{"v":0,"d":"0.0"}},{"$f":"'법정동(2014.12월말)'!BA87-'법정동(2013년말)'!BA88","v":{"v":0,"d":"0.0"}},{"$f":"'법정동(2014.12월말)'!BB87-'법정동(2013년말)'!BB88","v":{"v":0,"d":"0.0"}},{"$f":"'법정동(2014.12월말)'!BC87-'법정동(2013년말)'!BC88","v":{"v":0,"d":"0.0"}},{"$f":"'법정동(2014.12월말)'!BD87-'법정동(2013년말)'!BD88","v":{"v":0,"d":"0.0"}},{"$f":"'법정동(2014.12월말)'!BE87-'법정동(2013년말)'!BE88","v":{"v":0,"d":"0.0"}},{"$f":"'법정동(2014.12월말)'!BF87-'법정동(2013년말)'!BF88","v":{"v":1786,"d":"1,786.0"}},{"$f":"'법정동(2014.12월말)'!BG87-'법정동(2013년말)'!BG88","v":{"v":0,"d":"0.0"}}]
["화양면 창무리",{"$f":"'법정동(2014.12월말)'!B88-'법정동(2013년말)'!B89","v":{"v":866.9999999995343,"d":"867.0"}},{"$f":"'법정동(2014.12월말)'!C88-'법정동(2013년말)'!C89","v":{"v":13,"d":"13.0"}},{"$f":"'법정동(2014.12월말)'!D88-'법정동(2013년말)'!D89","v":{"v":-589,"d":"-589.0"}},{"$f":"'법정동(2014.12월말)'!E88-'법정동(2013년말)'!E89","v":{"v":6,"d":"6.0"}},{"$f":"'법정동(2014.12월말)'!F88-'법정동(2013년말)'!F89","v":{"v":-2474,"d":"-2,474.0"}},{"$f":"'법정동(2014.12월말)'!G88-'법정동(2013년말)'!G89","v":{"v":-2,"d":"-2.0"}},{"$f":"'법정동(2014.12월말)'!H88-'법정동(2013년말)'!H89","v":{"v":0,"d":"0.0"}},{"$f":"'법정동(2014.12월말)'!I88-'법정동(2013년말)'!I89","v":{"v":0,"d":"0.0"}},{"$f":"'법정동(2014.12월말)'!J88-'법정동(2013년말)'!J89","v":{"v":0,"d":"0.0"}},{"$f":"'법정동(2014.12월말)'!K88-'법정동(2013년말)'!K89","v":{"v":0,"d":"0.0"}},{"$f":"'법정동(2014.12월말)'!L88-'법정동(2013년말)'!L89","v":{"v":0,"d":"0.0"}},{"$f":"'법정동(2014.12월말)'!M88-'법정동(2013년말)'!M89","v":{"v":1,"d":"1.0"}},{"$f":"'법정동(2014.12월말)'!N88-'법정동(2013년말)'!N89","v":{"v":0,"d":"0.0"}},{"$f":"'법정동(2014.12월말)'!O88-'법정동(2013년말)'!O89","v":{"v":0,"d":"0.0"}},{"$f":"'법정동(2014.12월말)'!P88-'법정동(2013년말)'!P89","v":{"v":0,"d":"0.0"}},{"$f":"'법정동(2014.12월말)'!Q88-'법정동(2013년말)'!Q89","v":{"v":0,"d":"0.0"}},{"$f":"'법정동(2014.12월말)'!R88-'법정동(2013년말)'!R89","v":{"v":2908,"d":"2,908.0"}},{"$f":"'법정동(2014.12월말)'!S88-'법정동(2013년말)'!S89","v":{"v":6,"d":"6.0"}},{"$f":"'법정동(2014.12월말)'!T88-'법정동(2013년말)'!T89","v":{"v":0,"d":"0.0"}},{"$f":"'법정동(2014.12월말)'!U88-'법정동(2013년말)'!U89","v":{"v":0,"d":"0.0"}},{"$f":"'법정동(2014.12월말)'!V88-'법정동(2013년말)'!V89","v":{"v":0,"d":"0.0"}},{"$f":"'법정동(2014.12월말)'!W88-'법정동(2013년말)'!W89","v":{"v":0,"d":"0.0"}},{"$f":"'법정동(2014.12월말)'!X88-'법정동(2013년말)'!X89","v":{"v":0,"d":"0.0"}},{"$f":"'법정동(2014.12월말)'!Y88-'법정동(2013년말)'!Y89","v":{"v":0,"d":"0.0"}},{"$f":"'법정동(2014.12월말)'!Z88-'법정동(2013년말)'!Z89","v":{"v":0,"d":"0.0"}},{"$f":"'법정동(2014.12월말)'!AA88-'법정동(2013년말)'!AA89","v":{"v":0,"d":"0.0"}},{"$f":"'법정동(2014.12월말)'!AB88-'법정동(2013년말)'!AB89","v":{"v":973,"d":"973.0"}},{"$f":"'법정동(2014.12월말)'!AC88-'법정동(2013년말)'!AC89","v":{"v":1,"d":"1.0"}},{"$f":"'법정동(2014.12월말)'!AD88-'법정동(2013년말)'!AD89","v":{"v":0,"d":"0.0"}},{"$f":"'법정동(2014.12월말)'!AE88-'법정동(2013년말)'!AE89","v":{"v":0,"d":"0.0"}},{"$f":"'법정동(2014.12월말)'!AF88-'법정동(2013년말)'!AF89","v":{"v":0,"d":"0.0"}},{"$f":"'법정동(2014.12월말)'!AG88-'법정동(2013년말)'!AG89","v":{"v":0,"d":"0.0"}},{"$f":"'법정동(2014.12월말)'!AH88-'법정동(2013년말)'!AH89","v":{"v":0,"d":"0.0"}},{"$f":"'법정동(2014.12월말)'!AI88-'법정동(2013년말)'!AI89","v":{"v":0,"d":"0.0"}},{"$f":"'법정동(2014.12월말)'!AJ88-'법정동(2013년말)'!AJ89","v":{"v":-3094,"d":"-3,094.0"}},{"$f":"'법정동(2014.12월말)'!AK88-'법정동(2013년말)'!AK89","v":{"v":-2,"d":"-2.0"}},{"$f":"'법정동(2014.12월말)'!AL88-'법정동(2013년말)'!AL89","v":{"v":-50,"d":"-50.0"}},{"$f":"'법정동(2014.12월말)'!AM88-'법정동(2013년말)'!AM89","v":{"v":1,"d":"1.0"}},{"$f":"'법정동(2014.12월말)'!AN88-'법정동(2013년말)'!AN89","v":{"v":0,"d":"0.0"}},{"$f":"'법정동(2014.12월말)'!AO88-'법정동(2013년말)'!AO89","v":{"v":0,"d":"0.0"}},{"$f":"'법정동(2014.12월말)'!AP88-'법정동(2013년말)'!AP89","v":{"v":3193,"d":"3,193.0"}},{"$f":"'법정동(2014.12월말)'!AQ88-'법정동(2013년말)'!AQ89","v":{"v":2,"d":"2.0"}},{"$f":"'법정동(2014.12월말)'!AR88-'법정동(2013년말)'!AR89","v":{"v":0,"d":"0.0"}},{"$f":"'법정동(2014.12월말)'!AS88-'법정동(2013년말)'!AS89","v":{"v":0,"d":"0.0"}},{"$f":"'법정동(2014.12월말)'!AT88-'법정동(2013년말)'!AT89","v":{"v":0,"d":"0.0"}},{"$f":"'법정동(2014.12월말)'!AU88-'법정동(2013년말)'!AU89","v":{"v":0,"d":"0.0"}},{"$f":"'법정동(2014.12월말)'!AV88-'법정동(2013년말)'!AV89","v":{"v":0,"d":"0.0"}},{"$f":"'법정동(2014.12월말)'!AW88-'법정동(2013년말)'!AW89","v":{"v":0,"d":"0.0"}},{"$f":"'법정동(2014.12월말)'!AX88-'법정동(2013년말)'!AX89","v":{"v":0,"d":"0.0"}},{"$f":"'법정동(2014.12월말)'!AY88-'법정동(2013년말)'!AY89","v":{"v":0,"d":"0.0"}},{"$f":"'법정동(2014.12월말)'!AZ88-'법정동(2013년말)'!AZ89","v":{"v":0,"d":"0.0"}},{"$f":"'법정동(2014.12월말)'!BA88-'법정동(2013년말)'!BA89","v":{"v":0,"d":"0.0"}},{"$f":"'법정동(2014.12월말)'!BB88-'법정동(2013년말)'!BB89","v":{"v":0,"d":"0.0"}},{"$f":"'법정동(2014.12월말)'!BC88-'법정동(2013년말)'!BC89","v":{"v":0,"d":"0.0"}},{"$f":"'법정동(2014.12월말)'!BD88-'법정동(2013년말)'!BD89","v":{"v":0,"d":"0.0"}},{"$f":"'법정동(2014.12월말)'!BE88-'법정동(2013년말)'!BE89","v":{"v":0,"d":"0.0"}},{"$f":"'법정동(2014.12월말)'!BF88-'법정동(2013년말)'!BF89","v":{"v":0,"d":"0.0"}},{"$f":"'법정동(2014.12월말)'!BG88-'법정동(2013년말)'!BG89","v":{"v":0,"d":"0.0"}}]
["화양면 이천리",{"$f":"'법정동(2014.12월말)'!B89-'법정동(2013년말)'!B90","v":{"v":-219,"d":"-219.0"}},{"$f":"'법정동(2014.12월말)'!C89-'법정동(2013년말)'!C90","v":{"v":-2,"d":"-2.0"}},{"$f":"'법정동(2014.12월말)'!D89-'법정동(2013년말)'!D90","v":{"v":-1648,"d":"-1,648.0"}},{"$f":"'법정동(2014.12월말)'!E89-'법정동(2013년말)'!E90","v":{"v":-7,"d":"-7.0"}},{"$f":"'법정동(2014.12월말)'!F89-'법정동(2013년말)'!F90","v":{"v":0,"d":"0.0"}},{"$f":"'법정동(2014.12월말)'!G89-'법정동(2013년말)'!G90","v":{"v":0,"d":"0.0"}},{"$f":"'법정동(2014.12월말)'!H89-'법정동(2013년말)'!H90","v":{"v":0,"d":"0.0"}},{"$f":"'법정동(2014.12월말)'!I89-'법정동(2013년말)'!I90","v":{"v":-1,"d":"-1.0"}},{"$f":"'법정동(2014.12월말)'!J89-'법정동(2013년말)'!J90","v":{"v":0,"d":"0.0"}},{"$f":"'법정동(2014.12월말)'!K89-'법정동(2013년말)'!K90","v":{"v":0,"d":"0.0"}},{"$f":"'법정동(2014.12월말)'!L89-'법정동(2013년말)'!L90","v":{"v":-619,"d":"-619.0"}},{"$f":"'법정동(2014.12월말)'!M89-'법정동(2013년말)'!M90","v":{"v":-2,"d":"-2.0"}},{"$f":"'법정동(2014.12월말)'!N89-'법정동(2013년말)'!N90","v":{"v":0,"d":"0.0"}},{"$f":"'법정동(2014.12월말)'!O89-'법정동(2013년말)'!O90","v":{"v":0,"d":"0.0"}},{"$f":"'법정동(2014.12월말)'!P89-'법정동(2013년말)'!P90","v":{"v":0,"d":"0.0"}},{"$f":"'법정동(2014.12월말)'!Q89-'법정동(2013년말)'!Q90","v":{"v":0,"d":"0.0"}},{"$f":"'법정동(2014.12월말)'!R89-'법정동(2013년말)'!R90","v":{"v":1771,"d":"1,771.0"}},{"$f":"'법정동(2014.12월말)'!S89-'법정동(2013년말)'!S90","v":{"v":6,"d":"6.0"}},{"$f":"'법정동(2014.12월말)'!T89-'법정동(2013년말)'!T90","v":{"v":0,"d":"0.0"}},{"$f":"'법정동(2014.12월말)'!U89-'법정동(2013년말)'!U90","v":{"v":0,"d":"0.0"}},{"$f":"'법정동(2014.12월말)'!V89-'법정동(2013년말)'!V90","v":{"v":0,"d":"0.0"}},{"$f":"'법정동(2014.12월말)'!W89-'법정동(2013년말)'!W90","v":{"v":0,"d":"0.0"}},{"$f":"'법정동(2014.12월말)'!X89-'법정동(2013년말)'!X90","v":{"v":0,"d":"0.0"}},{"$f":"'법정동(2014.12월말)'!Y89-'법정동(2013년말)'!Y90","v":{"v":0,"d":"0.0"}},{"$f":"'법정동(2014.12월말)'!Z89-'법정동(2013년말)'!Z90","v":{"v":0,"d":"0.0"}},{"$f":"'법정동(2014.12월말)'!AA89-'법정동(2013년말)'!AA90","v":{"v":0,"d":"0.0"}},{"$f":"'법정동(2014.12월말)'!AB89-'법정동(2013년말)'!AB90","v":{"v":0,"d":"0.0"}},{"$f":"'법정동(2014.12월말)'!AC89-'법정동(2013년말)'!AC90","v":{"v":0,"d":"0.0"}},{"$f":"'법정동(2014.12월말)'!AD89-'법정동(2013년말)'!AD90","v":{"v":277,"d":"277.0"}},{"$f":"'법정동(2014.12월말)'!AE89-'법정동(2013년말)'!AE90","v":{"v":2,"d":"2.0"}},{"$f":"'법정동(2014.12월말)'!AF89-'법정동(2013년말)'!AF90","v":{"v":0,"d":"0.0"}},{"$f":"'법정동(2014.12월말)'!AG89-'법정동(2013년말)'!AG90","v":{"v":0,"d":"0.0"}},{"$f":"'법정동(2014.12월말)'!AH89-'법정동(2013년말)'!AH90","v":{"v":0,"d":"0.0"}},{"$f":"'법정동(2014.12월말)'!AI89-'법정동(2013년말)'!AI90","v":{"v":0,"d":"0.0"}},{"$f":"'법정동(2014.12월말)'!AJ89-'법정동(2013년말)'!AJ90","v":{"v":0,"d":"0.0"}},{"$f":"'법정동(2014.12월말)'!AK89-'법정동(2013년말)'!AK90","v":{"v":0,"d":"0.0"}},{"$f":"'법정동(2014.12월말)'!AL89-'법정동(2013년말)'!AL90","v":{"v":0,"d":"0.0"}},{"$f":"'법정동(2014.12월말)'!AM89-'법정동(2013년말)'!AM90","v":{"v":0,"d":"0.0"}},{"$f":"'법정동(2014.12월말)'!AN89-'법정동(2013년말)'!AN90","v":{"v":0,"d":"0.0"}},{"$f":"'법정동(2014.12월말)'!AO89-'법정동(2013년말)'!AO90","v":{"v":0,"d":"0.0"}},{"$f":"'법정동(2014.12월말)'!AP89-'법정동(2013년말)'!AP90","v":{"v":0,"d":"0.0"}},{"$f":"'법정동(2014.12월말)'!AQ89-'법정동(2013년말)'!AQ90","v":{"v":0,"d":"0.0"}},{"$f":"'법정동(2014.12월말)'!AR89-'법정동(2013년말)'!AR90","v":{"v":0,"d":"0.0"}},{"$f":"'법정동(2014.12월말)'!AS89-'법정동(2013년말)'!AS90","v":{"v":0,"d":"0.0"}},{"$f":"'법정동(2014.12월말)'!AT89-'법정동(2013년말)'!AT90","v":{"v":0,"d":"0.0"}},{"$f":"'법정동(2014.12월말)'!AU89-'법정동(2013년말)'!AU90","v":{"v":0,"d":"0.0"}},{"$f":"'법정동(2014.12월말)'!AV89-'법정동(2013년말)'!AV90","v":{"v":0,"d":"0.0"}},{"$f":"'법정동(2014.12월말)'!AW89-'법정동(2013년말)'!AW90","v":{"v":0,"d":"0.0"}},{"$f":"'법정동(2014.12월말)'!AX89-'법정동(2013년말)'!AX90","v":{"v":0,"d":"0.0"}},{"$f":"'법정동(2014.12월말)'!AY89-'법정동(2013년말)'!AY90","v":{"v":0,"d":"0.0"}},{"$f":"'법정동(2014.12월말)'!AZ89-'법정동(2013년말)'!AZ90","v":{"v":0,"d":"0.0"}},{"$f":"'법정동(2014.12월말)'!BA89-'법정동(2013년말)'!BA90","v":{"v":0,"d":"0.0"}},{"$f":"'법정동(2014.12월말)'!BB89-'법정동(2013년말)'!BB90","v":{"v":0,"d":"0.0"}},{"$f":"'법정동(2014.12월말)'!BC89-'법정동(2013년말)'!BC90","v":{"v":0,"d":"0.0"}},{"$f":"'법정동(2014.12월말)'!BD89-'법정동(2013년말)'!BD90","v":{"v":0,"d":"0.0"}},{"$f":"'법정동(2014.12월말)'!BE89-'법정동(2013년말)'!BE90","v":{"v":0,"d":"0.0"}},{"$f":"'법정동(2014.12월말)'!BF89-'법정동(2013년말)'!BF90","v":{"v":0,"d":"0.0"}},{"$f":"'법정동(2014.12월말)'!BG89-'법정동(2013년말)'!BG90","v":{"v":0,"d":"0.0"}}]
["화양면 옥적리",{"$f":"'법정동(2014.12월말)'!B90-'법정동(2013년말)'!B91","v":{"v":-308.99999999813735,"d":"-309.0"}},{"$f":"'법정동(2014.12월말)'!C90-'법정동(2013년말)'!C91","v":{"v":8,"d":"8.0"}},{"$f":"'법정동(2014.12월말)'!D90-'법정동(2013년말)'!D91","v":{"v":-40,"d":"-40.0"}},{"$f":"'법정동(2014.12월말)'!E90-'법정동(2013년말)'!E91","v":{"v":3,"d":"3.0"}},{"$f":"'법정동(2014.12월말)'!F90-'법정동(2013년말)'!F91","v":{"v":-787,"d":"-787.0"}},{"$f":"'법정동(2014.12월말)'!G90-'법정동(2013년말)'!G91","v":{"v":0,"d":"0.0"}},{"$f":"'법정동(2014.12월말)'!H90-'법정동(2013년말)'!H91","v":{"v":0,"d":"0.0"}},{"$f":"'법정동(2014.12월말)'!I90-'법정동(2013년말)'!I91","v":{"v":0,"d":"0.0"}},{"$f":"'법정동(2014.12월말)'!J90-'법정동(2013년말)'!J91","v":{"v":0,"d":"0.0"}},{"$f":"'법정동(2014.12월말)'!K90-'법정동(2013년말)'!K91","v":{"v":0,"d":"0.0"}},{"$f":"'법정동(2014.12월말)'!L90-'법정동(2013년말)'!L91","v":{"v":-426,"d":"-426.0"}},{"$f":"'법정동(2014.12월말)'!M90-'법정동(2013년말)'!M91","v":{"v":2,"d":"2.0"}},{"$f":"'법정동(2014.12월말)'!N90-'법정동(2013년말)'!N91","v":{"v":0,"d":"0.0"}},{"$f":"'법정동(2014.12월말)'!O90-'법정동(2013년말)'!O91","v":{"v":0,"d":"0.0"}},{"$f":"'법정동(2014.12월말)'!P90-'법정동(2013년말)'!P91","v":{"v":0,"d":"0.0"}},{"$f":"'법정동(2014.12월말)'!Q90-'법정동(2013년말)'!Q91","v":{"v":0,"d":"0.0"}},{"$f":"'법정동(2014.12월말)'!R90-'법정동(2013년말)'!R91","v":{"v":890,"d":"890.0"}},{"$f":"'법정동(2014.12월말)'!S90-'법정동(2013년말)'!S91","v":{"v":1,"d":"1.0"}},{"$f":"'법정동(2014.12월말)'!T90-'법정동(2013년말)'!T91","v":{"v":0,"d":"0.0"}},{"$f":"'법정동(2014.12월말)'!U90-'법정동(2013년말)'!U91","v":{"v":0,"d":"0.0"}},{"$f":"'법정동(2014.12월말)'!V90-'법정동(2013년말)'!V91","v":{"v":0,"d":"0.0"}},{"$f":"'법정동(2014.12월말)'!W90-'법정동(2013년말)'!W91","v":{"v":0,"d":"0.0"}},{"$f":"'법정동(2014.12월말)'!X90-'법정동(2013년말)'!X91","v":{"v":0,"d":"0.0"}},{"$f":"'법정동(2014.12월말)'!Y90-'법정동(2013년말)'!Y91","v":{"v":0,"d":"0.0"}},{"$f":"'법정동(2014.12월말)'!Z90-'법정동(2013년말)'!Z91","v":{"v":0,"d":"0.0"}},{"$f":"'법정동(2014.12월말)'!AA90-'법정동(2013년말)'!AA91","v":{"v":0,"d":"0.0"}},{"$f":"'법정동(2014.12월말)'!AB90-'법정동(2013년말)'!AB91","v":{"v":0,"d":"0.0"}},{"$f":"'법정동(2014.12월말)'!AC90-'법정동(2013년말)'!AC91","v":{"v":0,"d":"0.0"}},{"$f":"'법정동(2014.12월말)'!AD90-'법정동(2013년말)'!AD91","v":{"v":237,"d":"237.0"}},{"$f":"'법정동(2014.12월말)'!AE90-'법정동(2013년말)'!AE91","v":{"v":1,"d":"1.0"}},{"$f":"'법정동(2014.12월말)'!AF90-'법정동(2013년말)'!AF91","v":{"v":0,"d":"0.0"}},{"$f":"'법정동(2014.12월말)'!AG90-'법정동(2013년말)'!AG91","v":{"v":0,"d":"0.0"}},{"$f":"'법정동(2014.12월말)'!AH90-'법정동(2013년말)'!AH91","v":{"v":0,"d":"0.0"}},{"$f":"'법정동(2014.12월말)'!AI90-'법정동(2013년말)'!AI91","v":{"v":0,"d":"0.0"}},{"$f":"'법정동(2014.12월말)'!AJ90-'법정동(2013년말)'!AJ91","v":{"v":0,"d":"0.0"}},{"$f":"'법정동(2014.12월말)'!AK90-'법정동(2013년말)'!AK91","v":{"v":0,"d":"0.0"}},{"$f":"'법정동(2014.12월말)'!AL90-'법정동(2013년말)'!AL91","v":{"v":-280,"d":"-280.0"}},{"$f":"'법정동(2014.12월말)'!AM90-'법정동(2013년말)'!AM91","v":{"v":0,"d":"0.0"}},{"$f":"'법정동(2014.12월말)'!AN90-'법정동(2013년말)'!AN91","v":{"v":0,"d":"0.0"}},{"$f":"'법정동(2014.12월말)'!AO90-'법정동(2013년말)'!AO91","v":{"v":0,"d":"0.0"}},{"$f":"'법정동(2014.12월말)'!AP90-'법정동(2013년말)'!AP91","v":{"v":0,"d":"0.0"}},{"$f":"'법정동(2014.12월말)'!AQ90-'법정동(2013년말)'!AQ91","v":{"v":0,"d":"0.0"}},{"$f":"'법정동(2014.12월말)'!AR90-'법정동(2013년말)'!AR91","v":{"v":0,"d":"0.0"}},{"$f":"'법정동(2014.12월말)'!AS90-'법정동(2013년말)'!AS91","v":{"v":0,"d":"0.0"}},{"$f":"'법정동(2014.12월말)'!AT90-'법정동(2013년말)'!AT91","v":{"v":0,"d":"0.0"}},{"$f":"'법정동(2014.12월말)'!AU90-'법정동(2013년말)'!AU91","v":{"v":0,"d":"0.0"}},{"$f":"'법정동(2014.12월말)'!AV90-'법정동(2013년말)'!AV91","v":{"v":0,"d":"0.0"}},{"$f":"'법정동(2014.12월말)'!AW90-'법정동(2013년말)'!AW91","v":{"v":0,"d":"0.0"}},{"$f":"'법정동(2014.12월말)'!AX90-'법정동(2013년말)'!AX91","v":{"v":0,"d":"0.0"}},{"$f":"'법정동(2014.12월말)'!AY90-'법정동(2013년말)'!AY91","v":{"v":0,"d":"0.0"}},{"$f":"'법정동(2014.12월말)'!AZ90-'법정동(2013년말)'!AZ91","v":{"v":0,"d":"0.0"}},{"$f":"'법정동(2014.12월말)'!BA90-'법정동(2013년말)'!BA91","v":{"v":0,"d":"0.0"}},{"$f":"'법정동(2014.12월말)'!BB90-'법정동(2013년말)'!BB91","v":{"v":0,"d":"0.0"}},{"$f":"'법정동(2014.12월말)'!BC90-'법정동(2013년말)'!BC91","v":{"v":0,"d":"0.0"}},{"$f":"'법정동(2014.12월말)'!BD90-'법정동(2013년말)'!BD91","v":{"v":97,"d":"97.0"}},{"$f":"'법정동(2014.12월말)'!BE90-'법정동(2013년말)'!BE91","v":{"v":1,"d":"1.0"}},{"$f":"'법정동(2014.12월말)'!BF90-'법정동(2013년말)'!BF91","v":{"v":0,"d":"0.0"}},{"$f":"'법정동(2014.12월말)'!BG90-'법정동(2013년말)'!BG91","v":{"v":0,"d":"0.0"}}]
["화양면 화동리",{"$f":"'법정동(2014.12월말)'!B91-'법정동(2013년말)'!B92","v":{"v":668.0000000009313,"d":"668.0"}},{"$f":"'법정동(2014.12월말)'!C91-'법정동(2013년말)'!C92","v":{"v":13,"d":"13.0"}},{"$f":"'법정동(2014.12월말)'!D91-'법정동(2013년말)'!D92","v":{"v":-4244,"d":"-4,244.0"}},{"$f":"'법정동(2014.12월말)'!E91-'법정동(2013년말)'!E92","v":{"v":3,"d":"3.0"}},{"$f":"'법정동(2014.12월말)'!F91-'법정동(2013년말)'!F92","v":{"v":-1623,"d":"-1,623.0"}},{"$f":"'법정동(2014.12월말)'!G91-'법정동(2013년말)'!G92","v":{"v":-2,"d":"-2.0"}},{"$f":"'법정동(2014.12월말)'!H91-'법정동(2013년말)'!H92","v":{"v":0,"d":"0.0"}},{"$f":"'법정동(2014.12월말)'!I91-'법정동(2013년말)'!I92","v":{"v":0,"d":"0.0"}},{"$f":"'법정동(2014.12월말)'!J91-'법정동(2013년말)'!J92","v":{"v":0,"d":"0.0"}},{"$f":"'법정동(2014.12월말)'!K91-'법정동(2013년말)'!K92","v":{"v":0,"d":"0.0"}},{"$f":"'법정동(2014.12월말)'!L91-'법정동(2013년말)'!L92","v":{"v":-211,"d":"-211.0"}},{"$f":"'법정동(2014.12월말)'!M91-'법정동(2013년말)'!M92","v":{"v":0,"d":"0.0"}},{"$f":"'법정동(2014.12월말)'!N91-'법정동(2013년말)'!N92","v":{"v":0,"d":"0.0"}},{"$f":"'법정동(2014.12월말)'!O91-'법정동(2013년말)'!O92","v":{"v":0,"d":"0.0"}},{"$f":"'법정동(2014.12월말)'!P91-'법정동(2013년말)'!P92","v":{"v":0,"d":"0.0"}},{"$f":"'법정동(2014.12월말)'!Q91-'법정동(2013년말)'!Q92","v":{"v":0,"d":"0.0"}},{"$f":"'법정동(2014.12월말)'!R91-'법정동(2013년말)'!R92","v":{"v":1966,"d":"1,966.0"}},{"$f":"'법정동(2014.12월말)'!S91-'법정동(2013년말)'!S92","v":{"v":5,"d":"5.0"}},{"$f":"'법정동(2014.12월말)'!T91-'법정동(2013년말)'!T92","v":{"v":3898,"d":"3,898.0"}},{"$f":"'법정동(2014.12월말)'!U91-'법정동(2013년말)'!U92","v":{"v":2,"d":"2.0"}},{"$f":"'법정동(2014.12월말)'!V91-'법정동(2013년말)'!V92","v":{"v":0,"d":"0.0"}},{"$f":"'법정동(2014.12월말)'!W91-'법정동(2013년말)'!W92","v":{"v":0,"d":"0.0"}},{"$f":"'법정동(2014.12월말)'!X91-'법정동(2013년말)'!X92","v":{"v":0,"d":"0.0"}},{"$f":"'법정동(2014.12월말)'!Y91-'법정동(2013년말)'!Y92","v":{"v":0,"d":"0.0"}},{"$f":"'법정동(2014.12월말)'!Z91-'법정동(2013년말)'!Z92","v":{"v":0,"d":"0.0"}},{"$f":"'법정동(2014.12월말)'!AA91-'법정동(2013년말)'!AA92","v":{"v":0,"d":"0.0"}},{"$f":"'법정동(2014.12월말)'!AB91-'법정동(2013년말)'!AB92","v":{"v":178,"d":"178.0"}},{"$f":"'법정동(2014.12월말)'!AC91-'법정동(2013년말)'!AC92","v":{"v":1,"d":"1.0"}},{"$f":"'법정동(2014.12월말)'!AD91-'법정동(2013년말)'!AD92","v":{"v":704,"d":"704.0"}},{"$f":"'법정동(2014.12월말)'!AE91-'법정동(2013년말)'!AE92","v":{"v":4,"d":"4.0"}},{"$f":"'법정동(2014.12월말)'!AF91-'법정동(2013년말)'!AF92","v":{"v":0,"d":"0.0"}},{"$f":"'법정동(2014.12월말)'!AG91-'법정동(2013년말)'!AG92","v":{"v":0,"d":"0.0"}},{"$f":"'법정동(2014.12월말)'!AH91-'법정동(2013년말)'!AH92","v":{"v":0,"d":"0.0"}},{"$f":"'법정동(2014.12월말)'!AI91-'법정동(2013년말)'!AI92","v":{"v":0,"d":"0.0"}},{"$f":"'법정동(2014.12월말)'!AJ91-'법정동(2013년말)'!AJ92","v":{"v":0,"d":"0.0"}},{"$f":"'법정동(2014.12월말)'!AK91-'법정동(2013년말)'!AK92","v":{"v":0,"d":"0.0"}},{"$f":"'법정동(2014.12월말)'!AL91-'법정동(2013년말)'!AL92","v":{"v":0,"d":"0.0"}},{"$f":"'법정동(2014.12월말)'!AM91-'법정동(2013년말)'!AM92","v":{"v":0,"d":"0.0"}},{"$f":"'법정동(2014.12월말)'!AN91-'법정동(2013년말)'!AN92","v":{"v":0,"d":"0.0"}},{"$f":"'법정동(2014.12월말)'!AO91-'법정동(2013년말)'!AO92","v":{"v":0,"d":"0.0"}},{"$f":"'법정동(2014.12월말)'!AP91-'법정동(2013년말)'!AP92","v":{"v":0,"d":"0.0"}},{"$f":"'법정동(2014.12월말)'!AQ91-'법정동(2013년말)'!AQ92","v":{"v":0,"d":"0.0"}},{"$f":"'법정동(2014.12월말)'!AR91-'법정동(2013년말)'!AR92","v":{"v":0,"d":"0.0"}},{"$f":"'법정동(2014.12월말)'!AS91-'법정동(2013년말)'!AS92","v":{"v":0,"d":"0.0"}},{"$f":"'법정동(2014.12월말)'!AT91-'법정동(2013년말)'!AT92","v":{"v":0,"d":"0.0"}},{"$f":"'법정동(2014.12월말)'!AU91-'법정동(2013년말)'!AU92","v":{"v":0,"d":"0.0"}},{"$f":"'법정동(2014.12월말)'!AV91-'법정동(2013년말)'!AV92","v":{"v":0,"d":"0.0"}},{"$f":"'법정동(2014.12월말)'!AW91-'법정동(2013년말)'!AW92","v":{"v":0,"d":"0.0"}},{"$f":"'법정동(2014.12월말)'!AX91-'법정동(2013년말)'!AX92","v":{"v":0,"d":"0.0"}},{"$f":"'법정동(2014.12월말)'!AY91-'법정동(2013년말)'!AY92","v":{"v":0,"d":"0.0"}},{"$f":"'법정동(2014.12월말)'!AZ91-'법정동(2013년말)'!AZ92","v":{"v":0,"d":"0.0"}},{"$f":"'법정동(2014.12월말)'!BA91-'법정동(2013년말)'!BA92","v":{"v":0,"d":"0.0"}},{"$f":"'법정동(2014.12월말)'!BB91-'법정동(2013년말)'!BB92","v":{"v":0,"d":"0.0"}},{"$f":"'법정동(2014.12월말)'!BC91-'법정동(2013년말)'!BC92","v":{"v":0,"d":"0.0"}},{"$f":"'법정동(2014.12월말)'!BD91-'법정동(2013년말)'!BD92","v":{"v":0,"d":"0.0"}},{"$f":"'법정동(2014.12월말)'!BE91-'법정동(2013년말)'!BE92","v":{"v":0,"d":"0.0"}},{"$f":"'법정동(2014.12월말)'!BF91-'법정동(2013년말)'!BF92","v":{"v":0,"d":"0.0"}},{"$f":"'법정동(2014.12월말)'!BG91-'법정동(2013년말)'!BG92","v":{"v":0,"d":"0.0"}}]
["화양면 서촌리",{"$f":"'법정동(2014.12월말)'!B92-'법정동(2013년말)'!B93","v":{"v":-1363.9999999990687,"d":"-1,364.0"}},{"$f":"'법정동(2014.12월말)'!C92-'법정동(2013년말)'!C93","v":{"v":3,"d":"3.0"}},{"$f":"'법정동(2014.12월말)'!D92-'법정동(2013년말)'!D93","v":{"v":-1356,"d":"-1,356.0"}},{"$f":"'법정동(2014.12월말)'!E92-'법정동(2013년말)'!E93","v":{"v":0,"d":"0.0"}},{"$f":"'법정동(2014.12월말)'!F92-'법정동(2013년말)'!F93","v":{"v":0,"d":"0.0"}},{"$f":"'법정동(2014.12월말)'!G92-'법정동(2013년말)'!G93","v":{"v":0,"d":"0.0"}},{"$f":"'법정동(2014.12월말)'!H92-'법정동(2013년말)'!H93","v":{"v":0,"d":"0.0"}},{"$f":"'법정동(2014.12월말)'!I92-'법정동(2013년말)'!I93","v":{"v":0,"d":"0.0"}},{"$f":"'법정동(2014.12월말)'!J92-'법정동(2013년말)'!J93","v":{"v":0,"d":"0.0"}},{"$f":"'법정동(2014.12월말)'!K92-'법정동(2013년말)'!K93","v":{"v":0,"d":"0.0"}},{"$f":"'법정동(2014.12월말)'!L92-'법정동(2013년말)'!L93","v":{"v":-1364,"d":"-1,364.0"}},{"$f":"'법정동(2014.12월말)'!M92-'법정동(2013년말)'!M93","v":{"v":0,"d":"0.0"}},{"$f":"'법정동(2014.12월말)'!N92-'법정동(2013년말)'!N93","v":{"v":0,"d":"0.0"}},{"$f":"'법정동(2014.12월말)'!O92-'법정동(2013년말)'!O93","v":{"v":0,"d":"0.0"}},{"$f":"'법정동(2014.12월말)'!P92-'법정동(2013년말)'!P93","v":{"v":0,"d":"0.0"}},{"$f":"'법정동(2014.12월말)'!Q92-'법정동(2013년말)'!Q93","v":{"v":0,"d":"0.0"}},{"$f":"'법정동(2014.12월말)'!R92-'법정동(2013년말)'!R93","v":{"v":928,"d":"928.0"}},{"$f":"'법정동(2014.12월말)'!S92-'법정동(2013년말)'!S93","v":{"v":1,"d":"1.0"}},{"$f":"'법정동(2014.12월말)'!T92-'법정동(2013년말)'!T93","v":{"v":0,"d":"0.0"}},{"$f":"'법정동(2014.12월말)'!U92-'법정동(2013년말)'!U93","v":{"v":0,"d":"0.0"}},{"$f":"'법정동(2014.12월말)'!V92-'법정동(2013년말)'!V93","v":{"v":0,"d":"0.0"}},{"$f":"'법정동(2014.12월말)'!W92-'법정동(2013년말)'!W93","v":{"v":0,"d":"0.0"}},{"$f":"'법정동(2014.12월말)'!X92-'법정동(2013년말)'!X93","v":{"v":0,"d":"0.0"}},{"$f":"'법정동(2014.12월말)'!Y92-'법정동(2013년말)'!Y93","v":{"v":0,"d":"0.0"}},{"$f":"'법정동(2014.12월말)'!Z92-'법정동(2013년말)'!Z93","v":{"v":0,"d":"0.0"}},{"$f":"'법정동(2014.12월말)'!AA92-'법정동(2013년말)'!AA93","v":{"v":0,"d":"0.0"}},{"$f":"'법정동(2014.12월말)'!AB92-'법정동(2013년말)'!AB93","v":{"v":0,"d":"0.0"}},{"$f":"'법정동(2014.12월말)'!AC92-'법정동(2013년말)'!AC93","v":{"v":0,"d":"0.0"}},{"$f":"'법정동(2014.12월말)'!AD92-'법정동(2013년말)'!AD93","v":{"v":428,"d":"428.0"}},{"$f":"'법정동(2014.12월말)'!AE92-'법정동(2013년말)'!AE93","v":{"v":1,"d":"1.0"}},{"$f":"'법정동(2014.12월말)'!AF92-'법정동(2013년말)'!AF93","v":{"v":0,"d":"0.0"}},{"$f":"'법정동(2014.12월말)'!AG92-'법정동(2013년말)'!AG93","v":{"v":0,"d":"0.0"}},{"$f":"'법정동(2014.12월말)'!AH92-'법정동(2013년말)'!AH93","v":{"v":0,"d":"0.0"}},{"$f":"'법정동(2014.12월말)'!AI92-'법정동(2013년말)'!AI93","v":{"v":0,"d":"0.0"}},{"$f":"'법정동(2014.12월말)'!AJ92-'법정동(2013년말)'!AJ93","v":{"v":0,"d":"0.0"}},{"$f":"'법정동(2014.12월말)'!AK92-'법정동(2013년말)'!AK93","v":{"v":0,"d":"0.0"}},{"$f":"'법정동(2014.12월말)'!AL92-'법정동(2013년말)'!AL93","v":{"v":0,"d":"0.0"}},{"$f":"'법정동(2014.12월말)'!AM92-'법정동(2013년말)'!AM93","v":{"v":0,"d":"0.0"}},{"$f":"'법정동(2014.12월말)'!AN92-'법정동(2013년말)'!AN93","v":{"v":0,"d":"0.0"}},{"$f":"'법정동(2014.12월말)'!AO92-'법정동(2013년말)'!AO93","v":{"v":0,"d":"0.0"}},{"$f":"'법정동(2014.12월말)'!AP92-'법정동(2013년말)'!AP93","v":{"v":0,"d":"0.0"}},{"$f":"'법정동(2014.12월말)'!AQ92-'법정동(2013년말)'!AQ93","v":{"v":0,"d":"0.0"}},{"$f":"'법정동(2014.12월말)'!AR92-'법정동(2013년말)'!AR93","v":{"v":0,"d":"0.0"}},{"$f":"'법정동(2014.12월말)'!AS92-'법정동(2013년말)'!AS93","v":{"v":0,"d":"0.0"}},{"$f":"'법정동(2014.12월말)'!AT92-'법정동(2013년말)'!AT93","v":{"v":0,"d":"0.0"}},{"$f":"'법정동(2014.12월말)'!AU92-'법정동(2013년말)'!AU93","v":{"v":0,"d":"0.0"}},{"$f":"'법정동(2014.12월말)'!AV92-'법정동(2013년말)'!AV93","v":{"v":0,"d":"0.0"}},{"$f":"'법정동(2014.12월말)'!AW92-'법정동(2013년말)'!AW93","v":{"v":0,"d":"0.0"}},{"$f":"'법정동(2014.12월말)'!AX92-'법정동(2013년말)'!AX93","v":{"v":0,"d":"0.0"}},{"$f":"'법정동(2014.12월말)'!AY92-'법정동(2013년말)'!AY93","v":{"v":0,"d":"0.0"}},{"$f":"'법정동(2014.12월말)'!AZ92-'법정동(2013년말)'!AZ93","v":{"v":0,"d":"0.0"}},{"$f":"'법정동(2014.12월말)'!BA92-'법정동(2013년말)'!BA93","v":{"v":0,"d":"0.0"}},{"$f":"'법정동(2014.12월말)'!BB92-'법정동(2013년말)'!BB93","v":{"v":0,"d":"0.0"}},{"$f":"'법정동(2014.12월말)'!BC92-'법정동(2013년말)'!BC93","v":{"v":0,"d":"0.0"}},{"$f":"'법정동(2014.12월말)'!BD92-'법정동(2013년말)'!BD93","v":{"v":0,"d":"0.0"}},{"$f":"'법정동(2014.12월말)'!BE92-'법정동(2013년말)'!BE93","v":{"v":0,"d":"0.0"}},{"$f":"'법정동(2014.12월말)'!BF92-'법정동(2013년말)'!BF93","v":{"v":0,"d":"0.0"}},{"$f":"'법정동(2014.12월말)'!BG92-'법정동(2013년말)'!BG93","v":{"v":1,"d":"1.0"}}]
["화양면 이목리",{"$f":"'법정동(2014.12월말)'!B93-'법정동(2013년말)'!B94","v":{"v":1843,"d":"1,843.0"}},{"$f":"'법정동(2014.12월말)'!C93-'법정동(2013년말)'!C94","v":{"v":14,"d":"14.0"}},{"$f":"'법정동(2014.12월말)'!D93-'법정동(2013년말)'!D94","v":{"v":-945,"d":"-945.0"}},{"$f":"'법정동(2014.12월말)'!E93-'법정동(2013년말)'!E94","v":{"v":3,"d":"3.0"}},{"$f":"'법정동(2014.12월말)'!F93-'법정동(2013년말)'!F94","v":{"v":-985,"d":"-985.0"}},{"$f":"'법정동(2014.12월말)'!G93-'법정동(2013년말)'!G94","v":{"v":-2,"d":"-2.0"}},{"$f":"'법정동(2014.12월말)'!H93-'법정동(2013년말)'!H94","v":{"v":0,"d":"0.0"}},{"$f":"'법정동(2014.12월말)'!I93-'법정동(2013년말)'!I94","v":{"v":0,"d":"0.0"}},{"$f":"'법정동(2014.12월말)'!J93-'법정동(2013년말)'!J94","v":{"v":0,"d":"0.0"}},{"$f":"'법정동(2014.12월말)'!K93-'법정동(2013년말)'!K94","v":{"v":0,"d":"0.0"}},{"$f":"'법정동(2014.12월말)'!L93-'법정동(2013년말)'!L94","v":{"v":-1043,"d":"-1,043.0"}},{"$f":"'법정동(2014.12월말)'!M93-'법정동(2013년말)'!M94","v":{"v":2,"d":"2.0"}},{"$f":"'법정동(2014.12월말)'!N93-'법정동(2013년말)'!N94","v":{"v":0,"d":"0.0"}},{"$f":"'법정동(2014.12월말)'!O93-'법정동(2013년말)'!O94","v":{"v":0,"d":"0.0"}},{"$f":"'법정동(2014.12월말)'!P93-'법정동(2013년말)'!P94","v":{"v":0,"d":"0.0"}},{"$f":"'법정동(2014.12월말)'!Q93-'법정동(2013년말)'!Q94","v":{"v":0,"d":"0.0"}},{"$f":"'법정동(2014.12월말)'!R93-'법정동(2013년말)'!R94","v":{"v":3153,"d":"3,153.0"}},{"$f":"'법정동(2014.12월말)'!S93-'법정동(2013년말)'!S94","v":{"v":8,"d":"8.0"}},{"$f":"'법정동(2014.12월말)'!T93-'법정동(2013년말)'!T94","v":{"v":0,"d":"0.0"}},{"$f":"'법정동(2014.12월말)'!U93-'법정동(2013년말)'!U94","v":{"v":0,"d":"0.0"}},{"$f":"'법정동(2014.12월말)'!V93-'법정동(2013년말)'!V94","v":{"v":0,"d":"0.0"}},{"$f":"'법정동(2014.12월말)'!W93-'법정동(2013년말)'!W94","v":{"v":0,"d":"0.0"}},{"$f":"'법정동(2014.12월말)'!X93-'법정동(2013년말)'!X94","v":{"v":0,"d":"0.0"}},{"$f":"'법정동(2014.12월말)'!Y93-'법정동(2013년말)'!Y94","v":{"v":0,"d":"0.0"}},{"$f":"'법정동(2014.12월말)'!Z93-'법정동(2013년말)'!Z94","v":{"v":0,"d":"0.0"}},{"$f":"'법정동(2014.12월말)'!AA93-'법정동(2013년말)'!AA94","v":{"v":0,"d":"0.0"}},{"$f":"'법정동(2014.12월말)'!AB93-'법정동(2013년말)'!AB94","v":{"v":0,"d":"0.0"}},{"$f":"'법정동(2014.12월말)'!AC93-'법정동(2013년말)'!AC94","v":{"v":0,"d":"0.0"}},{"$f":"'법정동(2014.12월말)'!AD93-'법정동(2013년말)'!AD94","v":{"v":1663,"d":"1,663.0"}},{"$f":"'법정동(2014.12월말)'!AE93-'법정동(2013년말)'!AE94","v":{"v":3,"d":"3.0"}},{"$f":"'법정동(2014.12월말)'!AF93-'법정동(2013년말)'!AF94","v":{"v":0,"d":"0.0"}},{"$f":"'법정동(2014.12월말)'!AG93-'법정동(2013년말)'!AG94","v":{"v":0,"d":"0.0"}},{"$f":"'법정동(2014.12월말)'!AH93-'법정동(2013년말)'!AH94","v":{"v":0,"d":"0.0"}},{"$f":"'법정동(2014.12월말)'!AI93-'법정동(2013년말)'!AI94","v":{"v":0,"d":"0.0"}},{"$f":"'법정동(2014.12월말)'!AJ93-'법정동(2013년말)'!AJ94","v":{"v":0,"d":"0.0"}},{"$f":"'법정동(2014.12월말)'!AK93-'법정동(2013년말)'!AK94","v":{"v":0,"d":"0.0"}},{"$f":"'법정동(2014.12월말)'!AL93-'법정동(2013년말)'!AL94","v":{"v":0,"d":"0.0"}},{"$f":"'법정동(2014.12월말)'!AM93-'법정동(2013년말)'!AM94","v":{"v":0,"d":"0.0"}},{"$f":"'법정동(2014.12월말)'!AN93-'법정동(2013년말)'!AN94","v":{"v":0,"d":"0.0"}},{"$f":"'법정동(2014.12월말)'!AO93-'법정동(2013년말)'!AO94","v":{"v":0,"d":"0.0"}},{"$f":"'법정동(2014.12월말)'!AP93-'법정동(2013년말)'!AP94","v":{"v":0,"d":"0.0"}},{"$f":"'법정동(2014.12월말)'!AQ93-'법정동(2013년말)'!AQ94","v":{"v":0,"d":"0.0"}},{"$f":"'법정동(2014.12월말)'!AR93-'법정동(2013년말)'!AR94","v":{"v":0,"d":"0.0"}},{"$f":"'법정동(2014.12월말)'!AS93-'법정동(2013년말)'!AS94","v":{"v":0,"d":"0.0"}},{"$f":"'법정동(2014.12월말)'!AT93-'법정동(2013년말)'!AT94","v":{"v":0,"d":"0.0"}},{"$f":"'법정동(2014.12월말)'!AU93-'법정동(2013년말)'!AU94","v":{"v":0,"d":"0.0"}},{"$f":"'법정동(2014.12월말)'!AV93-'법정동(2013년말)'!AV94","v":{"v":0,"d":"0.0"}},{"$f":"'법정동(2014.12월말)'!AW93-'법정동(2013년말)'!AW94","v":{"v":0,"d":"0.0"}},{"$f":"'법정동(2014.12월말)'!AX93-'법정동(2013년말)'!AX94","v":{"v":0,"d":"0.0"}},{"$f":"'법정동(2014.12월말)'!AY93-'법정동(2013년말)'!AY94","v":{"v":0,"d":"0.0"}},{"$f":"'법정동(2014.12월말)'!AZ93-'법정동(2013년말)'!AZ94","v":{"v":0,"d":"0.0"}},{"$f":"'법정동(2014.12월말)'!BA93-'법정동(2013년말)'!BA94","v":{"v":0,"d":"0.0"}},{"$f":"'법정동(2014.12월말)'!BB93-'법정동(2013년말)'!BB94","v":{"v":0,"d":"0.0"}},{"$f":"'법정동(2014.12월말)'!BC93-'법정동(2013년말)'!BC94","v":{"v":0,"d":"0.0"}},{"$f":"'법정동(2014.12월말)'!BD93-'법정동(2013년말)'!BD94","v":{"v":0,"d":"0.0"}},{"$f":"'법정동(2014.12월말)'!BE93-'법정동(2013년말)'!BE94","v":{"v":0,"d":"0.0"}},{"$f":"'법정동(2014.12월말)'!BF93-'법정동(2013년말)'!BF94","v":{"v":0,"d":"0.0"}},{"$f":"'법정동(2014.12월말)'!BG93-'법정동(2013년말)'!BG94","v":{"v":0,"d":"0.0"}}]
["화양면 장수리",{"$f":"'법정동(2014.12월말)'!B94-'법정동(2013년말)'!B95","v":{"v":0,"d":"0.0"}},{"$f":"'법정동(2014.12월말)'!C94-'법정동(2013년말)'!C95","v":{"v":3,"d":"3.0"}},{"$f":"'법정동(2014.12월말)'!D94-'법정동(2013년말)'!D95","v":{"v":163,"d":"163.0"}},{"$f":"'법정동(2014.12월말)'!E94-'법정동(2013년말)'!E95","v":{"v":-1,"d":"-1.0"}},{"$f":"'법정동(2014.12월말)'!F94-'법정동(2013년말)'!F95","v":{"v":-955,"d":"-955.0"}},{"$f":"'법정동(2014.12월말)'!G94-'법정동(2013년말)'!G95","v":{"v":-3,"d":"-3.0"}},{"$f":"'법정동(2014.12월말)'!H94-'법정동(2013년말)'!H95","v":{"v":0,"d":"0.0"}},{"$f":"'법정동(2014.12월말)'!I94-'법정동(2013년말)'!I95","v":{"v":0,"d":"0.0"}},{"$f":"'법정동(2014.12월말)'!J94-'법정동(2013년말)'!J95","v":{"v":0,"d":"0.0"}},{"$f":"'법정동(2014.12월말)'!K94-'법정동(2013년말)'!K95","v":{"v":0,"d":"0.0"}},{"$f":"'법정동(2014.12월말)'!L94-'법정동(2013년말)'!L95","v":{"v":0,"d":"0.0"}},{"$f":"'법정동(2014.12월말)'!M94-'법정동(2013년말)'!M95","v":{"v":3,"d":"3.0"}},{"$f":"'법정동(2014.12월말)'!N94-'법정동(2013년말)'!N95","v":{"v":0,"d":"0.0"}},{"$f":"'법정동(2014.12월말)'!O94-'법정동(2013년말)'!O95","v":{"v":0,"d":"0.0"}},{"$f":"'법정동(2014.12월말)'!P94-'법정동(2013년말)'!P95","v":{"v":0,"d":"0.0"}},{"$f":"'법정동(2014.12월말)'!Q94-'법정동(2013년말)'!Q95","v":{"v":0,"d":"0.0"}},{"$f":"'법정동(2014.12월말)'!R94-'법정동(2013년말)'!R95","v":{"v":577,"d":"577.0"}},{"$f":"'법정동(2014.12월말)'!S94-'법정동(2013년말)'!S95","v":{"v":3,"d":"3.0"}},{"$f":"'법정동(2014.12월말)'!T94-'법정동(2013년말)'!T95","v":{"v":370,"d":"370.0"}},{"$f":"'법정동(2014.12월말)'!U94-'법정동(2013년말)'!U95","v":{"v":1,"d":"1.0"}},{"$f":"'법정동(2014.12월말)'!V94-'법정동(2013년말)'!V95","v":{"v":0,"d":"0.0"}},{"$f":"'법정동(2014.12월말)'!W94-'법정동(2013년말)'!W95","v":{"v":0,"d":"0.0"}},{"$f":"'법정동(2014.12월말)'!X94-'법정동(2013년말)'!X95","v":{"v":0,"d":"0.0"}},{"$f":"'법정동(2014.12월말)'!Y94-'법정동(2013년말)'!Y95","v":{"v":0,"d":"0.0"}},{"$f":"'법정동(2014.12월말)'!Z94-'법정동(2013년말)'!Z95","v":{"v":0,"d":"0.0"}},{"$f":"'법정동(2014.12월말)'!AA94-'법정동(2013년말)'!AA95","v":{"v":0,"d":"0.0"}},{"$f":"'법정동(2014.12월말)'!AB94-'법정동(2013년말)'!AB95","v":{"v":0,"d":"0.0"}},{"$f":"'법정동(2014.12월말)'!AC94-'법정동(2013년말)'!AC95","v":{"v":0,"d":"0.0"}},{"$f":"'법정동(2014.12월말)'!AD94-'법정동(2013년말)'!AD95","v":{"v":30,"d":"30.0"}},{"$f":"'법정동(2014.12월말)'!AE94-'법정동(2013년말)'!AE95","v":{"v":1,"d":"1.0"}},{"$f":"'법정동(2014.12월말)'!AF94-'법정동(2013년말)'!AF95","v":{"v":0,"d":"0.0"}},{"$f":"'법정동(2014.12월말)'!AG94-'법정동(2013년말)'!AG95","v":{"v":0,"d":"0.0"}},{"$f":"'법정동(2014.12월말)'!AH94-'법정동(2013년말)'!AH95","v":{"v":0,"d":"0.0"}},{"$f":"'법정동(2014.12월말)'!AI94-'법정동(2013년말)'!AI95","v":{"v":0,"d":"0.0"}},{"$f":"'법정동(2014.12월말)'!AJ94-'법정동(2013년말)'!AJ95","v":{"v":0,"d":"0.0"}},{"$f":"'법정동(2014.12월말)'!AK94-'법정동(2013년말)'!AK95","v":{"v":0,"d":"0.0"}},{"$f":"'법정동(2014.12월말)'!AL94-'법정동(2013년말)'!AL95","v":{"v":0,"d":"0.0"}},{"$f":"'법정동(2014.12월말)'!AM94-'법정동(2013년말)'!AM95","v":{"v":0,"d":"0.0"}},{"$f":"'법정동(2014.12월말)'!AN94-'법정동(2013년말)'!AN95","v":{"v":0,"d":"0.0"}},{"$f":"'법정동(2014.12월말)'!AO94-'법정동(2013년말)'!AO95","v":{"v":0,"d":"0.0"}},{"$f":"'법정동(2014.12월말)'!AP94-'법정동(2013년말)'!AP95","v":{"v":0,"d":"0.0"}},{"$f":"'법정동(2014.12월말)'!AQ94-'법정동(2013년말)'!AQ95","v":{"v":0,"d":"0.0"}},{"$f":"'법정동(2014.12월말)'!AR94-'법정동(2013년말)'!AR95","v":{"v":0,"d":"0.0"}},{"$f":"'법정동(2014.12월말)'!AS94-'법정동(2013년말)'!AS95","v":{"v":0,"d":"0.0"}},{"$f":"'법정동(2014.12월말)'!AT94-'법정동(2013년말)'!AT95","v":{"v":0,"d":"0.0"}},{"$f":"'법정동(2014.12월말)'!AU94-'법정동(2013년말)'!AU95","v":{"v":0,"d":"0.0"}},{"$f":"'법정동(2014.12월말)'!AV94-'법정동(2013년말)'!AV95","v":{"v":0,"d":"0.0"}},{"$f":"'법정동(2014.12월말)'!AW94-'법정동(2013년말)'!AW95","v":{"v":0,"d":"0.0"}},{"$f":"'법정동(2014.12월말)'!AX94-'법정동(2013년말)'!AX95","v":{"v":0,"d":"0.0"}},{"$f":"'법정동(2014.12월말)'!AY94-'법정동(2013년말)'!AY95","v":{"v":0,"d":"0.0"}},{"$f":"'법정동(2014.12월말)'!AZ94-'법정동(2013년말)'!AZ95","v":{"v":0,"d":"0.0"}},{"$f":"'법정동(2014.12월말)'!BA94-'법정동(2013년말)'!BA95","v":{"v":0,"d":"0.0"}},{"$f":"'법정동(2014.12월말)'!BB94-'법정동(2013년말)'!BB95","v":{"v":0,"d":"0.0"}},{"$f":"'법정동(2014.12월말)'!BC94-'법정동(2013년말)'!BC95","v":{"v":0,"d":"0.0"}},{"$f":"'법정동(2014.12월말)'!BD94-'법정동(2013년말)'!BD95","v":{"v":-185,"d":"-185.0"}},{"$f":"'법정동(2014.12월말)'!BE94-'법정동(2013년말)'!BE95","v":{"v":-1,"d":"-1.0"}},{"$f":"'법정동(2014.12월말)'!BF94-'법정동(2013년말)'!BF95","v":{"v":0,"d":"0.0"}},{"$f":"'법정동(2014.12월말)'!BG94-'법정동(2013년말)'!BG95","v":{"v":0,"d":"0.0"}}]
["화양면 안포리",{"$f":"'법정동(2014.12월말)'!B95-'법정동(2013년말)'!B96","v":{"v":-4591,"d":"-4,591.0"}},{"$f":"'법정동(2014.12월말)'!C95-'법정동(2013년말)'!C96","v":{"v":36,"d":"36.0"}},{"$f":"'법정동(2014.12월말)'!D95-'법정동(2013년말)'!D96","v":-347.5},{"$f":"'법정동(2014.12월말)'!E95-'법정동(2013년말)'!E96","v":{"v":10,"d":"10.0"}},{"$f":"'법정동(2014.12월말)'!F95-'법정동(2013년말)'!F96","v":{"v":-11903.5,"d":"-11,903.5"}},{"$f":"'법정동(2014.12월말)'!G95-'법정동(2013년말)'!G96","v":{"v":-8,"d":"-8.0"}},{"$f":"'법정동(2014.12월말)'!H95-'법정동(2013년말)'!H96","v":{"v":0,"d":"0.0"}},{"$f":"'법정동(2014.12월말)'!I95-'법정동(2013년말)'!I96","v":{"v":0,"d":"0.0"}},{"$f":"'법정동(2014.12월말)'!J95-'법정동(2013년말)'!J96","v":{"v":0,"d":"0.0"}},{"$f":"'법정동(2014.12월말)'!K95-'법정동(2013년말)'!K96","v":{"v":1,"d":"1.0"}},{"$f":"'법정동(2014.12월말)'!L95-'법정동(2013년말)'!L96","v":{"v":-7263,"d":"-7,263.0"}},{"$f":"'법정동(2014.12월말)'!M95-'법정동(2013년말)'!M96","v":{"v":3,"d":"3.0"}},{"$f":"'법정동(2014.12월말)'!N95-'법정동(2013년말)'!N96","v":{"v":0,"d":"0.0"}},{"$f":"'법정동(2014.12월말)'!O95-'법정동(2013년말)'!O96","v":{"v":0,"d":"0.0"}},{"$f":"'법정동(2014.12월말)'!P95-'법정동(2013년말)'!P96","v":{"v":0,"d":"0.0"}},{"$f":"'법정동(2014.12월말)'!Q95-'법정동(2013년말)'!Q96","v":{"v":0,"d":"0.0"}},{"$f":"'법정동(2014.12월말)'!R95-'법정동(2013년말)'!R96","v":{"v":9539,"d":"9,539.0"}},{"$f":"'법정동(2014.12월말)'!S95-'법정동(2013년말)'!S96","v":{"v":21,"d":"21.0"}},{"$f":"'법정동(2014.12월말)'!T95-'법정동(2013년말)'!T96","v":{"v":0,"d":"0.0"}},{"$f":"'법정동(2014.12월말)'!U95-'법정동(2013년말)'!U96","v":{"v":1,"d":"1.0"}},{"$f":"'법정동(2014.12월말)'!V95-'법정동(2013년말)'!V96","v":{"v":0,"d":"0.0"}},{"$f":"'법정동(2014.12월말)'!W95-'법정동(2013년말)'!W96","v":{"v":0,"d":"0.0"}},{"$f":"'법정동(2014.12월말)'!X95-'법정동(2013년말)'!X96","v":{"v":2857,"d":"2,857.0"}},{"$f":"'법정동(2014.12월말)'!Y95-'법정동(2013년말)'!Y96","v":{"v":3,"d":"3.0"}},{"$f":"'법정동(2014.12월말)'!Z95-'법정동(2013년말)'!Z96","v":{"v":0,"d":"0.0"}},{"$f":"'법정동(2014.12월말)'!AA95-'법정동(2013년말)'!AA96","v":{"v":0,"d":"0.0"}},{"$f":"'법정동(2014.12월말)'!AB95-'법정동(2013년말)'!AB96","v":{"v":0,"d":"0.0"}},{"$f":"'법정동(2014.12월말)'!AC95-'법정동(2013년말)'!AC96","v":{"v":0,"d":"0.0"}},{"$f":"'법정동(2014.12월말)'!AD95-'법정동(2013년말)'!AD96","v":{"v":312,"d":"312.0"}},{"$f":"'법정동(2014.12월말)'!AE95-'법정동(2013년말)'!AE96","v":{"v":3,"d":"3.0"}},{"$f":"'법정동(2014.12월말)'!AF95-'법정동(2013년말)'!AF96","v":{"v":0,"d":"0.0"}},{"$f":"'법정동(2014.12월말)'!AG95-'법정동(2013년말)'!AG96","v":{"v":0,"d":"0.0"}},{"$f":"'법정동(2014.12월말)'!AH95-'법정동(2013년말)'!AH96","v":{"v":0,"d":"0.0"}},{"$f":"'법정동(2014.12월말)'!AI95-'법정동(2013년말)'!AI96","v":{"v":0,"d":"0.0"}},{"$f":"'법정동(2014.12월말)'!AJ95-'법정동(2013년말)'!AJ96","v":{"v":0,"d":"0.0"}},{"$f":"'법정동(2014.12월말)'!AK95-'법정동(2013년말)'!AK96","v":{"v":0,"d":"0.0"}},{"$f":"'법정동(2014.12월말)'!AL95-'법정동(2013년말)'!AL96","v":{"v":0,"d":"0.0"}},{"$f":"'법정동(2014.12월말)'!AM95-'법정동(2013년말)'!AM96","v":{"v":0,"d":"0.0"}},{"$f":"'법정동(2014.12월말)'!AN95-'법정동(2013년말)'!AN96","v":{"v":0,"d":"0.0"}},{"$f":"'법정동(2014.12월말)'!AO95-'법정동(2013년말)'!AO96","v":{"v":0,"d":"0.0"}},{"$f":"'법정동(2014.12월말)'!AP95-'법정동(2013년말)'!AP96","v":{"v":0,"d":"0.0"}},{"$f":"'법정동(2014.12월말)'!AQ95-'법정동(2013년말)'!AQ96","v":{"v":0,"d":"0.0"}},{"$f":"'법정동(2014.12월말)'!AR95-'법정동(2013년말)'!AR96","v":{"v":0,"d":"0.0"}},{"$f":"'법정동(2014.12월말)'!AS95-'법정동(2013년말)'!AS96","v":{"v":0,"d":"0.0"}},{"$f":"'법정동(2014.12월말)'!AT95-'법정동(2013년말)'!AT96","v":{"v":0,"d":"0.0"}},{"$f":"'법정동(2014.12월말)'!AU95-'법정동(2013년말)'!AU96","v":{"v":0,"d":"0.0"}},{"$f":"'법정동(2014.12월말)'!AV95-'법정동(2013년말)'!AV96","v":{"v":0,"d":"0.0"}},{"$f":"'법정동(2014.12월말)'!AW95-'법정동(2013년말)'!AW96","v":{"v":0,"d":"0.0"}},{"$f":"'법정동(2014.12월말)'!AX95-'법정동(2013년말)'!AX96","v":{"v":0,"d":"0.0"}},{"$f":"'법정동(2014.12월말)'!AY95-'법정동(2013년말)'!AY96","v":{"v":0,"d":"0.0"}},{"$f":"'법정동(2014.12월말)'!AZ95-'법정동(2013년말)'!AZ96","v":{"v":0,"d":"0.0"}},{"$f":"'법정동(2014.12월말)'!BA95-'법정동(2013년말)'!BA96","v":{"v":0,"d":"0.0"}},{"$f":"'법정동(2014.12월말)'!BB95-'법정동(2013년말)'!BB96","v":{"v":0,"d":"0.0"}},{"$f":"'법정동(2014.12월말)'!BC95-'법정동(2013년말)'!BC96","v":{"v":0,"d":"0.0"}},{"$f":"'법정동(2014.12월말)'!BD95-'법정동(2013년말)'!BD96","v":{"v":0,"d":"0.0"}},{"$f":"'법정동(2014.12월말)'!BE95-'법정동(2013년말)'!BE96","v":{"v":0,"d":"0.0"}},{"$f":"'법정동(2014.12월말)'!BF95-'법정동(2013년말)'!BF96","v":{"v":2215,"d":"2,215.0"}},{"$f":"'법정동(2014.12월말)'!BG95-'법정동(2013년말)'!BG96","v":{"v":2,"d":"2.0"}}]
["남면 우학리",{"$f":"'법정동(2014.12월말)'!B96-'법정동(2013년말)'!B97","v":{"v":-613,"d":"-613.0"}},{"$f":"'법정동(2014.12월말)'!C96-'법정동(2013년말)'!C97","v":{"v":9,"d":"9.0"}},{"$f":"'법정동(2014.12월말)'!D96-'법정동(2013년말)'!D97","v":{"v":-1784,"d":"-1,784.0"}},{"$f":"'법정동(2014.12월말)'!E96-'법정동(2013년말)'!E97","v":{"v":0,"d":"0.0"}},{"$f":"'법정동(2014.12월말)'!F96-'법정동(2013년말)'!F97","v":{"v":-444,"d":"-444.0"}},{"$f":"'법정동(2014.12월말)'!G96-'법정동(2013년말)'!G97","v":{"v":-3,"d":"-3.0"}},{"$f":"'법정동(2014.12월말)'!H96-'법정동(2013년말)'!H97","v":{"v":0,"d":"0.0"}},{"$f":"'법정동(2014.12월말)'!I96-'법정동(2013년말)'!I97","v":{"v":0,"d":"0.0"}},{"$f":"'법정동(2014.12월말)'!J96-'법정동(2013년말)'!J97","v":{"v":0,"d":"0.0"}},{"$f":"'법정동(2014.12월말)'!K96-'법정동(2013년말)'!K97","v":{"v":0,"d":"0.0"}},{"$f":"'법정동(2014.12월말)'!L96-'법정동(2013년말)'!L97","v":{"v":-828,"d":"-828.0"}},{"$f":"'법정동(2014.12월말)'!M96-'법정동(2013년말)'!M97","v":{"v":1,"d":"1.0"}},{"$f":"'법정동(2014.12월말)'!N96-'법정동(2013년말)'!N97","v":{"v":0,"d":"0.0"}},{"$f":"'법정동(2014.12월말)'!O96-'법정동(2013년말)'!O97","v":{"v":0,"d":"0.0"}},{"$f":"'법정동(2014.12월말)'!P96-'법정동(2013년말)'!P97","v":{"v":0,"d":"0.0"}},{"$f":"'법정동(2014.12월말)'!Q96-'법정동(2013년말)'!Q97","v":{"v":0,"d":"0.0"}},{"$f":"'법정동(2014.12월말)'!R96-'법정동(2013년말)'!R97","v":{"v":2754,"d":"2,754.0"}},{"$f":"'법정동(2014.12월말)'!S96-'법정동(2013년말)'!S97","v":{"v":7,"d":"7.0"}},{"$f":"'법정동(2014.12월말)'!T96-'법정동(2013년말)'!T97","v":{"v":0,"d":"0.0"}},{"$f":"'법정동(2014.12월말)'!U96-'법정동(2013년말)'!U97","v":{"v":0,"d":"0.0"}},{"$f":"'법정동(2014.12월말)'!V96-'법정동(2013년말)'!V97","v":{"v":0,"d":"0.0"}},{"$f":"'법정동(2014.12월말)'!W96-'법정동(2013년말)'!W97","v":{"v":0,"d":"0.0"}},{"$f":"'법정동(2014.12월말)'!X96-'법정동(2013년말)'!X97","v":{"v":54,"d":"54.0"}},{"$f":"'법정동(2014.12월말)'!Y96-'법정동(2013년말)'!Y97","v":{"v":1,"d":"1.0"}},{"$f":"'법정동(2014.12월말)'!Z96-'법정동(2013년말)'!Z97","v":{"v":0,"d":"0.0"}},{"$f":"'법정동(2014.12월말)'!AA96-'법정동(2013년말)'!AA97","v":{"v":0,"d":"0.0"}},{"$f":"'법정동(2014.12월말)'!AB96-'법정동(2013년말)'!AB97","v":{"v":0,"d":"0.0"}},{"$f":"'법정동(2014.12월말)'!AC96-'법정동(2013년말)'!AC97","v":{"v":0,"d":"0.0"}},{"$f":"'법정동(2014.12월말)'!AD96-'법정동(2013년말)'!AD97","v":{"v":69,"d":"69.0"}},{"$f":"'법정동(2014.12월말)'!AE96-'법정동(2013년말)'!AE97","v":{"v":3,"d":"3.0"}},{"$f":"'법정동(2014.12월말)'!AF96-'법정동(2013년말)'!AF97","v":{"v":0,"d":"0.0"}},{"$f":"'법정동(2014.12월말)'!AG96-'법정동(2013년말)'!AG97","v":{"v":0,"d":"0.0"}},{"$f":"'법정동(2014.12월말)'!AH96-'법정동(2013년말)'!AH97","v":{"v":0,"d":"0.0"}},{"$f":"'법정동(2014.12월말)'!AI96-'법정동(2013년말)'!AI97","v":{"v":0,"d":"0.0"}},{"$f":"'법정동(2014.12월말)'!AJ96-'법정동(2013년말)'!AJ97","v":{"v":0,"d":"0.0"}},{"$f":"'법정동(2014.12월말)'!AK96-'법정동(2013년말)'!AK97","v":{"v":0,"d":"0.0"}},{"$f":"'법정동(2014.12월말)'!AL96-'법정동(2013년말)'!AL97","v":{"v":0,"d":"0.0"}},{"$f":"'법정동(2014.12월말)'!AM96-'법정동(2013년말)'!AM97","v":{"v":0,"d":"0.0"}},{"$f":"'법정동(2014.12월말)'!AN96-'법정동(2013년말)'!AN97","v":{"v":0,"d":"0.0"}},{"$f":"'법정동(2014.12월말)'!AO96-'법정동(2013년말)'!AO97","v":{"v":0,"d":"0.0"}},{"$f":"'법정동(2014.12월말)'!AP96-'법정동(2013년말)'!AP97","v":{"v":0,"d":"0.0"}},{"$f":"'법정동(2014.12월말)'!AQ96-'법정동(2013년말)'!AQ97","v":{"v":0,"d":"0.0"}},{"$f":"'법정동(2014.12월말)'!AR96-'법정동(2013년말)'!AR97","v":{"v":0,"d":"0.0"}},{"$f":"'법정동(2014.12월말)'!AS96-'법정동(2013년말)'!AS97","v":{"v":0,"d":"0.0"}},{"$f":"'법정동(2014.12월말)'!AT96-'법정동(2013년말)'!AT97","v":{"v":0,"d":"0.0"}},{"$f":"'법정동(2014.12월말)'!AU96-'법정동(2013년말)'!AU97","v":{"v":0,"d":"0.0"}},{"$f":"'법정동(2014.12월말)'!AV96-'법정동(2013년말)'!AV97","v":{"v":0,"d":"0.0"}},{"$f":"'법정동(2014.12월말)'!AW96-'법정동(2013년말)'!AW97","v":{"v":0,"d":"0.0"}},{"$f":"'법정동(2014.12월말)'!AX96-'법정동(2013년말)'!AX97","v":{"v":0,"d":"0.0"}},{"$f":"'법정동(2014.12월말)'!AY96-'법정동(2013년말)'!AY97","v":{"v":0,"d":"0.0"}},{"$f":"'법정동(2014.12월말)'!AZ96-'법정동(2013년말)'!AZ97","v":{"v":0,"d":"0.0"}},{"$f":"'법정동(2014.12월말)'!BA96-'법정동(2013년말)'!BA97","v":{"v":0,"d":"0.0"}},{"$f":"'법정동(2014.12월말)'!BB96-'법정동(2013년말)'!BB97","v":{"v":0,"d":"0.0"}},{"$f":"'법정동(2014.12월말)'!BC96-'법정동(2013년말)'!BC97","v":{"v":0,"d":"0.0"}},{"$f":"'법정동(2014.12월말)'!BD96-'법정동(2013년말)'!BD97","v":{"v":0,"d":"0.0"}},{"$f":"'법정동(2014.12월말)'!BE96-'법정동(2013년말)'!BE97","v":{"v":0,"d":"0.0"}},{"$f":"'법정동(2014.12월말)'!BF96-'법정동(2013년말)'!BF97","v":{"v":-434,"d":"-434.0"}},{"$f":"'법정동(2014.12월말)'!BG96-'법정동(2013년말)'!BG97","v":{"v":0,"d":"0.0"}}]
["남면 심장리",{"$f":"'법정동(2014.12월말)'!B97-'법정동(2013년말)'!B98","v":{"v":0,"d":"0.0"}},{"$f":"'법정동(2014.12월말)'!C97-'법정동(2013년말)'!C98","v":{"v":7,"d":"7.0"}},{"$f":"'법정동(2014.12월말)'!D97-'법정동(2013년말)'!D98","v":{"v":-2718,"d":"-2,718.0"}},{"$f":"'법정동(2014.12월말)'!E97-'법정동(2013년말)'!E98","v":{"v":1,"d":"1.0"}},{"$f":"'법정동(2014.12월말)'!F97-'법정동(2013년말)'!F98","v":{"v":-692,"d":"-692.0"}},{"$f":"'법정동(2014.12월말)'!G97-'법정동(2013년말)'!G98","v":{"v":-1,"d":"-1.0"}},{"$f":"'법정동(2014.12월말)'!H97-'법정동(2013년말)'!H98","v":{"v":0,"d":"0.0"}},{"$f":"'법정동(2014.12월말)'!I97-'법정동(2013년말)'!I98","v":{"v":0,"d":"0.0"}},{"$f":"'법정동(2014.12월말)'!J97-'법정동(2013년말)'!J98","v":{"v":0,"d":"0.0"}},{"$f":"'법정동(2014.12월말)'!K97-'법정동(2013년말)'!K98","v":{"v":0,"d":"0.0"}},{"$f":"'법정동(2014.12월말)'!L97-'법정동(2013년말)'!L98","v":{"v":0,"d":"0.0"}},{"$f":"'법정동(2014.12월말)'!M97-'법정동(2013년말)'!M98","v":{"v":0,"d":"0.0"}},{"$f":"'법정동(2014.12월말)'!N97-'법정동(2013년말)'!N98","v":{"v":0,"d":"0.0"}},{"$f":"'법정동(2014.12월말)'!O97-'법정동(2013년말)'!O98","v":{"v":0,"d":"0.0"}},{"$f":"'법정동(2014.12월말)'!P97-'법정동(2013년말)'!P98","v":{"v":0,"d":"0.0"}},{"$f":"'법정동(2014.12월말)'!Q97-'법정동(2013년말)'!Q98","v":{"v":0,"d":"0.0"}},{"$f":"'법정동(2014.12월말)'!R97-'법정동(2013년말)'!R98","v":{"v":1076,"d":"1,076.0"}},{"$f":"'법정동(2014.12월말)'!S97-'법정동(2013년말)'!S98","v":{"v":4,"d":"4.0"}},{"$f":"'법정동(2014.12월말)'!T97-'법정동(2013년말)'!T98","v":{"v":2032,"d":"2,032.0"}},{"$f":"'법정동(2014.12월말)'!U97-'법정동(2013년말)'!U98","v":{"v":1,"d":"1.0"}},{"$f":"'법정동(2014.12월말)'!V97-'법정동(2013년말)'!V98","v":{"v":0,"d":"0.0"}},{"$f":"'법정동(2014.12월말)'!W97-'법정동(2013년말)'!W98","v":{"v":0,"d":"0.0"}},{"$f":"'법정동(2014.12월말)'!X97-'법정동(2013년말)'!X98","v":{"v":0,"d":"0.0"}},{"$f":"'법정동(2014.12월말)'!Y97-'법정동(2013년말)'!Y98","v":{"v":0,"d":"0.0"}},{"$f":"'법정동(2014.12월말)'!Z97-'법정동(2013년말)'!Z98","v":{"v":0,"d":"0.0"}},{"$f":"'법정동(2014.12월말)'!AA97-'법정동(2013년말)'!AA98","v":{"v":0,"d":"0.0"}},{"$f":"'법정동(2014.12월말)'!AB97-'법정동(2013년말)'!AB98","v":{"v":0,"d":"0.0"}},{"$f":"'법정동(2014.12월말)'!AC97-'법정동(2013년말)'!AC98","v":{"v":0,"d":"0.0"}},{"$f":"'법정동(2014.12월말)'!AD97-'법정동(2013년말)'!AD98","v":{"v":380,"d":"380.0"}},{"$f":"'법정동(2014.12월말)'!AE97-'법정동(2013년말)'!AE98","v":{"v":1,"d":"1.0"}},{"$f":"'법정동(2014.12월말)'!AF97-'법정동(2013년말)'!AF98","v":{"v":0,"d":"0.0"}},{"$f":"'법정동(2014.12월말)'!AG97-'법정동(2013년말)'!AG98","v":{"v":0,"d":"0.0"}},{"$f":"'법정동(2014.12월말)'!AH97-'법정동(2013년말)'!AH98","v":{"v":0,"d":"0.0"}},{"$f":"'법정동(2014.12월말)'!AI97-'법정동(2013년말)'!AI98","v":{"v":0,"d":"0.0"}},{"$f":"'법정동(2014.12월말)'!AJ97-'법정동(2013년말)'!AJ98","v":{"v":0,"d":"0.0"}},{"$f":"'법정동(2014.12월말)'!AK97-'법정동(2013년말)'!AK98","v":{"v":0,"d":"0.0"}},{"$f":"'법정동(2014.12월말)'!AL97-'법정동(2013년말)'!AL98","v":{"v":-78,"d":"-78.0"}},{"$f":"'법정동(2014.12월말)'!AM97-'법정동(2013년말)'!AM98","v":{"v":1,"d":"1.0"}},{"$f":"'법정동(2014.12월말)'!AN97-'법정동(2013년말)'!AN98","v":{"v":0,"d":"0.0"}},{"$f":"'법정동(2014.12월말)'!AO97-'법정동(2013년말)'!AO98","v":{"v":0,"d":"0.0"}},{"$f":"'법정동(2014.12월말)'!AP97-'법정동(2013년말)'!AP98","v":{"v":0,"d":"0.0"}},{"$f":"'법정동(2014.12월말)'!AQ97-'법정동(2013년말)'!AQ98","v":{"v":0,"d":"0.0"}},{"$f":"'법정동(2014.12월말)'!AR97-'법정동(2013년말)'!AR98","v":{"v":0,"d":"0.0"}},{"$f":"'법정동(2014.12월말)'!AS97-'법정동(2013년말)'!AS98","v":{"v":0,"d":"0.0"}},{"$f":"'법정동(2014.12월말)'!AT97-'법정동(2013년말)'!AT98","v":{"v":0,"d":"0.0"}},{"$f":"'법정동(2014.12월말)'!AU97-'법정동(2013년말)'!AU98","v":{"v":0,"d":"0.0"}},{"$f":"'법정동(2014.12월말)'!AV97-'법정동(2013년말)'!AV98","v":{"v":0,"d":"0.0"}},{"$f":"'법정동(2014.12월말)'!AW97-'법정동(2013년말)'!AW98","v":{"v":0,"d":"0.0"}},{"$f":"'법정동(2014.12월말)'!AX97-'법정동(2013년말)'!AX98","v":{"v":0,"d":"0.0"}},{"$f":"'법정동(2014.12월말)'!AY97-'법정동(2013년말)'!AY98","v":{"v":0,"d":"0.0"}},{"$f":"'법정동(2014.12월말)'!AZ97-'법정동(2013년말)'!AZ98","v":{"v":0,"d":"0.0"}},{"$f":"'법정동(2014.12월말)'!BA97-'법정동(2013년말)'!BA98","v":{"v":0,"d":"0.0"}},{"$f":"'법정동(2014.12월말)'!BB97-'법정동(2013년말)'!BB98","v":{"v":0,"d":"0.0"}},{"$f":"'법정동(2014.12월말)'!BC97-'법정동(2013년말)'!BC98","v":{"v":0,"d":"0.0"}},{"$f":"'법정동(2014.12월말)'!BD97-'법정동(2013년말)'!BD98","v":{"v":0,"d":"0.0"}},{"$f":"'법정동(2014.12월말)'!BE97-'법정동(2013년말)'!BE98","v":{"v":0,"d":"0.0"}},{"$f":"'법정동(2014.12월말)'!BF97-'법정동(2013년말)'!BF98","v":{"v":0,"d":"0.0"}},{"$f":"'법정동(2014.12월말)'!BG97-'법정동(2013년말)'!BG98","v":{"v":0,"d":"0.0"}}]
["남면 두모리",{"$f":"'법정동(2014.12월말)'!B98-'법정동(2013년말)'!B99","v":{"v":-975,"d":"-975.0"}},{"$f":"'법정동(2014.12월말)'!C98-'법정동(2013년말)'!C99","v":{"v":4,"d":"4.0"}},{"$f":"'법정동(2014.12월말)'!D98-'법정동(2013년말)'!D99","v":{"v":-329,"d":"-329.0"}},{"$f":"'법정동(2014.12월말)'!E98-'법정동(2013년말)'!E99","v":{"v":0,"d":"0.0"}},{"$f":"'법정동(2014.12월말)'!F98-'법정동(2013년말)'!F99","v":{"v":-111,"d":"-111.0"}},{"$f":"'법정동(2014.12월말)'!G98-'법정동(2013년말)'!G99","v":{"v":-1,"d":"-1.0"}},{"$f":"'법정동(2014.12월말)'!H98-'법정동(2013년말)'!H99","v":{"v":0,"d":"0.0"}},{"$f":"'법정동(2014.12월말)'!I98-'법정동(2013년말)'!I99","v":{"v":0,"d":"0.0"}},{"$f":"'법정동(2014.12월말)'!J98-'법정동(2013년말)'!J99","v":{"v":0,"d":"0.0"}},{"$f":"'법정동(2014.12월말)'!K98-'법정동(2013년말)'!K99","v":{"v":0,"d":"0.0"}},{"$f":"'법정동(2014.12월말)'!L98-'법정동(2013년말)'!L99","v":{"v":-137,"d":"-137.0"}},{"$f":"'법정동(2014.12월말)'!M98-'법정동(2013년말)'!M99","v":{"v":4,"d":"4.0"}},{"$f":"'법정동(2014.12월말)'!N98-'법정동(2013년말)'!N99","v":{"v":0,"d":"0.0"}},{"$f":"'법정동(2014.12월말)'!O98-'법정동(2013년말)'!O99","v":{"v":0,"d":"0.0"}},{"$f":"'법정동(2014.12월말)'!P98-'법정동(2013년말)'!P99","v":{"v":0,"d":"0.0"}},{"$f":"'법정동(2014.12월말)'!Q98-'법정동(2013년말)'!Q99","v":{"v":0,"d":"0.0"}},{"$f":"'법정동(2014.12월말)'!R98-'법정동(2013년말)'!R99","v":{"v":251,"d":"251.0"}},{"$f":"'법정동(2014.12월말)'!S98-'법정동(2013년말)'!S99","v":{"v":0,"d":"0.0"}},{"$f":"'법정동(2014.12월말)'!T98-'법정동(2013년말)'!T99","v":{"v":0,"d":"0.0"}},{"$f":"'법정동(2014.12월말)'!U98-'법정동(2013년말)'!U99","v":{"v":0,"d":"0.0"}},{"$f":"'법정동(2014.12월말)'!V98-'법정동(2013년말)'!V99","v":{"v":0,"d":"0.0"}},{"$f":"'법정동(2014.12월말)'!W98-'법정동(2013년말)'!W99","v":{"v":0,"d":"0.0"}},{"$f":"'법정동(2014.12월말)'!X98-'법정동(2013년말)'!X99","v":{"v":0,"d":"0.0"}},{"$f":"'법정동(2014.12월말)'!Y98-'법정동(2013년말)'!Y99","v":{"v":0,"d":"0.0"}},{"$f":"'법정동(2014.12월말)'!Z98-'법정동(2013년말)'!Z99","v":{"v":0,"d":"0.0"}},{"$f":"'법정동(2014.12월말)'!AA98-'법정동(2013년말)'!AA99","v":{"v":0,"d":"0.0"}},{"$f":"'법정동(2014.12월말)'!AB98-'법정동(2013년말)'!AB99","v":{"v":0,"d":"0.0"}},{"$f":"'법정동(2014.12월말)'!AC98-'법정동(2013년말)'!AC99","v":{"v":0,"d":"0.0"}},{"$f":"'법정동(2014.12월말)'!AD98-'법정동(2013년말)'!AD99","v":{"v":-54,"d":"-54.0"}},{"$f":"'법정동(2014.12월말)'!AE98-'법정동(2013년말)'!AE99","v":{"v":0,"d":"0.0"}},{"$f":"'법정동(2014.12월말)'!AF98-'법정동(2013년말)'!AF99","v":{"v":0,"d":"0.0"}},{"$f":"'법정동(2014.12월말)'!AG98-'법정동(2013년말)'!AG99","v":{"v":0,"d":"0.0"}},{"$f":"'법정동(2014.12월말)'!AH98-'법정동(2013년말)'!AH99","v":{"v":0,"d":"0.0"}},{"$f":"'법정동(2014.12월말)'!AI98-'법정동(2013년말)'!AI99","v":{"v":0,"d":"0.0"}},{"$f":"'법정동(2014.12월말)'!AJ98-'법정동(2013년말)'!AJ99","v":{"v":0,"d":"0.0"}},{"$f":"'법정동(2014.12월말)'!AK98-'법정동(2013년말)'!AK99","v":{"v":0,"d":"0.0"}},{"$f":"'법정동(2014.12월말)'!AL98-'법정동(2013년말)'!AL99","v":{"v":-706,"d":"-706.0"}},{"$f":"'법정동(2014.12월말)'!AM98-'법정동(2013년말)'!AM99","v":{"v":1,"d":"1.0"}},{"$f":"'법정동(2014.12월말)'!AN98-'법정동(2013년말)'!AN99","v":{"v":0,"d":"0.0"}},{"$f":"'법정동(2014.12월말)'!AO98-'법정동(2013년말)'!AO99","v":{"v":0,"d":"0.0"}},{"$f":"'법정동(2014.12월말)'!AP98-'법정동(2013년말)'!AP99","v":{"v":0,"d":"0.0"}},{"$f":"'법정동(2014.12월말)'!AQ98-'법정동(2013년말)'!AQ99","v":{"v":0,"d":"0.0"}},{"$f":"'법정동(2014.12월말)'!AR98-'법정동(2013년말)'!AR99","v":{"v":0,"d":"0.0"}},{"$f":"'법정동(2014.12월말)'!AS98-'법정동(2013년말)'!AS99","v":{"v":0,"d":"0.0"}},{"$f":"'법정동(2014.12월말)'!AT98-'법정동(2013년말)'!AT99","v":{"v":0,"d":"0.0"}},{"$f":"'법정동(2014.12월말)'!AU98-'법정동(2013년말)'!AU99","v":{"v":0,"d":"0.0"}},{"$f":"'법정동(2014.12월말)'!AV98-'법정동(2013년말)'!AV99","v":{"v":0,"d":"0.0"}},{"$f":"'법정동(2014.12월말)'!AW98-'법정동(2013년말)'!AW99","v":{"v":0,"d":"0.0"}},{"$f":"'법정동(2014.12월말)'!AX98-'법정동(2013년말)'!AX99","v":{"v":0,"d":"0.0"}},{"$f":"'법정동(2014.12월말)'!AY98-'법정동(2013년말)'!AY99","v":{"v":0,"d":"0.0"}},{"$f":"'법정동(2014.12월말)'!AZ98-'법정동(2013년말)'!AZ99","v":{"v":111,"d":"111.0"}},{"$f":"'법정동(2014.12월말)'!BA98-'법정동(2013년말)'!BA99","v":{"v":0,"d":"0.0"}},{"$f":"'법정동(2014.12월말)'!BB98-'법정동(2013년말)'!BB99","v":{"v":0,"d":"0.0"}},{"$f":"'법정동(2014.12월말)'!BC98-'법정동(2013년말)'!BC99","v":{"v":0,"d":"0.0"}},{"$f":"'법정동(2014.12월말)'!BD98-'법정동(2013년말)'!BD99","v":{"v":0,"d":"0.0"}},{"$f":"'법정동(2014.12월말)'!BE98-'법정동(2013년말)'!BE99","v":{"v":0,"d":"0.0"}},{"$f":"'법정동(2014.12월말)'!BF98-'법정동(2013년말)'!BF99","v":{"v":0,"d":"0.0"}},{"$f":"'법정동(2014.12월말)'!BG98-'법정동(2013년말)'!BG99","v":{"v":0,"d":"0.0"}}]
["남면 유송리",{"$f":"'법정동(2014.12월말)'!B99-'법정동(2013년말)'!B100","v":{"v":-99,"d":"-99.0"}},{"$f":"'법정동(2014.12월말)'!C99-'법정동(2013년말)'!C100","v":{"v":12,"d":"12.0"}},{"$f":"'법정동(2014.12월말)'!D99-'법정동(2013년말)'!D100","v":{"v":-4003,"d":"-4,003.0"}},{"$f":"'법정동(2014.12월말)'!E99-'법정동(2013년말)'!E100","v":{"v":4,"d":"4.0"}},{"$f":"'법정동(2014.12월말)'!F99-'법정동(2013년말)'!F100","v":{"v":0,"d":"0.0"}},{"$f":"'법정동(2014.12월말)'!G99-'법정동(2013년말)'!G100","v":{"v":0,"d":"0.0"}},{"$f":"'법정동(2014.12월말)'!H99-'법정동(2013년말)'!H100","v":{"v":0,"d":"0.0"}},{"$f":"'법정동(2014.12월말)'!I99-'법정동(2013년말)'!I100","v":{"v":0,"d":"0.0"}},{"$f":"'법정동(2014.12월말)'!J99-'법정동(2013년말)'!J100","v":{"v":0,"d":"0.0"}},{"$f":"'법정동(2014.12월말)'!K99-'법정동(2013년말)'!K100","v":{"v":0,"d":"0.0"}},{"$f":"'법정동(2014.12월말)'!L99-'법정동(2013년말)'!L100","v":{"v":-298,"d":"-298.0"}},{"$f":"'법정동(2014.12월말)'!M99-'법정동(2013년말)'!M100","v":{"v":-1,"d":"-1.0"}},{"$f":"'법정동(2014.12월말)'!N99-'법정동(2013년말)'!N100","v":{"v":0,"d":"0.0"}},{"$f":"'법정동(2014.12월말)'!O99-'법정동(2013년말)'!O100","v":{"v":0,"d":"0.0"}},{"$f":"'법정동(2014.12월말)'!P99-'법정동(2013년말)'!P100","v":{"v":0,"d":"0.0"}},{"$f":"'법정동(2014.12월말)'!Q99-'법정동(2013년말)'!Q100","v":{"v":0,"d":"0.0"}},{"$f":"'법정동(2014.12월말)'!R99-'법정동(2013년말)'!R100","v":{"v":3550,"d":"3,550.0"}},{"$f":"'법정동(2014.12월말)'!S99-'법정동(2013년말)'!S100","v":{"v":7,"d":"7.0"}},{"$f":"'법정동(2014.12월말)'!T99-'법정동(2013년말)'!T100","v":{"v":0,"d":"0.0"}},{"$f":"'법정동(2014.12월말)'!U99-'법정동(2013년말)'!U100","v":{"v":0,"d":"0.0"}},{"$f":"'법정동(2014.12월말)'!V99-'법정동(2013년말)'!V100","v":{"v":0,"d":"0.0"}},{"$f":"'법정동(2014.12월말)'!W99-'법정동(2013년말)'!W100","v":{"v":0,"d":"0.0"}},{"$f":"'법정동(2014.12월말)'!X99-'법정동(2013년말)'!X100","v":{"v":0,"d":"0.0"}},{"$f":"'법정동(2014.12월말)'!Y99-'법정동(2013년말)'!Y100","v":{"v":0,"d":"0.0"}},{"$f":"'법정동(2014.12월말)'!Z99-'법정동(2013년말)'!Z100","v":{"v":0,"d":"0.0"}},{"$f":"'법정동(2014.12월말)'!AA99-'법정동(2013년말)'!AA100","v":{"v":0,"d":"0.0"}},{"$f":"'법정동(2014.12월말)'!AB99-'법정동(2013년말)'!AB100","v":{"v":540,"d":"540.0"}},{"$f":"'법정동(2014.12월말)'!AC99-'법정동(2013년말)'!AC100","v":{"v":1,"d":"1.0"}},{"$f":"'법정동(2014.12월말)'!AD99-'법정동(2013년말)'!AD100","v":{"v":112,"d":"112.0"}},{"$f":"'법정동(2014.12월말)'!AE99-'법정동(2013년말)'!AE100","v":{"v":1,"d":"1.0"}},{"$f":"'법정동(2014.12월말)'!AF99-'법정동(2013년말)'!AF100","v":{"v":0,"d":"0.0"}},{"$f":"'법정동(2014.12월말)'!AG99-'법정동(2013년말)'!AG100","v":{"v":0,"d":"0.0"}},{"$f":"'법정동(2014.12월말)'!AH99-'법정동(2013년말)'!AH100","v":{"v":0,"d":"0.0"}},{"$f":"'법정동(2014.12월말)'!AI99-'법정동(2013년말)'!AI100","v":{"v":0,"d":"0.0"}},{"$f":"'법정동(2014.12월말)'!AJ99-'법정동(2013년말)'!AJ100","v":{"v":0,"d":"0.0"}},{"$f":"'법정동(2014.12월말)'!AK99-'법정동(2013년말)'!AK100","v":{"v":0,"d":"0.0"}},{"$f":"'법정동(2014.12월말)'!AL99-'법정동(2013년말)'!AL100","v":{"v":0,"d":"0.0"}},{"$f":"'법정동(2014.12월말)'!AM99-'법정동(2013년말)'!AM100","v":{"v":0,"d":"0.0"}},{"$f":"'법정동(2014.12월말)'!AN99-'법정동(2013년말)'!AN100","v":{"v":0,"d":"0.0"}},{"$f":"'법정동(2014.12월말)'!AO99-'법정동(2013년말)'!AO100","v":{"v":0,"d":"0.0"}},{"$f":"'법정동(2014.12월말)'!AP99-'법정동(2013년말)'!AP100","v":{"v":0,"d":"0.0"}},{"$f":"'법정동(2014.12월말)'!AQ99-'법정동(2013년말)'!AQ100","v":{"v":0,"d":"0.0"}},{"$f":"'법정동(2014.12월말)'!AR99-'법정동(2013년말)'!AR100","v":{"v":0,"d":"0.0"}},{"$f":"'법정동(2014.12월말)'!AS99-'법정동(2013년말)'!AS100","v":{"v":0,"d":"0.0"}},{"$f":"'법정동(2014.12월말)'!AT99-'법정동(2013년말)'!AT100","v":{"v":0,"d":"0.0"}},{"$f":"'법정동(2014.12월말)'!AU99-'법정동(2013년말)'!AU100","v":{"v":0,"d":"0.0"}},{"$f":"'법정동(2014.12월말)'!AV99-'법정동(2013년말)'!AV100","v":{"v":0,"d":"0.0"}},{"$f":"'법정동(2014.12월말)'!AW99-'법정동(2013년말)'!AW100","v":{"v":0,"d":"0.0"}},{"$f":"'법정동(2014.12월말)'!AX99-'법정동(2013년말)'!AX100","v":{"v":0,"d":"0.0"}},{"$f":"'법정동(2014.12월말)'!AY99-'법정동(2013년말)'!AY100","v":{"v":0,"d":"0.0"}},{"$f":"'법정동(2014.12월말)'!AZ99-'법정동(2013년말)'!AZ100","v":{"v":0,"d":"0.0"}},{"$f":"'법정동(2014.12월말)'!BA99-'법정동(2013년말)'!BA100","v":{"v":0,"d":"0.0"}},{"$f":"'법정동(2014.12월말)'!BB99-'법정동(2013년말)'!BB100","v":{"v":0,"d":"0.0"}},{"$f":"'법정동(2014.12월말)'!BC99-'법정동(2013년말)'!BC100","v":{"v":0,"d":"0.0"}},{"$f":"'법정동(2014.12월말)'!BD99-'법정동(2013년말)'!BD100","v":{"v":0,"d":"0.0"}},{"$f":"'법정동(2014.12월말)'!BE99-'법정동(2013년말)'!BE100","v":{"v":0,"d":"0.0"}},{"$f":"'법정동(2014.12월말)'!BF99-'법정동(2013년말)'!BF100","v":{"v":0,"d":"0.0"}},{"$f":"'법정동(2014.12월말)'!BG99-'법정동(2013년말)'!BG100","v":{"v":0,"d":"0.0"}}]
["남면 안도리",{"$f":"'법정동(2014.12월말)'!B100-'법정동(2013년말)'!B101","v":{"v":0,"d":"0.0"}},{"$f":"'법정동(2014.12월말)'!C100-'법정동(2013년말)'!C101","v":{"v":8,"d":"8.0"}},{"$f":"'법정동(2014.12월말)'!D100-'법정동(2013년말)'!D101","v":{"v":-656,"d":"-656.0"}},{"$f":"'법정동(2014.12월말)'!E100-'법정동(2013년말)'!E101","v":{"v":-1,"d":"-1.0"}},{"$f":"'법정동(2014.12월말)'!F100-'법정동(2013년말)'!F101","v":{"v":0,"d":"0.0"}},{"$f":"'법정동(2014.12월말)'!G100-'법정동(2013년말)'!G101","v":{"v":0,"d":"0.0"}},{"$f":"'법정동(2014.12월말)'!H100-'법정동(2013년말)'!H101","v":{"v":0,"d":"0.0"}},{"$f":"'법정동(2014.12월말)'!I100-'법정동(2013년말)'!I101","v":{"v":0,"d":"0.0"}},{"$f":"'법정동(2014.12월말)'!J100-'법정동(2013년말)'!J101","v":{"v":0,"d":"0.0"}},{"$f":"'법정동(2014.12월말)'!K100-'법정동(2013년말)'!K101","v":{"v":0,"d":"0.0"}},{"$f":"'법정동(2014.12월말)'!L100-'법정동(2013년말)'!L101","v":{"v":0,"d":"0.0"}},{"$f":"'법정동(2014.12월말)'!M100-'법정동(2013년말)'!M101","v":{"v":1,"d":"1.0"}},{"$f":"'법정동(2014.12월말)'!N100-'법정동(2013년말)'!N101","v":{"v":0,"d":"0.0"}},{"$f":"'법정동(2014.12월말)'!O100-'법정동(2013년말)'!O101","v":{"v":0,"d":"0.0"}},{"$f":"'법정동(2014.12월말)'!P100-'법정동(2013년말)'!P101","v":{"v":0,"d":"0.0"}},{"$f":"'법정동(2014.12월말)'!Q100-'법정동(2013년말)'!Q101","v":{"v":0,"d":"0.0"}},{"$f":"'법정동(2014.12월말)'!R100-'법정동(2013년말)'!R101","v":{"v":656,"d":"656.0"}},{"$f":"'법정동(2014.12월말)'!S100-'법정동(2013년말)'!S101","v":{"v":7,"d":"7.0"}},{"$f":"'법정동(2014.12월말)'!T100-'법정동(2013년말)'!T101","v":{"v":0,"d":"0.0"}},{"$f":"'법정동(2014.12월말)'!U100-'법정동(2013년말)'!U101","v":{"v":0,"d":"0.0"}},{"$f":"'법정동(2014.12월말)'!V100-'법정동(2013년말)'!V101","v":{"v":0,"d":"0.0"}},{"$f":"'법정동(2014.12월말)'!W100-'법정동(2013년말)'!W101","v":{"v":1,"d":"1.0"}},{"$f":"'법정동(2014.12월말)'!X100-'법정동(2013년말)'!X101","v":{"v":0,"d":"0.0"}},{"$f":"'법정동(2014.12월말)'!Y100-'법정동(2013년말)'!Y101","v":{"v":0,"d":"0.0"}},{"$f":"'법정동(2014.12월말)'!Z100-'법정동(2013년말)'!Z101","v":{"v":0,"d":"0.0"}},{"$f":"'법정동(2014.12월말)'!AA100-'법정동(2013년말)'!AA101","v":{"v":0,"d":"0.0"}},{"$f":"'법정동(2014.12월말)'!AB100-'법정동(2013년말)'!AB101","v":{"v":0,"d":"0.0"}},{"$f":"'법정동(2014.12월말)'!AC100-'법정동(2013년말)'!AC101","v":{"v":0,"d":"0.0"}},{"$f":"'법정동(2014.12월말)'!AD100-'법정동(2013년말)'!AD101","v":{"v":0,"d":"0.0"}},{"$f":"'법정동(2014.12월말)'!AE100-'법정동(2013년말)'!AE101","v":{"v":0,"d":"0.0"}},{"$f":"'법정동(2014.12월말)'!AF100-'법정동(2013년말)'!AF101","v":{"v":0,"d":"0.0"}},{"$f":"'법정동(2014.12월말)'!AG100-'법정동(2013년말)'!AG101","v":{"v":0,"d":"0.0"}},{"$f":"'법정동(2014.12월말)'!AH100-'법정동(2013년말)'!AH101","v":{"v":0,"d":"0.0"}},{"$f":"'법정동(2014.12월말)'!AI100-'법정동(2013년말)'!AI101","v":{"v":0,"d":"0.0"}},{"$f":"'법정동(2014.12월말)'!AJ100-'법정동(2013년말)'!AJ101","v":{"v":0,"d":"0.0"}},{"$f":"'법정동(2014.12월말)'!AK100-'법정동(2013년말)'!AK101","v":{"v":0,"d":"0.0"}},{"$f":"'법정동(2014.12월말)'!AL100-'법정동(2013년말)'!AL101","v":{"v":0,"d":"0.0"}},{"$f":"'법정동(2014.12월말)'!AM100-'법정동(2013년말)'!AM101","v":{"v":0,"d":"0.0"}},{"$f":"'법정동(2014.12월말)'!AN100-'법정동(2013년말)'!AN101","v":{"v":0,"d":"0.0"}},{"$f":"'법정동(2014.12월말)'!AO100-'법정동(2013년말)'!AO101","v":{"v":0,"d":"0.0"}},{"$f":"'법정동(2014.12월말)'!AP100-'법정동(2013년말)'!AP101","v":{"v":0,"d":"0.0"}},{"$f":"'법정동(2014.12월말)'!AQ100-'법정동(2013년말)'!AQ101","v":{"v":0,"d":"0.0"}},{"$f":"'법정동(2014.12월말)'!AR100-'법정동(2013년말)'!AR101","v":{"v":0,"d":"0.0"}},{"$f":"'법정동(2014.12월말)'!AS100-'법정동(2013년말)'!AS101","v":{"v":0,"d":"0.0"}},{"$f":"'법정동(2014.12월말)'!AT100-'법정동(2013년말)'!AT101","v":{"v":0,"d":"0.0"}},{"$f":"'법정동(2014.12월말)'!AU100-'법정동(2013년말)'!AU101","v":{"v":0,"d":"0.0"}},{"$f":"'법정동(2014.12월말)'!AV100-'법정동(2013년말)'!AV101","v":{"v":0,"d":"0.0"}},{"$f":"'법정동(2014.12월말)'!AW100-'법정동(2013년말)'!AW101","v":{"v":0,"d":"0.0"}},{"$f":"'법정동(2014.12월말)'!AX100-'법정동(2013년말)'!AX101","v":{"v":0,"d":"0.0"}},{"$f":"'법정동(2014.12월말)'!AY100-'법정동(2013년말)'!AY101","v":{"v":0,"d":"0.0"}},{"$f":"'법정동(2014.12월말)'!AZ100-'법정동(2013년말)'!AZ101","v":{"v":0,"d":"0.0"}},{"$f":"'법정동(2014.12월말)'!BA100-'법정동(2013년말)'!BA101","v":{"v":0,"d":"0.0"}},{"$f":"'법정동(2014.12월말)'!BB100-'법정동(2013년말)'!BB101","v":{"v":0,"d":"0.0"}},{"$f":"'법정동(2014.12월말)'!BC100-'법정동(2013년말)'!BC101","v":{"v":0,"d":"0.0"}},{"$f":"'법정동(2014.12월말)'!BD100-'법정동(2013년말)'!BD101","v":{"v":0,"d":"0.0"}},{"$f":"'법정동(2014.12월말)'!BE100-'법정동(2013년말)'!BE101","v":{"v":0,"d":"0.0"}},{"$f":"'법정동(2014.12월말)'!BF100-'법정동(2013년말)'!BF101","v":{"v":0,"d":"0.0"}},{"$f":"'법정동(2014.12월말)'!BG100-'법정동(2013년말)'!BG101","v":{"v":0,"d":"0.0"}}]
["남면 연도리",{"$f":"'법정동(2014.12월말)'!B101-'법정동(2013년말)'!B102","v":{"v":-310,"d":"-310.0"}},{"$f":"'법정동(2014.12월말)'!C101-'법정동(2013년말)'!C102","v":{"v":38,"d":"38.0"}},{"$f":"'법정동(2014.12월말)'!D101-'법정동(2013년말)'!D102","v":{"v":-659,"d":"-659.0"}},{"$f":"'법정동(2014.12월말)'!E101-'법정동(2013년말)'!E102","v":{"v":12,"d":"12.0"}},{"$f":"'법정동(2014.12월말)'!F101-'법정동(2013년말)'!F102","v":{"v":-52,"d":"-52.0"}},{"$f":"'법정동(2014.12월말)'!G101-'법정동(2013년말)'!G102","v":{"v":8,"d":"8.0"}},{"$f":"'법정동(2014.12월말)'!H101-'법정동(2013년말)'!H102","v":{"v":0,"d":"0.0"}},{"$f":"'법정동(2014.12월말)'!I101-'법정동(2013년말)'!I102","v":{"v":0,"d":"0.0"}},{"$f":"'법정동(2014.12월말)'!J101-'법정동(2013년말)'!J102","v":{"v":0,"d":"0.0"}},{"$f":"'법정동(2014.12월말)'!K101-'법정동(2013년말)'!K102","v":{"v":0,"d":"0.0"}},{"$f":"'법정동(2014.12월말)'!L101-'법정동(2013년말)'!L102","v":{"v":0,"d":"0.0"}},{"$f":"'법정동(2014.12월말)'!M101-'법정동(2013년말)'!M102","v":{"v":3,"d":"3.0"}},{"$f":"'법정동(2014.12월말)'!N101-'법정동(2013년말)'!N102","v":{"v":0,"d":"0.0"}},{"$f":"'법정동(2014.12월말)'!O101-'법정동(2013년말)'!O102","v":{"v":0,"d":"0.0"}},{"$f":"'법정동(2014.12월말)'!P101-'법정동(2013년말)'!P102","v":{"v":0,"d":"0.0"}},{"$f":"'법정동(2014.12월말)'!Q101-'법정동(2013년말)'!Q102","v":{"v":0,"d":"0.0"}},{"$f":"'법정동(2014.12월말)'!R101-'법정동(2013년말)'!R102","v":{"v":659,"d":"659.0"}},{"$f":"'법정동(2014.12월말)'!S101-'법정동(2013년말)'!S102","v":{"v":3,"d":"3.0"}},{"$f":"'법정동(2014.12월말)'!T101-'법정동(2013년말)'!T102","v":{"v":0,"d":"0.0"}},{"$f":"'법정동(2014.12월말)'!U101-'법정동(2013년말)'!U102","v":{"v":0,"d":"0.0"}},{"$f":"'법정동(2014.12월말)'!V101-'법정동(2013년말)'!V102","v":{"v":0,"d":"0.0"}},{"$f":"'법정동(2014.12월말)'!W101-'법정동(2013년말)'!W102","v":{"v":0,"d":"0.0"}},{"$f":"'법정동(2014.12월말)'!X101-'법정동(2013년말)'!X102","v":{"v":0,"d":"0.0"}},{"$f":"'법정동(2014.12월말)'!Y101-'법정동(2013년말)'!Y102","v":{"v":0,"d":"0.0"}},{"$f":"'법정동(2014.12월말)'!Z101-'법정동(2013년말)'!Z102","v":{"v":0,"d":"0.0"}},{"$f":"'법정동(2014.12월말)'!AA101-'법정동(2013년말)'!AA102","v":{"v":0,"d":"0.0"}},{"$f":"'법정동(2014.12월말)'!AB101-'법정동(2013년말)'!AB102","v":{"v":0,"d":"0.0"}},{"$f":"'법정동(2014.12월말)'!AC101-'법정동(2013년말)'!AC102","v":{"v":0,"d":"0.0"}},{"$f":"'법정동(2014.12월말)'!AD101-'법정동(2013년말)'!AD102","v":{"v":-97,"d":"-97.0"}},{"$f":"'법정동(2014.12월말)'!AE101-'법정동(2013년말)'!AE102","v":{"v":3,"d":"3.0"}},{"$f":"'법정동(2014.12월말)'!AF101-'법정동(2013년말)'!AF102","v":{"v":0,"d":"0.0"}},{"$f":"'법정동(2014.12월말)'!AG101-'법정동(2013년말)'!AG102","v":{"v":0,"d":"0.0"}},{"$f":"'법정동(2014.12월말)'!AH101-'법정동(2013년말)'!AH102","v":{"v":0,"d":"0.0"}},{"$f":"'법정동(2014.12월말)'!AI101-'법정동(2013년말)'!AI102","v":{"v":0,"d":"0.0"}},{"$f":"'법정동(2014.12월말)'!AJ101-'법정동(2013년말)'!AJ102","v":{"v":0,"d":"0.0"}},{"$f":"'법정동(2014.12월말)'!AK101-'법정동(2013년말)'!AK102","v":{"v":0,"d":"0.0"}},{"$f":"'법정동(2014.12월말)'!AL101-'법정동(2013년말)'!AL102","v":{"v":-213,"d":"-213.0"}},{"$f":"'법정동(2014.12월말)'!AM101-'법정동(2013년말)'!AM102","v":{"v":9,"d":"9.0"}},{"$f":"'법정동(2014.12월말)'!AN101-'법정동(2013년말)'!AN102","v":{"v":0,"d":"0.0"}},{"$f":"'법정동(2014.12월말)'!AO101-'법정동(2013년말)'!AO102","v":{"v":0,"d":"0.0"}},{"$f":"'법정동(2014.12월말)'!AP101-'법정동(2013년말)'!AP102","v":{"v":52,"d":"52.0"}},{"$f":"'법정동(2014.12월말)'!AQ101-'법정동(2013년말)'!AQ102","v":{"v":0,"d":"0.0"}},{"$f":"'법정동(2014.12월말)'!AR101-'법정동(2013년말)'!AR102","v":{"v":0,"d":"0.0"}},{"$f":"'법정동(2014.12월말)'!AS101-'법정동(2013년말)'!AS102","v":{"v":0,"d":"0.0"}},{"$f":"'법정동(2014.12월말)'!AT101-'법정동(2013년말)'!AT102","v":{"v":0,"d":"0.0"}},{"$f":"'법정동(2014.12월말)'!AU101-'법정동(2013년말)'!AU102","v":{"v":0,"d":"0.0"}},{"$f":"'법정동(2014.12월말)'!AV101-'법정동(2013년말)'!AV102","v":{"v":0,"d":"0.0"}},{"$f":"'법정동(2014.12월말)'!AW101-'법정동(2013년말)'!AW102","v":{"v":0,"d":"0.0"}},{"$f":"'법정동(2014.12월말)'!AX101-'법정동(2013년말)'!AX102","v":{"v":0,"d":"0.0"}},{"$f":"'법정동(2014.12월말)'!AY101-'법정동(2013년말)'!AY102","v":{"v":0,"d":"0.0"}},{"$f":"'법정동(2014.12월말)'!AZ101-'법정동(2013년말)'!AZ102","v":{"v":0,"d":"0.0"}},{"$f":"'법정동(2014.12월말)'!BA101-'법정동(2013년말)'!BA102","v":{"v":0,"d":"0.0"}},{"$f":"'법정동(2014.12월말)'!BB101-'법정동(2013년말)'!BB102","v":{"v":0,"d":"0.0"}},{"$f":"'법정동(2014.12월말)'!BC101-'법정동(2013년말)'!BC102","v":{"v":0,"d":"0.0"}},{"$f":"'법정동(2014.12월말)'!BD101-'법정동(2013년말)'!BD102","v":{"v":0,"d":"0.0"}},{"$f":"'법정동(2014.12월말)'!BE101-'법정동(2013년말)'!BE102","v":{"v":0,"d":"0.0"}},{"$f":"'법정동(2014.12월말)'!BF101-'법정동(2013년말)'!BF102","v":{"v":0,"d":"0.0"}},{"$f":"'법정동(2014.12월말)'!BG101-'법정동(2013년말)'!BG102","v":{"v":0,"d":"0.0"}}]
["남면 두라리",{"$f":"'법정동(2014.12월말)'!B102-'법정동(2013년말)'!B103","v":{"v":0,"d":"0.0"}},{"$f":"'법정동(2014.12월말)'!C102-'법정동(2013년말)'!C103","v":{"v":-1,"d":"-1.0"}},{"$f":"'법정동(2014.12월말)'!D102-'법정동(2013년말)'!D103","v":{"v":-125,"d":"-125.0"}},{"$f":"'법정동(2014.12월말)'!E102-'법정동(2013년말)'!E103","v":{"v":-1,"d":"-1.0"}},{"$f":"'법정동(2014.12월말)'!F102-'법정동(2013년말)'!F103","v":{"v":-222,"d":"-222.0"}},{"$f":"'법정동(2014.12월말)'!G102-'법정동(2013년말)'!G103","v":{"v":-1,"d":"-1.0"}},{"$f":"'법정동(2014.12월말)'!H102-'법정동(2013년말)'!H103","v":{"v":0,"d":"0.0"}},{"$f":"'법정동(2014.12월말)'!I102-'법정동(2013년말)'!I103","v":{"v":0,"d":"0.0"}},{"$f":"'법정동(2014.12월말)'!J102-'법정동(2013년말)'!J103","v":{"v":0,"d":"0.0"}},{"$f":"'법정동(2014.12월말)'!K102-'법정동(2013년말)'!K103","v":{"v":0,"d":"0.0"}},{"$f":"'법정동(2014.12월말)'!L102-'법정동(2013년말)'!L103","v":{"v":0,"d":"0.0"}},{"$f":"'법정동(2014.12월말)'!M102-'법정동(2013년말)'!M103","v":{"v":0,"d":"0.0"}},{"$f":"'법정동(2014.12월말)'!N102-'법정동(2013년말)'!N103","v":{"v":0,"d":"0.0"}},{"$f":"'법정동(2014.12월말)'!O102-'법정동(2013년말)'!O103","v":{"v":0,"d":"0.0"}},{"$f":"'법정동(2014.12월말)'!P102-'법정동(2013년말)'!P103","v":{"v":0,"d":"0.0"}},{"$f":"'법정동(2014.12월말)'!Q102-'법정동(2013년말)'!Q103","v":{"v":0,"d":"0.0"}},{"$f":"'법정동(2014.12월말)'!R102-'법정동(2013년말)'!R103","v":{"v":347,"d":"347.0"}},{"$f":"'법정동(2014.12월말)'!S102-'법정동(2013년말)'!S103","v":{"v":1,"d":"1.0"}},{"$f":"'법정동(2014.12월말)'!T102-'법정동(2013년말)'!T103","v":{"v":0,"d":"0.0"}},{"$f":"'법정동(2014.12월말)'!U102-'법정동(2013년말)'!U103","v":{"v":0,"d":"0.0"}},{"$f":"'법정동(2014.12월말)'!V102-'법정동(2013년말)'!V103","v":{"v":0,"d":"0.0"}},{"$f":"'법정동(2014.12월말)'!W102-'법정동(2013년말)'!W103","v":{"v":0,"d":"0.0"}},{"$f":"'법정동(2014.12월말)'!X102-'법정동(2013년말)'!X103","v":{"v":0,"d":"0.0"}},{"$f":"'법정동(2014.12월말)'!Y102-'법정동(2013년말)'!Y103","v":{"v":0,"d":"0.0"}},{"$f":"'법정동(2014.12월말)'!Z102-'법정동(2013년말)'!Z103","v":{"v":0,"d":"0.0"}},{"$f":"'법정동(2014.12월말)'!AA102-'법정동(2013년말)'!AA103","v":{"v":0,"d":"0.0"}},{"$f":"'법정동(2014.12월말)'!AB102-'법정동(2013년말)'!AB103","v":{"v":0,"d":"0.0"}},{"$f":"'법정동(2014.12월말)'!AC102-'법정동(2013년말)'!AC103","v":{"v":0,"d":"0.0"}},{"$f":"'법정동(2014.12월말)'!AD102-'법정동(2013년말)'!AD103","v":{"v":0,"d":"0.0"}},{"$f":"'법정동(2014.12월말)'!AE102-'법정동(2013년말)'!AE103","v":{"v":0,"d":"0.0"}},{"$f":"'법정동(2014.12월말)'!AF102-'법정동(2013년말)'!AF103","v":{"v":0,"d":"0.0"}},{"$f":"'법정동(2014.12월말)'!AG102-'법정동(2013년말)'!AG103","v":{"v":0,"d":"0.0"}},{"$f":"'법정동(2014.12월말)'!AH102-'법정동(2013년말)'!AH103","v":{"v":0,"d":"0.0"}},{"$f":"'법정동(2014.12월말)'!AI102-'법정동(2013년말)'!AI103","v":{"v":0,"d":"0.0"}},{"$f":"'법정동(2014.12월말)'!AJ102-'법정동(2013년말)'!AJ103","v":{"v":0,"d":"0.0"}},{"$f":"'법정동(2014.12월말)'!AK102-'법정동(2013년말)'!AK103","v":{"v":0,"d":"0.0"}},{"$f":"'법정동(2014.12월말)'!AL102-'법정동(2013년말)'!AL103","v":{"v":0,"d":"0.0"}},{"$f":"'법정동(2014.12월말)'!AM102-'법정동(2013년말)'!AM103","v":{"v":0,"d":"0.0"}},{"$f":"'법정동(2014.12월말)'!AN102-'법정동(2013년말)'!AN103","v":{"v":0,"d":"0.0"}},{"$f":"'법정동(2014.12월말)'!AO102-'법정동(2013년말)'!AO103","v":{"v":0,"d":"0.0"}},{"$f":"'법정동(2014.12월말)'!AP102-'법정동(2013년말)'!AP103","v":{"v":0,"d":"0.0"}},{"$f":"'법정동(2014.12월말)'!AQ102-'법정동(2013년말)'!AQ103","v":{"v":0,"d":"0.0"}},{"$f":"'법정동(2014.12월말)'!AR102-'법정동(2013년말)'!AR103","v":{"v":0,"d":"0.0"}},{"$f":"'법정동(2014.12월말)'!AS102-'법정동(2013년말)'!AS103","v":{"v":0,"d":"0.0"}},{"$f":"'법정동(2014.12월말)'!AT102-'법정동(2013년말)'!AT103","v":{"v":0,"d":"0.0"}},{"$f":"'법정동(2014.12월말)'!AU102-'법정동(2013년말)'!AU103","v":{"v":0,"d":"0.0"}},{"$f":"'법정동(2014.12월말)'!AV102-'법정동(2013년말)'!AV103","v":{"v":0,"d":"0.0"}},{"$f":"'법정동(2014.12월말)'!AW102-'법정동(2013년말)'!AW103","v":{"v":0,"d":"0.0"}},{"$f":"'법정동(2014.12월말)'!AX102-'법정동(2013년말)'!AX103","v":{"v":0,"d":"0.0"}},{"$f":"'법정동(2014.12월말)'!AY102-'법정동(2013년말)'!AY103","v":{"v":0,"d":"0.0"}},{"$f":"'법정동(2014.12월말)'!AZ102-'법정동(2013년말)'!AZ103","v":{"v":0,"d":"0.0"}},{"$f":"'법정동(2014.12월말)'!BA102-'법정동(2013년말)'!BA103","v":{"v":0,"d":"0.0"}},{"$f":"'법정동(2014.12월말)'!BB102-'법정동(2013년말)'!BB103","v":{"v":0,"d":"0.0"}},{"$f":"'법정동(2014.12월말)'!BC102-'법정동(2013년말)'!BC103","v":{"v":0,"d":"0.0"}},{"$f":"'법정동(2014.12월말)'!BD102-'법정동(2013년말)'!BD103","v":{"v":0,"d":"0.0"}},{"$f":"'법정동(2014.12월말)'!BE102-'법정동(2013년말)'!BE103","v":{"v":0,"d":"0.0"}},{"$f":"'법정동(2014.12월말)'!BF102-'법정동(2013년말)'!BF103","v":{"v":0,"d":"0.0"}},{"$f":"'법정동(2014.12월말)'!BG102-'법정동(2013년말)'!BG103","v":{"v":0,"d":"0.0"}}]
["남면 화태리",{"$f":"'법정동(2014.12월말)'!B103-'법정동(2013년말)'!B104","v":{"v":0,"d":"0.0"}},{"$f":"'법정동(2014.12월말)'!C103-'법정동(2013년말)'!C104","v":{"v":-23,"d":"-23.0"}},{"$f":"'법정동(2014.12월말)'!D103-'법정동(2013년말)'!D104","v":{"v":-1571,"d":"-1,571.0"}},{"$f":"'법정동(2014.12월말)'!E103-'법정동(2013년말)'!E104","v":{"v":-9,"d":"-9.0"}},{"$f":"'법정동(2014.12월말)'!F103-'법정동(2013년말)'!F104","v":{"v":-820,"d":"-820.0"}},{"$f":"'법정동(2014.12월말)'!G103-'법정동(2013년말)'!G104","v":{"v":-2,"d":"-2.0"}},{"$f":"'법정동(2014.12월말)'!H103-'법정동(2013년말)'!H104","v":{"v":0,"d":"0.0"}},{"$f":"'법정동(2014.12월말)'!I103-'법정동(2013년말)'!I104","v":{"v":0,"d":"0.0"}},{"$f":"'법정동(2014.12월말)'!J103-'법정동(2013년말)'!J104","v":{"v":0,"d":"0.0"}},{"$f":"'법정동(2014.12월말)'!K103-'법정동(2013년말)'!K104","v":{"v":0,"d":"0.0"}},{"$f":"'법정동(2014.12월말)'!L103-'법정동(2013년말)'!L104","v":{"v":-10619,"d":"-10,619.0"}},{"$f":"'법정동(2014.12월말)'!M103-'법정동(2013년말)'!M104","v":{"v":-15,"d":"-15.0"}},{"$f":"'법정동(2014.12월말)'!N103-'법정동(2013년말)'!N104","v":{"v":0,"d":"0.0"}},{"$f":"'법정동(2014.12월말)'!O103-'법정동(2013년말)'!O104","v":{"v":0,"d":"0.0"}},{"$f":"'법정동(2014.12월말)'!P103-'법정동(2013년말)'!P104","v":{"v":0,"d":"0.0"}},{"$f":"'법정동(2014.12월말)'!Q103-'법정동(2013년말)'!Q104","v":{"v":0,"d":"0.0"}},{"$f":"'법정동(2014.12월말)'!R103-'법정동(2013년말)'!R104","v":{"v":348,"d":"348.0"}},{"$f":"'법정동(2014.12월말)'!S103-'법정동(2013년말)'!S104","v":{"v":1,"d":"1.0"}},{"$f":"'법정동(2014.12월말)'!T103-'법정동(2013년말)'!T104","v":{"v":0,"d":"0.0"}},{"$f":"'법정동(2014.12월말)'!U103-'법정동(2013년말)'!U104","v":{"v":0,"d":"0.0"}},{"$f":"'법정동(2014.12월말)'!V103-'법정동(2013년말)'!V104","v":{"v":0,"d":"0.0"}},{"$f":"'법정동(2014.12월말)'!W103-'법정동(2013년말)'!W104","v":{"v":0,"d":"0.0"}},{"$f":"'법정동(2014.12월말)'!X103-'법정동(2013년말)'!X104","v":{"v":0,"d":"0.0"}},{"$f":"'법정동(2014.12월말)'!Y103-'법정동(2013년말)'!Y104","v":{"v":0,"d":"0.0"}},{"$f":"'법정동(2014.12월말)'!Z103-'법정동(2013년말)'!Z104","v":{"v":0,"d":"0.0"}},{"$f":"'법정동(2014.12월말)'!AA103-'법정동(2013년말)'!AA104","v":{"v":0,"d":"0.0"}},{"$f":"'법정동(2014.12월말)'!AB103-'법정동(2013년말)'!AB104","v":{"v":0,"d":"0.0"}},{"$f":"'법정동(2014.12월말)'!AC103-'법정동(2013년말)'!AC104","v":{"v":0,"d":"0.0"}},{"$f":"'법정동(2014.12월말)'!AD103-'법정동(2013년말)'!AD104","v":{"v":12662,"d":"12,662.0"}},{"$f":"'법정동(2014.12월말)'!AE103-'법정동(2013년말)'!AE104","v":{"v":2,"d":"2.0"}},{"$f":"'법정동(2014.12월말)'!AF103-'법정동(2013년말)'!AF104","v":{"v":0,"d":"0.0"}},{"$f":"'법정동(2014.12월말)'!AG103-'법정동(2013년말)'!AG104","v":{"v":0,"d":"0.0"}},{"$f":"'법정동(2014.12월말)'!AH103-'법정동(2013년말)'!AH104","v":{"v":0,"d":"0.0"}},{"$f":"'법정동(2014.12월말)'!AI103-'법정동(2013년말)'!AI104","v":{"v":0,"d":"0.0"}},{"$f":"'법정동(2014.12월말)'!AJ103-'법정동(2013년말)'!AJ104","v":{"v":0,"d":"0.0"}},{"$f":"'법정동(2014.12월말)'!AK103-'법정동(2013년말)'!AK104","v":{"v":0,"d":"0.0"}},{"$f":"'법정동(2014.12월말)'!AL103-'법정동(2013년말)'!AL104","v":{"v":0,"d":"0.0"}},{"$f":"'법정동(2014.12월말)'!AM103-'법정동(2013년말)'!AM104","v":{"v":0,"d":"0.0"}},{"$f":"'법정동(2014.12월말)'!AN103-'법정동(2013년말)'!AN104","v":{"v":0,"d":"0.0"}},{"$f":"'법정동(2014.12월말)'!AO103-'법정동(2013년말)'!AO104","v":{"v":0,"d":"0.0"}},{"$f":"'법정동(2014.12월말)'!AP103-'법정동(2013년말)'!AP104","v":{"v":0,"d":"0.0"}},{"$f":"'법정동(2014.12월말)'!AQ103-'법정동(2013년말)'!AQ104","v":{"v":0,"d":"0.0"}},{"$f":"'법정동(2014.12월말)'!AR103-'법정동(2013년말)'!AR104","v":{"v":0,"d":"0.0"}},{"$f":"'법정동(2014.12월말)'!AS103-'법정동(2013년말)'!AS104","v":{"v":0,"d":"0.0"}},{"$f":"'법정동(2014.12월말)'!AT103-'법정동(2013년말)'!AT104","v":{"v":0,"d":"0.0"}},{"$f":"'법정동(2014.12월말)'!AU103-'법정동(2013년말)'!AU104","v":{"v":0,"d":"0.0"}},{"$f":"'법정동(2014.12월말)'!AV103-'법정동(2013년말)'!AV104","v":{"v":0,"d":"0.0"}},{"$f":"'법정동(2014.12월말)'!AW103-'법정동(2013년말)'!AW104","v":{"v":0,"d":"0.0"}},{"$f":"'법정동(2014.12월말)'!AX103-'법정동(2013년말)'!AX104","v":{"v":0,"d":"0.0"}},{"$f":"'법정동(2014.12월말)'!AY103-'법정동(2013년말)'!AY104","v":{"v":0,"d":"0.0"}},{"$f":"'법정동(2014.12월말)'!AZ103-'법정동(2013년말)'!AZ104","v":{"v":0,"d":"0.0"}},{"$f":"'법정동(2014.12월말)'!BA103-'법정동(2013년말)'!BA104","v":{"v":0,"d":"0.0"}},{"$f":"'법정동(2014.12월말)'!BB103-'법정동(2013년말)'!BB104","v":{"v":0,"d":"0.0"}},{"$f":"'법정동(2014.12월말)'!BC103-'법정동(2013년말)'!BC104","v":{"v":0,"d":"0.0"}},{"$f":"'법정동(2014.12월말)'!BD103-'법정동(2013년말)'!BD104","v":{"v":0,"d":"0.0"}},{"$f":"'법정동(2014.12월말)'!BE103-'법정동(2013년말)'!BE104","v":{"v":0,"d":"0.0"}},{"$f":"'법정동(2014.12월말)'!BF103-'법정동(2013년말)'!BF104","v":{"v":0,"d":"0.0"}},{"$f":"'법정동(2014.12월말)'!BG103-'법정동(2013년말)'!BG104","v":{"v":0,"d":"0.0"}}]
["남면 횡간리",{"$f":"'법정동(2014.12월말)'!B104-'법정동(2013년말)'!B105","v":{"v":0,"d":"0.0"}},{"$f":"'법정동(2014.12월말)'!C104-'법정동(2013년말)'!C105","v":{"v":0,"d":"0.0"}},{"$f":"'법정동(2014.12월말)'!D104-'법정동(2013년말)'!D105","v":{"v":0,"d":"0.0"}},{"$f":"'법정동(2014.12월말)'!E104-'법정동(2013년말)'!E105","v":{"v":0,"d":"0.0"}},{"$f":"'법정동(2014.12월말)'!F104-'법정동(2013년말)'!F105","v":{"v":0,"d":"0.0"}},{"$f":"'법정동(2014.12월말)'!G104-'법정동(2013년말)'!G105","v":{"v":0,"d":"0.0"}},{"$f":"'법정동(2014.12월말)'!H104-'법정동(2013년말)'!H105","v":{"v":0,"d":"0.0"}},{"$f":"'법정동(2014.12월말)'!I104-'법정동(2013년말)'!I105","v":{"v":0,"d":"0.0"}},{"$f":"'법정동(2014.12월말)'!J104-'법정동(2013년말)'!J105","v":{"v":0,"d":"0.0"}},{"$f":"'법정동(2014.12월말)'!K104-'법정동(2013년말)'!K105","v":{"v":0,"d":"0.0"}},{"$f":"'법정동(2014.12월말)'!L104-'법정동(2013년말)'!L105","v":{"v":0,"d":"0.0"}},{"$f":"'법정동(2014.12월말)'!M104-'법정동(2013년말)'!M105","v":{"v":0,"d":"0.0"}},{"$f":"'법정동(2014.12월말)'!N104-'법정동(2013년말)'!N105","v":{"v":0,"d":"0.0"}},{"$f":"'법정동(2014.12월말)'!O104-'법정동(2013년말)'!O105","v":{"v":0,"d":"0.0"}},{"$f":"'법정동(2014.12월말)'!P104-'법정동(2013년말)'!P105","v":{"v":0,"d":"0.0"}},{"$f":"'법정동(2014.12월말)'!Q104-'법정동(2013년말)'!Q105","v":{"v":0,"d":"0.0"}},{"$f":"'법정동(2014.12월말)'!R104-'법정동(2013년말)'!R105","v":{"v":0,"d":"0.0"}},{"$f":"'법정동(2014.12월말)'!S104-'법정동(2013년말)'!S105","v":{"v":0,"d":"0.0"}},{"$f":"'법정동(2014.12월말)'!T104-'법정동(2013년말)'!T105","v":{"v":0,"d":"0.0"}},{"$f":"'법정동(2014.12월말)'!U104-'법정동(2013년말)'!U105","v":{"v":0,"d":"0.0"}},{"$f":"'법정동(2014.12월말)'!V104-'법정동(2013년말)'!V105","v":{"v":0,"d":"0.0"}},{"$f":"'법정동(2014.12월말)'!W104-'법정동(2013년말)'!W105","v":{"v":0,"d":"0.0"}},{"$f":"'법정동(2014.12월말)'!X104-'법정동(2013년말)'!X105","v":{"v":0,"d":"0.0"}},{"$f":"'법정동(2014.12월말)'!Y104-'법정동(2013년말)'!Y105","v":{"v":0,"d":"0.0"}},{"$f":"'법정동(2014.12월말)'!Z104-'법정동(2013년말)'!Z105","v":{"v":0,"d":"0.0"}},{"$f":"'법정동(2014.12월말)'!AA104-'법정동(2013년말)'!AA105","v":{"v":0,"d":"0.0"}},{"$f":"'법정동(2014.12월말)'!AB104-'법정동(2013년말)'!AB105","v":{"v":0,"d":"0.0"}},{"$f":"'법정동(2014.12월말)'!AC104-'법정동(2013년말)'!AC105","v":{"v":0,"d":"0.0"}},{"$f":"'법정동(2014.12월말)'!AD104-'법정동(2013년말)'!AD105","v":{"v":0,"d":"0.0"}},{"$f":"'법정동(2014.12월말)'!AE104-'법정동(2013년말)'!AE105","v":{"v":0,"d":"0.0"}},{"$f":"'법정동(2014.12월말)'!AF104-'법정동(2013년말)'!AF105","v":{"v":0,"d":"0.0"}},{"$f":"'법정동(2014.12월말)'!AG104-'법정동(2013년말)'!AG105","v":{"v":0,"d":"0.0"}},{"$f":"'법정동(2014.12월말)'!AH104-'법정동(2013년말)'!AH105","v":{"v":0,"d":"0.0"}},{"$f":"'법정동(2014.12월말)'!AI104-'법정동(2013년말)'!AI105","v":{"v":0,"d":"0.0"}},{"$f":"'법정동(2014.12월말)'!AJ104-'법정동(2013년말)'!AJ105","v":{"v":0,"d":"0.0"}},{"$f":"'법정동(2014.12월말)'!AK104-'법정동(2013년말)'!AK105","v":{"v":0,"d":"0.0"}},{"$f":"'법정동(2014.12월말)'!AL104-'법정동(2013년말)'!AL105","v":{"v":0,"d":"0.0"}},{"$f":"'법정동(2014.12월말)'!AM104-'법정동(2013년말)'!AM105","v":{"v":0,"d":"0.0"}},{"$f":"'법정동(2014.12월말)'!AN104-'법정동(2013년말)'!AN105","v":{"v":0,"d":"0.0"}},{"$f":"'법정동(2014.12월말)'!AO104-'법정동(2013년말)'!AO105","v":{"v":0,"d":"0.0"}},{"$f":"'법정동(2014.12월말)'!AP104-'법정동(2013년말)'!AP105","v":{"v":0,"d":"0.0"}},{"$f":"'법정동(2014.12월말)'!AQ104-'법정동(2013년말)'!AQ105","v":{"v":0,"d":"0.0"}},{"$f":"'법정동(2014.12월말)'!AR104-'법정동(2013년말)'!AR105","v":{"v":0,"d":"0.0"}},{"$f":"'법정동(2014.12월말)'!AS104-'법정동(2013년말)'!AS105","v":{"v":0,"d":"0.0"}},{"$f":"'법정동(2014.12월말)'!AT104-'법정동(2013년말)'!AT105","v":{"v":0,"d":"0.0"}},{"$f":"'법정동(2014.12월말)'!AU104-'법정동(2013년말)'!AU105","v":{"v":0,"d":"0.0"}},{"$f":"'법정동(2014.12월말)'!AV104-'법정동(2013년말)'!AV105","v":{"v":0,"d":"0.0"}},{"$f":"'법정동(2014.12월말)'!AW104-'법정동(2013년말)'!AW105","v":{"v":0,"d":"0.0"}},{"$f":"'법정동(2014.12월말)'!AX104-'법정동(2013년말)'!AX105","v":{"v":0,"d":"0.0"}},{"$f":"'법정동(2014.12월말)'!AY104-'법정동(2013년말)'!AY105","v":{"v":0,"d":"0.0"}},{"$f":"'법정동(2014.12월말)'!AZ104-'법정동(2013년말)'!AZ105","v":{"v":0,"d":"0.0"}},{"$f":"'법정동(2014.12월말)'!BA104-'법정동(2013년말)'!BA105","v":{"v":0,"d":"0.0"}},{"$f":"'법정동(2014.12월말)'!BB104-'법정동(2013년말)'!BB105","v":{"v":0,"d":"0.0"}},{"$f":"'법정동(2014.12월말)'!BC104-'법정동(2013년말)'!BC105","v":{"v":0,"d":"0.0"}},{"$f":"'법정동(2014.12월말)'!BD104-'법정동(2013년말)'!BD105","v":{"v":0,"d":"0.0"}},{"$f":"'법정동(2014.12월말)'!BE104-'법정동(2013년말)'!BE105","v":{"v":0,"d":"0.0"}},{"$f":"'법정동(2014.12월말)'!BF104-'법정동(2013년말)'!BF105","v":{"v":0,"d":"0.0"}},{"$f":"'법정동(2014.12월말)'!BG104-'법정동(2013년말)'!BG105","v":{"v":0,"d":"0.0"}}]
["화정면 백야리",{"$f":"'법정동(2014.12월말)'!B105-'법정동(2013년말)'!B106","v":{"v":911,"d":"911.0"}},{"$f":"'법정동(2014.12월말)'!C105-'법정동(2013년말)'!C106","v":{"v":13,"d":"13.0"}},{"$f":"'법정동(2014.12월말)'!D105-'법정동(2013년말)'!D106","v":{"v":588,"d":"588.0"}},{"$f":"'법정동(2014.12월말)'!E105-'법정동(2013년말)'!E106","v":{"v":2,"d":"2.0"}},{"$f":"'법정동(2014.12월말)'!F105-'법정동(2013년말)'!F106","v":{"v":-5206,"d":"-5,206.0"}},{"$f":"'법정동(2014.12월말)'!G105-'법정동(2013년말)'!G106","v":{"v":-8,"d":"-8.0"}},{"$f":"'법정동(2014.12월말)'!H105-'법정동(2013년말)'!H106","v":{"v":0,"d":"0.0"}},{"$f":"'법정동(2014.12월말)'!I105-'법정동(2013년말)'!I106","v":{"v":0,"d":"0.0"}},{"$f":"'법정동(2014.12월말)'!J105-'법정동(2013년말)'!J106","v":{"v":0,"d":"0.0"}},{"$f":"'법정동(2014.12월말)'!K105-'법정동(2013년말)'!K106","v":{"v":0,"d":"0.0"}},{"$f":"'법정동(2014.12월말)'!L105-'법정동(2013년말)'!L106","v":{"v":113,"d":"113.0"}},{"$f":"'법정동(2014.12월말)'!M105-'법정동(2013년말)'!M106","v":{"v":5,"d":"5.0"}},{"$f":"'법정동(2014.12월말)'!N105-'법정동(2013년말)'!N106","v":{"v":0,"d":"0.0"}},{"$f":"'법정동(2014.12월말)'!O105-'법정동(2013년말)'!O106","v":{"v":0,"d":"0.0"}},{"$f":"'법정동(2014.12월말)'!P105-'법정동(2013년말)'!P106","v":{"v":0,"d":"0.0"}},{"$f":"'법정동(2014.12월말)'!Q105-'법정동(2013년말)'!Q106","v":{"v":0,"d":"0.0"}},{"$f":"'법정동(2014.12월말)'!R105-'법정동(2013년말)'!R106","v":{"v":1043,"d":"1,043.0"}},{"$f":"'법정동(2014.12월말)'!S105-'법정동(2013년말)'!S106","v":{"v":3,"d":"3.0"}},{"$f":"'법정동(2014.12월말)'!T105-'법정동(2013년말)'!T106","v":{"v":0,"d":"0.0"}},{"$f":"'법정동(2014.12월말)'!U105-'법정동(2013년말)'!U106","v":{"v":0,"d":"0.0"}},{"$f":"'법정동(2014.12월말)'!V105-'법정동(2013년말)'!V106","v":{"v":0,"d":"0.0"}},{"$f":"'법정동(2014.12월말)'!W105-'법정동(2013년말)'!W106","v":{"v":0,"d":"0.0"}},{"$f":"'법정동(2014.12월말)'!X105-'법정동(2013년말)'!X106","v":{"v":0,"d":"0.0"}},{"$f":"'법정동(2014.12월말)'!Y105-'법정동(2013년말)'!Y106","v":{"v":0,"d":"0.0"}},{"$f":"'법정동(2014.12월말)'!Z105-'법정동(2013년말)'!Z106","v":{"v":0,"d":"0.0"}},{"$f":"'법정동(2014.12월말)'!AA105-'법정동(2013년말)'!AA106","v":{"v":0,"d":"0.0"}},{"$f":"'법정동(2014.12월말)'!AB105-'법정동(2013년말)'!AB106","v":{"v":0,"d":"0.0"}},{"$f":"'법정동(2014.12월말)'!AC105-'법정동(2013년말)'!AC106","v":{"v":0,"d":"0.0"}},{"$f":"'법정동(2014.12월말)'!AD105-'법정동(2013년말)'!AD106","v":{"v":4373,"d":"4,373.0"}},{"$f":"'법정동(2014.12월말)'!AE105-'법정동(2013년말)'!AE106","v":{"v":10,"d":"10.0"}},{"$f":"'법정동(2014.12월말)'!AF105-'법정동(2013년말)'!AF106","v":{"v":0,"d":"0.0"}},{"$f":"'법정동(2014.12월말)'!AG105-'법정동(2013년말)'!AG106","v":{"v":0,"d":"0.0"}},{"$f":"'법정동(2014.12월말)'!AH105-'법정동(2013년말)'!AH106","v":{"v":0,"d":"0.0"}},{"$f":"'법정동(2014.12월말)'!AI105-'법정동(2013년말)'!AI106","v":{"v":0,"d":"0.0"}},{"$f":"'법정동(2014.12월말)'!AJ105-'법정동(2013년말)'!AJ106","v":{"v":0,"d":"0.0"}},{"$f":"'법정동(2014.12월말)'!AK105-'법정동(2013년말)'!AK106","v":{"v":0,"d":"0.0"}},{"$f":"'법정동(2014.12월말)'!AL105-'법정동(2013년말)'!AL106","v":{"v":0,"d":"0.0"}},{"$f":"'법정동(2014.12월말)'!AM105-'법정동(2013년말)'!AM106","v":{"v":0,"d":"0.0"}},{"$f":"'법정동(2014.12월말)'!AN105-'법정동(2013년말)'!AN106","v":{"v":0,"d":"0.0"}},{"$f":"'법정동(2014.12월말)'!AO105-'법정동(2013년말)'!AO106","v":{"v":0,"d":"0.0"}},{"$f":"'법정동(2014.12월말)'!AP105-'법정동(2013년말)'!AP106","v":{"v":0,"d":"0.0"}},{"$f":"'법정동(2014.12월말)'!AQ105-'법정동(2013년말)'!AQ106","v":{"v":0,"d":"0.0"}},{"$f":"'법정동(2014.12월말)'!AR105-'법정동(2013년말)'!AR106","v":{"v":0,"d":"0.0"}},{"$f":"'법정동(2014.12월말)'!AS105-'법정동(2013년말)'!AS106","v":{"v":0,"d":"0.0"}},{"$f":"'법정동(2014.12월말)'!AT105-'법정동(2013년말)'!AT106","v":{"v":0,"d":"0.0"}},{"$f":"'법정동(2014.12월말)'!AU105-'법정동(2013년말)'!AU106","v":{"v":0,"d":"0.0"}},{"$f":"'법정동(2014.12월말)'!AV105-'법정동(2013년말)'!AV106","v":{"v":0,"d":"0.0"}},{"$f":"'법정동(2014.12월말)'!AW105-'법정동(2013년말)'!AW106","v":{"v":0,"d":"0.0"}},{"$f":"'법정동(2014.12월말)'!AX105-'법정동(2013년말)'!AX106","v":{"v":0,"d":"0.0"}},{"$f":"'법정동(2014.12월말)'!AY105-'법정동(2013년말)'!AY106","v":{"v":0,"d":"0.0"}},{"$f":"'법정동(2014.12월말)'!AZ105-'법정동(2013년말)'!AZ106","v":{"v":0,"d":"0.0"}},{"$f":"'법정동(2014.12월말)'!BA105-'법정동(2013년말)'!BA106","v":{"v":0,"d":"0.0"}},{"$f":"'법정동(2014.12월말)'!BB105-'법정동(2013년말)'!BB106","v":{"v":0,"d":"0.0"}},{"$f":"'법정동(2014.12월말)'!BC105-'법정동(2013년말)'!BC106","v":{"v":0,"d":"0.0"}},{"$f":"'법정동(2014.12월말)'!BD105-'법정동(2013년말)'!BD106","v":{"v":0,"d":"0.0"}},{"$f":"'법정동(2014.12월말)'!BE105-'법정동(2013년말)'!BE106","v":{"v":0,"d":"0.0"}},{"$f":"'법정동(2014.12월말)'!BF105-'법정동(2013년말)'!BF106","v":{"v":0,"d":"0.0"}},{"$f":"'법정동(2014.12월말)'!BG105-'법정동(2013년말)'!BG106","v":{"v":1,"d":"1.0"}}]
["화정면 월호리",{"$f":"'법정동(2014.12월말)'!B106-'법정동(2013년말)'!B107","v":{"v":0,"d":"0.0"}},{"$f":"'법정동(2014.12월말)'!C106-'법정동(2013년말)'!C107","v":{"v":0,"d":"0.0"}},{"$f":"'법정동(2014.12월말)'!D106-'법정동(2013년말)'!D107","v":{"v":-2843,"d":"-2,843.0"}},{"$f":"'법정동(2014.12월말)'!E106-'법정동(2013년말)'!E107","v":{"v":-2,"d":"-2.0"}},{"$f":"'법정동(2014.12월말)'!F106-'법정동(2013년말)'!F107","v":{"v":0,"d":"0.0"}},{"$f":"'법정동(2014.12월말)'!G106-'법정동(2013년말)'!G107","v":{"v":0,"d":"0.0"}},{"$f":"'법정동(2014.12월말)'!H106-'법정동(2013년말)'!H107","v":{"v":0,"d":"0.0"}},{"$f":"'법정동(2014.12월말)'!I106-'법정동(2013년말)'!I107","v":{"v":0,"d":"0.0"}},{"$f":"'법정동(2014.12월말)'!J106-'법정동(2013년말)'!J107","v":{"v":0,"d":"0.0"}},{"$f":"'법정동(2014.12월말)'!K106-'법정동(2013년말)'!K107","v":{"v":0,"d":"0.0"}},{"$f":"'법정동(2014.12월말)'!L106-'법정동(2013년말)'!L107","v":{"v":0,"d":"0.0"}},{"$f":"'법정동(2014.12월말)'!M106-'법정동(2013년말)'!M107","v":{"v":0,"d":"0.0"}},{"$f":"'법정동(2014.12월말)'!N106-'법정동(2013년말)'!N107","v":{"v":0,"d":"0.0"}},{"$f":"'법정동(2014.12월말)'!O106-'법정동(2013년말)'!O107","v":{"v":0,"d":"0.0"}},{"$f":"'법정동(2014.12월말)'!P106-'법정동(2013년말)'!P107","v":{"v":0,"d":"0.0"}},{"$f":"'법정동(2014.12월말)'!Q106-'법정동(2013년말)'!Q107","v":{"v":0,"d":"0.0"}},{"$f":"'법정동(2014.12월말)'!R106-'법정동(2013년말)'!R107","v":{"v":2843,"d":"2,843.0"}},{"$f":"'법정동(2014.12월말)'!S106-'법정동(2013년말)'!S107","v":{"v":2,"d":"2.0"}},{"$f":"'법정동(2014.12월말)'!T106-'법정동(2013년말)'!T107","v":{"v":0,"d":"0.0"}},{"$f":"'법정동(2014.12월말)'!U106-'법정동(2013년말)'!U107","v":{"v":0,"d":"0.0"}},{"$f":"'법정동(2014.12월말)'!V106-'법정동(2013년말)'!V107","v":{"v":0,"d":"0.0"}},{"$f":"'법정동(2014.12월말)'!W106-'법정동(2013년말)'!W107","v":{"v":0,"d":"0.0"}},{"$f":"'법정동(2014.12월말)'!X106-'법정동(2013년말)'!X107","v":{"v":0,"d":"0.0"}},{"$f":"'법정동(2014.12월말)'!Y106-'법정동(2013년말)'!Y107","v":{"v":0,"d":"0.0"}},{"$f":"'법정동(2014.12월말)'!Z106-'법정동(2013년말)'!Z107","v":{"v":0,"d":"0.0"}},{"$f":"'법정동(2014.12월말)'!AA106-'법정동(2013년말)'!AA107","v":{"v":0,"d":"0.0"}},{"$f":"'법정동(2014.12월말)'!AB106-'법정동(2013년말)'!AB107","v":{"v":0,"d":"0.0"}},{"$f":"'법정동(2014.12월말)'!AC106-'법정동(2013년말)'!AC107","v":{"v":0,"d":"0.0"}},{"$f":"'법정동(2014.12월말)'!AD106-'법정동(2013년말)'!AD107","v":{"v":0,"d":"0.0"}},{"$f":"'법정동(2014.12월말)'!AE106-'법정동(2013년말)'!AE107","v":{"v":0,"d":"0.0"}},{"$f":"'법정동(2014.12월말)'!AF106-'법정동(2013년말)'!AF107","v":{"v":0,"d":"0.0"}},{"$f":"'법정동(2014.12월말)'!AG106-'법정동(2013년말)'!AG107","v":{"v":0,"d":"0.0"}},{"$f":"'법정동(2014.12월말)'!AH106-'법정동(2013년말)'!AH107","v":{"v":0,"d":"0.0"}},{"$f":"'법정동(2014.12월말)'!AI106-'법정동(2013년말)'!AI107","v":{"v":0,"d":"0.0"}},{"$f":"'법정동(2014.12월말)'!AJ106-'법정동(2013년말)'!AJ107","v":{"v":0,"d":"0.0"}},{"$f":"'법정동(2014.12월말)'!AK106-'법정동(2013년말)'!AK107","v":{"v":0,"d":"0.0"}},{"$f":"'법정동(2014.12월말)'!AL106-'법정동(2013년말)'!AL107","v":{"v":0,"d":"0.0"}},{"$f":"'법정동(2014.12월말)'!AM106-'법정동(2013년말)'!AM107","v":{"v":0,"d":"0.0"}},{"$f":"'법정동(2014.12월말)'!AN106-'법정동(2013년말)'!AN107","v":{"v":0,"d":"0.0"}},{"$f":"'법정동(2014.12월말)'!AO106-'법정동(2013년말)'!AO107","v":{"v":0,"d":"0.0"}},{"$f":"'법정동(2014.12월말)'!AP106-'법정동(2013년말)'!AP107","v":{"v":0,"d":"0.0"}},{"$f":"'법정동(2014.12월말)'!AQ106-'법정동(2013년말)'!AQ107","v":{"v":0,"d":"0.0"}},{"$f":"'법정동(2014.12월말)'!AR106-'법정동(2013년말)'!AR107","v":{"v":0,"d":"0.0"}},{"$f":"'법정동(2014.12월말)'!AS106-'법정동(2013년말)'!AS107","v":{"v":0,"d":"0.0"}},{"$f":"'법정동(2014.12월말)'!AT106-'법정동(2013년말)'!AT107","v":{"v":0,"d":"0.0"}},{"$f":"'법정동(2014.12월말)'!AU106-'법정동(2013년말)'!AU107","v":{"v":0,"d":"0.0"}},{"$f":"'법정동(2014.12월말)'!AV106-'법정동(2013년말)'!AV107","v":{"v":0,"d":"0.0"}},{"$f":"'법정동(2014.12월말)'!AW106-'법정동(2013년말)'!AW107","v":{"v":0,"d":"0.0"}},{"$f":"'법정동(2014.12월말)'!AX106-'법정동(2013년말)'!AX107","v":{"v":0,"d":"0.0"}},{"$f":"'법정동(2014.12월말)'!AY106-'법정동(2013년말)'!AY107","v":{"v":0,"d":"0.0"}},{"$f":"'법정동(2014.12월말)'!AZ106-'법정동(2013년말)'!AZ107","v":{"v":0,"d":"0.0"}},{"$f":"'법정동(2014.12월말)'!BA106-'법정동(2013년말)'!BA107","v":{"v":0,"d":"0.0"}},{"$f":"'법정동(2014.12월말)'!BB106-'법정동(2013년말)'!BB107","v":{"v":0,"d":"0.0"}},{"$f":"'법정동(2014.12월말)'!BC106-'법정동(2013년말)'!BC107","v":{"v":0,"d":"0.0"}},{"$f":"'법정동(2014.12월말)'!BD106-'법정동(2013년말)'!BD107","v":{"v":0,"d":"0.0"}},{"$f":"'법정동(2014.12월말)'!BE106-'법정동(2013년말)'!BE107","v":{"v":0,"d":"0.0"}},{"$f":"'법정동(2014.12월말)'!BF106-'법정동(2013년말)'!BF107","v":{"v":0,"d":"0.0"}},{"$f":"'법정동(2014.12월말)'!BG106-'법정동(2013년말)'!BG107","v":{"v":0,"d":"0.0"}}]
["화정면 개도리",{"$f":"'법정동(2014.12월말)'!B107-'법정동(2013년말)'!B108","v":{"v":0,"d":"0.0"}},{"$f":"'법정동(2014.12월말)'!C107-'법정동(2013년말)'!C108","v":{"v":1,"d":"1.0"}},{"$f":"'법정동(2014.12월말)'!D107-'법정동(2013년말)'!D108","v":{"v":-1067,"d":"-1,067.0"}},{"$f":"'법정동(2014.12월말)'!E107-'법정동(2013년말)'!E108","v":{"v":4,"d":"4.0"}},{"$f":"'법정동(2014.12월말)'!F107-'법정동(2013년말)'!F108","v":{"v":-2064,"d":"-2,064.0"}},{"$f":"'법정동(2014.12월말)'!G107-'법정동(2013년말)'!G108","v":{"v":-5,"d":"-5.0"}},{"$f":"'법정동(2014.12월말)'!H107-'법정동(2013년말)'!H108","v":{"v":0,"d":"0.0"}},{"$f":"'법정동(2014.12월말)'!I107-'법정동(2013년말)'!I108","v":{"v":0,"d":"0.0"}},{"$f":"'법정동(2014.12월말)'!J107-'법정동(2013년말)'!J108","v":{"v":0,"d":"0.0"}},{"$f":"'법정동(2014.12월말)'!K107-'법정동(2013년말)'!K108","v":{"v":0,"d":"0.0"}},{"$f":"'법정동(2014.12월말)'!L107-'법정동(2013년말)'!L108","v":{"v":0,"d":"0.0"}},{"$f":"'법정동(2014.12월말)'!M107-'법정동(2013년말)'!M108","v":{"v":0,"d":"0.0"}},{"$f":"'법정동(2014.12월말)'!N107-'법정동(2013년말)'!N108","v":{"v":0,"d":"0.0"}},{"$f":"'법정동(2014.12월말)'!O107-'법정동(2013년말)'!O108","v":{"v":0,"d":"0.0"}},{"$f":"'법정동(2014.12월말)'!P107-'법정동(2013년말)'!P108","v":{"v":0,"d":"0.0"}},{"$f":"'법정동(2014.12월말)'!Q107-'법정동(2013년말)'!Q108","v":{"v":0,"d":"0.0"}},{"$f":"'법정동(2014.12월말)'!R107-'법정동(2013년말)'!R108","v":{"v":3131,"d":"3,131.0"}},{"$f":"'법정동(2014.12월말)'!S107-'법정동(2013년말)'!S108","v":{"v":2,"d":"2.0"}},{"$f":"'법정동(2014.12월말)'!T107-'법정동(2013년말)'!T108","v":{"v":0,"d":"0.0"}},{"$f":"'법정동(2014.12월말)'!U107-'법정동(2013년말)'!U108","v":{"v":0,"d":"0.0"}},{"$f":"'법정동(2014.12월말)'!V107-'법정동(2013년말)'!V108","v":{"v":0,"d":"0.0"}},{"$f":"'법정동(2014.12월말)'!W107-'법정동(2013년말)'!W108","v":{"v":0,"d":"0.0"}},{"$f":"'법정동(2014.12월말)'!X107-'법정동(2013년말)'!X108","v":{"v":0,"d":"0.0"}},{"$f":"'법정동(2014.12월말)'!Y107-'법정동(2013년말)'!Y108","v":{"v":0,"d":"0.0"}},{"$f":"'법정동(2014.12월말)'!Z107-'법정동(2013년말)'!Z108","v":{"v":0,"d":"0.0"}},{"$f":"'법정동(2014.12월말)'!AA107-'법정동(2013년말)'!AA108","v":{"v":0,"d":"0.0"}},{"$f":"'법정동(2014.12월말)'!AB107-'법정동(2013년말)'!AB108","v":{"v":0,"d":"0.0"}},{"$f":"'법정동(2014.12월말)'!AC107-'법정동(2013년말)'!AC108","v":{"v":0,"d":"0.0"}},{"$f":"'법정동(2014.12월말)'!AD107-'법정동(2013년말)'!AD108","v":{"v":0,"d":"0.0"}},{"$f":"'법정동(2014.12월말)'!AE107-'법정동(2013년말)'!AE108","v":{"v":0,"d":"0.0"}},{"$f":"'법정동(2014.12월말)'!AF107-'법정동(2013년말)'!AF108","v":{"v":0,"d":"0.0"}},{"$f":"'법정동(2014.12월말)'!AG107-'법정동(2013년말)'!AG108","v":{"v":0,"d":"0.0"}},{"$f":"'법정동(2014.12월말)'!AH107-'법정동(2013년말)'!AH108","v":{"v":0,"d":"0.0"}},{"$f":"'법정동(2014.12월말)'!AI107-'법정동(2013년말)'!AI108","v":{"v":0,"d":"0.0"}},{"$f":"'법정동(2014.12월말)'!AJ107-'법정동(2013년말)'!AJ108","v":{"v":0,"d":"0.0"}},{"$f":"'법정동(2014.12월말)'!AK107-'법정동(2013년말)'!AK108","v":{"v":0,"d":"0.0"}},{"$f":"'법정동(2014.12월말)'!AL107-'법정동(2013년말)'!AL108","v":{"v":0,"d":"0.0"}},{"$f":"'법정동(2014.12월말)'!AM107-'법정동(2013년말)'!AM108","v":{"v":0,"d":"0.0"}},{"$f":"'법정동(2014.12월말)'!AN107-'법정동(2013년말)'!AN108","v":{"v":0,"d":"0.0"}},{"$f":"'법정동(2014.12월말)'!AO107-'법정동(2013년말)'!AO108","v":{"v":0,"d":"0.0"}},{"$f":"'법정동(2014.12월말)'!AP107-'법정동(2013년말)'!AP108","v":{"v":0,"d":"0.0"}},{"$f":"'법정동(2014.12월말)'!AQ107-'법정동(2013년말)'!AQ108","v":{"v":0,"d":"0.0"}},{"$f":"'법정동(2014.12월말)'!AR107-'법정동(2013년말)'!AR108","v":{"v":0,"d":"0.0"}},{"$f":"'법정동(2014.12월말)'!AS107-'법정동(2013년말)'!AS108","v":{"v":0,"d":"0.0"}},{"$f":"'법정동(2014.12월말)'!AT107-'법정동(2013년말)'!AT108","v":{"v":0,"d":"0.0"}},{"$f":"'법정동(2014.12월말)'!AU107-'법정동(2013년말)'!AU108","v":{"v":0,"d":"0.0"}},{"$f":"'법정동(2014.12월말)'!AV107-'법정동(2013년말)'!AV108","v":{"v":0,"d":"0.0"}},{"$f":"'법정동(2014.12월말)'!AW107-'법정동(2013년말)'!AW108","v":{"v":0,"d":"0.0"}},{"$f":"'법정동(2014.12월말)'!AX107-'법정동(2013년말)'!AX108","v":{"v":0,"d":"0.0"}},{"$f":"'법정동(2014.12월말)'!AY107-'법정동(2013년말)'!AY108","v":{"v":0,"d":"0.0"}},{"$f":"'법정동(2014.12월말)'!AZ107-'법정동(2013년말)'!AZ108","v":{"v":0,"d":"0.0"}},{"$f":"'법정동(2014.12월말)'!BA107-'법정동(2013년말)'!BA108","v":{"v":0,"d":"0.0"}},{"$f":"'법정동(2014.12월말)'!BB107-'법정동(2013년말)'!BB108","v":{"v":0,"d":"0.0"}},{"$f":"'법정동(2014.12월말)'!BC107-'법정동(2013년말)'!BC108","v":{"v":0,"d":"0.0"}},{"$f":"'법정동(2014.12월말)'!BD107-'법정동(2013년말)'!BD108","v":{"v":0,"d":"0.0"}},{"$f":"'법정동(2014.12월말)'!BE107-'법정동(2013년말)'!BE108","v":{"v":0,"d":"0.0"}},{"$f":"'법정동(2014.12월말)'!BF107-'법정동(2013년말)'!BF108","v":{"v":0,"d":"0.0"}},{"$f":"'법정동(2014.12월말)'!BG107-'법정동(2013년말)'!BG108","v":{"v":0,"d":"0.0"}}]
["화정면 제도리",{"$f":"'법정동(2014.12월말)'!B108-'법정동(2013년말)'!B109","v":{"v":0,"d":"0.0"}},{"$f":"'법정동(2014.12월말)'!C108-'법정동(2013년말)'!C109","v":{"v":1,"d":"1.0"}},{"$f":"'법정동(2014.12월말)'!D108-'법정동(2013년말)'!D109","v":{"v":0,"d":"0.0"}},{"$f":"'법정동(2014.12월말)'!E108-'법정동(2013년말)'!E109","v":{"v":1,"d":"1.0"}},{"$f":"'법정동(2014.12월말)'!F108-'법정동(2013년말)'!F109","v":{"v":0,"d":"0.0"}},{"$f":"'법정동(2014.12월말)'!G108-'법정동(2013년말)'!G109","v":{"v":0,"d":"0.0"}},{"$f":"'법정동(2014.12월말)'!H108-'법정동(2013년말)'!H109","v":{"v":0,"d":"0.0"}},{"$f":"'법정동(2014.12월말)'!I108-'법정동(2013년말)'!I109","v":{"v":0,"d":"0.0"}},{"$f":"'법정동(2014.12월말)'!J108-'법정동(2013년말)'!J109","v":{"v":0,"d":"0.0"}},{"$f":"'법정동(2014.12월말)'!K108-'법정동(2013년말)'!K109","v":{"v":0,"d":"0.0"}},{"$f":"'법정동(2014.12월말)'!L108-'법정동(2013년말)'!L109","v":{"v":0,"d":"0.0"}},{"$f":"'법정동(2014.12월말)'!M108-'법정동(2013년말)'!M109","v":{"v":0,"d":"0.0"}},{"$f":"'법정동(2014.12월말)'!N108-'법정동(2013년말)'!N109","v":{"v":0,"d":"0.0"}},{"$f":"'법정동(2014.12월말)'!O108-'법정동(2013년말)'!O109","v":{"v":0,"d":"0.0"}},{"$f":"'법정동(2014.12월말)'!P108-'법정동(2013년말)'!P109","v":{"v":0,"d":"0.0"}},{"$f":"'법정동(2014.12월말)'!Q108-'법정동(2013년말)'!Q109","v":{"v":0,"d":"0.0"}},{"$f":"'법정동(2014.12월말)'!R108-'법정동(2013년말)'!R109","v":{"v":0,"d":"0.0"}},{"$f":"'법정동(2014.12월말)'!S108-'법정동(2013년말)'!S109","v":{"v":0,"d":"0.0"}},{"$f":"'법정동(2014.12월말)'!T108-'법정동(2013년말)'!T109","v":{"v":0,"d":"0.0"}},{"$f":"'법정동(2014.12월말)'!U108-'법정동(2013년말)'!U109","v":{"v":0,"d":"0.0"}},{"$f":"'법정동(2014.12월말)'!V108-'법정동(2013년말)'!V109","v":{"v":0,"d":"0.0"}},{"$f":"'법정동(2014.12월말)'!W108-'법정동(2013년말)'!W109","v":{"v":0,"d":"0.0"}},{"$f":"'법정동(2014.12월말)'!X108-'법정동(2013년말)'!X109","v":{"v":0,"d":"0.0"}},{"$f":"'법정동(2014.12월말)'!Y108-'법정동(2013년말)'!Y109","v":{"v":0,"d":"0.0"}},{"$f":"'법정동(2014.12월말)'!Z108-'법정동(2013년말)'!Z109","v":{"v":0,"d":"0.0"}},{"$f":"'법정동(2014.12월말)'!AA108-'법정동(2013년말)'!AA109","v":{"v":0,"d":"0.0"}},{"$f":"'법정동(2014.12월말)'!AB108-'법정동(2013년말)'!AB109","v":{"v":0,"d":"0.0"}},{"$f":"'법정동(2014.12월말)'!AC108-'법정동(2013년말)'!AC109","v":{"v":0,"d":"0.0"}},{"$f":"'법정동(2014.12월말)'!AD108-'법정동(2013년말)'!AD109","v":{"v":0,"d":"0.0"}},{"$f":"'법정동(2014.12월말)'!AE108-'법정동(2013년말)'!AE109","v":{"v":0,"d":"0.0"}},{"$f":"'법정동(2014.12월말)'!AF108-'법정동(2013년말)'!AF109","v":{"v":0,"d":"0.0"}},{"$f":"'법정동(2014.12월말)'!AG108-'법정동(2013년말)'!AG109","v":{"v":0,"d":"0.0"}},{"$f":"'법정동(2014.12월말)'!AH108-'법정동(2013년말)'!AH109","v":{"v":0,"d":"0.0"}},{"$f":"'법정동(2014.12월말)'!AI108-'법정동(2013년말)'!AI109","v":{"v":0,"d":"0.0"}},{"$f":"'법정동(2014.12월말)'!AJ108-'법정동(2013년말)'!AJ109","v":{"v":0,"d":"0.0"}},{"$f":"'법정동(2014.12월말)'!AK108-'법정동(2013년말)'!AK109","v":{"v":0,"d":"0.0"}},{"$f":"'법정동(2014.12월말)'!AL108-'법정동(2013년말)'!AL109","v":{"v":0,"d":"0.0"}},{"$f":"'법정동(2014.12월말)'!AM108-'법정동(2013년말)'!AM109","v":{"v":0,"d":"0.0"}},{"$f":"'법정동(2014.12월말)'!AN108-'법정동(2013년말)'!AN109","v":{"v":0,"d":"0.0"}},{"$f":"'법정동(2014.12월말)'!AO108-'법정동(2013년말)'!AO109","v":{"v":0,"d":"0.0"}},{"$f":"'법정동(2014.12월말)'!AP108-'법정동(2013년말)'!AP109","v":{"v":0,"d":"0.0"}},{"$f":"'법정동(2014.12월말)'!AQ108-'법정동(2013년말)'!AQ109","v":{"v":0,"d":"0.0"}},{"$f":"'법정동(2014.12월말)'!AR108-'법정동(2013년말)'!AR109","v":{"v":0,"d":"0.0"}},{"$f":"'법정동(2014.12월말)'!AS108-'법정동(2013년말)'!AS109","v":{"v":0,"d":"0.0"}},{"$f":"'법정동(2014.12월말)'!AT108-'법정동(2013년말)'!AT109","v":{"v":0,"d":"0.0"}},{"$f":"'법정동(2014.12월말)'!AU108-'법정동(2013년말)'!AU109","v":{"v":0,"d":"0.0"}},{"$f":"'법정동(2014.12월말)'!AV108-'법정동(2013년말)'!AV109","v":{"v":0,"d":"0.0"}},{"$f":"'법정동(2014.12월말)'!AW108-'법정동(2013년말)'!AW109","v":{"v":0,"d":"0.0"}},{"$f":"'법정동(2014.12월말)'!AX108-'법정동(2013년말)'!AX109","v":{"v":0,"d":"0.0"}},{"$f":"'법정동(2014.12월말)'!AY108-'법정동(2013년말)'!AY109","v":{"v":0,"d":"0.0"}},{"$f":"'법정동(2014.12월말)'!AZ108-'법정동(2013년말)'!AZ109","v":{"v":0,"d":"0.0"}},{"$f":"'법정동(2014.12월말)'!BA108-'법정동(2013년말)'!BA109","v":{"v":0,"d":"0.0"}},{"$f":"'법정동(2014.12월말)'!BB108-'법정동(2013년말)'!BB109","v":{"v":0,"d":"0.0"}},{"$f":"'법정동(2014.12월말)'!BC108-'법정동(2013년말)'!BC109","v":{"v":0,"d":"0.0"}},{"$f":"'법정동(2014.12월말)'!BD108-'법정동(2013년말)'!BD109","v":{"v":0,"d":"0.0"}},{"$f":"'법정동(2014.12월말)'!BE108-'법정동(2013년말)'!BE109","v":{"v":0,"d":"0.0"}},{"$f":"'법정동(2014.12월말)'!BF108-'법정동(2013년말)'!BF109","v":{"v":0,"d":"0.0"}},{"$f":"'법정동(2014.12월말)'!BG108-'법정동(2013년말)'!BG109","v":{"v":0,"d":"0.0"}}]
["화정면 상화리",{"$f":"'법정동(2014.12월말)'!B109-'법정동(2013년말)'!B110","v":{"v":0,"d":"0.0"}},{"$f":"'법정동(2014.12월말)'!C109-'법정동(2013년말)'!C110","v":{"v":-1,"d":"-1.0"}},{"$f":"'법정동(2014.12월말)'!D109-'법정동(2013년말)'!D110","v":{"v":0,"d":"0.0"}},{"$f":"'법정동(2014.12월말)'!E109-'법정동(2013년말)'!E110","v":{"v":0,"d":"0.0"}},{"$f":"'법정동(2014.12월말)'!F109-'법정동(2013년말)'!F110","v":{"v":0,"d":"0.0"}},{"$f":"'법정동(2014.12월말)'!G109-'법정동(2013년말)'!G110","v":{"v":0,"d":"0.0"}},{"$f":"'법정동(2014.12월말)'!H109-'법정동(2013년말)'!H110","v":{"v":0,"d":"0.0"}},{"$f":"'법정동(2014.12월말)'!I109-'법정동(2013년말)'!I110","v":{"v":0,"d":"0.0"}},{"$f":"'법정동(2014.12월말)'!J109-'법정동(2013년말)'!J110","v":{"v":0,"d":"0.0"}},{"$f":"'법정동(2014.12월말)'!K109-'법정동(2013년말)'!K110","v":{"v":0,"d":"0.0"}},{"$f":"'법정동(2014.12월말)'!L109-'법정동(2013년말)'!L110","v":{"v":0,"d":"0.0"}},{"$f":"'법정동(2014.12월말)'!M109-'법정동(2013년말)'!M110","v":{"v":0,"d":"0.0"}},{"$f":"'법정동(2014.12월말)'!N109-'법정동(2013년말)'!N110","v":{"v":0,"d":"0.0"}},{"$f":"'법정동(2014.12월말)'!O109-'법정동(2013년말)'!O110","v":{"v":0,"d":"0.0"}},{"$f":"'법정동(2014.12월말)'!P109-'법정동(2013년말)'!P110","v":{"v":0,"d":"0.0"}},{"$f":"'법정동(2014.12월말)'!Q109-'법정동(2013년말)'!Q110","v":{"v":0,"d":"0.0"}},{"$f":"'법정동(2014.12월말)'!R109-'법정동(2013년말)'!R110","v":{"v":0,"d":"0.0"}},{"$f":"'법정동(2014.12월말)'!S109-'법정동(2013년말)'!S110","v":{"v":-1,"d":"-1.0"}},{"$f":"'법정동(2014.12월말)'!T109-'법정동(2013년말)'!T110","v":{"v":0,"d":"0.0"}},{"$f":"'법정동(2014.12월말)'!U109-'법정동(2013년말)'!U110","v":{"v":0,"d":"0.0"}},{"$f":"'법정동(2014.12월말)'!V109-'법정동(2013년말)'!V110","v":{"v":0,"d":"0.0"}},{"$f":"'법정동(2014.12월말)'!W109-'법정동(2013년말)'!W110","v":{"v":0,"d":"0.0"}},{"$f":"'법정동(2014.12월말)'!X109-'법정동(2013년말)'!X110","v":{"v":0,"d":"0.0"}},{"$f":"'법정동(2014.12월말)'!Y109-'법정동(2013년말)'!Y110","v":{"v":0,"d":"0.0"}},{"$f":"'법정동(2014.12월말)'!Z109-'법정동(2013년말)'!Z110","v":{"v":0,"d":"0.0"}},{"$f":"'법정동(2014.12월말)'!AA109-'법정동(2013년말)'!AA110","v":{"v":0,"d":"0.0"}},{"$f":"'법정동(2014.12월말)'!AB109-'법정동(2013년말)'!AB110","v":{"v":0,"d":"0.0"}},{"$f":"'법정동(2014.12월말)'!AC109-'법정동(2013년말)'!AC110","v":{"v":0,"d":"0.0"}},{"$f":"'법정동(2014.12월말)'!AD109-'법정동(2013년말)'!AD110","v":{"v":0,"d":"0.0"}},{"$f":"'법정동(2014.12월말)'!AE109-'법정동(2013년말)'!AE110","v":{"v":0,"d":"0.0"}},{"$f":"'법정동(2014.12월말)'!AF109-'법정동(2013년말)'!AF110","v":{"v":0,"d":"0.0"}},{"$f":"'법정동(2014.12월말)'!AG109-'법정동(2013년말)'!AG110","v":{"v":0,"d":"0.0"}},{"$f":"'법정동(2014.12월말)'!AH109-'법정동(2013년말)'!AH110","v":{"v":0,"d":"0.0"}},{"$f":"'법정동(2014.12월말)'!AI109-'법정동(2013년말)'!AI110","v":{"v":0,"d":"0.0"}},{"$f":"'법정동(2014.12월말)'!AJ109-'법정동(2013년말)'!AJ110","v":{"v":0,"d":"0.0"}},{"$f":"'법정동(2014.12월말)'!AK109-'법정동(2013년말)'!AK110","v":{"v":0,"d":"0.0"}},{"$f":"'법정동(2014.12월말)'!AL109-'법정동(2013년말)'!AL110","v":{"v":0,"d":"0.0"}},{"$f":"'법정동(2014.12월말)'!AM109-'법정동(2013년말)'!AM110","v":{"v":0,"d":"0.0"}},{"$f":"'법정동(2014.12월말)'!AN109-'법정동(2013년말)'!AN110","v":{"v":0,"d":"0.0"}},{"$f":"'법정동(2014.12월말)'!AO109-'법정동(2013년말)'!AO110","v":{"v":0,"d":"0.0"}},{"$f":"'법정동(2014.12월말)'!AP109-'법정동(2013년말)'!AP110","v":{"v":0,"d":"0.0"}},{"$f":"'법정동(2014.12월말)'!AQ109-'법정동(2013년말)'!AQ110","v":{"v":0,"d":"0.0"}},{"$f":"'법정동(2014.12월말)'!AR109-'법정동(2013년말)'!AR110","v":{"v":0,"d":"0.0"}},{"$f":"'법정동(2014.12월말)'!AS109-'법정동(2013년말)'!AS110","v":{"v":0,"d":"0.0"}},{"$f":"'법정동(2014.12월말)'!AT109-'법정동(2013년말)'!AT110","v":{"v":0,"d":"0.0"}},{"$f":"'법정동(2014.12월말)'!AU109-'법정동(2013년말)'!AU110","v":{"v":0,"d":"0.0"}},{"$f":"'법정동(2014.12월말)'!AV109-'법정동(2013년말)'!AV110","v":{"v":0,"d":"0.0"}},{"$f":"'법정동(2014.12월말)'!AW109-'법정동(2013년말)'!AW110","v":{"v":0,"d":"0.0"}},{"$f":"'법정동(2014.12월말)'!AX109-'법정동(2013년말)'!AX110","v":{"v":0,"d":"0.0"}},{"$f":"'법정동(2014.12월말)'!AY109-'법정동(2013년말)'!AY110","v":{"v":0,"d":"0.0"}},{"$f":"'법정동(2014.12월말)'!AZ109-'법정동(2013년말)'!AZ110","v":{"v":0,"d":"0.0"}},{"$f":"'법정동(2014.12월말)'!BA109-'법정동(2013년말)'!BA110","v":{"v":0,"d":"0.0"}},{"$f":"'법정동(2014.12월말)'!BB109-'법정동(2013년말)'!BB110","v":{"v":0,"d":"0.0"}},{"$f":"'법정동(2014.12월말)'!BC109-'법정동(2013년말)'!BC110","v":{"v":0,"d":"0.0"}},{"$f":"'법정동(2014.12월말)'!BD109-'법정동(2013년말)'!BD110","v":{"v":0,"d":"0.0"}},{"$f":"'법정동(2014.12월말)'!BE109-'법정동(2013년말)'!BE110","v":{"v":0,"d":"0.0"}},{"$f":"'법정동(2014.12월말)'!BF109-'법정동(2013년말)'!BF110","v":{"v":0,"d":"0.0"}},{"$f":"'법정동(2014.12월말)'!BG109-'법정동(2013년말)'!BG110","v":{"v":0,"d":"0.0"}}]
["화정면 하화리",{"$f":"'법정동(2014.12월말)'!B110-'법정동(2013년말)'!B111","v":{"v":0,"d":"0.0"}},{"$f":"'법정동(2014.12월말)'!C110-'법정동(2013년말)'!C111","v":{"v":0,"d":"0.0"}},{"$f":"'법정동(2014.12월말)'!D110-'법정동(2013년말)'!D111","v":{"v":-210,"d":"-210.0"}},{"$f":"'법정동(2014.12월말)'!E110-'법정동(2013년말)'!E111","v":{"v":-1,"d":"-1.0"}},{"$f":"'법정동(2014.12월말)'!F110-'법정동(2013년말)'!F111","v":{"v":0,"d":"0.0"}},{"$f":"'법정동(2014.12월말)'!G110-'법정동(2013년말)'!G111","v":{"v":0,"d":"0.0"}},{"$f":"'법정동(2014.12월말)'!H110-'법정동(2013년말)'!H111","v":{"v":0,"d":"0.0"}},{"$f":"'법정동(2014.12월말)'!I110-'법정동(2013년말)'!I111","v":{"v":0,"d":"0.0"}},{"$f":"'법정동(2014.12월말)'!J110-'법정동(2013년말)'!J111","v":{"v":0,"d":"0.0"}},{"$f":"'법정동(2014.12월말)'!K110-'법정동(2013년말)'!K111","v":{"v":0,"d":"0.0"}},{"$f":"'법정동(2014.12월말)'!L110-'법정동(2013년말)'!L111","v":{"v":0,"d":"0.0"}},{"$f":"'법정동(2014.12월말)'!M110-'법정동(2013년말)'!M111","v":{"v":0,"d":"0.0"}},{"$f":"'법정동(2014.12월말)'!N110-'법정동(2013년말)'!N111","v":{"v":0,"d":"0.0"}},{"$f":"'법정동(2014.12월말)'!O110-'법정동(2013년말)'!O111","v":{"v":0,"d":"0.0"}},{"$f":"'법정동(2014.12월말)'!P110-'법정동(2013년말)'!P111","v":{"v":0,"d":"0.0"}},{"$f":"'법정동(2014.12월말)'!Q110-'법정동(2013년말)'!Q111","v":{"v":0,"d":"0.0"}},{"$f":"'법정동(2014.12월말)'!R110-'법정동(2013년말)'!R111","v":{"v":210,"d":"210.0"}},{"$f":"'법정동(2014.12월말)'!S110-'법정동(2013년말)'!S111","v":{"v":1,"d":"1.0"}},{"$f":"'법정동(2014.12월말)'!T110-'법정동(2013년말)'!T111","v":{"v":0,"d":"0.0"}},{"$f":"'법정동(2014.12월말)'!U110-'법정동(2013년말)'!U111","v":{"v":0,"d":"0.0"}},{"$f":"'법정동(2014.12월말)'!V110-'법정동(2013년말)'!V111","v":{"v":0,"d":"0.0"}},{"$f":"'법정동(2014.12월말)'!W110-'법정동(2013년말)'!W111","v":{"v":0,"d":"0.0"}},{"$f":"'법정동(2014.12월말)'!X110-'법정동(2013년말)'!X111","v":{"v":0,"d":"0.0"}},{"$f":"'법정동(2014.12월말)'!Y110-'법정동(2013년말)'!Y111","v":{"v":0,"d":"0.0"}},{"$f":"'법정동(2014.12월말)'!Z110-'법정동(2013년말)'!Z111","v":{"v":0,"d":"0.0"}},{"$f":"'법정동(2014.12월말)'!AA110-'법정동(2013년말)'!AA111","v":{"v":0,"d":"0.0"}},{"$f":"'법정동(2014.12월말)'!AB110-'법정동(2013년말)'!AB111","v":{"v":0,"d":"0.0"}},{"$f":"'법정동(2014.12월말)'!AC110-'법정동(2013년말)'!AC111","v":{"v":0,"d":"0.0"}},{"$f":"'법정동(2014.12월말)'!AD110-'법정동(2013년말)'!AD111","v":{"v":0,"d":"0.0"}},{"$f":"'법정동(2014.12월말)'!AE110-'법정동(2013년말)'!AE111","v":{"v":0,"d":"0.0"}},{"$f":"'법정동(2014.12월말)'!AF110-'법정동(2013년말)'!AF111","v":{"v":0,"d":"0.0"}},{"$f":"'법정동(2014.12월말)'!AG110-'법정동(2013년말)'!AG111","v":{"v":0,"d":"0.0"}},{"$f":"'법정동(2014.12월말)'!AH110-'법정동(2013년말)'!AH111","v":{"v":0,"d":"0.0"}},{"$f":"'법정동(2014.12월말)'!AI110-'법정동(2013년말)'!AI111","v":{"v":0,"d":"0.0"}},{"$f":"'법정동(2014.12월말)'!AJ110-'법정동(2013년말)'!AJ111","v":{"v":0,"d":"0.0"}},{"$f":"'법정동(2014.12월말)'!AK110-'법정동(2013년말)'!AK111","v":{"v":0,"d":"0.0"}},{"$f":"'법정동(2014.12월말)'!AL110-'법정동(2013년말)'!AL111","v":{"v":0,"d":"0.0"}},{"$f":"'법정동(2014.12월말)'!AM110-'법정동(2013년말)'!AM111","v":{"v":0,"d":"0.0"}},{"$f":"'법정동(2014.12월말)'!AN110-'법정동(2013년말)'!AN111","v":{"v":0,"d":"0.0"}},{"$f":"'법정동(2014.12월말)'!AO110-'법정동(2013년말)'!AO111","v":{"v":0,"d":"0.0"}},{"$f":"'법정동(2014.12월말)'!AP110-'법정동(2013년말)'!AP111","v":{"v":0,"d":"0.0"}},{"$f":"'법정동(2014.12월말)'!AQ110-'법정동(2013년말)'!AQ111","v":{"v":0,"d":"0.0"}},{"$f":"'법정동(2014.12월말)'!AR110-'법정동(2013년말)'!AR111","v":{"v":0,"d":"0.0"}},{"$f":"'법정동(2014.12월말)'!AS110-'법정동(2013년말)'!AS111","v":{"v":0,"d":"0.0"}},{"$f":"'법정동(2014.12월말)'!AT110-'법정동(2013년말)'!AT111","v":{"v":0,"d":"0.0"}},{"$f":"'법정동(2014.12월말)'!AU110-'법정동(2013년말)'!AU111","v":{"v":0,"d":"0.0"}},{"$f":"'법정동(2014.12월말)'!AV110-'법정동(2013년말)'!AV111","v":{"v":0,"d":"0.0"}},{"$f":"'법정동(2014.12월말)'!AW110-'법정동(2013년말)'!AW111","v":{"v":0,"d":"0.0"}},{"$f":"'법정동(2014.12월말)'!AX110-'법정동(2013년말)'!AX111","v":{"v":0,"d":"0.0"}},{"$f":"'법정동(2014.12월말)'!AY110-'법정동(2013년말)'!AY111","v":{"v":0,"d":"0.0"}},{"$f":"'법정동(2014.12월말)'!AZ110-'법정동(2013년말)'!AZ111","v":{"v":0,"d":"0.0"}},{"$f":"'법정동(2014.12월말)'!BA110-'법정동(2013년말)'!BA111","v":{"v":0,"d":"0.0"}},{"$f":"'법정동(2014.12월말)'!BB110-'법정동(2013년말)'!BB111","v":{"v":0,"d":"0.0"}},{"$f":"'법정동(2014.12월말)'!BC110-'법정동(2013년말)'!BC111","v":{"v":0,"d":"0.0"}},{"$f":"'법정동(2014.12월말)'!BD110-'법정동(2013년말)'!BD111","v":{"v":0,"d":"0.0"}},{"$f":"'법정동(2014.12월말)'!BE110-'법정동(2013년말)'!BE111","v":{"v":0,"d":"0.0"}},{"$f":"'법정동(2014.12월말)'!BF110-'법정동(2013년말)'!BF111","v":{"v":0,"d":"0.0"}},{"$f":"'법정동(2014.12월말)'!BG110-'법정동(2013년말)'!BG111","v":{"v":0,"d":"0.0"}}]
["화정면 낭도리",{"$f":"'법정동(2014.12월말)'!B111-'법정동(2013년말)'!B112","v":{"v":0,"d":"0.0"}},{"$f":"'법정동(2014.12월말)'!C111-'법정동(2013년말)'!C112","v":{"v":-1,"d":"-1.0"}},{"$f":"'법정동(2014.12월말)'!D111-'법정동(2013년말)'!D112","v":{"v":0,"d":"0.0"}},{"$f":"'법정동(2014.12월말)'!E111-'법정동(2013년말)'!E112","v":{"v":-1,"d":"-1.0"}},{"$f":"'법정동(2014.12월말)'!F111-'법정동(2013년말)'!F112","v":{"v":0,"d":"0.0"}},{"$f":"'법정동(2014.12월말)'!G111-'법정동(2013년말)'!G112","v":{"v":0,"d":"0.0"}},{"$f":"'법정동(2014.12월말)'!H111-'법정동(2013년말)'!H112","v":{"v":0,"d":"0.0"}},{"$f":"'법정동(2014.12월말)'!I111-'법정동(2013년말)'!I112","v":{"v":0,"d":"0.0"}},{"$f":"'법정동(2014.12월말)'!J111-'법정동(2013년말)'!J112","v":{"v":0,"d":"0.0"}},{"$f":"'법정동(2014.12월말)'!K111-'법정동(2013년말)'!K112","v":{"v":0,"d":"0.0"}},{"$f":"'법정동(2014.12월말)'!L111-'법정동(2013년말)'!L112","v":{"v":0,"d":"0.0"}},{"$f":"'법정동(2014.12월말)'!M111-'법정동(2013년말)'!M112","v":{"v":0,"d":"0.0"}},{"$f":"'법정동(2014.12월말)'!N111-'법정동(2013년말)'!N112","v":{"v":0,"d":"0.0"}},{"$f":"'법정동(2014.12월말)'!O111-'법정동(2013년말)'!O112","v":{"v":0,"d":"0.0"}},{"$f":"'법정동(2014.12월말)'!P111-'법정동(2013년말)'!P112","v":{"v":0,"d":"0.0"}},{"$f":"'법정동(2014.12월말)'!Q111-'법정동(2013년말)'!Q112","v":{"v":0,"d":"0.0"}},{"$f":"'법정동(2014.12월말)'!R111-'법정동(2013년말)'!R112","v":{"v":0,"d":"0.0"}},{"$f":"'법정동(2014.12월말)'!S111-'법정동(2013년말)'!S112","v":{"v":0,"d":"0.0"}},{"$f":"'법정동(2014.12월말)'!T111-'법정동(2013년말)'!T112","v":{"v":0,"d":"0.0"}},{"$f":"'법정동(2014.12월말)'!U111-'법정동(2013년말)'!U112","v":{"v":0,"d":"0.0"}},{"$f":"'법정동(2014.12월말)'!V111-'법정동(2013년말)'!V112","v":{"v":0,"d":"0.0"}},{"$f":"'법정동(2014.12월말)'!W111-'법정동(2013년말)'!W112","v":{"v":0,"d":"0.0"}},{"$f":"'법정동(2014.12월말)'!X111-'법정동(2013년말)'!X112","v":{"v":0,"d":"0.0"}},{"$f":"'법정동(2014.12월말)'!Y111-'법정동(2013년말)'!Y112","v":{"v":0,"d":"0.0"}},{"$f":"'법정동(2014.12월말)'!Z111-'법정동(2013년말)'!Z112","v":{"v":0,"d":"0.0"}},{"$f":"'법정동(2014.12월말)'!AA111-'법정동(2013년말)'!AA112","v":{"v":0,"d":"0.0"}},{"$f":"'법정동(2014.12월말)'!AB111-'법정동(2013년말)'!AB112","v":{"v":0,"d":"0.0"}},{"$f":"'법정동(2014.12월말)'!AC111-'법정동(2013년말)'!AC112","v":{"v":0,"d":"0.0"}},{"$f":"'법정동(2014.12월말)'!AD111-'법정동(2013년말)'!AD112","v":{"v":0,"d":"0.0"}},{"$f":"'법정동(2014.12월말)'!AE111-'법정동(2013년말)'!AE112","v":{"v":0,"d":"0.0"}},{"$f":"'법정동(2014.12월말)'!AF111-'법정동(2013년말)'!AF112","v":{"v":0,"d":"0.0"}},{"$f":"'법정동(2014.12월말)'!AG111-'법정동(2013년말)'!AG112","v":{"v":0,"d":"0.0"}},{"$f":"'법정동(2014.12월말)'!AH111-'법정동(2013년말)'!AH112","v":{"v":0,"d":"0.0"}},{"$f":"'법정동(2014.12월말)'!AI111-'법정동(2013년말)'!AI112","v":{"v":0,"d":"0.0"}},{"$f":"'법정동(2014.12월말)'!AJ111-'법정동(2013년말)'!AJ112","v":{"v":0,"d":"0.0"}},{"$f":"'법정동(2014.12월말)'!AK111-'법정동(2013년말)'!AK112","v":{"v":0,"d":"0.0"}},{"$f":"'법정동(2014.12월말)'!AL111-'법정동(2013년말)'!AL112","v":{"v":0,"d":"0.0"}},{"$f":"'법정동(2014.12월말)'!AM111-'법정동(2013년말)'!AM112","v":{"v":0,"d":"0.0"}},{"$f":"'법정동(2014.12월말)'!AN111-'법정동(2013년말)'!AN112","v":{"v":0,"d":"0.0"}},{"$f":"'법정동(2014.12월말)'!AO111-'법정동(2013년말)'!AO112","v":{"v":0,"d":"0.0"}},{"$f":"'법정동(2014.12월말)'!AP111-'법정동(2013년말)'!AP112","v":{"v":0,"d":"0.0"}},{"$f":"'법정동(2014.12월말)'!AQ111-'법정동(2013년말)'!AQ112","v":{"v":0,"d":"0.0"}},{"$f":"'법정동(2014.12월말)'!AR111-'법정동(2013년말)'!AR112","v":{"v":0,"d":"0.0"}},{"$f":"'법정동(2014.12월말)'!AS111-'법정동(2013년말)'!AS112","v":{"v":0,"d":"0.0"}},{"$f":"'법정동(2014.12월말)'!AT111-'법정동(2013년말)'!AT112","v":{"v":0,"d":"0.0"}},{"$f":"'법정동(2014.12월말)'!AU111-'법정동(2013년말)'!AU112","v":{"v":0,"d":"0.0"}},{"$f":"'법정동(2014.12월말)'!AV111-'법정동(2013년말)'!AV112","v":{"v":0,"d":"0.0"}},{"$f":"'법정동(2014.12월말)'!AW111-'법정동(2013년말)'!AW112","v":{"v":0,"d":"0.0"}},{"$f":"'법정동(2014.12월말)'!AX111-'법정동(2013년말)'!AX112","v":{"v":0,"d":"0.0"}},{"$f":"'법정동(2014.12월말)'!AY111-'법정동(2013년말)'!AY112","v":{"v":0,"d":"0.0"}},{"$f":"'법정동(2014.12월말)'!AZ111-'법정동(2013년말)'!AZ112","v":{"v":0,"d":"0.0"}},{"$f":"'법정동(2014.12월말)'!BA111-'법정동(2013년말)'!BA112","v":{"v":0,"d":"0.0"}},{"$f":"'법정동(2014.12월말)'!BB111-'법정동(2013년말)'!BB112","v":{"v":0,"d":"0.0"}},{"$f":"'법정동(2014.12월말)'!BC111-'법정동(2013년말)'!BC112","v":{"v":0,"d":"0.0"}},{"$f":"'법정동(2014.12월말)'!BD111-'법정동(2013년말)'!BD112","v":{"v":0,"d":"0.0"}},{"$f":"'법정동(2014.12월말)'!BE111-'법정동(2013년말)'!BE112","v":{"v":0,"d":"0.0"}},{"$f":"'법정동(2014.12월말)'!BF111-'법정동(2013년말)'!BF112","v":{"v":0,"d":"0.0"}},{"$f":"'법정동(2014.12월말)'!BG111-'법정동(2013년말)'!BG112","v":{"v":0,"d":"0.0"}}]
["화정면 조발리",{"$f":"'법정동(2014.12월말)'!B112-'법정동(2013년말)'!B113","v":{"v":586,"d":"586.0"}},{"$f":"'법정동(2014.12월말)'!C112-'법정동(2013년말)'!C113","v":{"v":6,"d":"6.0"}},{"$f":"'법정동(2014.12월말)'!D112-'법정동(2013년말)'!D113","v":{"v":0,"d":"0.0"}},{"$f":"'법정동(2014.12월말)'!E112-'법정동(2013년말)'!E113","v":{"v":0,"d":"0.0"}},{"$f":"'법정동(2014.12월말)'!F112-'법정동(2013년말)'!F113","v":{"v":0,"d":"0.0"}},{"$f":"'법정동(2014.12월말)'!G112-'법정동(2013년말)'!G113","v":{"v":0,"d":"0.0"}},{"$f":"'법정동(2014.12월말)'!H112-'법정동(2013년말)'!H113","v":{"v":0,"d":"0.0"}},{"$f":"'법정동(2014.12월말)'!I112-'법정동(2013년말)'!I113","v":{"v":0,"d":"0.0"}},{"$f":"'법정동(2014.12월말)'!J112-'법정동(2013년말)'!J113","v":{"v":0,"d":"0.0"}},{"$f":"'법정동(2014.12월말)'!K112-'법정동(2013년말)'!K113","v":{"v":0,"d":"0.0"}},{"$f":"'법정동(2014.12월말)'!L112-'법정동(2013년말)'!L113","v":{"v":586,"d":"586.0"}},{"$f":"'법정동(2014.12월말)'!M112-'법정동(2013년말)'!M113","v":{"v":6,"d":"6.0"}},{"$f":"'법정동(2014.12월말)'!N112-'법정동(2013년말)'!N113","v":{"v":0,"d":"0.0"}},{"$f":"'법정동(2014.12월말)'!O112-'법정동(2013년말)'!O113","v":{"v":0,"d":"0.0"}},{"$f":"'법정동(2014.12월말)'!P112-'법정동(2013년말)'!P113","v":{"v":0,"d":"0.0"}},{"$f":"'법정동(2014.12월말)'!Q112-'법정동(2013년말)'!Q113","v":{"v":0,"d":"0.0"}},{"$f":"'법정동(2014.12월말)'!R112-'법정동(2013년말)'!R113","v":{"v":0,"d":"0.0"}},{"$f":"'법정동(2014.12월말)'!S112-'법정동(2013년말)'!S113","v":{"v":0,"d":"0.0"}},{"$f":"'법정동(2014.12월말)'!T112-'법정동(2013년말)'!T113","v":{"v":0,"d":"0.0"}},{"$f":"'법정동(2014.12월말)'!U112-'법정동(2013년말)'!U113","v":{"v":0,"d":"0.0"}},{"$f":"'법정동(2014.12월말)'!V112-'법정동(2013년말)'!V113","v":{"v":0,"d":"0.0"}},{"$f":"'법정동(2014.12월말)'!W112-'법정동(2013년말)'!W113","v":{"v":0,"d":"0.0"}},{"$f":"'법정동(2014.12월말)'!X112-'법정동(2013년말)'!X113","v":{"v":0,"d":"0.0"}},{"$f":"'법정동(2014.12월말)'!Y112-'법정동(2013년말)'!Y113","v":{"v":0,"d":"0.0"}},{"$f":"'법정동(2014.12월말)'!Z112-'법정동(2013년말)'!Z113","v":{"v":0,"d":"0.0"}},{"$f":"'법정동(2014.12월말)'!AA112-'법정동(2013년말)'!AA113","v":{"v":0,"d":"0.0"}},{"$f":"'법정동(2014.12월말)'!AB112-'법정동(2013년말)'!AB113","v":{"v":0,"d":"0.0"}},{"$f":"'법정동(2014.12월말)'!AC112-'법정동(2013년말)'!AC113","v":{"v":0,"d":"0.0"}},{"$f":"'법정동(2014.12월말)'!AD112-'법정동(2013년말)'!AD113","v":{"v":0,"d":"0.0"}},{"$f":"'법정동(2014.12월말)'!AE112-'법정동(2013년말)'!AE113","v":{"v":0,"d":"0.0"}},{"$f":"'법정동(2014.12월말)'!AF112-'법정동(2013년말)'!AF113","v":{"v":0,"d":"0.0"}},{"$f":"'법정동(2014.12월말)'!AG112-'법정동(2013년말)'!AG113","v":{"v":0,"d":"0.0"}},{"$f":"'법정동(2014.12월말)'!AH112-'법정동(2013년말)'!AH113","v":{"v":0,"d":"0.0"}},{"$f":"'법정동(2014.12월말)'!AI112-'법정동(2013년말)'!AI113","v":{"v":0,"d":"0.0"}},{"$f":"'법정동(2014.12월말)'!AJ112-'법정동(2013년말)'!AJ113","v":{"v":0,"d":"0.0"}},{"$f":"'법정동(2014.12월말)'!AK112-'법정동(2013년말)'!AK113","v":{"v":0,"d":"0.0"}},{"$f":"'법정동(2014.12월말)'!AL112-'법정동(2013년말)'!AL113","v":{"v":0,"d":"0.0"}},{"$f":"'법정동(2014.12월말)'!AM112-'법정동(2013년말)'!AM113","v":{"v":0,"d":"0.0"}},{"$f":"'법정동(2014.12월말)'!AN112-'법정동(2013년말)'!AN113","v":{"v":0,"d":"0.0"}},{"$f":"'법정동(2014.12월말)'!AO112-'법정동(2013년말)'!AO113","v":{"v":0,"d":"0.0"}},{"$f":"'법정동(2014.12월말)'!AP112-'법정동(2013년말)'!AP113","v":{"v":0,"d":"0.0"}},{"$f":"'법정동(2014.12월말)'!AQ112-'법정동(2013년말)'!AQ113","v":{"v":0,"d":"0.0"}},{"$f":"'법정동(2014.12월말)'!AR112-'법정동(2013년말)'!AR113","v":{"v":0,"d":"0.0"}},{"$f":"'법정동(2014.12월말)'!AS112-'법정동(2013년말)'!AS113","v":{"v":0,"d":"0.0"}},{"$f":"'법정동(2014.12월말)'!AT112-'법정동(2013년말)'!AT113","v":{"v":0,"d":"0.0"}},{"$f":"'법정동(2014.12월말)'!AU112-'법정동(2013년말)'!AU113","v":{"v":0,"d":"0.0"}},{"$f":"'법정동(2014.12월말)'!AV112-'법정동(2013년말)'!AV113","v":{"v":0,"d":"0.0"}},{"$f":"'법정동(2014.12월말)'!AW112-'법정동(2013년말)'!AW113","v":{"v":0,"d":"0.0"}},{"$f":"'법정동(2014.12월말)'!AX112-'법정동(2013년말)'!AX113","v":{"v":0,"d":"0.0"}},{"$f":"'법정동(2014.12월말)'!AY112-'법정동(2013년말)'!AY113","v":{"v":0,"d":"0.0"}},{"$f":"'법정동(2014.12월말)'!AZ112-'법정동(2013년말)'!AZ113","v":{"v":0,"d":"0.0"}},{"$f":"'법정동(2014.12월말)'!BA112-'법정동(2013년말)'!BA113","v":{"v":0,"d":"0.0"}},{"$f":"'법정동(2014.12월말)'!BB112-'법정동(2013년말)'!BB113","v":{"v":0,"d":"0.0"}},{"$f":"'법정동(2014.12월말)'!BC112-'법정동(2013년말)'!BC113","v":{"v":0,"d":"0.0"}},{"$f":"'법정동(2014.12월말)'!BD112-'법정동(2013년말)'!BD113","v":{"v":0,"d":"0.0"}},{"$f":"'법정동(2014.12월말)'!BE112-'법정동(2013년말)'!BE113","v":{"v":0,"d":"0.0"}},{"$f":"'법정동(2014.12월말)'!BF112-'법정동(2013년말)'!BF113","v":{"v":0,"d":"0.0"}},{"$f":"'법정동(2014.12월말)'!BG112-'법정동(2013년말)'!BG113","v":{"v":0,"d":"0.0"}}]
["화정면 적금리",{"$f":"'법정동(2014.12월말)'!B113-'법정동(2013년말)'!B114","v":{"v":0,"d":"0.0"}},{"$f":"'법정동(2014.12월말)'!C113-'법정동(2013년말)'!C114","v":{"v":0,"d":"0.0"}},{"$f":"'법정동(2014.12월말)'!D113-'법정동(2013년말)'!D114","v":{"v":0,"d":"0.0"}},{"$f":"'법정동(2014.12월말)'!E113-'법정동(2013년말)'!E114","v":{"v":0,"d":"0.0"}},{"$f":"'법정동(2014.12월말)'!F113-'법정동(2013년말)'!F114","v":{"v":0,"d":"0.0"}},{"$f":"'법정동(2014.12월말)'!G113-'법정동(2013년말)'!G114","v":{"v":0,"d":"0.0"}},{"$f":"'법정동(2014.12월말)'!H113-'법정동(2013년말)'!H114","v":{"v":0,"d":"0.0"}},{"$f":"'법정동(2014.12월말)'!I113-'법정동(2013년말)'!I114","v":{"v":0,"d":"0.0"}},{"$f":"'법정동(2014.12월말)'!J113-'법정동(2013년말)'!J114","v":{"v":0,"d":"0.0"}},{"$f":"'법정동(2014.12월말)'!K113-'법정동(2013년말)'!K114","v":{"v":0,"d":"0.0"}},{"$f":"'법정동(2014.12월말)'!L113-'법정동(2013년말)'!L114","v":{"v":0,"d":"0.0"}},{"$f":"'법정동(2014.12월말)'!M113-'법정동(2013년말)'!M114","v":{"v":0,"d":"0.0"}},{"$f":"'법정동(2014.12월말)'!N113-'법정동(2013년말)'!N114","v":{"v":0,"d":"0.0"}},{"$f":"'법정동(2014.12월말)'!O113-'법정동(2013년말)'!O114","v":{"v":0,"d":"0.0"}},{"$f":"'법정동(2014.12월말)'!P113-'법정동(2013년말)'!P114","v":{"v":0,"d":"0.0"}},{"$f":"'법정동(2014.12월말)'!Q113-'법정동(2013년말)'!Q114","v":{"v":0,"d":"0.0"}},{"$f":"'법정동(2014.12월말)'!R113-'법정동(2013년말)'!R114","v":{"v":0,"d":"0.0"}},{"$f":"'법정동(2014.12월말)'!S113-'법정동(2013년말)'!S114","v":{"v":0,"d":"0.0"}},{"$f":"'법정동(2014.12월말)'!T113-'법정동(2013년말)'!T114","v":{"v":0,"d":"0.0"}},{"$f":"'법정동(2014.12월말)'!U113-'법정동(2013년말)'!U114","v":{"v":0,"d":"0.0"}},{"$f":"'법정동(2014.12월말)'!V113-'법정동(2013년말)'!V114","v":{"v":0,"d":"0.0"}},{"$f":"'법정동(2014.12월말)'!W113-'법정동(2013년말)'!W114","v":{"v":0,"d":"0.0"}},{"$f":"'법정동(2014.12월말)'!X113-'법정동(2013년말)'!X114","v":{"v":0,"d":"0.0"}},{"$f":"'법정동(2014.12월말)'!Y113-'법정동(2013년말)'!Y114","v":{"v":0,"d":"0.0"}},{"$f":"'법정동(2014.12월말)'!Z113-'법정동(2013년말)'!Z114","v":{"v":0,"d":"0.0"}},{"$f":"'법정동(2014.12월말)'!AA113-'법정동(2013년말)'!AA114","v":{"v":0,"d":"0.0"}},{"$f":"'법정동(2014.12월말)'!AB113-'법정동(2013년말)'!AB114","v":{"v":0,"d":"0.0"}},{"$f":"'법정동(2014.12월말)'!AC113-'법정동(2013년말)'!AC114","v":{"v":0,"d":"0.0"}},{"$f":"'법정동(2014.12월말)'!AD113-'법정동(2013년말)'!AD114","v":{"v":0,"d":"0.0"}},{"$f":"'법정동(2014.12월말)'!AE113-'법정동(2013년말)'!AE114","v":{"v":0,"d":"0.0"}},{"$f":"'법정동(2014.12월말)'!AF113-'법정동(2013년말)'!AF114","v":{"v":0,"d":"0.0"}},{"$f":"'법정동(2014.12월말)'!AG113-'법정동(2013년말)'!AG114","v":{"v":0,"d":"0.0"}},{"$f":"'법정동(2014.12월말)'!AH113-'법정동(2013년말)'!AH114","v":{"v":0,"d":"0.0"}},{"$f":"'법정동(2014.12월말)'!AI113-'법정동(2013년말)'!AI114","v":{"v":0,"d":"0.0"}},{"$f":"'법정동(2014.12월말)'!AJ113-'법정동(2013년말)'!AJ114","v":{"v":0,"d":"0.0"}},{"$f":"'법정동(2014.12월말)'!AK113-'법정동(2013년말)'!AK114","v":{"v":0,"d":"0.0"}},{"$f":"'법정동(2014.12월말)'!AL113-'법정동(2013년말)'!AL114","v":{"v":0,"d":"0.0"}},{"$f":"'법정동(2014.12월말)'!AM113-'법정동(2013년말)'!AM114","v":{"v":0,"d":"0.0"}},{"$f":"'법정동(2014.12월말)'!AN113-'법정동(2013년말)'!AN114","v":{"v":0,"d":"0.0"}},{"$f":"'법정동(2014.12월말)'!AO113-'법정동(2013년말)'!AO114","v":{"v":0,"d":"0.0"}},{"$f":"'법정동(2014.12월말)'!AP113-'법정동(2013년말)'!AP114","v":{"v":0,"d":"0.0"}},{"$f":"'법정동(2014.12월말)'!AQ113-'법정동(2013년말)'!AQ114","v":{"v":0,"d":"0.0"}},{"$f":"'법정동(2014.12월말)'!AR113-'법정동(2013년말)'!AR114","v":{"v":0,"d":"0.0"}},{"$f":"'법정동(2014.12월말)'!AS113-'법정동(2013년말)'!AS114","v":{"v":0,"d":"0.0"}},{"$f":"'법정동(2014.12월말)'!AT113-'법정동(2013년말)'!AT114","v":{"v":0,"d":"0.0"}},{"$f":"'법정동(2014.12월말)'!AU113-'법정동(2013년말)'!AU114","v":{"v":0,"d":"0.0"}},{"$f":"'법정동(2014.12월말)'!AV113-'법정동(2013년말)'!AV114","v":{"v":0,"d":"0.0"}},{"$f":"'법정동(2014.12월말)'!AW113-'법정동(2013년말)'!AW114","v":{"v":0,"d":"0.0"}},{"$f":"'법정동(2014.12월말)'!AX113-'법정동(2013년말)'!AX114","v":{"v":0,"d":"0.0"}},{"$f":"'법정동(2014.12월말)'!AY113-'법정동(2013년말)'!AY114","v":{"v":0,"d":"0.0"}},{"$f":"'법정동(2014.12월말)'!AZ113-'법정동(2013년말)'!AZ114","v":{"v":0,"d":"0.0"}},{"$f":"'법정동(2014.12월말)'!BA113-'법정동(2013년말)'!BA114","v":{"v":0,"d":"0.0"}},{"$f":"'법정동(2014.12월말)'!BB113-'법정동(2013년말)'!BB114","v":{"v":0,"d":"0.0"}},{"$f":"'법정동(2014.12월말)'!BC113-'법정동(2013년말)'!BC114","v":{"v":0,"d":"0.0"}},{"$f":"'법정동(2014.12월말)'!BD113-'법정동(2013년말)'!BD114","v":{"v":0,"d":"0.0"}},{"$f":"'법정동(2014.12월말)'!BE113-'법정동(2013년말)'!BE114","v":{"v":0,"d":"0.0"}},{"$f":"'법정동(2014.12월말)'!BF113-'법정동(2013년말)'!BF114","v":{"v":0,"d":"0.0"}},{"$f":"'법정동(2014.12월말)'!BG113-'법정동(2013년말)'!BG114","v":{"v":0,"d":"0.0"}}]
["화정면 여자리",{"$f":"'법정동(2014.12월말)'!B114-'법정동(2013년말)'!B115","v":{"v":0,"d":"0.0"}},{"$f":"'법정동(2014.12월말)'!C114-'법정동(2013년말)'!C115","v":{"v":-10,"d":"-10.0"}},{"$f":"'법정동(2014.12월말)'!D114-'법정동(2013년말)'!D115","v":{"v":-1683,"d":"-1,683.0"}},{"$f":"'법정동(2014.12월말)'!E114-'법정동(2013년말)'!E115","v":{"v":-12,"d":"-12.0"}},{"$f":"'법정동(2014.12월말)'!F114-'법정동(2013년말)'!F115","v":{"v":0,"d":"0.0"}},{"$f":"'법정동(2014.12월말)'!G114-'법정동(2013년말)'!G115","v":{"v":0,"d":"0.0"}},{"$f":"'법정동(2014.12월말)'!H114-'법정동(2013년말)'!H115","v":{"v":0,"d":"0.0"}},{"$f":"'법정동(2014.12월말)'!I114-'법정동(2013년말)'!I115","v":{"v":0,"d":"0.0"}},{"$f":"'법정동(2014.12월말)'!J114-'법정동(2013년말)'!J115","v":{"v":0,"d":"0.0"}},{"$f":"'법정동(2014.12월말)'!K114-'법정동(2013년말)'!K115","v":{"v":0,"d":"0.0"}},{"$f":"'법정동(2014.12월말)'!L114-'법정동(2013년말)'!L115","v":{"v":-79,"d":"-79.0"}},{"$f":"'법정동(2014.12월말)'!M114-'법정동(2013년말)'!M115","v":{"v":1,"d":"1.0"}},{"$f":"'법정동(2014.12월말)'!N114-'법정동(2013년말)'!N115","v":{"v":0,"d":"0.0"}},{"$f":"'법정동(2014.12월말)'!O114-'법정동(2013년말)'!O115","v":{"v":0,"d":"0.0"}},{"$f":"'법정동(2014.12월말)'!P114-'법정동(2013년말)'!P115","v":{"v":0,"d":"0.0"}},{"$f":"'법정동(2014.12월말)'!Q114-'법정동(2013년말)'!Q115","v":{"v":0,"d":"0.0"}},{"$f":"'법정동(2014.12월말)'!R114-'법정동(2013년말)'!R115","v":{"v":355,"d":"355.0"}},{"$f":"'법정동(2014.12월말)'!S114-'법정동(2013년말)'!S115","v":{"v":1,"d":"1.0"}},{"$f":"'법정동(2014.12월말)'!T114-'법정동(2013년말)'!T115","v":{"v":0,"d":"0.0"}},{"$f":"'법정동(2014.12월말)'!U114-'법정동(2013년말)'!U115","v":{"v":0,"d":"0.0"}},{"$f":"'법정동(2014.12월말)'!V114-'법정동(2013년말)'!V115","v":{"v":-80,"d":"-80.0"}},{"$f":"'법정동(2014.12월말)'!W114-'법정동(2013년말)'!W115","v":{"v":-1,"d":"-1.0"}},{"$f":"'법정동(2014.12월말)'!X114-'법정동(2013년말)'!X115","v":{"v":0,"d":"0.0"}},{"$f":"'법정동(2014.12월말)'!Y114-'법정동(2013년말)'!Y115","v":{"v":0,"d":"0.0"}},{"$f":"'법정동(2014.12월말)'!Z114-'법정동(2013년말)'!Z115","v":{"v":0,"d":"0.0"}},{"$f":"'법정동(2014.12월말)'!AA114-'법정동(2013년말)'!AA115","v":{"v":0,"d":"0.0"}},{"$f":"'법정동(2014.12월말)'!AB114-'법정동(2013년말)'!AB115","v":{"v":0,"d":"0.0"}},{"$f":"'법정동(2014.12월말)'!AC114-'법정동(2013년말)'!AC115","v":{"v":0,"d":"0.0"}},{"$f":"'법정동(2014.12월말)'!AD114-'법정동(2013년말)'!AD115","v":{"v":1565,"d":"1,565.0"}},{"$f":"'법정동(2014.12월말)'!AE114-'법정동(2013년말)'!AE115","v":{"v":4,"d":"4.0"}},{"$f":"'법정동(2014.12월말)'!AF114-'법정동(2013년말)'!AF115","v":{"v":0,"d":"0.0"}},{"$f":"'법정동(2014.12월말)'!AG114-'법정동(2013년말)'!AG115","v":{"v":0,"d":"0.0"}},{"$f":"'법정동(2014.12월말)'!AH114-'법정동(2013년말)'!AH115","v":{"v":0,"d":"0.0"}},{"$f":"'법정동(2014.12월말)'!AI114-'법정동(2013년말)'!AI115","v":{"v":0,"d":"0.0"}},{"$f":"'법정동(2014.12월말)'!AJ114-'법정동(2013년말)'!AJ115","v":{"v":0,"d":"0.0"}},{"$f":"'법정동(2014.12월말)'!AK114-'법정동(2013년말)'!AK115","v":{"v":0,"d":"0.0"}},{"$f":"'법정동(2014.12월말)'!AL114-'법정동(2013년말)'!AL115","v":{"v":0,"d":"0.0"}},{"$f":"'법정동(2014.12월말)'!AM114-'법정동(2013년말)'!AM115","v":{"v":0,"d":"0.0"}},{"$f":"'법정동(2014.12월말)'!AN114-'법정동(2013년말)'!AN115","v":{"v":0,"d":"0.0"}},{"$f":"'법정동(2014.12월말)'!AO114-'법정동(2013년말)'!AO115","v":{"v":0,"d":"0.0"}},{"$f":"'법정동(2014.12월말)'!AP114-'법정동(2013년말)'!AP115","v":{"v":0,"d":"0.0"}},{"$f":"'법정동(2014.12월말)'!AQ114-'법정동(2013년말)'!AQ115","v":{"v":0,"d":"0.0"}},{"$f":"'법정동(2014.12월말)'!AR114-'법정동(2013년말)'!AR115","v":{"v":0,"d":"0.0"}},{"$f":"'법정동(2014.12월말)'!AS114-'법정동(2013년말)'!AS115","v":{"v":0,"d":"0.0"}},{"$f":"'법정동(2014.12월말)'!AT114-'법정동(2013년말)'!AT115","v":{"v":0,"d":"0.0"}},{"$f":"'법정동(2014.12월말)'!AU114-'법정동(2013년말)'!AU115","v":{"v":0,"d":"0.0"}},{"$f":"'법정동(2014.12월말)'!AV114-'법정동(2013년말)'!AV115","v":{"v":0,"d":"0.0"}},{"$f":"'법정동(2014.12월말)'!AW114-'법정동(2013년말)'!AW115","v":{"v":0,"d":"0.0"}},{"$f":"'법정동(2014.12월말)'!AX114-'법정동(2013년말)'!AX115","v":{"v":0,"d":"0.0"}},{"$f":"'법정동(2014.12월말)'!AY114-'법정동(2013년말)'!AY115","v":{"v":0,"d":"0.0"}},{"$f":"'법정동(2014.12월말)'!AZ114-'법정동(2013년말)'!AZ115","v":{"v":0,"d":"0.0"}},{"$f":"'법정동(2014.12월말)'!BA114-'법정동(2013년말)'!BA115","v":{"v":0,"d":"0.0"}},{"$f":"'법정동(2014.12월말)'!BB114-'법정동(2013년말)'!BB115","v":{"v":0,"d":"0.0"}},{"$f":"'법정동(2014.12월말)'!BC114-'법정동(2013년말)'!BC115","v":{"v":0,"d":"0.0"}},{"$f":"'법정동(2014.12월말)'!BD114-'법정동(2013년말)'!BD115","v":{"v":-47,"d":"-47.0"}},{"$f":"'법정동(2014.12월말)'!BE114-'법정동(2013년말)'!BE115","v":{"v":-2,"d":"-2.0"}},{"$f":"'법정동(2014.12월말)'!BF114-'법정동(2013년말)'!BF115","v":{"v":-31,"d":"-31.0"}},{"$f":"'법정동(2014.12월말)'!BG114-'법정동(2013년말)'!BG115","v":{"v":-1,"d":"-1.0"}}]
["삼산면 거문리",{"$f":"'법정동(2014.12월말)'!B115-'법정동(2013년말)'!B116","v":{"v":1675,"d":"1,675.0"}},{"$f":"'법정동(2014.12월말)'!C115-'법정동(2013년말)'!C116","v":{"v":2,"d":"2.0"}},{"$f":"'법정동(2014.12월말)'!D115-'법정동(2013년말)'!D116","v":{"v":0,"d":"0.0"}},{"$f":"'법정동(2014.12월말)'!E115-'법정동(2013년말)'!E116","v":{"v":0,"d":"0.0"}},{"$f":"'법정동(2014.12월말)'!F115-'법정동(2013년말)'!F116","v":{"v":0,"d":"0.0"}},{"$f":"'법정동(2014.12월말)'!G115-'법정동(2013년말)'!G116","v":{"v":0,"d":"0.0"}},{"$f":"'법정동(2014.12월말)'!H115-'법정동(2013년말)'!H116","v":{"v":0,"d":"0.0"}},{"$f":"'법정동(2014.12월말)'!I115-'법정동(2013년말)'!I116","v":{"v":0,"d":"0.0"}},{"$f":"'법정동(2014.12월말)'!J115-'법정동(2013년말)'!J116","v":{"v":0,"d":"0.0"}},{"$f":"'법정동(2014.12월말)'!K115-'법정동(2013년말)'!K116","v":{"v":0,"d":"0.0"}},{"$f":"'법정동(2014.12월말)'!L115-'법정동(2013년말)'!L116","v":{"v":0,"d":"0.0"}},{"$f":"'법정동(2014.12월말)'!M115-'법정동(2013년말)'!M116","v":{"v":0,"d":"0.0"}},{"$f":"'법정동(2014.12월말)'!N115-'법정동(2013년말)'!N116","v":{"v":0,"d":"0.0"}},{"$f":"'법정동(2014.12월말)'!O115-'법정동(2013년말)'!O116","v":{"v":0,"d":"0.0"}},{"$f":"'법정동(2014.12월말)'!P115-'법정동(2013년말)'!P116","v":{"v":0,"d":"0.0"}},{"$f":"'법정동(2014.12월말)'!Q115-'법정동(2013년말)'!Q116","v":{"v":0,"d":"0.0"}},{"$f":"'법정동(2014.12월말)'!R115-'법정동(2013년말)'!R116","v":{"v":0,"d":"0.0"}},{"$f":"'법정동(2014.12월말)'!S115-'법정동(2013년말)'!S116","v":{"v":0,"d":"0.0"}},{"$f":"'법정동(2014.12월말)'!T115-'법정동(2013년말)'!T116","v":{"v":0,"d":"0.0"}},{"$f":"'법정동(2014.12월말)'!U115-'법정동(2013년말)'!U116","v":{"v":0,"d":"0.0"}},{"$f":"'법정동(2014.12월말)'!V115-'법정동(2013년말)'!V116","v":{"v":0,"d":"0.0"}},{"$f":"'법정동(2014.12월말)'!W115-'법정동(2013년말)'!W116","v":{"v":0,"d":"0.0"}},{"$f":"'법정동(2014.12월말)'!X115-'법정동(2013년말)'!X116","v":{"v":0,"d":"0.0"}},{"$f":"'법정동(2014.12월말)'!Y115-'법정동(2013년말)'!Y116","v":{"v":0,"d":"0.0"}},{"$f":"'법정동(2014.12월말)'!Z115-'법정동(2013년말)'!Z116","v":{"v":0,"d":"0.0"}},{"$f":"'법정동(2014.12월말)'!AA115-'법정동(2013년말)'!AA116","v":{"v":0,"d":"0.0"}},{"$f":"'법정동(2014.12월말)'!AB115-'법정동(2013년말)'!AB116","v":{"v":0,"d":"0.0"}},{"$f":"'법정동(2014.12월말)'!AC115-'법정동(2013년말)'!AC116","v":{"v":0,"d":"0.0"}},{"$f":"'법정동(2014.12월말)'!AD115-'법정동(2013년말)'!AD116","v":{"v":0,"d":"0.0"}},{"$f":"'법정동(2014.12월말)'!AE115-'법정동(2013년말)'!AE116","v":{"v":0,"d":"0.0"}},{"$f":"'법정동(2014.12월말)'!AF115-'법정동(2013년말)'!AF116","v":{"v":0,"d":"0.0"}},{"$f":"'법정동(2014.12월말)'!AG115-'법정동(2013년말)'!AG116","v":{"v":0,"d":"0.0"}},{"$f":"'법정동(2014.12월말)'!AH115-'법정동(2013년말)'!AH116","v":{"v":0,"d":"0.0"}},{"$f":"'법정동(2014.12월말)'!AI115-'법정동(2013년말)'!AI116","v":{"v":0,"d":"0.0"}},{"$f":"'법정동(2014.12월말)'!AJ115-'법정동(2013년말)'!AJ116","v":{"v":0,"d":"0.0"}},{"$f":"'법정동(2014.12월말)'!AK115-'법정동(2013년말)'!AK116","v":{"v":0,"d":"0.0"}},{"$f":"'법정동(2014.12월말)'!AL115-'법정동(2013년말)'!AL116","v":{"v":0,"d":"0.0"}},{"$f":"'법정동(2014.12월말)'!AM115-'법정동(2013년말)'!AM116","v":{"v":0,"d":"0.0"}},{"$f":"'법정동(2014.12월말)'!AN115-'법정동(2013년말)'!AN116","v":{"v":0,"d":"0.0"}},{"$f":"'법정동(2014.12월말)'!AO115-'법정동(2013년말)'!AO116","v":{"v":0,"d":"0.0"}},{"$f":"'법정동(2014.12월말)'!AP115-'법정동(2013년말)'!AP116","v":{"v":0,"d":"0.0"}},{"$f":"'법정동(2014.12월말)'!AQ115-'법정동(2013년말)'!AQ116","v":{"v":0,"d":"0.0"}},{"$f":"'법정동(2014.12월말)'!AR115-'법정동(2013년말)'!AR116","v":{"v":0,"d":"0.0"}},{"$f":"'법정동(2014.12월말)'!AS115-'법정동(2013년말)'!AS116","v":{"v":0,"d":"0.0"}},{"$f":"'법정동(2014.12월말)'!AT115-'법정동(2013년말)'!AT116","v":{"v":0,"d":"0.0"}},{"$f":"'법정동(2014.12월말)'!AU115-'법정동(2013년말)'!AU116","v":{"v":0,"d":"0.0"}},{"$f":"'법정동(2014.12월말)'!AV115-'법정동(2013년말)'!AV116","v":{"v":0,"d":"0.0"}},{"$f":"'법정동(2014.12월말)'!AW115-'법정동(2013년말)'!AW116","v":{"v":0,"d":"0.0"}},{"$f":"'법정동(2014.12월말)'!AX115-'법정동(2013년말)'!AX116","v":{"v":0,"d":"0.0"}},{"$f":"'법정동(2014.12월말)'!AY115-'법정동(2013년말)'!AY116","v":{"v":0,"d":"0.0"}},{"$f":"'법정동(2014.12월말)'!AZ115-'법정동(2013년말)'!AZ116","v":{"v":0,"d":"0.0"}},{"$f":"'법정동(2014.12월말)'!BA115-'법정동(2013년말)'!BA116","v":{"v":0,"d":"0.0"}},{"$f":"'법정동(2014.12월말)'!BB115-'법정동(2013년말)'!BB116","v":{"v":0,"d":"0.0"}},{"$f":"'법정동(2014.12월말)'!BC115-'법정동(2013년말)'!BC116","v":{"v":0,"d":"0.0"}},{"$f":"'법정동(2014.12월말)'!BD115-'법정동(2013년말)'!BD116","v":{"v":0,"d":"0.0"}},{"$f":"'법정동(2014.12월말)'!BE115-'법정동(2013년말)'!BE116","v":{"v":0,"d":"0.0"}},{"$f":"'법정동(2014.12월말)'!BF115-'법정동(2013년말)'!BF116","v":{"v":1675,"d":"1,675.0"}},{"$f":"'법정동(2014.12월말)'!BG115-'법정동(2013년말)'!BG116","v":{"v":2,"d":"2.0"}}]
["삼산면 덕촌리",{"$f":"'법정동(2014.12월말)'!B116-'법정동(2013년말)'!B117","v":{"v":0,"d":"0.0"}},{"$f":"'법정동(2014.12월말)'!C116-'법정동(2013년말)'!C117","v":{"v":-2,"d":"-2.0"}},{"$f":"'법정동(2014.12월말)'!D116-'법정동(2013년말)'!D117","v":{"v":0,"d":"0.0"}},{"$f":"'법정동(2014.12월말)'!E116-'법정동(2013년말)'!E117","v":{"v":0,"d":"0.0"}},{"$f":"'법정동(2014.12월말)'!F116-'법정동(2013년말)'!F117","v":{"v":0,"d":"0.0"}},{"$f":"'법정동(2014.12월말)'!G116-'법정동(2013년말)'!G117","v":{"v":0,"d":"0.0"}},{"$f":"'법정동(2014.12월말)'!H116-'법정동(2013년말)'!H117","v":{"v":0,"d":"0.0"}},{"$f":"'법정동(2014.12월말)'!I116-'법정동(2013년말)'!I117","v":{"v":0,"d":"0.0"}},{"$f":"'법정동(2014.12월말)'!J116-'법정동(2013년말)'!J117","v":{"v":0,"d":"0.0"}},{"$f":"'법정동(2014.12월말)'!K116-'법정동(2013년말)'!K117","v":{"v":0,"d":"0.0"}},{"$f":"'법정동(2014.12월말)'!L116-'법정동(2013년말)'!L117","v":{"v":0,"d":"0.0"}},{"$f":"'법정동(2014.12월말)'!M116-'법정동(2013년말)'!M117","v":{"v":0,"d":"0.0"}},{"$f":"'법정동(2014.12월말)'!N116-'법정동(2013년말)'!N117","v":{"v":0,"d":"0.0"}},{"$f":"'법정동(2014.12월말)'!O116-'법정동(2013년말)'!O117","v":{"v":0,"d":"0.0"}},{"$f":"'법정동(2014.12월말)'!P116-'법정동(2013년말)'!P117","v":{"v":0,"d":"0.0"}},{"$f":"'법정동(2014.12월말)'!Q116-'법정동(2013년말)'!Q117","v":{"v":0,"d":"0.0"}},{"$f":"'법정동(2014.12월말)'!R116-'법정동(2013년말)'!R117","v":{"v":0,"d":"0.0"}},{"$f":"'법정동(2014.12월말)'!S116-'법정동(2013년말)'!S117","v":{"v":0,"d":"0.0"}},{"$f":"'법정동(2014.12월말)'!T116-'법정동(2013년말)'!T117","v":{"v":0,"d":"0.0"}},{"$f":"'법정동(2014.12월말)'!U116-'법정동(2013년말)'!U117","v":{"v":0,"d":"0.0"}},{"$f":"'법정동(2014.12월말)'!V116-'법정동(2013년말)'!V117","v":{"v":0,"d":"0.0"}},{"$f":"'법정동(2014.12월말)'!W116-'법정동(2013년말)'!W117","v":{"v":0,"d":"0.0"}},{"$f":"'법정동(2014.12월말)'!X116-'법정동(2013년말)'!X117","v":{"v":0,"d":"0.0"}},{"$f":"'법정동(2014.12월말)'!Y116-'법정동(2013년말)'!Y117","v":{"v":0,"d":"0.0"}},{"$f":"'법정동(2014.12월말)'!Z116-'법정동(2013년말)'!Z117","v":{"v":0,"d":"0.0"}},{"$f":"'법정동(2014.12월말)'!AA116-'법정동(2013년말)'!AA117","v":{"v":0,"d":"0.0"}},{"$f":"'법정동(2014.12월말)'!AB116-'법정동(2013년말)'!AB117","v":{"v":0,"d":"0.0"}},{"$f":"'법정동(2014.12월말)'!AC116-'법정동(2013년말)'!AC117","v":{"v":-2,"d":"-2.0"}},{"$f":"'법정동(2014.12월말)'!AD116-'법정동(2013년말)'!AD117","v":{"v":0,"d":"0.0"}},{"$f":"'법정동(2014.12월말)'!AE116-'법정동(2013년말)'!AE117","v":{"v":0,"d":"0.0"}},{"$f":"'법정동(2014.12월말)'!AF116-'법정동(2013년말)'!AF117","v":{"v":0,"d":"0.0"}},{"$f":"'법정동(2014.12월말)'!AG116-'법정동(2013년말)'!AG117","v":{"v":0,"d":"0.0"}},{"$f":"'법정동(2014.12월말)'!AH116-'법정동(2013년말)'!AH117","v":{"v":0,"d":"0.0"}},{"$f":"'법정동(2014.12월말)'!AI116-'법정동(2013년말)'!AI117","v":{"v":0,"d":"0.0"}},{"$f":"'법정동(2014.12월말)'!AJ116-'법정동(2013년말)'!AJ117","v":{"v":0,"d":"0.0"}},{"$f":"'법정동(2014.12월말)'!AK116-'법정동(2013년말)'!AK117","v":{"v":0,"d":"0.0"}},{"$f":"'법정동(2014.12월말)'!AL116-'법정동(2013년말)'!AL117","v":{"v":0,"d":"0.0"}},{"$f":"'법정동(2014.12월말)'!AM116-'법정동(2013년말)'!AM117","v":{"v":0,"d":"0.0"}},{"$f":"'법정동(2014.12월말)'!AN116-'법정동(2013년말)'!AN117","v":{"v":0,"d":"0.0"}},{"$f":"'법정동(2014.12월말)'!AO116-'법정동(2013년말)'!AO117","v":{"v":0,"d":"0.0"}},{"$f":"'법정동(2014.12월말)'!AP116-'법정동(2013년말)'!AP117","v":{"v":0,"d":"0.0"}},{"$f":"'법정동(2014.12월말)'!AQ116-'법정동(2013년말)'!AQ117","v":{"v":0,"d":"0.0"}},{"$f":"'법정동(2014.12월말)'!AR116-'법정동(2013년말)'!AR117","v":{"v":0,"d":"0.0"}},{"$f":"'법정동(2014.12월말)'!AS116-'법정동(2013년말)'!AS117","v":{"v":0,"d":"0.0"}},{"$f":"'법정동(2014.12월말)'!AT116-'법정동(2013년말)'!AT117","v":{"v":0,"d":"0.0"}},{"$f":"'법정동(2014.12월말)'!AU116-'법정동(2013년말)'!AU117","v":{"v":0,"d":"0.0"}},{"$f":"'법정동(2014.12월말)'!AV116-'법정동(2013년말)'!AV117","v":{"v":0,"d":"0.0"}},{"$f":"'법정동(2014.12월말)'!AW116-'법정동(2013년말)'!AW117","v":{"v":0,"d":"0.0"}},{"$f":"'법정동(2014.12월말)'!AX116-'법정동(2013년말)'!AX117","v":{"v":0,"d":"0.0"}},{"$f":"'법정동(2014.12월말)'!AY116-'법정동(2013년말)'!AY117","v":{"v":0,"d":"0.0"}},{"$f":"'법정동(2014.12월말)'!AZ116-'법정동(2013년말)'!AZ117","v":{"v":0,"d":"0.0"}},{"$f":"'법정동(2014.12월말)'!BA116-'법정동(2013년말)'!BA117","v":{"v":0,"d":"0.0"}},{"$f":"'법정동(2014.12월말)'!BB116-'법정동(2013년말)'!BB117","v":{"v":0,"d":"0.0"}},{"$f":"'법정동(2014.12월말)'!BC116-'법정동(2013년말)'!BC117","v":{"v":0,"d":"0.0"}},{"$f":"'법정동(2014.12월말)'!BD116-'법정동(2013년말)'!BD117","v":{"v":0,"d":"0.0"}},{"$f":"'법정동(2014.12월말)'!BE116-'법정동(2013년말)'!BE117","v":{"v":0,"d":"0.0"}},{"$f":"'법정동(2014.12월말)'!BF116-'법정동(2013년말)'!BF117","v":{"v":0,"d":"0.0"}},{"$f":"'법정동(2014.12월말)'!BG116-'법정동(2013년말)'!BG117","v":{"v":0,"d":"0.0"}}]
["삼산면 서도리",{"$f":"'법정동(2014.12월말)'!B117-'법정동(2013년말)'!B118","v":{"v":0,"d":"0.0"}},{"$f":"'법정동(2014.12월말)'!C117-'법정동(2013년말)'!C118","v":{"v":1,"d":"1.0"}},{"$f":"'법정동(2014.12월말)'!D117-'법정동(2013년말)'!D118","v":{"v":-529,"d":"-529.0"}},{"$f":"'법정동(2014.12월말)'!E117-'법정동(2013년말)'!E118","v":{"v":-2,"d":"-2.0"}},{"$f":"'법정동(2014.12월말)'!F117-'법정동(2013년말)'!F118","v":{"v":0,"d":"0.0"}},{"$f":"'법정동(2014.12월말)'!G117-'법정동(2013년말)'!G118","v":{"v":0,"d":"0.0"}},{"$f":"'법정동(2014.12월말)'!H117-'법정동(2013년말)'!H118","v":{"v":0,"d":"0.0"}},{"$f":"'법정동(2014.12월말)'!I117-'법정동(2013년말)'!I118","v":{"v":0,"d":"0.0"}},{"$f":"'법정동(2014.12월말)'!J117-'법정동(2013년말)'!J118","v":{"v":0,"d":"0.0"}},{"$f":"'법정동(2014.12월말)'!K117-'법정동(2013년말)'!K118","v":{"v":0,"d":"0.0"}},{"$f":"'법정동(2014.12월말)'!L117-'법정동(2013년말)'!L118","v":{"v":0,"d":"0.0"}},{"$f":"'법정동(2014.12월말)'!M117-'법정동(2013년말)'!M118","v":{"v":0,"d":"0.0"}},{"$f":"'법정동(2014.12월말)'!N117-'법정동(2013년말)'!N118","v":{"v":0,"d":"0.0"}},{"$f":"'법정동(2014.12월말)'!O117-'법정동(2013년말)'!O118","v":{"v":0,"d":"0.0"}},{"$f":"'법정동(2014.12월말)'!P117-'법정동(2013년말)'!P118","v":{"v":0,"d":"0.0"}},{"$f":"'법정동(2014.12월말)'!Q117-'법정동(2013년말)'!Q118","v":{"v":0,"d":"0.0"}},{"$f":"'법정동(2014.12월말)'!R117-'법정동(2013년말)'!R118","v":{"v":529,"d":"529.0"}},{"$f":"'법정동(2014.12월말)'!S117-'법정동(2013년말)'!S118","v":{"v":3,"d":"3.0"}},{"$f":"'법정동(2014.12월말)'!T117-'법정동(2013년말)'!T118","v":{"v":0,"d":"0.0"}},{"$f":"'법정동(2014.12월말)'!U117-'법정동(2013년말)'!U118","v":{"v":0,"d":"0.0"}},{"$f":"'법정동(2014.12월말)'!V117-'법정동(2013년말)'!V118","v":{"v":0,"d":"0.0"}},{"$f":"'법정동(2014.12월말)'!W117-'법정동(2013년말)'!W118","v":{"v":0,"d":"0.0"}},{"$f":"'법정동(2014.12월말)'!X117-'법정동(2013년말)'!X118","v":{"v":0,"d":"0.0"}},{"$f":"'법정동(2014.12월말)'!Y117-'법정동(2013년말)'!Y118","v":{"v":0,"d":"0.0"}},{"$f":"'법정동(2014.12월말)'!Z117-'법정동(2013년말)'!Z118","v":{"v":0,"d":"0.0"}},{"$f":"'법정동(2014.12월말)'!AA117-'법정동(2013년말)'!AA118","v":{"v":0,"d":"0.0"}},{"$f":"'법정동(2014.12월말)'!AB117-'법정동(2013년말)'!AB118","v":{"v":0,"d":"0.0"}},{"$f":"'법정동(2014.12월말)'!AC117-'법정동(2013년말)'!AC118","v":{"v":0,"d":"0.0"}},{"$f":"'법정동(2014.12월말)'!AD117-'법정동(2013년말)'!AD118","v":{"v":0,"d":"0.0"}},{"$f":"'법정동(2014.12월말)'!AE117-'법정동(2013년말)'!AE118","v":{"v":0,"d":"0.0"}},{"$f":"'법정동(2014.12월말)'!AF117-'법정동(2013년말)'!AF118","v":{"v":0,"d":"0.0"}},{"$f":"'법정동(2014.12월말)'!AG117-'법정동(2013년말)'!AG118","v":{"v":0,"d":"0.0"}},{"$f":"'법정동(2014.12월말)'!AH117-'법정동(2013년말)'!AH118","v":{"v":0,"d":"0.0"}},{"$f":"'법정동(2014.12월말)'!AI117-'법정동(2013년말)'!AI118","v":{"v":0,"d":"0.0"}},{"$f":"'법정동(2014.12월말)'!AJ117-'법정동(2013년말)'!AJ118","v":{"v":0,"d":"0.0"}},{"$f":"'법정동(2014.12월말)'!AK117-'법정동(2013년말)'!AK118","v":{"v":0,"d":"0.0"}},{"$f":"'법정동(2014.12월말)'!AL117-'법정동(2013년말)'!AL118","v":{"v":0,"d":"0.0"}},{"$f":"'법정동(2014.12월말)'!AM117-'법정동(2013년말)'!AM118","v":{"v":0,"d":"0.0"}},{"$f":"'법정동(2014.12월말)'!AN117-'법정동(2013년말)'!AN118","v":{"v":0,"d":"0.0"}},{"$f":"'법정동(2014.12월말)'!AO117-'법정동(2013년말)'!AO118","v":{"v":0,"d":"0.0"}},{"$f":"'법정동(2014.12월말)'!AP117-'법정동(2013년말)'!AP118","v":{"v":0,"d":"0.0"}},{"$f":"'법정동(2014.12월말)'!AQ117-'법정동(2013년말)'!AQ118","v":{"v":0,"d":"0.0"}},{"$f":"'법정동(2014.12월말)'!AR117-'법정동(2013년말)'!AR118","v":{"v":0,"d":"0.0"}},{"$f":"'법정동(2014.12월말)'!AS117-'법정동(2013년말)'!AS118","v":{"v":0,"d":"0.0"}},{"$f":"'법정동(2014.12월말)'!AT117-'법정동(2013년말)'!AT118","v":{"v":0,"d":"0.0"}},{"$f":"'법정동(2014.12월말)'!AU117-'법정동(2013년말)'!AU118","v":{"v":0,"d":"0.0"}},{"$f":"'법정동(2014.12월말)'!AV117-'법정동(2013년말)'!AV118","v":{"v":0,"d":"0.0"}},{"$f":"'법정동(2014.12월말)'!AW117-'법정동(2013년말)'!AW118","v":{"v":0,"d":"0.0"}},{"$f":"'법정동(2014.12월말)'!AX117-'법정동(2013년말)'!AX118","v":{"v":0,"d":"0.0"}},{"$f":"'법정동(2014.12월말)'!AY117-'법정동(2013년말)'!AY118","v":{"v":0,"d":"0.0"}},{"$f":"'법정동(2014.12월말)'!AZ117-'법정동(2013년말)'!AZ118","v":{"v":0,"d":"0.0"}},{"$f":"'법정동(2014.12월말)'!BA117-'법정동(2013년말)'!BA118","v":{"v":0,"d":"0.0"}},{"$f":"'법정동(2014.12월말)'!BB117-'법정동(2013년말)'!BB118","v":{"v":0,"d":"0.0"}},{"$f":"'법정동(2014.12월말)'!BC117-'법정동(2013년말)'!BC118","v":{"v":0,"d":"0.0"}},{"$f":"'법정동(2014.12월말)'!BD117-'법정동(2013년말)'!BD118","v":{"v":0,"d":"0.0"}},{"$f":"'법정동(2014.12월말)'!BE117-'법정동(2013년말)'!BE118","v":{"v":0,"d":"0.0"}},{"$f":"'법정동(2014.12월말)'!BF117-'법정동(2013년말)'!BF118","v":{"v":0,"d":"0.0"}},{"$f":"'법정동(2014.12월말)'!BG117-'법정동(2013년말)'!BG118","v":{"v":0,"d":"0.0"}}]
["삼산면 동도리",{"$f":"'법정동(2014.12월말)'!B118-'법정동(2013년말)'!B119","v":{"v":0,"d":"0.0"}},{"$f":"'법정동(2014.12월말)'!C118-'법정동(2013년말)'!C119","v":{"v":1,"d":"1.0"}},{"$f":"'법정동(2014.12월말)'!D118-'법정동(2013년말)'!D119","v":{"v":0,"d":"0.0"}},{"$f":"'법정동(2014.12월말)'!E118-'법정동(2013년말)'!E119","v":{"v":0,"d":"0.0"}},{"$f":"'법정동(2014.12월말)'!F118-'법정동(2013년말)'!F119","v":{"v":0,"d":"0.0"}},{"$f":"'법정동(2014.12월말)'!G118-'법정동(2013년말)'!G119","v":{"v":0,"d":"0.0"}},{"$f":"'법정동(2014.12월말)'!H118-'법정동(2013년말)'!H119","v":{"v":0,"d":"0.0"}},{"$f":"'법정동(2014.12월말)'!I118-'법정동(2013년말)'!I119","v":{"v":0,"d":"0.0"}},{"$f":"'법정동(2014.12월말)'!J118-'법정동(2013년말)'!J119","v":{"v":0,"d":"0.0"}},{"$f":"'법정동(2014.12월말)'!K118-'법정동(2013년말)'!K119","v":{"v":0,"d":"0.0"}},{"$f":"'법정동(2014.12월말)'!L118-'법정동(2013년말)'!L119","v":{"v":0,"d":"0.0"}},{"$f":"'법정동(2014.12월말)'!M118-'법정동(2013년말)'!M119","v":{"v":0,"d":"0.0"}},{"$f":"'법정동(2014.12월말)'!N118-'법정동(2013년말)'!N119","v":{"v":0,"d":"0.0"}},{"$f":"'법정동(2014.12월말)'!O118-'법정동(2013년말)'!O119","v":{"v":0,"d":"0.0"}},{"$f":"'법정동(2014.12월말)'!P118-'법정동(2013년말)'!P119","v":{"v":0,"d":"0.0"}},{"$f":"'법정동(2014.12월말)'!Q118-'법정동(2013년말)'!Q119","v":{"v":0,"d":"0.0"}},{"$f":"'법정동(2014.12월말)'!R118-'법정동(2013년말)'!R119","v":{"v":44,"d":"44.0"}},{"$f":"'법정동(2014.12월말)'!S118-'법정동(2013년말)'!S119","v":{"v":1,"d":"1.0"}},{"$f":"'법정동(2014.12월말)'!T118-'법정동(2013년말)'!T119","v":{"v":0,"d":"0.0"}},{"$f":"'법정동(2014.12월말)'!U118-'법정동(2013년말)'!U119","v":{"v":0,"d":"0.0"}},{"$f":"'법정동(2014.12월말)'!V118-'법정동(2013년말)'!V119","v":{"v":0,"d":"0.0"}},{"$f":"'법정동(2014.12월말)'!W118-'법정동(2013년말)'!W119","v":{"v":0,"d":"0.0"}},{"$f":"'법정동(2014.12월말)'!X118-'법정동(2013년말)'!X119","v":{"v":0,"d":"0.0"}},{"$f":"'법정동(2014.12월말)'!Y118-'법정동(2013년말)'!Y119","v":{"v":0,"d":"0.0"}},{"$f":"'법정동(2014.12월말)'!Z118-'법정동(2013년말)'!Z119","v":{"v":0,"d":"0.0"}},{"$f":"'법정동(2014.12월말)'!AA118-'법정동(2013년말)'!AA119","v":{"v":0,"d":"0.0"}},{"$f":"'법정동(2014.12월말)'!AB118-'법정동(2013년말)'!AB119","v":{"v":0,"d":"0.0"}},{"$f":"'법정동(2014.12월말)'!AC118-'법정동(2013년말)'!AC119","v":{"v":0,"d":"0.0"}},{"$f":"'법정동(2014.12월말)'!AD118-'법정동(2013년말)'!AD119","v":{"v":-44,"d":"-44.0"}},{"$f":"'법정동(2014.12월말)'!AE118-'법정동(2013년말)'!AE119","v":{"v":0,"d":"0.0"}},{"$f":"'법정동(2014.12월말)'!AF118-'법정동(2013년말)'!AF119","v":{"v":0,"d":"0.0"}},{"$f":"'법정동(2014.12월말)'!AG118-'법정동(2013년말)'!AG119","v":{"v":0,"d":"0.0"}},{"$f":"'법정동(2014.12월말)'!AH118-'법정동(2013년말)'!AH119","v":{"v":0,"d":"0.0"}},{"$f":"'법정동(2014.12월말)'!AI118-'법정동(2013년말)'!AI119","v":{"v":0,"d":"0.0"}},{"$f":"'법정동(2014.12월말)'!AJ118-'법정동(2013년말)'!AJ119","v":{"v":0,"d":"0.0"}},{"$f":"'법정동(2014.12월말)'!AK118-'법정동(2013년말)'!AK119","v":{"v":0,"d":"0.0"}},{"$f":"'법정동(2014.12월말)'!AL118-'법정동(2013년말)'!AL119","v":{"v":0,"d":"0.0"}},{"$f":"'법정동(2014.12월말)'!AM118-'법정동(2013년말)'!AM119","v":{"v":0,"d":"0.0"}},{"$f":"'법정동(2014.12월말)'!AN118-'법정동(2013년말)'!AN119","v":{"v":0,"d":"0.0"}},{"$f":"'법정동(2014.12월말)'!AO118-'법정동(2013년말)'!AO119","v":{"v":0,"d":"0.0"}},{"$f":"'법정동(2014.12월말)'!AP118-'법정동(2013년말)'!AP119","v":{"v":0,"d":"0.0"}},{"$f":"'법정동(2014.12월말)'!AQ118-'법정동(2013년말)'!AQ119","v":{"v":0,"d":"0.0"}},{"$f":"'법정동(2014.12월말)'!AR118-'법정동(2013년말)'!AR119","v":{"v":0,"d":"0.0"}},{"$f":"'법정동(2014.12월말)'!AS118-'법정동(2013년말)'!AS119","v":{"v":0,"d":"0.0"}},{"$f":"'법정동(2014.12월말)'!AT118-'법정동(2013년말)'!AT119","v":{"v":0,"d":"0.0"}},{"$f":"'법정동(2014.12월말)'!AU118-'법정동(2013년말)'!AU119","v":{"v":0,"d":"0.0"}},{"$f":"'법정동(2014.12월말)'!AV118-'법정동(2013년말)'!AV119","v":{"v":0,"d":"0.0"}},{"$f":"'법정동(2014.12월말)'!AW118-'법정동(2013년말)'!AW119","v":{"v":0,"d":"0.0"}},{"$f":"'법정동(2014.12월말)'!AX118-'법정동(2013년말)'!AX119","v":{"v":0,"d":"0.0"}},{"$f":"'법정동(2014.12월말)'!AY118-'법정동(2013년말)'!AY119","v":{"v":0,"d":"0.0"}},{"$f":"'법정동(2014.12월말)'!AZ118-'법정동(2013년말)'!AZ119","v":{"v":0,"d":"0.0"}},{"$f":"'법정동(2014.12월말)'!BA118-'법정동(2013년말)'!BA119","v":{"v":0,"d":"0.0"}},{"$f":"'법정동(2014.12월말)'!BB118-'법정동(2013년말)'!BB119","v":{"v":0,"d":"0.0"}},{"$f":"'법정동(2014.12월말)'!BC118-'법정동(2013년말)'!BC119","v":{"v":0,"d":"0.0"}},{"$f":"'법정동(2014.12월말)'!BD118-'법정동(2013년말)'!BD119","v":{"v":0,"d":"0.0"}},{"$f":"'법정동(2014.12월말)'!BE118-'법정동(2013년말)'!BE119","v":{"v":0,"d":"0.0"}},{"$f":"'법정동(2014.12월말)'!BF118-'법정동(2013년말)'!BF119","v":{"v":0,"d":"0.0"}},{"$f":"'법정동(2014.12월말)'!BG118-'법정동(2013년말)'!BG119","v":{"v":0,"d":"0.0"}}]
["삼산면 초도리",{"$f":"'법정동(2014.12월말)'!B119-'법정동(2013년말)'!B120","v":{"v":0,"d":"0.0"}},{"$f":"'법정동(2014.12월말)'!C119-'법정동(2013년말)'!C120","v":{"v":1,"d":"1.0"}},{"$f":"'법정동(2014.12월말)'!D119-'법정동(2013년말)'!D120","v":{"v":-1100,"d":"-1,100.0"}},{"$f":"'법정동(2014.12월말)'!E119-'법정동(2013년말)'!E120","v":{"v":-2,"d":"-2.0"}},{"$f":"'법정동(2014.12월말)'!F119-'법정동(2013년말)'!F120","v":{"v":0,"d":"0.0"}},{"$f":"'법정동(2014.12월말)'!G119-'법정동(2013년말)'!G120","v":{"v":0,"d":"0.0"}},{"$f":"'법정동(2014.12월말)'!H119-'법정동(2013년말)'!H120","v":{"v":0,"d":"0.0"}},{"$f":"'법정동(2014.12월말)'!I119-'법정동(2013년말)'!I120","v":{"v":0,"d":"0.0"}},{"$f":"'법정동(2014.12월말)'!J119-'법정동(2013년말)'!J120","v":{"v":0,"d":"0.0"}},{"$f":"'법정동(2014.12월말)'!K119-'법정동(2013년말)'!K120","v":{"v":0,"d":"0.0"}},{"$f":"'법정동(2014.12월말)'!L119-'법정동(2013년말)'!L120","v":{"v":0,"d":"0.0"}},{"$f":"'법정동(2014.12월말)'!M119-'법정동(2013년말)'!M120","v":{"v":0,"d":"0.0"}},{"$f":"'법정동(2014.12월말)'!N119-'법정동(2013년말)'!N120","v":{"v":0,"d":"0.0"}},{"$f":"'법정동(2014.12월말)'!O119-'법정동(2013년말)'!O120","v":{"v":0,"d":"0.0"}},{"$f":"'법정동(2014.12월말)'!P119-'법정동(2013년말)'!P120","v":{"v":0,"d":"0.0"}},{"$f":"'법정동(2014.12월말)'!Q119-'법정동(2013년말)'!Q120","v":{"v":0,"d":"0.0"}},{"$f":"'법정동(2014.12월말)'!R119-'법정동(2013년말)'!R120","v":{"v":306,"d":"306.0"}},{"$f":"'법정동(2014.12월말)'!S119-'법정동(2013년말)'!S120","v":{"v":1,"d":"1.0"}},{"$f":"'법정동(2014.12월말)'!T119-'법정동(2013년말)'!T120","v":{"v":0,"d":"0.0"}},{"$f":"'법정동(2014.12월말)'!U119-'법정동(2013년말)'!U120","v":{"v":0,"d":"0.0"}},{"$f":"'법정동(2014.12월말)'!V119-'법정동(2013년말)'!V120","v":{"v":0,"d":"0.0"}},{"$f":"'법정동(2014.12월말)'!W119-'법정동(2013년말)'!W120","v":{"v":0,"d":"0.0"}},{"$f":"'법정동(2014.12월말)'!X119-'법정동(2013년말)'!X120","v":{"v":0,"d":"0.0"}},{"$f":"'법정동(2014.12월말)'!Y119-'법정동(2013년말)'!Y120","v":{"v":0,"d":"0.0"}},{"$f":"'법정동(2014.12월말)'!Z119-'법정동(2013년말)'!Z120","v":{"v":0,"d":"0.0"}},{"$f":"'법정동(2014.12월말)'!AA119-'법정동(2013년말)'!AA120","v":{"v":0,"d":"0.0"}},{"$f":"'법정동(2014.12월말)'!AB119-'법정동(2013년말)'!AB120","v":{"v":0,"d":"0.0"}},{"$f":"'법정동(2014.12월말)'!AC119-'법정동(2013년말)'!AC120","v":{"v":0,"d":"0.0"}},{"$f":"'법정동(2014.12월말)'!AD119-'법정동(2013년말)'!AD120","v":{"v":0,"d":"0.0"}},{"$f":"'법정동(2014.12월말)'!AE119-'법정동(2013년말)'!AE120","v":{"v":0,"d":"0.0"}},{"$f":"'법정동(2014.12월말)'!AF119-'법정동(2013년말)'!AF120","v":{"v":0,"d":"0.0"}},{"$f":"'법정동(2014.12월말)'!AG119-'법정동(2013년말)'!AG120","v":{"v":0,"d":"0.0"}},{"$f":"'법정동(2014.12월말)'!AH119-'법정동(2013년말)'!AH120","v":{"v":0,"d":"0.0"}},{"$f":"'법정동(2014.12월말)'!AI119-'법정동(2013년말)'!AI120","v":{"v":0,"d":"0.0"}},{"$f":"'법정동(2014.12월말)'!AJ119-'법정동(2013년말)'!AJ120","v":{"v":0,"d":"0.0"}},{"$f":"'법정동(2014.12월말)'!AK119-'법정동(2013년말)'!AK120","v":{"v":0,"d":"0.0"}},{"$f":"'법정동(2014.12월말)'!AL119-'법정동(2013년말)'!AL120","v":{"v":0,"d":"0.0"}},{"$f":"'법정동(2014.12월말)'!AM119-'법정동(2013년말)'!AM120","v":{"v":0,"d":"0.0"}},{"$f":"'법정동(2014.12월말)'!AN119-'법정동(2013년말)'!AN120","v":{"v":0,"d":"0.0"}},{"$f":"'법정동(2014.12월말)'!AO119-'법정동(2013년말)'!AO120","v":{"v":0,"d":"0.0"}},{"$f":"'법정동(2014.12월말)'!AP119-'법정동(2013년말)'!AP120","v":{"v":794,"d":"794.0"}},{"$f":"'법정동(2014.12월말)'!AQ119-'법정동(2013년말)'!AQ120","v":{"v":2,"d":"2.0"}},{"$f":"'법정동(2014.12월말)'!AR119-'법정동(2013년말)'!AR120","v":{"v":0,"d":"0.0"}},{"$f":"'법정동(2014.12월말)'!AS119-'법정동(2013년말)'!AS120","v":{"v":0,"d":"0.0"}},{"$f":"'법정동(2014.12월말)'!AT119-'법정동(2013년말)'!AT120","v":{"v":0,"d":"0.0"}},{"$f":"'법정동(2014.12월말)'!AU119-'법정동(2013년말)'!AU120","v":{"v":0,"d":"0.0"}},{"$f":"'법정동(2014.12월말)'!AV119-'법정동(2013년말)'!AV120","v":{"v":0,"d":"0.0"}},{"$f":"'법정동(2014.12월말)'!AW119-'법정동(2013년말)'!AW120","v":{"v":0,"d":"0.0"}},{"$f":"'법정동(2014.12월말)'!AX119-'법정동(2013년말)'!AX120","v":{"v":0,"d":"0.0"}},{"$f":"'법정동(2014.12월말)'!AY119-'법정동(2013년말)'!AY120","v":{"v":0,"d":"0.0"}},{"$f":"'법정동(2014.12월말)'!AZ119-'법정동(2013년말)'!AZ120","v":{"v":0,"d":"0.0"}},{"$f":"'법정동(2014.12월말)'!BA119-'법정동(2013년말)'!BA120","v":{"v":0,"d":"0.0"}},{"$f":"'법정동(2014.12월말)'!BB119-'법정동(2013년말)'!BB120","v":{"v":0,"d":"0.0"}},{"$f":"'법정동(2014.12월말)'!BC119-'법정동(2013년말)'!BC120","v":{"v":0,"d":"0.0"}},{"$f":"'법정동(2014.12월말)'!BD119-'법정동(2013년말)'!BD120","v":{"v":0,"d":"0.0"}},{"$f":"'법정동(2014.12월말)'!BE119-'법정동(2013년말)'!BE120","v":{"v":0,"d":"0.0"}},{"$f":"'법정동(2014.12월말)'!BF119-'법정동(2013년말)'!BF120","v":{"v":0,"d":"0.0"}},{"$f":"'법정동(2014.12월말)'!BG119-'법정동(2013년말)'!BG120","v":{"v":0,"d":"0.0"}}]
["삼산면 손죽리",{"$f":"'법정동(2014.12월말)'!B120-'법정동(2013년말)'!B121","v":{"v":0,"d":"0.0"}},{"$f":"'법정동(2014.12월말)'!C120-'법정동(2013년말)'!C121","v":{"v":3,"d":"3.0"}},{"$f":"'법정동(2014.12월말)'!D120-'법정동(2013년말)'!D121","v":{"v":-694,"d":"-694.0"}},{"$f":"'법정동(2014.12월말)'!E120-'법정동(2013년말)'!E121","v":{"v":1,"d":"1.0"}},{"$f":"'법정동(2014.12월말)'!F120-'법정동(2013년말)'!F121","v":{"v":0,"d":"0.0"}},{"$f":"'법정동(2014.12월말)'!G120-'법정동(2013년말)'!G121","v":{"v":0,"d":"0.0"}},{"$f":"'법정동(2014.12월말)'!H120-'법정동(2013년말)'!H121","v":{"v":0,"d":"0.0"}},{"$f":"'법정동(2014.12월말)'!I120-'법정동(2013년말)'!I121","v":{"v":0,"d":"0.0"}},{"$f":"'법정동(2014.12월말)'!J120-'법정동(2013년말)'!J121","v":{"v":0,"d":"0.0"}},{"$f":"'법정동(2014.12월말)'!K120-'법정동(2013년말)'!K121","v":{"v":0,"d":"0.0"}},{"$f":"'법정동(2014.12월말)'!L120-'법정동(2013년말)'!L121","v":{"v":0,"d":"0.0"}},{"$f":"'법정동(2014.12월말)'!M120-'법정동(2013년말)'!M121","v":{"v":0,"d":"0.0"}},{"$f":"'법정동(2014.12월말)'!N120-'법정동(2013년말)'!N121","v":{"v":0,"d":"0.0"}},{"$f":"'법정동(2014.12월말)'!O120-'법정동(2013년말)'!O121","v":{"v":0,"d":"0.0"}},{"$f":"'법정동(2014.12월말)'!P120-'법정동(2013년말)'!P121","v":{"v":0,"d":"0.0"}},{"$f":"'법정동(2014.12월말)'!Q120-'법정동(2013년말)'!Q121","v":{"v":0,"d":"0.0"}},{"$f":"'법정동(2014.12월말)'!R120-'법정동(2013년말)'!R121","v":{"v":694,"d":"694.0"}},{"$f":"'법정동(2014.12월말)'!S120-'법정동(2013년말)'!S121","v":{"v":2,"d":"2.0"}},{"$f":"'법정동(2014.12월말)'!T120-'법정동(2013년말)'!T121","v":{"v":0,"d":"0.0"}},{"$f":"'법정동(2014.12월말)'!U120-'법정동(2013년말)'!U121","v":{"v":0,"d":"0.0"}},{"$f":"'법정동(2014.12월말)'!V120-'법정동(2013년말)'!V121","v":{"v":0,"d":"0.0"}},{"$f":"'법정동(2014.12월말)'!W120-'법정동(2013년말)'!W121","v":{"v":0,"d":"0.0"}},{"$f":"'법정동(2014.12월말)'!X120-'법정동(2013년말)'!X121","v":{"v":0,"d":"0.0"}},{"$f":"'법정동(2014.12월말)'!Y120-'법정동(2013년말)'!Y121","v":{"v":0,"d":"0.0"}},{"$f":"'법정동(2014.12월말)'!Z120-'법정동(2013년말)'!Z121","v":{"v":0,"d":"0.0"}},{"$f":"'법정동(2014.12월말)'!AA120-'법정동(2013년말)'!AA121","v":{"v":0,"d":"0.0"}},{"$f":"'법정동(2014.12월말)'!AB120-'법정동(2013년말)'!AB121","v":{"v":0,"d":"0.0"}},{"$f":"'법정동(2014.12월말)'!AC120-'법정동(2013년말)'!AC121","v":{"v":0,"d":"0.0"}},{"$f":"'법정동(2014.12월말)'!AD120-'법정동(2013년말)'!AD121","v":{"v":0,"d":"0.0"}},{"$f":"'법정동(2014.12월말)'!AE120-'법정동(2013년말)'!AE121","v":{"v":0,"d":"0.0"}},{"$f":"'법정동(2014.12월말)'!AF120-'법정동(2013년말)'!AF121","v":{"v":0,"d":"0.0"}},{"$f":"'법정동(2014.12월말)'!AG120-'법정동(2013년말)'!AG121","v":{"v":0,"d":"0.0"}},{"$f":"'법정동(2014.12월말)'!AH120-'법정동(2013년말)'!AH121","v":{"v":0,"d":"0.0"}},{"$f":"'법정동(2014.12월말)'!AI120-'법정동(2013년말)'!AI121","v":{"v":0,"d":"0.0"}},{"$f":"'법정동(2014.12월말)'!AJ120-'법정동(2013년말)'!AJ121","v":{"v":0,"d":"0.0"}},{"$f":"'법정동(2014.12월말)'!AK120-'법정동(2013년말)'!AK121","v":{"v":0,"d":"0.0"}},{"$f":"'법정동(2014.12월말)'!AL120-'법정동(2013년말)'!AL121","v":{"v":0,"d":"0.0"}},{"$f":"'법정동(2014.12월말)'!AM120-'법정동(2013년말)'!AM121","v":{"v":0,"d":"0.0"}},{"$f":"'법정동(2014.12월말)'!AN120-'법정동(2013년말)'!AN121","v":{"v":0,"d":"0.0"}},{"$f":"'법정동(2014.12월말)'!AO120-'법정동(2013년말)'!AO121","v":{"v":0,"d":"0.0"}},{"$f":"'법정동(2014.12월말)'!AP120-'법정동(2013년말)'!AP121","v":{"v":0,"d":"0.0"}},{"$f":"'법정동(2014.12월말)'!AQ120-'법정동(2013년말)'!AQ121","v":{"v":0,"d":"0.0"}},{"$f":"'법정동(2014.12월말)'!AR120-'법정동(2013년말)'!AR121","v":{"v":0,"d":"0.0"}},{"$f":"'법정동(2014.12월말)'!AS120-'법정동(2013년말)'!AS121","v":{"v":0,"d":"0.0"}},{"$f":"'법정동(2014.12월말)'!AT120-'법정동(2013년말)'!AT121","v":{"v":0,"d":"0.0"}},{"$f":"'법정동(2014.12월말)'!AU120-'법정동(2013년말)'!AU121","v":{"v":0,"d":"0.0"}},{"$f":"'법정동(2014.12월말)'!AV120-'법정동(2013년말)'!AV121","v":{"v":0,"d":"0.0"}},{"$f":"'법정동(2014.12월말)'!AW120-'법정동(2013년말)'!AW121","v":{"v":0,"d":"0.0"}},{"$f":"'법정동(2014.12월말)'!AX120-'법정동(2013년말)'!AX121","v":{"v":0,"d":"0.0"}},{"$f":"'법정동(2014.12월말)'!AY120-'법정동(2013년말)'!AY121","v":{"v":0,"d":"0.0"}},{"$f":"'법정동(2014.12월말)'!AZ120-'법정동(2013년말)'!AZ121","v":{"v":0,"d":"0.0"}},{"$f":"'법정동(2014.12월말)'!BA120-'법정동(2013년말)'!BA121","v":{"v":0,"d":"0.0"}},{"$f":"'법정동(2014.12월말)'!BB120-'법정동(2013년말)'!BB121","v":{"v":0,"d":"0.0"}},{"$f":"'법정동(2014.12월말)'!BC120-'법정동(2013년말)'!BC121","v":{"v":0,"d":"0.0"}},{"$f":"'법정동(2014.12월말)'!BD120-'법정동(2013년말)'!BD121","v":{"v":0,"d":"0.0"}},{"$f":"'법정동(2014.12월말)'!BE120-'법정동(2013년말)'!BE121","v":{"v":0,"d":"0.0"}},{"$f":"'법정동(2014.12월말)'!BF120-'법정동(2013년말)'!BF121","v":{"v":0,"d":"0.0"}},{"$f":"'법정동(2014.12월말)'!BG120-'법정동(2013년말)'!BG121","v":{"v":0,"d":"0.0"}}]

{"sheet":"법정동(2013년말)","index":3,"n_rows":121,"n_cols":59,"rows_kept":121,"merged":[[0,0,0,12],[4,0,5,0],[4,1,4,2],[4,3,4,4],[4,5,4,6],[4,7,4,8],[4,9,4,10],[4,11,4,12],[4,13,4,14],[4,15,4,16],[4,17,4,18],[4,19,4,20],[4,21,4,22],[4,23,4,24],[4,27,4,28],[4,29,4,30],[4,31,4,32],[4,33,4,34],[4,35,4,36],[4,37,4,38],[4,39,4,40],[4,41,4,42],[4,43,4,44],[4,45,4,46],[4,47,4,48],[4,49,4,50],[4,51,4,52],[4,53,4,54],[4,55,4,56],[4,57,4,58]]}
["여수시 지적(地籍) 통계 현황"]
[]
["기준일자 : 2013년12월31일 "]
["단위: 필지,㎡"]
["구    분","계",null,"전",null,"답",null,"과수원",null,"목장용지",null,"임야",null,"광천지",null,"염전",null,"대",null,"공장용지",null,"학교용지",null,"주차장",null,"주유소용지",null,"창고용지",null,"도로",null,"철도용지",null,"제방",null,"하천",null,"구거",null,"유지",null,"양어장",null,"수도용지",null,"공원",null,"체육용지",null,"유원지",null,"종교용지",null,"사적지",null,"묘지",null,"잡종지"]
[null,"면  적","지번수","면  적","지번수","면  적","지번수","면  적","지번수","면  적","지번수","면  적","지번수","면  적","지번수","면  적","지번수","면  적","지번수","면  적","지번수","면  적","지번수","면  적","지번수","면  적","지번수","면  적","지번수","면  적","지번수","면  적","지번수","면  적","지번수","면  적","지번수","면  적","지번수","면  적","지번수","면  적","지번수","면  적","지번수","면  적","지번수","면  적","지번수","면  적","지번수","면  적","지번수","면  적","지번수","면  적","지번수","면  적","지번수"]
["합  계",{"v":504308958,"d":"504,308,958.0"},{"v":310125,"d":"310,125"},{"v":66829496.6,"d":"66,829,496.6"},{"v":74906,"d":"74,906"},{"v":41689757.699999996,"d":"41,689,757.7"},{"v":46705,"d":"46,705"},{"v":564671,"d":"564,671.0"},204,{"v":1855559,"d":"1,855,559.0"},514,{"v":306283875.20000005,"d":"306,283,875.2"},{"v":54429,"d":"54,429"},0,0,{"v":10562,"d":"10,562.0"},6,{"v":21564759.4,"d":"21,564,759.4"},{"v":65811,"d":"65,811"},{"v":15756522.9,"d":"15,756,522.9"},{"v":1190,"d":"1,190"},{"v":2005867,"d":"2,005,867.0"},376,{"v":346626.3999999999,"d":"346,626.4"},394,{"v":501120.3,"d":"501,120.3"},244,{"v":262666.6,"d":"262,666.6"},398,{"v":19684967,"d":"19,684,967.0"},{"v":48468,"d":"48,468"},{"v":1028567.2,"d":"1,028,567.2"},875,{"v":657269.2,"d":"657,269.2"},788,{"v":2414211.6999999997,"d":"2,414,211.7"},942,{"v":4612411.300000001,"d":"4,612,411.3"},{"v":4741,"d":"4,741"},{"v":2910786.9,"d":"2,910,786.9"},{"v":1438,"d":"1,438"},{"v":227613.1,"d":"227,613.1"},148,{"v":475653.9,"d":"475,653.9"},405,{"v":1318673.2,"d":"1,318,673.2"},291,{"v":1176999.6,"d":"1,176,999.6"},45,{"v":263794.9,"d":"263,794.9"},4,{"v":417357.6,"d":"417,357.6"},445,{"v":20795,"d":"20,795.0"},15,{"v":1820471,"d":"1,820,471.0"},{"v":1928,"d":"1,928"},{"v":9607902.299999999,"d":"9,607,902.3"},{"v":4415,"d":"4,415"}]
["종화동",{"v":402657,"d":"402,657.0"},{"v":1689,"d":"1,689"},{"v":72717,"d":"72,717.0"},221,{"v":1267,"d":"1,267.0"},12,0,0,0,0,{"v":22714,"d":"22,714.0"},48,0,0,0,0,{"v":111914,"d":"111,914.0"},{"v":1059,"d":"1,059"},0,0,{"v":16641,"d":"16,641.0"},1,{"v":60,"d":"60.0"},1,0,0,{"v":177,"d":"177.0"},1,{"v":68532,"d":"68,532.0"},277,0,0,{"v":2134,"d":"2,134.0"},5,0,0,{"v":2501,"d":"2,501.0"},12,0,0,0,0,{"v":985,"d":"985.0"},2,{"v":84607,"d":"84,607.0"},15,0,0,0,0,{"v":1094,"d":"1,094.0"},4,0,0,{"v":4334,"d":"4,334.0"},15,{"v":12980,"d":"12,980.0"},16]
["수정동",{"v":636365.5,"d":"636,365.5"},{"v":1406,"d":"1,406"},{"v":39143,"d":"39,143.0"},216,0,0,0,0,0,0,{"v":131491,"d":"131,491.0"},50,0,0,0,0,{"v":183484.3,"d":"183,484.3"},828,0,0,{"v":37527,"d":"37,527.0"},2,{"v":12269.8,"d":"12,269.8"},6,0,0,0,0,{"v":120751.9,"d":"120,751.9"},266,{"v":22,"d":"22.0"},2,{"v":11759,"d":"11,759.0"},4,0,0,0,0,0,0,0,0,0,0,{"v":69680.8,"d":"69,680.8"},6,0,0,0,0,0,0,0,0,{"v":1128,"d":"1,128.0"},5,{"v":29108.7,"d":"29,108.7"},21]
["공화동",{"v":313483.2,"d":"313,483.2"},{"v":1744,"d":"1,744"},{"v":3371,"d":"3,371.0"},35,0,0,0,0,0,0,{"v":388,"d":"388.0"},1,0,0,0,0,{"v":140350.5,"d":"140,350.5"},{"v":1393,"d":"1,393"},0,0,{"v":51531,"d":"51,531.0"},6,{"v":2236,"d":"2,236.0"},5,{"v":1141,"d":"1,141.0"},4,0,0,{"v":91602.4,"d":"91,602.4"},238,{"v":3836,"d":"3,836.0"},26,0,0,0,0,{"v":3480,"d":"3,480.0"},22,0,0,0,0,0,0,{"v":4034.8,"d":"4,034.8"},2,0,0,0,0,{"v":6337,"d":"6,337.0"},9,0,0,0,0,{"v":5175.5,"d":"5,175.5"},3]
["관문동",{"v":248473,"d":"248,473.0"},{"v":1617,"d":"1,617"},{"v":4579,"d":"4,579.0"},60,{"v":221,"d":"221.0"},5,0,0,0,0,{"v":5774,"d":"5,774.0"},32,0,0,0,0,{"v":145698,"d":"145,698.0"},{"v":1254,"d":"1,254"},0,0,{"v":48901,"d":"48,901.0"},6,{"v":631,"d":"631.0"},5,0,0,0,0,{"v":40557,"d":"40,557.0"},243,0,0,0,0,0,0,{"v":139,"d":"139.0"},5,0,0,0,0,0,0,0,0,0,0,0,0,{"v":1704,"d":"1,704.0"},4,0,0,0,0,{"v":269,"d":"269.0"},3]
["고소동",{"v":176568,"d":"176,568.0"},{"v":1322,"d":"1,322"},{"v":16553,"d":"16,553.0"},100,0,0,0,0,0,0,{"v":496,"d":"496.0"},7,0,0,0,0,{"v":117007,"d":"117,007.0"},893,0,0,0,0,{"v":324,"d":"324.0"},2,0,0,0,0,{"v":35745,"d":"35,745.0"},306,0,0,0,0,0,0,0,0,0,0,0,0,{"v":671,"d":"671.0"},1,0,0,0,0,0,0,{"v":3526,"d":"3,526.0"},4,{"v":1583,"d":"1,583.0"},1,{"v":78,"d":"78.0"},3,{"v":585,"d":"585.0"},5]
["동산동",{"v":279543,"d":"279,543.0"},{"v":1227,"d":"1,227"},{"v":32423,"d":"32,423.0"},77,{"v":2765,"d":"2,765.0"},6,0,0,0,0,{"v":125534,"d":"125,534.0"},27,0,0,0,0,{"v":85831,"d":"85,831.0"},928,0,0,{"v":10782,"d":"10,782.0"},1,{"v":556,"d":"556.0"},3,0,0,0,0,{"v":13199,"d":"13,199.0"},173,0,0,0,0,0,0,{"v":2688,"d":"2,688.0"},4,0,0,0,0,{"v":4960,"d":"4,960.0"},4,0,0,0,0,0,0,{"v":769,"d":"769.0"},3,0,0,0,0,{"v":36,"d":"36.0"},1]
["중앙동",{"v":159282,"d":"159,282.0"},795,{"v":52,"d":"52.0"},4,0,0,0,0,0,0,{"v":20706,"d":"20,706.0"},17,0,0,0,0,{"v":65873,"d":"65,873.0"},582,0,0,0,0,{"v":1679,"d":"1,679.0"},1,0,0,0,0,{"v":49487,"d":"49,487.0"},180,0,0,0,0,0,0,0,0,0,0,0,0,0,0,{"v":9732,"d":"9,732.0"},1,0,0,0,0,0,0,0,0,0,0,{"v":11753,"d":"11,753.0"},10]
["교동",{"v":166086.2,"d":"166,086.2"},{"v":1171,"d":"1,171"},0,0,0,0,0,0,0,0,0,0,0,0,0,0,{"v":96868,"d":"96,868.0"},{"v":1080,"d":"1,080"},0,0,0,0,{"v":4238.2,"d":"4,238.2"},4,0,0,0,0,{"v":50034,"d":"50,034.0"},76,0,0,{"v":800,"d":"800.0"},2,{"v":9005,"d":"9,005.0"},1,{"v":445,"d":"445.0"},5,0,0,0,0,0,0,0,0,0,0,0,0,0,0,0,0,0,0,{"v":4696,"d":"4,696.0"},3]
["군자동",{"v":121235,"d":"121,235.0"},642,{"v":34418,"d":"34,418.0"},77,0,0,0,0,0,0,0,0,0,0,0,0,{"v":53813,"d":"53,813.0"},490,0,0,{"v":7308,"d":"7,308.0"},1,{"v":827,"d":"827.0"},4,0,0,0,0,{"v":14973,"d":"14,973.0"},57,0,0,0,0,0,0,{"v":1068,"d":"1,068.0"},3,0,0,0,0,{"v":363,"d":"363.0"},2,0,0,0,0,0,0,{"v":2650,"d":"2,650.0"},2,{"v":5642,"d":"5,642.0"},4,0,0,{"v":173,"d":"173.0"},2]
["충무동",{"v":144556,"d":"144,556.0"},997,{"v":2822,"d":"2,822.0"},21,{"v":2141,"d":"2,141.0"},12,0,0,0,0,0,0,0,0,0,0,{"v":93681,"d":"93,681.0"},835,0,0,0,0,{"v":1690,"d":"1,690.0"},7,0,0,0,0,{"v":36048,"d":"36,048.0"},103,0,0,0,0,{"v":5576,"d":"5,576.0"},2,{"v":271,"d":"271.0"},1,0,0,0,0,0,0,0,0,0,0,0,0,{"v":1799,"d":"1,799.0"},10,0,0,0,0,{"v":528,"d":"528.0"},6]
["연등동",{"v":1083737.5,"d":"1,083,737.5"},{"v":2150,"d":"2,150"},{"v":194030,"d":"194,030.0"},416,{"v":43758,"d":"43,758.0"},70,0,0,0,0,{"v":447669.8,"d":"447,669.8"},157,0,0,0,0,{"v":160949.1,"d":"160,949.1"},{"v":1137,"d":"1,137"},696.7,1,{"v":14194,"d":"14,194.0"},2,{"v":321,"d":"321.0"},1,{"v":1946.1,"d":"1,946.1"},7,{"v":2638.4,"d":"2,638.4"},3,{"v":150899,"d":"150,899.0"},285,0,0,0,0,{"v":14522,"d":"14,522.0"},21,{"v":32734.4,"d":"32,734.4"},22,0,0,0,0,{"v":1826.1,"d":"1,826.1"},2,991.9,1,0,0,0,0,{"v":4986,"d":"4,986.0"},5,{"v":76,"d":"76.0"},1,{"v":5021,"d":"5,021.0"},9,{"v":6478,"d":"6,478.0"},10]
["광무동",{"v":1266051.4,"d":"1,266,051.4"},{"v":2924,"d":"2,924"},{"v":224167,"d":"224,167.0"},432,{"v":6722,"d":"6,722.0"},36,0,0,0,0,{"v":624287,"d":"624,287.0"},95,0,0,0,0,{"v":233793.4,"d":"233,793.4"},{"v":1800,"d":"1,800"},0,0,{"v":19814,"d":"19,814.0"},5,{"v":2331,"d":"2,331.0"},4,695.8,1,0,0,{"v":121915.7,"d":"121,915.7"},477,0,0,0,0,{"v":8810,"d":"8,810.0"},10,{"v":3739.9,"d":"3,739.9"},10,0,0,0,0,{"v":3837,"d":"3,837.0"},11,{"v":616,"d":"616.0"},1,0,0,0,0,{"v":5548,"d":"5,548.0"},9,0,0,{"v":4347,"d":"4,347.0"},16,{"v":5427.6,"d":"5,427.6"},17]
["서교동",{"v":169257,"d":"169,257.0"},{"v":1159,"d":"1,159"},{"v":136,"d":"136.0"},2,{"v":378,"d":"378.0"},7,0,0,0,0,0,0,0,0,0,0,{"v":85205,"d":"85,205.0"},861,0,0,{"v":19165,"d":"19,165.0"},1,{"v":6734,"d":"6,734.0"},4,0,0,0,0,{"v":43024,"d":"43,024.0"},263,0,0,0,0,{"v":8724,"d":"8,724.0"},4,{"v":753,"d":"753.0"},13,0,0,0,0,0,0,{"v":143,"d":"143.0"},1,0,0,0,0,{"v":4598,"d":"4,598.0"},2,0,0,0,0,{"v":397,"d":"397.0"},1]
["봉강동",{"v":486137.50000000006,"d":"486,137.5"},{"v":1608,"d":"1,608"},{"v":79459,"d":"79,459.0"},170,{"v":26972,"d":"26,972.0"},51,0,0,0,0,{"v":156344,"d":"156,344.0"},55,0,0,0,0,{"v":122522.2,"d":"122,522.2"},922,0,0,{"v":35979,"d":"35,979.0"},2,{"v":578,"d":"578.0"},2,0,0,0,0,{"v":52156.7,"d":"52,156.7"},364,0,0,0,0,0,0,{"v":3404,"d":"3,404.0"},13,0,0,0,0,0,0,{"v":1906.9,"d":"1,906.9"},1,0,0,0,0,{"v":3652,"d":"3,652.0"},5,0,0,0,0,{"v":3163.7,"d":"3,163.7"},23]
["봉산동",{"v":1213833.7,"d":"1,213,833.7"},{"v":2914,"d":"2,914"},{"v":147128,"d":"147,128.0"},308,{"v":42957,"d":"42,957.0"},99,0,0,0,0,{"v":352775,"d":"352,775.0"},63,0,0,0,0,{"v":413843.1,"d":"413,843.1"},{"v":1943,"d":"1,943"},353.1,1,{"v":29460,"d":"29,460.0"},6,216.1,2,{"v":2234.6,"d":"2,234.6"},4,{"v":1297.1,"d":"1,297.1"},4,{"v":185076.7,"d":"185,076.7"},450,0,0,0,0,0,0,{"v":3904,"d":"3,904.0"},10,{"v":27,"d":"27.0"},2,0,0,0,0,0,0,0,0,0,0,{"v":7586,"d":"7,586.0"},6,0,0,{"v":2507,"d":"2,507.0"},9,{"v":24469,"d":"24,469.0"},7]
["남산동",{"v":400336,"d":"400,336.0"},{"v":1893,"d":"1,893"},{"v":95799,"d":"95,799.0"},219,{"v":83,"d":"83.0"},3,0,0,0,0,{"v":32758,"d":"32,758.0"},32,0,0,0,0,{"v":132332,"d":"132,332.0"},{"v":1244,"d":"1,244"},0,0,{"v":4469,"d":"4,469.0"},2,{"v":3477,"d":"3,477.0"},5,0,0,0,0,{"v":99594,"d":"99,594.0"},343,0,0,{"v":273,"d":"273.0"},4,{"v":9140,"d":"9,140.0"},1,{"v":595,"d":"595.0"},6,0,0,0,0,{"v":283,"d":"283.0"},2,0,0,0,0,0,0,0,0,0,0,{"v":58,"d":"58.0"},2,{"v":21475,"d":"21,475.0"},30]
["국동",{"v":1533342.3,"d":"1,533,342.3"},{"v":3253,"d":"3,253"},{"v":98672,"d":"98,672.0"},452,{"v":15592,"d":"15,592.0"},83,{"v":815,"d":"815.0"},1,0,0,{"v":486239,"d":"486,239.0"},91,0,0,0,0,{"v":527745.2,"d":"527,745.2"},{"v":1887,"d":"1,887"},{"v":5044,"d":"5,044.0"},9,{"v":126054.2,"d":"126,054.2"},32,{"v":5577,"d":"5,577.0"},5,{"v":1291,"d":"1,291.0"},2,{"v":609,"d":"609.0"},4,{"v":174089.6,"d":"174,089.6"},583,0,0,{"v":2006,"d":"2,006.0"},1,0,0,{"v":15931,"d":"15,931.0"},14,0,0,0,0,{"v":3092,"d":"3,092.0"},6,0,0,0,0,0,0,{"v":7538.5,"d":"7,538.5"},17,0,0,{"v":1035,"d":"1,035.0"},10,{"v":62011.8,"d":"62,011.8"},56]
["신월동",{"v":3714986.5,"d":"3,714,986.5"},{"v":2534,"d":"2,534"},{"v":612489,"d":"612,489.0"},850,{"v":119530,"d":"119,530.0"},194,0,0,0,0,{"v":1403150,"d":"1,403,150.0"},326,0,0,0,0,{"v":242009.5,"d":"242,009.5"},510,{"v":849314,"d":"849,314.0"},124,{"v":7970,"d":"7,970.0"},1,{"v":1587,"d":"1,587.0"},1,{"v":2571,"d":"2,571.0"},10,{"v":1810,"d":"1,810.0"},2,{"v":203508,"d":"203,508.0"},326,0,0,{"v":5881,"d":"5,881.0"},19,0,0,{"v":45454,"d":"45,454.0"},20,0,0,0,0,0,0,0,0,0,0,0,0,{"v":9241,"d":"9,241.0"},9,0,0,{"v":6008,"d":"6,008.0"},26,{"v":204464,"d":"204,464.0"},116]
["여서동",{"v":2575399.9,"d":"2,575,399.9"},{"v":1920,"d":"1,920"},{"v":204480,"d":"204,480.0"},278,{"v":116419,"d":"116,419.0"},189,0,0,0,0,{"v":1223736,"d":"1,223,736.0"},291,0,0,0,0,{"v":562622.2,"d":"562,622.2"},751,0,0,{"v":58011,"d":"58,011.0"},4,{"v":15531.6,"d":"15,531.6"},15,{"v":1488,"d":"1,488.0"},1,{"v":884,"d":"884.0"},1,{"v":291248.5,"d":"291,248.5"},281,0,0,0,0,0,0,{"v":15119.9,"d":"15,119.9"},20,{"v":958,"d":"958.0"},2,0,0,{"v":11855,"d":"11,855.0"},5,{"v":19406.8,"d":"19,406.8"},7,{"v":9361,"d":"9,361.0"},5,0,0,{"v":15908.4,"d":"15,908.4"},22,0,0,{"v":2630,"d":"2,630.0"},8,{"v":25740.5,"d":"25,740.5"},40]
["문수동",{"v":2244118.3000000003,"d":"2,244,118.3"},{"v":3187,"d":"3,187"},{"v":175919,"d":"175,919.0"},321,{"v":34182,"d":"34,182.0"},95,0,0,0,0,{"v":836075.7,"d":"836,075.7"},325,0,0,0,0,{"v":715330.5,"d":"715,330.5"},{"v":1891,"d":"1,891"},0,0,{"v":122894.6,"d":"122,894.6"},10,{"v":13515.4,"d":"13,515.4"},44,{"v":1109.1,"d":"1,109.1"},2,{"v":205,"d":"205.0"},1,{"v":225509.9,"d":"225,509.9"},367,0,0,0,0,{"v":8513,"d":"8,513.0"},5,{"v":9438.4,"d":"9,438.4"},13,0,0,0,0,{"v":31,"d":"31.0"},1,{"v":54362.1,"d":"54,362.1"},21,0,0,0,0,{"v":25861,"d":"25,861.0"},15,0,0,{"v":3861,"d":"3,861.0"},19,{"v":17310.6,"d":"17,310.6"},57]
["오림동",{"v":2129905.7,"d":"2,129,905.7"},{"v":1646,"d":"1,646"},{"v":150571,"d":"150,571.0"},266,{"v":58336,"d":"58,336.0"},113,0,0,0,0,{"v":1139109,"d":"1,139,109.0"},294,0,0,0,0,{"v":176766.6,"d":"176,766.6"},554,{"v":895,"d":"895.0"},1,{"v":25821,"d":"25,821.0"},2,65.3,1,{"v":2939.8,"d":"2,939.8"},8,{"v":894,"d":"894.0"},2,{"v":143222.1,"d":"143,222.1"},287,{"v":33331,"d":"33,331.0"},33,0,0,{"v":17042.4,"d":"17,042.4"},6,{"v":15312.2,"d":"15,312.2"},33,{"v":10,"d":"10.0"},1,0,0,{"v":9101,"d":"9,101.0"},5,{"v":1699.4,"d":"1,699.4"},1,{"v":310227,"d":"310,227.0"},14,0,0,{"v":3107.9,"d":"3,107.9"},3,0,0,{"v":35291,"d":"35,291.0"},10,{"v":6164,"d":"6,164.0"},12]
["미평동",{"v":3089016.9,"d":"3,089,016.9"},{"v":2688,"d":"2,688"},{"v":142659,"d":"142,659.0"},329,{"v":97075,"d":"97,075.0"},235,0,0,0,0,{"v":1767325,"d":"1,767,325.0"},209,0,0,0,0,{"v":470726.1,"d":"470,726.1"},{"v":1169,"d":"1,169"},{"v":1501,"d":"1,501.0"},3,{"v":64631.1,"d":"64,631.1"},10,{"v":5010.8,"d":"5,010.8"},14,{"v":1804.2,"d":"1,804.2"},3,177.4,1,{"v":284889.4,"d":"284,889.4"},528,{"v":53203,"d":"53,203.0"},33,0,0,{"v":9529.4,"d":"9,529.4"},3,{"v":25651,"d":"25,651.0"},50,0,0,0,0,{"v":91230.5,"d":"91,230.5"},57,{"v":16700.4,"d":"16,700.4"},10,0,0,0,0,{"v":8992.4,"d":"8,992.4"},9,0,0,{"v":5712,"d":"5,712.0"},7,{"v":42199.2,"d":"42,199.2"},18]
["둔덕동",{"v":4076115.1,"d":"4,076,115.1"},{"v":2323,"d":"2,323"},{"v":178315,"d":"178,315.0"},288,{"v":425547,"d":"425,547.0"},481,0,0,0,0,{"v":2181263,"d":"2,181,263.0"},332,0,0,0,0,{"v":475434.9,"d":"475,434.9"},648,{"v":362,"d":"362.0"},1,{"v":722,"d":"722.0"},1,{"v":2599.7,"d":"2,599.7"},11,{"v":10143.9,"d":"10,143.9"},8,{"v":6380.7,"d":"6,380.7"},9,{"v":383843.6,"d":"383,843.6"},414,{"v":22933,"d":"22,933.0"},33,0,0,{"v":9119.1,"d":"9,119.1"},3,{"v":21254,"d":"21,254.0"},11,0,0,0,0,{"v":72838,"d":"72,838.0"},4,{"v":18073.4,"d":"18,073.4"},8,{"v":166279,"d":"166,279.0"},6,0,0,{"v":14763.3,"d":"14,763.3"},10,0,0,{"v":2675,"d":"2,675.0"},8,{"v":83568.5,"d":"83,568.5"},47]
["오천동",{"v":5624952.8,"d":"5,624,952.8"},{"v":1848,"d":"1,848"},{"v":459787,"d":"459,787.0"},546,{"v":231554,"d":"231,554.0"},299,0,0,0,0,{"v":4444894,"d":"4,444,894.0"},309,0,0,0,0,{"v":77559,"d":"77,559.0"},269,{"v":91590.6,"d":"91,590.6"},55,0,0,{"v":25,"d":"25.0"},1,0,0,{"v":288,"d":"288.0"},1,{"v":116641,"d":"116,641.0"},254,0,0,{"v":18477,"d":"18,477.0"},13,{"v":5346.3,"d":"5,346.3"},3,{"v":52699.9,"d":"52,699.9"},36,{"v":104581,"d":"104,581.0"},21,0,0,{"v":12219,"d":"12,219.0"},23,0,0,0,0,0,0,{"v":1566,"d":"1,566.0"},1,0,0,{"v":3628,"d":"3,628.0"},10,{"v":4097,"d":"4,097.0"},7]
["만흥동",{"v":7434343.5,"d":"7,434,343.5"},{"v":3919,"d":"3,919"},{"v":832481,"d":"832,481.0"},{"v":1042,"d":"1,042"},{"v":628408,"d":"628,408.0"},717,0,0,0,0,{"v":5048933,"d":"5,048,933.0"},685,0,0,0,0,{"v":137794,"d":"137,794.0"},414,{"v":45135,"d":"45,135.0"},22,{"v":11073,"d":"11,073.0"},1,{"v":2793,"d":"2,793.0"},3,{"v":1185,"d":"1,185.0"},3,{"v":3536,"d":"3,536.0"},7,{"v":367782.6,"d":"367,782.6"},732,{"v":107838,"d":"107,838.0"},71,{"v":927,"d":"927.0"},3,{"v":7761,"d":"7,761.0"},5,{"v":71514.9,"d":"71,514.9"},56,0,0,0,0,{"v":8882,"d":"8,882.0"},33,0,0,0,0,0,0,{"v":3841,"d":"3,841.0"},3,0,0,{"v":21068,"d":"21,068.0"},48,{"v":133391,"d":"133,391.0"},74]
["덕충동",{"v":2921780.3000000003,"d":"2,921,780.3"},{"v":3006,"d":"3,006"},{"v":351110,"d":"351,110.0"},709,{"v":71183,"d":"71,183.0"},146,0,0,0,0,{"v":1125311,"d":"1,125,311.0"},368,0,0,0,0,{"v":572085.2,"d":"572,085.2"},{"v":1044,"d":"1,044"},{"v":17722,"d":"17,722.0"},9,{"v":55772,"d":"55,772.0"},7,{"v":32177.8,"d":"32,177.8"},5,0,0,{"v":429,"d":"429.0"},2,{"v":250768.7,"d":"250,768.7"},460,{"v":63034,"d":"63,034.0"},108,{"v":12306.4,"d":"12,306.4"},6,{"v":6663.6,"d":"6,663.6"},1,{"v":21495,"d":"21,495.0"},22,0,0,0,0,{"v":9638.7,"d":"9,638.7"},13,{"v":128954.6,"d":"128,954.6"},26,{"v":400,"d":"400.0"},3,0,0,{"v":14477.8,"d":"14,477.8"},16,0,0,{"v":21363,"d":"21,363.0"},34,{"v":166888.5,"d":"166,888.5"},27]
["경호동",{"v":3082577.0000000005,"d":"3,082,577.0"},{"v":3896,"d":"3,896"},{"v":1125433,"d":"1,125,433.0"},{"v":1368,"d":"1,368"},{"v":158586,"d":"158,586.0"},264,0,0,0,0,{"v":1527349,"d":"1,527,349.0"},896,0,0,0,0,{"v":145262.7,"d":"145,262.7"},721,0,0,{"v":11350,"d":"11,350.0"},2,821.6,8,0,0,0,0,{"v":55796.1,"d":"55,796.1"},515,0,0,{"v":11391,"d":"11,391.0"},27,{"v":1220,"d":"1,220.0"},5,{"v":107,"d":"107.0"},1,{"v":2473,"d":"2,473.0"},2,{"v":1601,"d":"1,601.0"},1,0,0,{"v":7918.6,"d":"7,918.6"},11,0,0,0,0,{"v":1145,"d":"1,145.0"},2,0,0,{"v":12358,"d":"12,358.0"},27,{"v":19765,"d":"19,765.0"},46]
["학동",{"v":1429258.9000000001,"d":"1,429,258.9"},{"v":1768,"d":"1,768"},{"v":7488,"d":"7,488.0"},30,{"v":646,"d":"646.0"},8,0,0,0,0,{"v":79011.2,"d":"79,011.2"},34,0,0,0,0,{"v":802698.6,"d":"802,698.6"},{"v":1495,"d":"1,495"},0,0,{"v":23943,"d":"23,943.0"},2,{"v":10098.3,"d":"10,098.3"},15,{"v":2423,"d":"2,423.0"},4,{"v":299,"d":"299.0"},1,{"v":360485.9,"d":"360,485.9"},148,0,0,0,0,0,0,830.7,9,{"v":7506.5,"d":"7,506.5"},1,0,0,0,0,{"v":119956.8,"d":"119,956.8"},14,{"v":10945.6,"d":"10,945.6"},1,{"v":66,"d":"66.0"},1,{"v":1125,"d":"1,125.0"},1,0,0,0,0,{"v":1735.3,"d":"1,735.3"},4]
["학용동",{"v":966619,"d":"966,619.0"},574,{"v":129040,"d":"129,040.0"},235,{"v":11542,"d":"11,542.0"},26,{"v":3486,"d":"3,486.0"},3,0,0,{"v":672245,"d":"672,245.0"},145,0,0,0,0,{"v":2737,"d":"2,737.0"},6,0,0,0,0,0,0,{"v":3215,"d":"3,215.0"},3,0,0,{"v":21192,"d":"21,192.0"},35,{"v":73480,"d":"73,480.0"},71,0,0,{"v":5158,"d":"5,158.0"},12,{"v":3960,"d":"3,960.0"},9,0,0,0,0,{"v":20058,"d":"20,058.0"},3,{"v":2489,"d":"2,489.0"},5,0,0,0,0,0,0,0,0,{"v":18017,"d":"18,017.0"},21,0,0]
["안산동",{"v":1468379.8000000003,"d":"1,468,379.8"},{"v":1540,"d":"1,540"},{"v":53240,"d":"53,240.0"},124,{"v":23047,"d":"23,047.0"},46,0,0,0,0,{"v":523049.6,"d":"523,049.6"},156,0,0,0,0,{"v":587516.5,"d":"587,516.5"},{"v":1036,"d":"1,036"},0,0,{"v":38644.1,"d":"38,644.1"},4,{"v":2124.9,"d":"2,124.9"},5,440.2,2,{"v":363,"d":"363.0"},1,{"v":196504.1,"d":"196,504.1"},133,0,0,{"v":1296.4,"d":"1,296.4"},1,{"v":1060,"d":"1,060.0"},2,{"v":4498.8,"d":"4,498.8"},10,0,0,0,0,0,0,{"v":21255.1,"d":"21,255.1"},3,0,0,0,0,{"v":14502.1,"d":"14,502.1"},12,0,0,{"v":317,"d":"317.0"},2,{"v":521,"d":"521.0"},3]
["소호동",{"v":3301703.1999999993,"d":"3,301,703.2"},{"v":2299,"d":"2,299"},{"v":327322,"d":"327,322.0"},420,{"v":340750,"d":"340,750.0"},374,{"v":340,"d":"340.0"},1,0,0,{"v":1526891.4,"d":"1,526,891.4"},331,0,0,0,0,{"v":681777.5,"d":"681,777.5"},688,{"v":12954,"d":"12,954.0"},11,{"v":30757.4,"d":"30,757.4"},3,{"v":14374.8,"d":"14,374.8"},13,{"v":1526,"d":"1,526.0"},1,{"v":2480,"d":"2,480.0"},2,{"v":224912.1,"d":"224,912.1"},352,0,0,{"v":5785.8,"d":"5,785.8"},6,{"v":144,"d":"144.0"},2,{"v":17152,"d":"17,152.0"},10,{"v":4182,"d":"4,182.0"},3,0,0,0,0,{"v":4193,"d":"4,193.0"},2,0,0,{"v":49588.3,"d":"49,588.3"},1,{"v":6488,"d":"6,488.0"},6,0,0,{"v":15047,"d":"15,047.0"},33,{"v":35037.9,"d":"35,037.9"},40]
["시전동",{"v":1851919.4,"d":"1,851,919.4"},964,{"v":272258,"d":"272,258.0"},317,{"v":89758,"d":"89,758.0"},114,0,0,0,0,{"v":1206490,"d":"1,206,490.0"},318,0,0,0,0,{"v":38328.4,"d":"38,328.4"},58,0,0,0,0,0,0,{"v":3904,"d":"3,904.0"},4,0,0,{"v":41468,"d":"41,468.0"},93,0,0,0,0,{"v":177,"d":"177.0"},2,{"v":13583,"d":"13,583.0"},23,0,0,0,0,{"v":9,"d":"9.0"},1,0,0,{"v":157345,"d":"157,345.0"},4,0,0,{"v":13946,"d":"13,946.0"},3,0,0,{"v":8810,"d":"8,810.0"},22,{"v":5843,"d":"5,843.0"},5]
["신기동",{"v":984004,"d":"984,004.0"},{"v":1488,"d":"1,488"},0,0,0,0,0,0,0,0,{"v":43922.6,"d":"43,922.6"},15,0,0,0,0,{"v":615853.8,"d":"615,853.8"},{"v":1402,"d":"1,402"},0,0,{"v":34096.3,"d":"34,096.3"},2,{"v":2812,"d":"2,812.0"},10,661.2,1,0,0,{"v":261986.2,"d":"261,986.2"},42,0,0,0,0,0,0,0,0,0,0,0,0,0,0,{"v":19675.2,"d":"19,675.2"},11,0,0,0,0,{"v":4996.7,"d":"4,996.7"},5,0,0,0,0,0,0]
["웅천동",{"v":3422392.4000000004,"d":"3,422,392.4"},{"v":3841,"d":"3,841"},{"v":800327,"d":"800,327.0"},{"v":1030,"d":"1,030"},{"v":386914,"d":"386,914.0"},632,{"v":4119,"d":"4,119.0"},4,0,0,{"v":1169459,"d":"1,169,459.0"},621,0,0,0,0,{"v":430614.5,"d":"430,614.5"},844,0,0,{"v":30448.7,"d":"30,448.7"},2,{"v":22037.3,"d":"22,037.3"},10,0,0,{"v":350,"d":"350.0"},1,{"v":281731.1,"d":"281,731.1"},559,0,0,{"v":1881.6,"d":"1,881.6"},6,{"v":378,"d":"378.0"},2,{"v":35326,"d":"35,326.0"},16,{"v":22484,"d":"22,484.0"},30,0,0,{"v":3733.1,"d":"3,733.1"},12,{"v":155520.9,"d":"155,520.9"},29,0,0,0,0,{"v":1541,"d":"1,541.0"},2,0,0,{"v":15558,"d":"15,558.0"},29,{"v":59969.2,"d":"59,969.2"},12]
["선원동",{"v":2552238.3,"d":"2,552,238.3"},{"v":2823,"d":"2,823"},{"v":279286,"d":"279,286.0"},376,{"v":327487,"d":"327,487.0"},389,{"v":5341,"d":"5,341.0"},4,0,0,{"v":720399,"d":"720,399.0"},298,0,0,0,0,{"v":659164.2,"d":"659,164.2"},{"v":1349,"d":"1,349"},{"v":2149,"d":"2,149.0"},1,{"v":79321.7,"d":"79,321.7"},4,{"v":14013.8,"d":"14,013.8"},16,{"v":2654.1,"d":"2,654.1"},7,{"v":7924,"d":"7,924.0"},4,{"v":328823.4,"d":"328,823.4"},258,{"v":46158,"d":"46,158.0"},33,0,0,{"v":23299,"d":"23,299.0"},5,{"v":29266.8,"d":"29,266.8"},49,{"v":20,"d":"20.0"},1,0,0,0,0,{"v":5252,"d":"5,252.0"},5,0,0,0,0,{"v":10177.2,"d":"10,177.2"},6,0,0,{"v":8373,"d":"8,373.0"},13,{"v":3129.1,"d":"3,129.1"},5]
["여천동",{"v":2390634,"d":"2,390,634.0"},{"v":1897,"d":"1,897"},{"v":322359,"d":"322,359.0"},368,{"v":715338,"d":"715,338.0"},714,0,0,{"v":1905,"d":"1,905.0"},4,{"v":912524,"d":"912,524.0"},97,0,0,0,0,{"v":80143,"d":"80,143.0"},182,{"v":3097,"d":"3,097.0"},2,0,0,{"v":6568,"d":"6,568.0"},12,{"v":6626,"d":"6,626.0"},9,{"v":5314,"d":"5,314.0"},11,{"v":149642,"d":"149,642.0"},312,0,0,0,0,{"v":49578,"d":"49,578.0"},41,{"v":51312,"d":"51,312.0"},83,{"v":23868,"d":"23,868.0"},16,{"v":1016,"d":"1,016.0"},1,{"v":30576,"d":"30,576.0"},9,0,0,0,0,0,0,{"v":9967,"d":"9,967.0"},6,{"v":6450,"d":"6,450.0"},2,{"v":2113,"d":"2,113.0"},9,{"v":12238,"d":"12,238.0"},19]
["화장동",{"v":2588217.3000000003,"d":"2,588,217.3"},{"v":2707,"d":"2,707"},{"v":211979,"d":"211,979.0"},251,{"v":205911,"d":"205,911.0"},238,{"v":12103,"d":"12,103.0"},1,{"v":1758,"d":"1,758.0"},2,{"v":839054.5,"d":"839,054.5"},210,0,0,0,0,{"v":579342.6,"d":"579,342.6"},{"v":1653,"d":"1,653"},0,0,{"v":83225.7,"d":"83,225.7"},4,{"v":20608.1,"d":"20,608.1"},20,{"v":5317.7,"d":"5,317.7"},3,{"v":2156,"d":"2,156.0"},3,{"v":386809,"d":"386,809.0"},220,{"v":28780,"d":"28,780.0"},22,0,0,{"v":14754,"d":"14,754.0"},7,{"v":9251.1,"d":"9,251.1"},32,0,0,0,0,{"v":2005,"d":"2,005.0"},4,{"v":171055.4,"d":"171,055.4"},22,0,0,0,0,490.2,2,0,0,{"v":4377,"d":"4,377.0"},6,{"v":9240,"d":"9,240.0"},7]
["주삼동",{"v":3678263.4,"d":"3,678,263.4"},{"v":3228,"d":"3,228"},{"v":424542,"d":"424,542.0"},480,{"v":995544,"d":"995,544.0"},940,0,0,{"v":3794,"d":"3,794.0"},6,{"v":1342143,"d":"1,342,143.0"},364,0,0,0,0,{"v":178356,"d":"178,356.0"},371,{"v":118934,"d":"118,934.0"},43,{"v":22025,"d":"22,025.0"},2,{"v":16336,"d":"16,336.0"},8,{"v":13248,"d":"13,248.0"},8,{"v":2222,"d":"2,222.0"},5,{"v":382702.8,"d":"382,702.8"},848,{"v":11899,"d":"11,899.0"},14,{"v":4129,"d":"4,129.0"},7,{"v":10347,"d":"10,347.0"},9,{"v":83853,"d":"83,853.0"},56,{"v":4734,"d":"4,734.0"},9,0,0,0,0,0,0,{"v":6682,"d":"6,682.0"},1,0,0,0,0,0,0,{"v":7583,"d":"7,583.0"},5,{"v":49189.6,"d":"49,189.6"},52]
["봉계동",{"v":5348415,"d":"5,348,415.0"},{"v":2665,"d":"2,665"},{"v":361828,"d":"361,828.0"},473,{"v":375494,"d":"375,494.0"},412,0,0,{"v":993,"d":"993.0"},1,{"v":3292902,"d":"3,292,902.0"},510,0,0,0,0,{"v":301879,"d":"301,879.0"},414,{"v":10163,"d":"10,163.0"},5,{"v":62850,"d":"62,850.0"},1,{"v":5386,"d":"5,386.0"},5,{"v":5879,"d":"5,879.0"},7,{"v":8281,"d":"8,281.0"},15,{"v":211889,"d":"211,889.0"},678,0,0,{"v":536,"d":"536.0"},1,{"v":5447,"d":"5,447.0"},8,{"v":68612,"d":"68,612.0"},51,{"v":92036,"d":"92,036.0"},35,0,0,0,0,0,0,{"v":508106,"d":"508,106.0"},1,0,0,{"v":9549,"d":"9,549.0"},7,0,0,{"v":1452,"d":"1,452.0"},3,{"v":25133,"d":"25,133.0"},38]
["해산동",{"v":2501433,"d":"2,501,433.0"},{"v":2660,"d":"2,660"},{"v":293204,"d":"293,204.0"},439,{"v":674902.4,"d":"674,902.4"},748,{"v":3307,"d":"3,307.0"},1,{"v":1746,"d":"1,746.0"},3,{"v":844762,"d":"844,762.0"},237,0,0,0,0,{"v":90586.7,"d":"90,586.7"},209,{"v":1380,"d":"1,380.0"},1,0,0,{"v":4614,"d":"4,614.0"},4,{"v":7963,"d":"7,963.0"},12,{"v":5300,"d":"5,300.0"},6,{"v":321577.7,"d":"321,577.7"},693,{"v":48430.2,"d":"48,430.2"},64,{"v":4536,"d":"4,536.0"},3,{"v":93230,"d":"93,230.0"},41,{"v":49375,"d":"49,375.0"},124,{"v":23174,"d":"23,174.0"},14,0,0,{"v":3567,"d":"3,567.0"},7,0,0,0,0,0,0,0,0,0,0,{"v":2891,"d":"2,891.0"},10,{"v":26887,"d":"26,887.0"},44]
["화치동",{"v":5909274.2,"d":"5,909,274.2"},876,{"v":108739,"d":"108,739.0"},100,{"v":129529.5,"d":"129,529.5"},128,0,0,0,0,{"v":1627953.6,"d":"1,627,953.6"},253,0,0,0,0,{"v":180722.9,"d":"180,722.9"},42,{"v":2960876.7,"d":"2,960,876.7"},148,0,0,{"v":3683,"d":"3,683.0"},1,769.9,1,{"v":11159.4,"d":"11,159.4"},2,{"v":379397.2,"d":"379,397.2"},74,{"v":4905,"d":"4,905.0"},4,{"v":15948.8,"d":"15,948.8"},13,{"v":349539.6,"d":"349,539.6"},13,{"v":27892.6,"d":"27,892.6"},52,{"v":2313,"d":"2,313.0"},5,0,0,{"v":13143,"d":"13,143.0"},10,0,0,0,0,0,0,0,0,0,0,{"v":11217,"d":"11,217.0"},3,{"v":81484,"d":"81,484.0"},27]
["월하동",{"v":2833857.4,"d":"2,833,857.4"},616,{"v":33732,"d":"33,732.0"},58,{"v":6152,"d":"6,152.0"},18,0,0,0,0,{"v":782238.3,"d":"782,238.3"},80,0,0,0,0,{"v":59451.8,"d":"59,451.8"},47,{"v":1491409.6,"d":"1,491,409.6"},76,0,0,999.9,1,{"v":3085,"d":"3,085.0"},10,{"v":4004,"d":"4,004.0"},2,{"v":253147.5,"d":"253,147.5"},229,{"v":29456,"d":"29,456.0"},6,0,0,{"v":44367,"d":"44,367.0"},13,{"v":29379.9,"d":"29,379.9"},25,0,0,0,0,{"v":7282,"d":"7,282.0"},2,0,0,0,0,0,0,0,0,0,0,0,0,{"v":89152.4,"d":"89,152.4"},49]
["평여동",{"v":6851431.4,"d":"6,851,431.4"},719,{"v":42045,"d":"42,045.0"},61,{"v":28288,"d":"28,288.0"},59,0,0,0,0,{"v":4317786.1,"d":"4,317,786.1"},316,0,0,0,0,{"v":16392.7,"d":"16,392.7"},32,{"v":1860078.2,"d":"1,860,078.2"},47,0,0,0,0,{"v":2739,"d":"2,739.0"},2,0,0,{"v":250447,"d":"250,447.0"},73,{"v":69282,"d":"69,282.0"},13,0,0,{"v":52523.4,"d":"52,523.4"},13,{"v":33233.8,"d":"33,233.8"},24,{"v":64841,"d":"64,841.0"},30,0,0,{"v":28134,"d":"28,134.0"},4,{"v":4556.2,"d":"4,556.2"},1,0,0,0,0,0,0,0,0,{"v":24,"d":"24.0"},1,{"v":81061,"d":"81,061.0"},43]
["중흥동",{"v":10557703.4,"d":"10,557,703.4"},{"v":2830,"d":"2,830"},{"v":190101,"d":"190,101.0"},388,{"v":102085,"d":"102,085.0"},197,{"v":8766,"d":"8,766.0"},3,{"v":250,"d":"250.0"},1,{"v":5873394.4,"d":"5,873,394.4"},442,0,0,0,0,{"v":416450.7,"d":"416,450.7"},655,{"v":2774231.4,"d":"2,774,231.4"},150,{"v":27075,"d":"27,075.0"},6,{"v":4867.8,"d":"4,867.8"},2,{"v":9239,"d":"9,239.0"},7,{"v":5826,"d":"5,826.0"},3,{"v":450640.5,"d":"450,640.5"},598,{"v":94802,"d":"94,802.0"},99,{"v":15591.9,"d":"15,591.9"},11,{"v":109471,"d":"109,471.0"},54,{"v":30519,"d":"30,519.0"},41,{"v":10299,"d":"10,299.0"},14,0,0,{"v":10112.2,"d":"10,112.2"},7,{"v":2216.8,"d":"2,216.8"},1,{"v":1544,"d":"1,544.0"},2,0,0,{"v":29235,"d":"29,235.0"},16,0,0,{"v":24262,"d":"24,262.0"},18,{"v":366723.7,"d":"366,723.7"},115]
["적량동",{"v":4922794,"d":"4,922,794.0"},{"v":1175,"d":"1,175"},{"v":271545,"d":"271,545.0"},290,{"v":184490,"d":"184,490.0"},228,{"v":5808,"d":"5,808.0"},3,0,0,{"v":2181333.8,"d":"2,181,333.8"},315,0,0,0,0,{"v":18697,"d":"18,697.0"},62,{"v":1956874,"d":"1,956,874.0"},38,{"v":9924,"d":"9,924.0"},2,0,0,0,0,0,0,{"v":120166,"d":"120,166.0"},103,{"v":29159,"d":"29,159.0"},14,{"v":5315.7,"d":"5,315.7"},2,{"v":25378,"d":"25,378.0"},15,{"v":25658.7,"d":"25,658.7"},23,{"v":42003,"d":"42,003.0"},37,0,0,0,0,0,0,0,0,0,0,{"v":290,"d":"290.0"},1,0,0,{"v":3358,"d":"3,358.0"},5,{"v":42793.8,"d":"42,793.8"},37]
["월내동",{"v":5490316.9,"d":"5,490,316.9"},{"v":1194,"d":"1,194"},{"v":208839,"d":"208,839.0"},207,{"v":185570,"d":"185,570.0"},202,0,0,0,0,{"v":2169828.9,"d":"2,169,828.9"},272,0,0,0,0,{"v":105304,"d":"105,304.0"},24,{"v":1883537.6,"d":"1,883,537.6"},51,{"v":1103,"d":"1,103.0"},1,0,0,0,0,0,0,{"v":191450.2,"d":"191,450.2"},171,{"v":44995,"d":"44,995.0"},54,{"v":14333,"d":"14,333.0"},7,{"v":10172,"d":"10,172.0"},23,{"v":37258.4,"d":"37,258.4"},54,{"v":11926,"d":"11,926.0"},15,0,0,0,0,0,0,0,0,0,0,0,0,0,0,{"v":3705,"d":"3,705.0"},18,{"v":622294.8,"d":"622,294.8"},95]
["묘도동",{"v":11515440.6,"d":"11,515,440.6"},{"v":5824,"d":"5,824"},{"v":1323015,"d":"1,323,015.0"},{"v":1328,"d":"1,328"},{"v":935425,"d":"935,425.0"},{"v":1081,"d":"1,081"},{"v":3155,"d":"3,155.0"},3,{"v":1592,"d":"1,592.0"},4,{"v":5653600,"d":"5,653,600.0"},{"v":1680,"d":"1,680"},0,0,0,0,{"v":180663,"d":"180,663.0"},663,0,0,{"v":18801,"d":"18,801.0"},4,{"v":28,"d":"28.0"},1,{"v":589,"d":"589.0"},1,{"v":3651,"d":"3,651.0"},6,{"v":137561,"d":"137,561.0"},895,0,0,{"v":113398.6,"d":"113,398.6"},13,{"v":15454,"d":"15,454.0"},2,{"v":63958,"d":"63,958.0"},27,{"v":22036,"d":"22,036.0"},27,0,0,0,0,0,0,0,0,0,0,{"v":3681,"d":"3,681.0"},2,0,0,{"v":29108,"d":"29,108.0"},39,{"v":3009725,"d":"3,009,725.0"},48]
["낙포동",{"v":8403883.1,"d":"8,403,883.1"},{"v":1834,"d":"1,834"},{"v":343422,"d":"343,422.0"},386,{"v":164211,"d":"164,211.0"},216,0,0,0,0,{"v":4611110.6,"d":"4,611,110.6"},365,0,0,0,0,{"v":119017.4,"d":"119,017.4"},40,{"v":1103012.4,"d":"1,103,012.4"},192,0,0,0,0,{"v":180944.8,"d":"180,944.8"},18,0,0,{"v":300375.8,"d":"300,375.8"},197,{"v":2969,"d":"2,969.0"},1,{"v":55471,"d":"55,471.0"},31,{"v":101731,"d":"101,731.0"},33,{"v":21570,"d":"21,570.0"},50,{"v":8417,"d":"8,417.0"},1,0,0,{"v":6417.5,"d":"6,417.5"},5,0,0,0,0,0,0,{"v":264,"d":"264.0"},1,0,0,{"v":3588,"d":"3,588.0"},10,{"v":1381361.6,"d":"1,381,361.6"},288]
["신덕동",{"v":5668176.4,"d":"5,668,176.4"},{"v":1815,"d":"1,815"},{"v":254426,"d":"254,426.0"},364,{"v":172515,"d":"172,515.0"},240,{"v":11302,"d":"11,302.0"},4,0,0,{"v":4560715,"d":"4,560,715.0"},403,0,0,0,0,{"v":65526,"d":"65,526.0"},250,0,0,{"v":4555,"d":"4,555.0"},1,{"v":2843,"d":"2,843.0"},2,{"v":141181.2,"d":"141,181.2"},2,0,0,{"v":242164.4,"d":"242,164.4"},462,0,0,{"v":1518.1,"d":"1,518.1"},2,{"v":51435,"d":"51,435.0"},33,{"v":1084,"d":"1,084.0"},5,{"v":7634,"d":"7,634.0"},17,0,0,0,0,{"v":2677.7,"d":"2,677.7"},3,0,0,0,0,{"v":1185,"d":"1,185.0"},1,0,0,{"v":6720,"d":"6,720.0"},11,{"v":140695,"d":"140,695.0"},15]
["상암동",{"v":6715329,"d":"6,715,329.0"},{"v":4322,"d":"4,322"},{"v":710149,"d":"710,149.0"},840,{"v":1135795,"d":"1,135,795.0"},{"v":1240,"d":"1,240"},{"v":2815,"d":"2,815.0"},3,0,0,{"v":4209198,"d":"4,209,198.0"},410,0,0,0,0,{"v":216780,"d":"216,780.0"},582,{"v":6181,"d":"6,181.0"},7,{"v":19951,"d":"19,951.0"},2,{"v":4614,"d":"4,614.0"},9,{"v":3690,"d":"3,690.0"},3,{"v":1511,"d":"1,511.0"},4,{"v":198306,"d":"198,306.0"},998,0,0,{"v":149,"d":"149.0"},1,{"v":78697,"d":"78,697.0"},65,{"v":55493,"d":"55,493.0"},52,{"v":28805,"d":"28,805.0"},39,0,0,0,0,0,0,0,0,0,0,{"v":3487,"d":"3,487.0"},7,0,0,{"v":11711,"d":"11,711.0"},22,{"v":27997,"d":"27,997.0"},38]
["호명동",{"v":10859013,"d":"10,859,013.0"},{"v":3804,"d":"3,804"},{"v":682902,"d":"682,902.0"},763,{"v":1080004,"d":"1,080,004.0"},{"v":1007,"d":"1,007"},{"v":7648,"d":"7,648.0"},1,{"v":7221,"d":"7,221.0"},4,{"v":8417886,"d":"8,417,886.0"},665,0,0,0,0,{"v":170391,"d":"170,391.0"},376,0,0,0,0,0,0,{"v":2457,"d":"2,457.0"},5,{"v":1322,"d":"1,322.0"},1,{"v":269852,"d":"269,852.0"},825,0,0,0,0,{"v":79117,"d":"79,117.0"},65,{"v":70219,"d":"70,219.0"},25,{"v":25005,"d":"25,005.0"},29,0,0,0,0,0,0,0,0,0,0,{"v":2634,"d":"2,634.0"},3,0,0,{"v":22113,"d":"22,113.0"},20,{"v":20242,"d":"20,242.0"},15]
["돌산읍 군내리",{"v":3829862,"d":"3,829,862.0"},{"v":3521,"d":"3,521"},{"v":1071186,"d":"1,071,186.0"},{"v":1301,"d":"1,301"},{"v":68824,"d":"68,824.0"},137,{"v":3389,"d":"3,389.0"},2,0,0,{"v":2255085,"d":"2,255,085.0"},643,0,0,0,0,{"v":134136,"d":"134,136.0"},732,{"v":3276,"d":"3,276.0"},3,{"v":50877,"d":"50,877.0"},9,0,0,{"v":947,"d":"947.0"},4,{"v":840,"d":"840.0"},4,{"v":114207,"d":"114,207.0"},444,0,0,{"v":3736,"d":"3,736.0"},19,{"v":3154,"d":"3,154.0"},4,{"v":33389,"d":"33,389.0"},48,{"v":4553,"d":"4,553.0"},13,{"v":18436,"d":"18,436.0"},7,0,0,0,0,0,0,0,0,{"v":6538,"d":"6,538.0"},10,{"v":883,"d":"883.0"},4,{"v":19273,"d":"19,273.0"},39,{"v":37133,"d":"37,133.0"},98]
["돌산읍 신복리",{"v":8278753.4,"d":"8,278,753.4"},{"v":4199,"d":"4,199"},{"v":1003284,"d":"1,003,284.0"},911,{"v":607213,"d":"607,213.0"},750,0,0,{"v":16201,"d":"16,201.0"},8,{"v":5963184,"d":"5,963,184.0"},759,0,0,0,0,{"v":113366,"d":"113,366.0"},494,{"v":10525,"d":"10,525.0"},5,{"v":11467,"d":"11,467.0"},1,0,0,0,0,{"v":5694,"d":"5,694.0"},11,{"v":170821.7,"d":"170,821.7"},858,0,0,{"v":23510.9,"d":"23,510.9"},38,{"v":3568,"d":"3,568.0"},16,{"v":73212,"d":"73,212.0"},79,{"v":113200,"d":"113,200.0"},160,{"v":37282,"d":"37,282.0"},19,{"v":99,"d":"99.0"},1,0,0,0,0,0,0,{"v":7667,"d":"7,667.0"},4,0,0,{"v":66315,"d":"66,315.0"},22,{"v":52143.8,"d":"52,143.8"},63]
["돌산읍 금성리",{"v":5508147,"d":"5,508,147.0"},{"v":2430,"d":"2,430"},{"v":836079,"d":"836,079.0"},871,{"v":55012,"d":"55,012.0"},132,0,0,0,0,{"v":4330530,"d":"4,330,530.0"},608,0,0,0,0,{"v":79434,"d":"79,434.0"},343,0,0,{"v":6963,"d":"6,963.0"},1,0,0,0,0,{"v":740,"d":"740.0"},2,{"v":151455,"d":"151,455.0"},400,0,0,{"v":2067,"d":"2,067.0"},5,{"v":1852,"d":"1,852.0"},11,{"v":14698,"d":"14,698.0"},10,{"v":149,"d":"149.0"},1,{"v":3627,"d":"3,627.0"},6,0,0,0,0,0,0,0,0,{"v":796,"d":"796.0"},2,0,0,{"v":7022,"d":"7,022.0"},12,{"v":17723,"d":"17,723.0"},26]
["돌산읍 율림리",{"v":7064808,"d":"7,064,808.0"},{"v":2980,"d":"2,980"},{"v":760890,"d":"760,890.0"},887,{"v":69585,"d":"69,585.0"},132,0,0,{"v":1140,"d":"1,140.0"},1,{"v":5739631,"d":"5,739,631.0"},701,0,0,0,0,{"v":124390,"d":"124,390.0"},410,0,0,{"v":6136,"d":"6,136.0"},8,{"v":435,"d":"435.0"},2,{"v":796,"d":"796.0"},1,{"v":6325,"d":"6,325.0"},5,{"v":216877,"d":"216,877.0"},726,0,0,{"v":1292,"d":"1,292.0"},4,{"v":442,"d":"442.0"},7,{"v":51592,"d":"51,592.0"},38,0,0,{"v":23086,"d":"23,086.0"},6,0,0,0,0,0,0,0,0,{"v":860,"d":"860.0"},2,0,0,{"v":8182,"d":"8,182.0"},9,{"v":53149,"d":"53,149.0"},41]
["돌산읍 죽포리",{"v":5934440,"d":"5,934,440.0"},{"v":4918,"d":"4,918"},{"v":1069778,"d":"1,069,778.0"},{"v":1236,"d":"1,236"},{"v":795109,"d":"795,109.0"},{"v":1066,"d":"1,066"},0,0,{"v":11612,"d":"11,612.0"},3,{"v":3514080,"d":"3,514,080.0"},519,0,0,0,0,{"v":174416,"d":"174,416.0"},621,{"v":3760,"d":"3,760.0"},2,{"v":16300,"d":"16,300.0"},3,0,0,{"v":1221,"d":"1,221.0"},4,{"v":5017,"d":"5,017.0"},10,{"v":172475,"d":"172,475.0"},{"v":1187,"d":"1,187"},0,0,{"v":4534,"d":"4,534.0"},12,{"v":14195,"d":"14,195.0"},9,{"v":72158,"d":"72,158.0"},134,{"v":2083,"d":"2,083.0"},2,{"v":4713,"d":"4,713.0"},5,0,0,0,0,0,0,0,0,{"v":1781,"d":"1,781.0"},2,0,0,{"v":25252,"d":"25,252.0"},51,{"v":45956,"d":"45,956.0"},52]
["돌산읍 서덕리",{"v":4661900,"d":"4,661,900.0"},{"v":3253,"d":"3,253"},{"v":734021,"d":"734,021.0"},851,{"v":492849,"d":"492,849.0"},718,0,0,{"v":119707,"d":"119,707.0"},12,{"v":2954588,"d":"2,954,588.0"},573,0,0,0,0,{"v":64623,"d":"64,623.0"},261,{"v":2118,"d":"2,118.0"},1,0,0,0,0,0,0,{"v":1020,"d":"1,020.0"},2,{"v":69794,"d":"69,794.0"},585,0,0,{"v":25372,"d":"25,372.0"},69,{"v":105,"d":"105.0"},4,{"v":39026,"d":"39,026.0"},69,{"v":125530,"d":"125,530.0"},61,0,0,{"v":734,"d":"734.0"},1,0,0,0,0,0,0,{"v":632,"d":"632.0"},2,0,0,{"v":25844,"d":"25,844.0"},28,{"v":5937,"d":"5,937.0"},16]
["돌산읍 금봉리",{"v":8262721,"d":"8,262,721.0"},{"v":5101,"d":"5,101"},{"v":1255510,"d":"1,255,510.0"},{"v":1345,"d":"1,345"},{"v":760093,"d":"760,093.0"},976,{"v":5767,"d":"5,767.0"},4,{"v":10002,"d":"10,002.0"},2,{"v":5662803,"d":"5,662,803.0"},973,0,0,0,0,{"v":163508,"d":"163,508.0"},521,{"v":5255,"d":"5,255.0"},6,{"v":3285,"d":"3,285.0"},5,0,0,0,0,{"v":4720,"d":"4,720.0"},10,{"v":167236,"d":"167,236.0"},876,0,0,{"v":2744,"d":"2,744.0"},4,{"v":771,"d":"771.0"},9,{"v":83341,"d":"83,341.0"},64,{"v":15733,"d":"15,733.0"},36,{"v":21622,"d":"21,622.0"},14,0,0,0,0,0,0,0,0,{"v":3791,"d":"3,791.0"},4,0,0,{"v":26883,"d":"26,883.0"},27,{"v":69657,"d":"69,657.0"},225]
["돌산읍 둔전리",{"v":5390743.2,"d":"5,390,743.2"},{"v":3731,"d":"3,731"},{"v":684072,"d":"684,072.0"},830,{"v":913730,"d":"913,730.0"},872,{"v":6852,"d":"6,852.0"},2,{"v":33087,"d":"33,087.0"},10,{"v":3270817,"d":"3,270,817.0"},599,0,0,0,0,{"v":108253,"d":"108,253.0"},327,{"v":4188,"d":"4,188.0"},3,{"v":26614,"d":"26,614.0"},9,0,0,0,0,{"v":2748,"d":"2,748.0"},8,{"v":173249.9,"d":"173,249.9"},896,0,0,0,0,{"v":545,"d":"545.0"},3,{"v":113591.2,"d":"113,591.2"},93,{"v":27550,"d":"27,550.0"},36,{"v":3253.1,"d":"3,253.1"},4,0,0,0,0,0,0,0,0,{"v":980,"d":"980.0"},2,0,0,{"v":5621,"d":"5,621.0"},16,{"v":15592,"d":"15,592.0"},21]
["돌산읍 평사리",{"v":15228758.9,"d":"15,228,758.9"},{"v":8209,"d":"8,209"},{"v":1796685,"d":"1,796,685.0"},{"v":1840,"d":"1,840"},{"v":740804.2,"d":"740,804.2"},963,{"v":75756,"d":"75,756.0"},14,{"v":813335,"d":"813,335.0"},26,{"v":10484450,"d":"10,484,450.0"},{"v":2003,"d":"2,003"},0,0,0,0,{"v":362179,"d":"362,179.0"},970,{"v":9434,"d":"9,434.0"},15,{"v":13092,"d":"13,092.0"},3,{"v":2297,"d":"2,297.0"},6,{"v":2939,"d":"2,939.0"},4,{"v":8523,"d":"8,523.0"},15,{"v":493404,"d":"493,404.0"},{"v":1857,"d":"1,857"},0,0,{"v":18673,"d":"18,673.0"},24,{"v":34879.3,"d":"34,879.3"},24,{"v":58965.8,"d":"58,965.8"},117,{"v":116024,"d":"116,024.0"},19,0,0,0,0,0,0,0,0,{"v":38544.6,"d":"38,544.6"},1,{"v":19021,"d":"19,021.0"},10,0,0,{"v":26916,"d":"26,916.0"},26,{"v":112837,"d":"112,837.0"},272]
["돌산읍 우두리",{"v":7762177.1,"d":"7,762,177.1"},{"v":6897,"d":"6,897"},{"v":1288874.7,"d":"1,288,874.7"},{"v":1400,"d":"1,400"},{"v":510600,"d":"510,600.0"},631,{"v":3347,"d":"3,347.0"},3,{"v":2124,"d":"2,124.0"},2,{"v":4006684,"d":"4,006,684.0"},{"v":1534,"d":"1,534"},0,0,0,0,{"v":874351.9,"d":"874,351.9"},{"v":2313,"d":"2,313"},{"v":16882,"d":"16,882.0"},14,{"v":37447.5,"d":"37,447.5"},4,{"v":4358.6,"d":"4,358.6"},5,{"v":1981,"d":"1,981.0"},4,{"v":12489.6,"d":"12,489.6"},16,{"v":514508.1,"d":"514,508.1"},630,0,0,{"v":12894.4,"d":"12,894.4"},16,0,0,{"v":36651,"d":"36,651.0"},37,{"v":22150,"d":"22,150.0"},24,{"v":6892,"d":"6,892.0"},7,0,0,{"v":56646.3,"d":"56,646.3"},12,0,0,{"v":175596,"d":"175,596.0"},1,{"v":16061.8,"d":"16,061.8"},10,0,0,{"v":8479,"d":"8,479.0"},21,{"v":153158.2,"d":"153,158.2"},213]
["소라면 덕양리",{"v":6256493.3,"d":"6,256,493.3"},{"v":5486,"d":"5,486"},{"v":873106,"d":"873,106.0"},{"v":1240,"d":"1,240"},{"v":906221.8,"d":"906,221.8"},{"v":1062,"d":"1,062"},0,0,{"v":5926,"d":"5,926.0"},12,{"v":3194021,"d":"3,194,021.0"},530,0,0,0,0,{"v":365254,"d":"365,254.0"},{"v":1238,"d":"1,238"},{"v":10468,"d":"10,468.0"},6,{"v":35902,"d":"35,902.0"},8,{"v":5398,"d":"5,398.0"},7,{"v":12478,"d":"12,478.0"},16,{"v":14582,"d":"14,582.0"},18,{"v":415590.7,"d":"415,590.7"},{"v":1030,"d":"1,030"},{"v":64766,"d":"64,766.0"},32,{"v":7630,"d":"7,630.0"},3,{"v":124055,"d":"124,055.0"},26,{"v":120189.8,"d":"120,189.8"},127,{"v":21372,"d":"21,372.0"},1,0,0,{"v":3552,"d":"3,552.0"},25,{"v":1111,"d":"1,111.0"},1,0,0,0,0,{"v":7592,"d":"7,592.0"},11,0,0,{"v":11159,"d":"11,159.0"},14,{"v":56119,"d":"56,119.0"},79]
["소라면 죽림리",{"v":4051514.8,"d":"4,051,514.8"},{"v":3363,"d":"3,363"},{"v":518570,"d":"518,570.0"},723,{"v":586873.8,"d":"586,873.8"},696,{"v":1653,"d":"1,653.0"},5,{"v":6724,"d":"6,724.0"},3,{"v":1735829,"d":"1,735,829.0"},920,0,0,0,0,{"v":366949.1,"d":"366,949.1"},478,{"v":229,"d":"229.0"},1,{"v":19658.7,"d":"19,658.7"},2,{"v":7168.1,"d":"7,168.1"},11,675.7,1,{"v":200,"d":"200.0"},1,{"v":309146.5,"d":"309,146.5"},382,0,0,0,0,{"v":14425,"d":"14,425.0"},8,{"v":39893.8,"d":"39,893.8"},24,{"v":263646,"d":"263,646.0"},18,0,0,0,0,{"v":144569.8,"d":"144,569.8"},51,{"v":6110,"d":"6,110.0"},8,0,0,{"v":6224.3,"d":"6,224.3"},3,0,0,{"v":13542,"d":"13,542.0"},21,{"v":9427,"d":"9,427.0"},7]
["소라면 관기리",{"v":4106636.9,"d":"4,106,636.9"},{"v":4063,"d":"4,063"},{"v":625952.2,"d":"625,952.2"},803,{"v":1809874.7,"d":"1,809,874.7"},{"v":1489,"d":"1,489"},0,0,0,0,{"v":1118100,"d":"1,118,100.0"},715,0,0,0,0,{"v":128547,"d":"128,547.0"},339,0,0,{"v":10598,"d":"10,598.0"},2,{"v":3451,"d":"3,451.0"},3,{"v":3407,"d":"3,407.0"},2,{"v":2230,"d":"2,230.0"},3,{"v":191189.4,"d":"191,189.4"},583,0,0,{"v":8113.4,"d":"8,113.4"},3,{"v":63689.5,"d":"63,689.5"},18,{"v":99370.7,"d":"99,370.7"},67,{"v":14736,"d":"14,736.0"},1,0,0,0,0,0,0,0,0,0,0,{"v":2112,"d":"2,112.0"},2,0,0,{"v":14832,"d":"14,832.0"},25,{"v":10434,"d":"10,434.0"},8]
["소라면 현천리",{"v":5576890.600000001,"d":"5,576,890.6"},{"v":2991,"d":"2,991"},{"v":757195,"d":"757,195.0"},759,{"v":1257972.4,"d":"1,257,972.4"},734,0,0,{"v":9881,"d":"9,881.0"},11,{"v":2770972,"d":"2,770,972.0"},478,0,0,0,0,{"v":171671,"d":"171,671.0"},332,{"v":2736,"d":"2,736.0"},2,{"v":9141,"d":"9,141.0"},1,0,0,0,0,{"v":3790,"d":"3,790.0"},10,{"v":184875.2,"d":"184,875.2"},508,0,0,{"v":19477.2,"d":"19,477.2"},7,{"v":38076,"d":"38,076.0"},8,{"v":107108.2,"d":"107,108.2"},81,{"v":211411.6,"d":"211,411.6"},9,0,0,0,0,0,0,0,0,0,0,{"v":2258,"d":"2,258.0"},5,0,0,{"v":14807,"d":"14,807.0"},17,{"v":15519,"d":"15,519.0"},29]
["소라면 복산리",{"v":10087580.4,"d":"10,087,580.4"},{"v":6085,"d":"6,085"},{"v":1650818,"d":"1,650,818.0"},{"v":1553,"d":"1,553"},{"v":1416254.9,"d":"1,416,254.9"},{"v":1153,"d":"1,153"},{"v":22480,"d":"22,480.0"},3,{"v":89388,"d":"89,388.0"},35,{"v":5712549,"d":"5,712,549.0"},{"v":1184,"d":"1,184"},0,0,0,0,{"v":237545,"d":"237,545.0"},563,{"v":20996,"d":"20,996.0"},7,{"v":14027,"d":"14,027.0"},2,{"v":10816,"d":"10,816.0"},11,{"v":4120,"d":"4,120.0"},3,{"v":18407,"d":"18,407.0"},18,{"v":427243.1,"d":"427,243.1"},{"v":1256,"d":"1,256"},0,0,{"v":11412,"d":"11,412.0"},16,{"v":52341,"d":"52,341.0"},1,{"v":158626.4,"d":"158,626.4"},104,{"v":114331,"d":"114,331.0"},62,{"v":1375,"d":"1,375.0"},1,0,0,0,0,0,0,0,0,{"v":4486,"d":"4,486.0"},6,0,0,{"v":55922,"d":"55,922.0"},53,{"v":64443,"d":"64,443.0"},54]
["소라면 사곡리",{"v":6381070,"d":"6,381,070.0"},{"v":3482,"d":"3,482"},{"v":1014806,"d":"1,014,806.0"},988,{"v":487462,"d":"487,462.0"},603,0,0,{"v":42091,"d":"42,091.0"},22,{"v":4243704,"d":"4,243,704.0"},648,0,0,0,0,{"v":157644,"d":"157,644.0"},409,{"v":2082,"d":"2,082.0"},2,{"v":6591,"d":"6,591.0"},1,{"v":1096,"d":"1,096.0"},2,{"v":2599,"d":"2,599.0"},4,{"v":1621,"d":"1,621.0"},4,{"v":273923,"d":"273,923.0"},682,0,0,{"v":3338,"d":"3,338.0"},6,0,0,{"v":91805,"d":"91,805.0"},44,{"v":19679,"d":"19,679.0"},22,0,0,0,0,0,0,0,0,0,0,{"v":821,"d":"821.0"},2,0,0,{"v":9582,"d":"9,582.0"},12,{"v":22226,"d":"22,226.0"},31]
["소라면 봉두리",{"v":13498860,"d":"13,498,860.0"},{"v":3412,"d":"3,412"},{"v":668993,"d":"668,993.0"},637,{"v":833659,"d":"833,659.0"},750,{"v":11874,"d":"11,874.0"},4,{"v":6946,"d":"6,946.0"},7,{"v":11089041,"d":"11,089,041.0"},852,0,0,0,0,{"v":105559,"d":"105,559.0"},278,{"v":10965,"d":"10,965.0"},4,{"v":6193,"d":"6,193.0"},1,{"v":1445,"d":"1,445.0"},3,0,0,{"v":5331,"d":"5,331.0"},11,{"v":230527,"d":"230,527.0"},684,0,0,0,0,{"v":116321,"d":"116,321.0"},10,{"v":99855,"d":"99,855.0"},78,{"v":41516,"d":"41,516.0"},11,0,0,0,0,0,0,0,0,0,0,{"v":1154,"d":"1,154.0"},3,0,0,{"v":221487,"d":"221,487.0"},27,{"v":47994,"d":"47,994.0"},52]
["소라면 대포리",{"v":10603295.200000001,"d":"10,603,295.2"},{"v":5728,"d":"5,728"},{"v":746679,"d":"746,679.0"},{"v":1165,"d":"1,165"},{"v":2444020.8,"d":"2,444,020.8"},{"v":1707,"d":"1,707"},0,0,{"v":378,"d":"378.0"},2,{"v":5681318,"d":"5,681,318.0"},582,0,0,0,0,{"v":249388,"d":"249,388.0"},700,{"v":14121,"d":"14,121.0"},13,0,0,{"v":10656,"d":"10,656.0"},8,{"v":8162,"d":"8,162.0"},10,{"v":13994,"d":"13,994.0"},21,{"v":341748.4,"d":"341,748.4"},907,{"v":30277,"d":"30,277.0"},26,{"v":13561,"d":"13,561.0"},5,{"v":384368,"d":"384,368.0"},49,{"v":232086.2,"d":"232,086.2"},334,{"v":264724,"d":"264,724.0"},64,0,0,{"v":21162.8,"d":"21,162.8"},34,0,0,0,0,0,0,{"v":4225,"d":"4,225.0"},7,0,0,{"v":7437,"d":"7,437.0"},15,{"v":134989,"d":"134,989.0"},79]
["율촌면 조화리",{"v":3209412.7,"d":"3,209,412.7"},{"v":3650,"d":"3,650"},{"v":377332,"d":"377,332.0"},560,{"v":929200,"d":"929,200.0"},{"v":1217,"d":"1,217"},{"v":30833,"d":"30,833.0"},18,{"v":2898,"d":"2,898.0"},2,{"v":235380,"d":"235,380.0"},138,0,0,0,0,{"v":211035,"d":"211,035.0"},744,{"v":158390.4,"d":"158,390.4"},8,{"v":30492,"d":"30,492.0"},3,{"v":20263.8,"d":"20,263.8"},5,{"v":7590,"d":"7,590.0"},10,{"v":7017,"d":"7,017.0"},11,{"v":405130,"d":"405,130.0"},658,{"v":60135,"d":"60,135.0"},31,{"v":15512,"d":"15,512.0"},6,{"v":31101,"d":"31,101.0"},4,{"v":74960.3,"d":"74,960.3"},89,{"v":72259,"d":"72,259.0"},17,{"v":2992,"d":"2,992.0"},2,{"v":28082,"d":"28,082.0"},47,{"v":177938.1,"d":"177,938.1"},15,0,0,0,0,{"v":7727,"d":"7,727.0"},4,0,0,{"v":14765,"d":"14,765.0"},11,{"v":308380.1,"d":"308,380.1"},50]
["율촌면 월산리",{"v":4433164.7,"d":"4,433,164.7"},{"v":4134,"d":"4,134"},{"v":494382,"d":"494,382.0"},588,{"v":863141,"d":"863,141.0"},{"v":1080,"d":"1,080"},{"v":58546,"d":"58,546.0"},21,{"v":4665,"d":"4,665.0"},4,{"v":2283241.7,"d":"2,283,241.7"},896,0,0,0,0,{"v":264664.6,"d":"264,664.6"},543,{"v":10477,"d":"10,477.0"},5,{"v":7621,"d":"7,621.0"},2,{"v":6740.7,"d":"6,740.7"},9,{"v":1445,"d":"1,445.0"},3,{"v":7048,"d":"7,048.0"},4,{"v":302347.8,"d":"302,347.8"},770,0,0,0,0,{"v":18988,"d":"18,988.0"},10,{"v":71366,"d":"71,366.0"},132,{"v":1528,"d":"1,528.0"},6,0,0,0,0,{"v":9716.8,"d":"9,716.8"},3,0,0,0,0,{"v":4634,"d":"4,634.0"},6,0,0,{"v":2184,"d":"2,184.0"},10,{"v":20428.1,"d":"20,428.1"},42]
["율촌면 산수리",{"v":5323247,"d":"5,323,247.0"},{"v":3821,"d":"3,821"},{"v":497206,"d":"497,206.0"},606,{"v":1068212,"d":"1,068,212.0"},{"v":1085,"d":"1,085"},{"v":9349,"d":"9,349.0"},2,{"v":18129,"d":"18,129.0"},17,{"v":3252762,"d":"3,252,762.0"},942,0,0,0,0,{"v":151196,"d":"151,196.0"},399,{"v":1200,"d":"1,200.0"},1,{"v":8387,"d":"8,387.0"},3,0,0,0,0,0,0,{"v":141411,"d":"141,411.0"},625,0,0,0,0,{"v":10955,"d":"10,955.0"},4,{"v":112127,"d":"112,127.0"},71,{"v":25680,"d":"25,680.0"},25,0,0,{"v":549,"d":"549.0"},1,0,0,0,0,0,0,{"v":2870,"d":"2,870.0"},4,0,0,{"v":5314,"d":"5,314.0"},13,{"v":17900,"d":"17,900.0"},23]
["율촌면 가장리",{"v":9705370.700000001,"d":"9,705,370.7"},{"v":4420,"d":"4,420"},{"v":816045,"d":"816,045.0"},725,{"v":1564818,"d":"1,564,818.0"},{"v":1262,"d":"1,262"},{"v":32100,"d":"32,100.0"},5,{"v":212239,"d":"212,239.0"},36,{"v":6335180.4,"d":"6,335,180.4"},{"v":1021,"d":"1,021"},0,0,0,0,{"v":181742.9,"d":"181,742.9"},393,0,0,0,0,{"v":3412,"d":"3,412.0"},2,0,0,{"v":516,"d":"516.0"},1,{"v":208160,"d":"208,160.0"},700,0,0,0,0,{"v":61605,"d":"61,605.0"},18,{"v":198676,"d":"198,676.0"},181,{"v":51340,"d":"51,340.0"},34,0,0,0,0,{"v":1015.4,"d":"1,015.4"},1,0,0,0,0,{"v":3845,"d":"3,845.0"},5,0,0,{"v":16248,"d":"16,248.0"},17,{"v":18428,"d":"18,428.0"},19]
["율촌면 봉전리",{"v":4094175,"d":"4,094,175.0"},{"v":2191,"d":"2,191"},{"v":613001,"d":"613,001.0"},640,{"v":388689,"d":"388,689.0"},361,0,0,{"v":2789,"d":"2,789.0"},2,{"v":2791751,"d":"2,791,751.0"},496,0,0,{"v":1937,"d":"1,937.0"},4,{"v":66893,"d":"66,893.0"},183,{"v":7693,"d":"7,693.0"},2,0,0,0,0,0,0,{"v":1166,"d":"1,166.0"},3,{"v":94657,"d":"94,657.0"},397,0,0,{"v":4488,"d":"4,488.0"},6,{"v":777,"d":"777.0"},1,{"v":34686,"d":"34,686.0"},20,{"v":16514,"d":"16,514.0"},9,0,0,0,0,0,0,0,0,0,0,{"v":1740,"d":"1,740.0"},5,0,0,{"v":17603,"d":"17,603.0"},40,{"v":49791,"d":"49,791.0"},22]
["율촌면 반월리",{"v":2277936,"d":"2,277,936.0"},{"v":1309,"d":"1,309"},{"v":320434,"d":"320,434.0"},337,{"v":306616,"d":"306,616.0"},290,0,0,{"v":5573,"d":"5,573.0"},2,{"v":1450667,"d":"1,450,667.0"},243,0,0,0,0,{"v":45965,"d":"45,965.0"},147,0,0,0,0,0,0,{"v":618,"d":"618.0"},1,{"v":306,"d":"306.0"},2,{"v":56906,"d":"56,906.0"},215,0,0,{"v":1679,"d":"1,679.0"},2,0,0,{"v":53541,"d":"53,541.0"},22,{"v":23227,"d":"23,227.0"},18,0,0,0,0,0,0,0,0,0,0,{"v":607,"d":"607.0"},1,0,0,{"v":6884,"d":"6,884.0"},17,{"v":4913,"d":"4,913.0"},12]
["율촌면 취적리",{"v":7664474,"d":"7,664,474.0"},{"v":4221,"d":"4,221"},{"v":790866,"d":"790,866.0"},862,{"v":979665,"d":"979,665.0"},{"v":1056,"d":"1,056"},{"v":4732,"d":"4,732.0"},1,{"v":601,"d":"601.0"},1,{"v":5025748,"d":"5,025,748.0"},698,0,0,0,0,{"v":212130,"d":"212,130.0"},451,{"v":15602,"d":"15,602.0"},6,0,0,{"v":3780,"d":"3,780.0"},7,{"v":11117,"d":"11,117.0"},5,{"v":1403,"d":"1,403.0"},2,{"v":256549,"d":"256,549.0"},779,{"v":50854,"d":"50,854.0"},54,{"v":3356,"d":"3,356.0"},4,{"v":7481,"d":"7,481.0"},12,{"v":121532,"d":"121,532.0"},124,{"v":41915,"d":"41,915.0"},41,0,0,{"v":36531,"d":"36,531.0"},34,0,0,0,0,0,0,0,0,0,0,{"v":28898,"d":"28,898.0"},31,{"v":71714,"d":"71,714.0"},53]
["율촌면 신풍리",{"v":6263260.6,"d":"6,263,260.6"},{"v":4940,"d":"4,940"},{"v":571475,"d":"571,475.0"},761,{"v":1408602,"d":"1,408,602.0"},{"v":1352,"d":"1,352"},{"v":79424,"d":"79,424.0"},31,{"v":91478,"d":"91,478.0"},158,{"v":2537235.8,"d":"2,537,235.8"},488,0,0,0,0,{"v":408104.6,"d":"408,104.6"},800,{"v":20943,"d":"20,943.0"},11,{"v":15992,"d":"15,992.0"},3,{"v":3368,"d":"3,368.0"},4,{"v":1840,"d":"1,840.0"},1,{"v":4952,"d":"4,952.0"},8,{"v":226660.8,"d":"226,660.8"},881,{"v":54023,"d":"54,023.0"},31,{"v":7354,"d":"7,354.0"},7,{"v":52152,"d":"52,152.0"},13,{"v":163272,"d":"163,272.0"},134,{"v":108889,"d":"108,889.0"},41,0,0,{"v":25685,"d":"25,685.0"},22,0,0,0,0,0,0,{"v":3814,"d":"3,814.0"},4,0,0,{"v":18554,"d":"18,554.0"},19,{"v":459442.4,"d":"459,442.4"},171]
["율촌면 상봉리",{"v":3343442,"d":"3,343,442.0"},{"v":1921,"d":"1,921"},{"v":442590,"d":"442,590.0"},443,{"v":358629,"d":"358,629.0"},361,{"v":1693,"d":"1,693.0"},1,{"v":27928,"d":"27,928.0"},16,{"v":2175694,"d":"2,175,694.0"},363,0,0,0,0,{"v":79608,"d":"79,608.0"},187,{"v":7369,"d":"7,369.0"},2,{"v":12729,"d":"12,729.0"},2,{"v":1358,"d":"1,358.0"},1,{"v":331,"d":"331.0"},1,{"v":7942,"d":"7,942.0"},10,{"v":143055,"d":"143,055.0"},462,0,0,{"v":1263,"d":"1,263.0"},2,{"v":869,"d":"869.0"},1,{"v":61606,"d":"61,606.0"},48,0,0,0,0,0,0,0,0,0,0,0,0,{"v":3436,"d":"3,436.0"},2,0,0,{"v":11675,"d":"11,675.0"},6,{"v":5667,"d":"5,667.0"},13]
["율촌면 여동리",{"v":1038472,"d":"1,038,472.0"},846,{"v":226722,"d":"226,722.0"},332,{"v":16175,"d":"16,175.0"},45,{"v":14883,"d":"14,883.0"},2,{"v":1011,"d":"1,011.0"},1,{"v":723461,"d":"723,461.0"},241,0,0,0,0,{"v":28318,"d":"28,318.0"},161,0,0,{"v":7128,"d":"7,128.0"},5,0,0,0,0,0,0,{"v":14908,"d":"14,908.0"},45,0,0,{"v":483,"d":"483.0"},5,0,0,{"v":836,"d":"836.0"},1,0,0,0,0,0,0,0,0,0,0,0,0,0,0,0,0,{"v":2585,"d":"2,585.0"},1,{"v":1962,"d":"1,962.0"},7]
["화양면 나진리",{"v":5832098.800000001,"d":"5,832,098.8"},{"v":3049,"d":"3,049"},{"v":588403,"d":"588,403.0"},607,{"v":433438.4,"d":"433,438.4"},417,{"v":9693,"d":"9,693.0"},3,{"v":6456,"d":"6,456.0"},8,{"v":4248387,"d":"4,248,387.0"},836,0,0,0,0,{"v":143972,"d":"143,972.0"},356,{"v":46586,"d":"46,586.0"},17,{"v":30464,"d":"30,464.0"},11,{"v":647,"d":"647.0"},2,0,0,{"v":2886,"d":"2,886.0"},3,{"v":187850.7,"d":"187,850.7"},643,0,0,{"v":2307,"d":"2,307.0"},12,{"v":393,"d":"393.0"},1,{"v":66371.9,"d":"66,371.9"},74,{"v":11023.8,"d":"11,023.8"},10,{"v":654,"d":"654.0"},1,0,0,0,0,0,0,0,0,{"v":6314,"d":"6,314.0"},9,0,0,{"v":6108,"d":"6,108.0"},8,{"v":40144,"d":"40,144.0"},31]
["화양면 용주리",{"v":4529423,"d":"4,529,423.0"},{"v":3561,"d":"3,561"},{"v":1247767,"d":"1,247,767.0"},{"v":1151,"d":"1,151"},{"v":520059,"d":"520,059.0"},381,{"v":14075,"d":"14,075.0"},24,{"v":26913,"d":"26,913.0"},5,{"v":2104361,"d":"2,104,361.0"},545,0,0,0,0,{"v":170984,"d":"170,984.0"},544,{"v":39150,"d":"39,150.0"},17,{"v":10482,"d":"10,482.0"},2,0,0,{"v":1123,"d":"1,123.0"},1,{"v":9566,"d":"9,566.0"},13,{"v":197423,"d":"197,423.0"},725,0,0,{"v":8892,"d":"8,892.0"},11,{"v":8213,"d":"8,213.0"},8,{"v":47340,"d":"47,340.0"},21,{"v":19287,"d":"19,287.0"},12,{"v":10905,"d":"10,905.0"},5,0,0,0,0,0,0,0,0,{"v":4604,"d":"4,604.0"},5,{"v":6161,"d":"6,161.0"},3,{"v":26285,"d":"26,285.0"},31,{"v":55833,"d":"55,833.0"},57]
["화양면 창무리",{"v":3958859.3000000003,"d":"3,958,859.3"},{"v":2455,"d":"2,455"},{"v":813478,"d":"813,478.0"},758,{"v":388941,"d":"388,941.0"},325,0,0,{"v":10950,"d":"10,950.0"},3,{"v":2226205,"d":"2,226,205.0"},384,0,0,0,0,{"v":98965,"d":"98,965.0"},280,{"v":9573,"d":"9,573.0"},5,0,0,{"v":1164,"d":"1,164.0"},2,{"v":7189,"d":"7,189.0"},4,{"v":5053,"d":"5,053.0"},10,{"v":104317.7,"d":"104,317.7"},584,0,0,{"v":3438,"d":"3,438.0"},1,{"v":28449.7,"d":"28,449.7"},20,{"v":47551.4,"d":"47,551.4"},41,{"v":194774,"d":"194,774.0"},4,0,0,0,0,0,0,0,0,0,0,{"v":1103,"d":"1,103.0"},5,0,0,{"v":5902,"d":"5,902.0"},3,{"v":11805.5,"d":"11,805.5"},26]
["화양면 이천리",{"v":3554284,"d":"3,554,284.0"},{"v":2082,"d":"2,082"},{"v":779726,"d":"779,726.0"},770,{"v":111021,"d":"111,021.0"},172,{"v":5849,"d":"5,849.0"},3,{"v":1761,"d":"1,761.0"},1,{"v":2342264,"d":"2,342,264.0"},425,0,0,0,0,{"v":112988,"d":"112,988.0"},304,{"v":444,"d":"444.0"},1,{"v":9352,"d":"9,352.0"},6,{"v":1265,"d":"1,265.0"},2,0,0,{"v":1054,"d":"1,054.0"},2,{"v":146025,"d":"146,025.0"},333,0,0,{"v":4742,"d":"4,742.0"},14,0,0,{"v":19164,"d":"19,164.0"},22,{"v":3481,"d":"3,481.0"},2,0,0,0,0,0,0,0,0,0,0,{"v":992,"d":"992.0"},1,0,0,{"v":1478,"d":"1,478.0"},4,{"v":12678,"d":"12,678.0"},20]
["화양면 옥적리",{"v":11946182.299999999,"d":"11,946,182.3"},{"v":4837,"d":"4,837"},{"v":1447009,"d":"1,447,009.0"},{"v":1359,"d":"1,359"},{"v":1290801.6,"d":"1,290,801.6"},{"v":1170,"d":"1,170"},{"v":56059,"d":"56,059.0"},9,{"v":31798,"d":"31,798.0"},6,{"v":8302382,"d":"8,302,382.0"},937,0,0,0,0,{"v":123974,"d":"123,974.0"},339,{"v":13000,"d":"13,000.0"},9,{"v":30,"d":"30.0"},1,{"v":2538,"d":"2,538.0"},3,0,0,{"v":4276,"d":"4,276.0"},9,{"v":246155.2,"d":"246,155.2"},711,0,0,{"v":8921,"d":"8,921.0"},5,{"v":60004.4,"d":"60,004.4"},16,{"v":165909.1,"d":"165,909.1"},129,{"v":161919,"d":"161,919.0"},100,0,0,0,0,0,0,0,0,0,0,{"v":1692,"d":"1,692.0"},2,0,0,{"v":16448,"d":"16,448.0"},11,{"v":13266,"d":"13,266.0"},21]
["화양면 화동리",{"v":7418353.699999999,"d":"7,418,353.7"},{"v":4091,"d":"4,091"},{"v":1065748.7,"d":"1,065,748.7"},{"v":1037,"d":"1,037"},{"v":866095.7,"d":"866,095.7"},824,{"v":1850,"d":"1,850.0"},2,{"v":12543,"d":"12,543.0"},4,{"v":4741096.8,"d":"4,741,096.8"},745,0,0,0,0,{"v":124587.5,"d":"124,587.5"},420,{"v":101598.2,"d":"101,598.2"},22,{"v":33365,"d":"33,365.0"},4,{"v":1088,"d":"1,088.0"},1,{"v":1811,"d":"1,811.0"},1,{"v":5578,"d":"5,578.0"},11,{"v":204075.5,"d":"204,075.5"},679,0,0,0,0,{"v":3568,"d":"3,568.0"},10,{"v":132195.1,"d":"132,195.1"},244,{"v":79538,"d":"79,538.0"},36,0,0,0,0,0,0,0,0,0,0,{"v":2095,"d":"2,095.0"},5,0,0,{"v":22954,"d":"22,954.0"},17,{"v":18566.2,"d":"18,566.2"},29]
["화양면 서촌리",{"v":6225081.699999999,"d":"6,225,081.7"},{"v":3234,"d":"3,234"},{"v":953709,"d":"953,709.0"},875,{"v":710973,"d":"710,973.0"},693,{"v":10611,"d":"10,611.0"},2,{"v":16806,"d":"16,806.0"},12,{"v":4163729,"d":"4,163,729.0"},556,0,0,0,0,{"v":88371,"d":"88,371.0"},320,{"v":2921,"d":"2,921.0"},1,0,0,0,0,0,0,{"v":1029,"d":"1,029.0"},3,{"v":116568.6,"d":"116,568.6"},579,0,0,{"v":2298,"d":"2,298.0"},1,{"v":1736,"d":"1,736.0"},10,{"v":105848.1,"d":"105,848.1"},137,{"v":18192,"d":"18,192.0"},14,0,0,0,0,0,0,0,0,0,0,{"v":1718,"d":"1,718.0"},5,0,0,{"v":12032,"d":"12,032.0"},12,{"v":18540,"d":"18,540.0"},14]
["화양면 이목리",{"v":8996418,"d":"8,996,418.0"},{"v":4871,"d":"4,871"},{"v":1076490,"d":"1,076,490.0"},{"v":1015,"d":"1,015"},{"v":640637,"d":"640,637.0"},988,0,0,{"v":44312,"d":"44,312.0"},8,{"v":6727626,"d":"6,727,626.0"},{"v":1530,"d":"1,530"},0,0,0,0,{"v":151807,"d":"151,807.0"},426,0,0,{"v":5586,"d":"5,586.0"},7,0,0,0,0,{"v":958,"d":"958.0"},3,{"v":238395,"d":"238,395.0"},780,0,0,{"v":2730,"d":"2,730.0"},16,{"v":205,"d":"205.0"},2,{"v":67408,"d":"67,408.0"},35,{"v":10156,"d":"10,156.0"},8,0,0,0,0,0,0,0,0,0,0,{"v":1344,"d":"1,344.0"},3,0,0,{"v":13686,"d":"13,686.0"},20,{"v":15078,"d":"15,078.0"},30]
["화양면 장수리",{"v":5244685,"d":"5,244,685.0"},{"v":3667,"d":"3,667"},{"v":1163843,"d":"1,163,843.0"},{"v":1170,"d":"1,170"},{"v":302255,"d":"302,255.0"},515,{"v":2420,"d":"2,420.0"},1,{"v":12255,"d":"12,255.0"},10,{"v":3354556,"d":"3,354,556.0"},824,0,0,0,0,{"v":129714,"d":"129,714.0"},428,0,0,{"v":21516,"d":"21,516.0"},5,0,0,0,0,{"v":1209,"d":"1,209.0"},5,{"v":194753,"d":"194,753.0"},597,0,0,{"v":7575,"d":"7,575.0"},18,0,0,{"v":22526,"d":"22,526.0"},30,0,0,{"v":1524,"d":"1,524.0"},2,0,0,0,0,0,0,0,0,0,0,0,0,{"v":14373,"d":"14,373.0"},24,{"v":16166,"d":"16,166.0"},38]
["화양면 안포리",{"v":12415737.3,"d":"12,415,737.3"},{"v":6843,"d":"6,843"},{"v":1559859,"d":"1,559,859.0"},{"v":1755,"d":"1,755"},{"v":795687.5,"d":"795,687.5"},{"v":1140,"d":"1,140"},{"v":29555,"d":"29,555.0"},7,{"v":51637,"d":"51,637.0"},27,{"v":9134361,"d":"9,134,361.0"},{"v":1798,"d":"1,798"},0,0,0,0,{"v":206004,"d":"206,004.0"},627,{"v":7050,"d":"7,050.0"},1,{"v":6792,"d":"6,792.0"},2,0,0,{"v":1629,"d":"1,629.0"},1,{"v":8885,"d":"8,885.0"},15,{"v":359440.9,"d":"359,440.9"},{"v":1111,"d":"1,111"},0,0,{"v":7422,"d":"7,422.0"},19,{"v":393,"d":"393.0"},2,{"v":95720.9,"d":"95,720.9"},108,{"v":66302,"d":"66,302.0"},85,{"v":20344,"d":"20,344.0"},13,0,0,0,0,0,0,0,0,{"v":3533,"d":"3,533.0"},5,0,0,{"v":16871,"d":"16,871.0"},31,{"v":44251,"d":"44,251.0"},96]
["남면 우학리",{"v":4513342,"d":"4,513,342.0"},{"v":2764,"d":"2,764"},{"v":1231831,"d":"1,231,831.0"},930,{"v":235752,"d":"235,752.0"},480,0,0,0,0,{"v":2686018,"d":"2,686,018.0"},522,0,0,0,0,{"v":89683,"d":"89,683.0"},339,0,0,{"v":33393,"d":"33,393.0"},6,0,0,0,0,0,0,{"v":152033,"d":"152,033.0"},417,0,0,{"v":1925,"d":"1,925.0"},8,0,0,{"v":26106,"d":"26,106.0"},20,0,0,{"v":4524,"d":"4,524.0"},3,{"v":926,"d":"926.0"},3,0,0,0,0,0,0,{"v":1523,"d":"1,523.0"},3,0,0,{"v":27528,"d":"27,528.0"},5,{"v":22100,"d":"22,100.0"},28]
["남면 심장리",{"v":4435606,"d":"4,435,606.0"},{"v":2514,"d":"2,514"},{"v":1418086,"d":"1,418,086.0"},954,{"v":123199,"d":"123,199.0"},308,0,0,0,0,{"v":2625292,"d":"2,625,292.0"},423,0,0,0,0,{"v":95032,"d":"95,032.0"},399,0,0,{"v":4663,"d":"4,663.0"},2,0,0,0,0,{"v":243,"d":"243.0"},1,{"v":113254,"d":"113,254.0"},315,0,0,{"v":4234,"d":"4,234.0"},15,{"v":403,"d":"403.0"},1,{"v":15465,"d":"15,465.0"},15,{"v":582,"d":"582.0"},1,{"v":8684,"d":"8,684.0"},10,0,0,0,0,0,0,0,0,{"v":232,"d":"232.0"},1,0,0,{"v":16265,"d":"16,265.0"},15,{"v":9972,"d":"9,972.0"},54]
["남면 두모리",{"v":11121400,"d":"11,121,400.0"},{"v":3554,"d":"3,554"},{"v":1266397,"d":"1,266,397.0"},{"v":1067,"d":"1,067"},{"v":438169,"d":"438,169.0"},918,0,0,0,0,{"v":9092302,"d":"9,092,302.0"},693,0,0,0,0,{"v":67377,"d":"67,377.0"},254,0,0,{"v":5557,"d":"5,557.0"},5,0,0,0,0,{"v":465,"d":"465.0"},2,{"v":174689,"d":"174,689.0"},471,0,0,{"v":3155,"d":"3,155.0"},9,{"v":12780,"d":"12,780.0"},43,{"v":18015,"d":"18,015.0"},17,{"v":29746,"d":"29,746.0"},40,{"v":400,"d":"400.0"},1,{"v":1484,"d":"1,484.0"},2,0,0,0,0,0,0,{"v":694,"d":"694.0"},1,0,0,{"v":1200,"d":"1,200.0"},3,{"v":8970,"d":"8,970.0"},28]
["남면 유송리",{"v":7687371,"d":"7,687,371.0"},{"v":3235,"d":"3,235"},{"v":1653381,"d":"1,653,381.0"},{"v":1370,"d":"1,370"},{"v":166070,"d":"166,070.0"},423,0,0,0,0,{"v":5615712,"d":"5,615,712.0"},717,0,0,0,0,{"v":86509,"d":"86,509.0"},366,0,0,{"v":12875,"d":"12,875.0"},5,0,0,0,0,{"v":192,"d":"192.0"},1,{"v":94124,"d":"94,124.0"},265,0,0,{"v":7454,"d":"7,454.0"},20,{"v":1015,"d":"1,015.0"},3,{"v":23784,"d":"23,784.0"},29,0,0,0,0,0,0,0,0,0,0,0,0,{"v":317,"d":"317.0"},2,0,0,{"v":12476,"d":"12,476.0"},3,{"v":13462,"d":"13,462.0"},31]
["남면 안도리",{"v":3744761,"d":"3,744,761.0"},{"v":2544,"d":"2,544"},{"v":1132053,"d":"1,132,053.0"},{"v":1213,"d":"1,213"},{"v":55180,"d":"55,180.0"},151,0,0,0,0,{"v":2339157,"d":"2,339,157.0"},565,0,0,0,0,{"v":89868,"d":"89,868.0"},379,0,0,{"v":5182,"d":"5,182.0"},6,0,0,0,0,0,0,{"v":43878,"d":"43,878.0"},142,0,0,{"v":4513,"d":"4,513.0"},5,{"v":390,"d":"390.0"},1,{"v":17466,"d":"17,466.0"},17,0,0,0,0,0,0,0,0,0,0,0,0,{"v":231,"d":"231.0"},1,0,0,{"v":20261,"d":"20,261.0"},40,{"v":36582,"d":"36,582.0"},24]
["남면 연도리",{"v":7098200,"d":"7,098,200.0"},{"v":3447,"d":"3,447"},{"v":1147203,"d":"1,147,203.0"},{"v":1365,"d":"1,365"},{"v":267794,"d":"267,794.0"},618,0,0,{"v":598,"d":"598.0"},1,{"v":5317225,"d":"5,317,225.0"},708,0,0,0,0,{"v":102517,"d":"102,517.0"},466,0,0,{"v":11875,"d":"11,875.0"},9,0,0,0,0,0,0,{"v":108587,"d":"108,587.0"},147,0,0,{"v":3309,"d":"3,309.0"},16,0,0,{"v":21744,"d":"21,744.0"},30,0,0,{"v":9734,"d":"9,734.0"},3,0,0,0,0,0,0,0,0,0,0,0,0,{"v":38318,"d":"38,318.0"},36,{"v":69296,"d":"69,296.0"},48]
["남면 두라리",{"v":1328121,"d":"1,328,121.0"},925,{"v":400815,"d":"400,815.0"},471,{"v":19540,"d":"19,540.0"},59,0,0,0,0,{"v":844388,"d":"844,388.0"},210,0,0,0,0,{"v":29790,"d":"29,790.0"},120,0,0,{"v":6844,"d":"6,844.0"},4,0,0,0,0,0,0,{"v":18156,"d":"18,156.0"},31,0,0,{"v":1233,"d":"1,233.0"},5,0,0,{"v":886,"d":"886.0"},2,{"v":1025,"d":"1,025.0"},3,{"v":195,"d":"195.0"},1,0,0,0,0,0,0,0,0,{"v":1037,"d":"1,037.0"},1,0,0,{"v":1164,"d":"1,164.0"},4,{"v":3048,"d":"3,048.0"},14]
["남면 화태리",{"v":2189331,"d":"2,189,331.0"},{"v":1801,"d":"1,801"},{"v":646913,"d":"646,913.0"},701,{"v":116502,"d":"116,502.0"},227,0,0,0,0,{"v":1263594,"d":"1,263,594.0"},448,0,0,0,0,{"v":59062,"d":"59,062.0"},240,0,0,{"v":12637,"d":"12,637.0"},4,0,0,0,0,0,0,{"v":52653,"d":"52,653.0"},110,0,0,{"v":6159,"d":"6,159.0"},19,0,0,{"v":4965,"d":"4,965.0"},9,{"v":6712,"d":"6,712.0"},9,{"v":2923,"d":"2,923.0"},3,0,0,0,0,0,0,0,0,{"v":544,"d":"544.0"},4,0,0,{"v":6354,"d":"6,354.0"},8,{"v":10313,"d":"10,313.0"},19]
["남면 횡간리",{"v":431660,"d":"431,660.0"},526,{"v":263932,"d":"263,932.0"},308,{"v":7482,"d":"7,482.0"},21,0,0,0,0,{"v":114747,"d":"114,747.0"},32,0,0,0,0,{"v":19294,"d":"19,294.0"},104,0,0,{"v":4408,"d":"4,408.0"},4,0,0,0,0,0,0,{"v":8244,"d":"8,244.0"},9,0,0,{"v":1599,"d":"1,599.0"},7,{"v":129,"d":"129.0"},1,{"v":254,"d":"254.0"},1,{"v":43,"d":"43.0"},1,0,0,0,0,0,0,0,0,0,0,{"v":128,"d":"128.0"},1,0,0,{"v":2942,"d":"2,942.0"},13,{"v":8458,"d":"8,458.0"},24]
["화정면 백야리",{"v":3057979,"d":"3,057,979.0"},{"v":2088,"d":"2,088"},{"v":880084,"d":"880,084.0"},853,{"v":157507,"d":"157,507.0"},212,0,0,{"v":1208,"d":"1,208.0"},1,{"v":1836412,"d":"1,836,412.0"},465,0,0,0,0,{"v":83291,"d":"83,291.0"},265,0,0,{"v":16874,"d":"16,874.0"},4,0,0,0,0,0,0,{"v":46984,"d":"46,984.0"},247,0,0,{"v":3313,"d":"3,313.0"},11,0,0,{"v":1706,"d":"1,706.0"},2,{"v":1513,"d":"1,513.0"},2,{"v":9763,"d":"9,763.0"},3,0,0,0,0,0,0,0,0,{"v":1892,"d":"1,892.0"},4,0,0,{"v":4530,"d":"4,530.0"},4,{"v":12902,"d":"12,902.0"},15]
["화정면 월호리",{"v":2023140,"d":"2,023,140.0"},{"v":1046,"d":"1,046"},{"v":639572,"d":"639,572.0"},516,{"v":41547,"d":"41,547.0"},80,0,0,0,0,{"v":1254387,"d":"1,254,387.0"},240,0,0,0,0,{"v":36971,"d":"36,971.0"},135,0,0,{"v":7999,"d":"7,999.0"},3,0,0,0,0,0,0,{"v":21946,"d":"21,946.0"},34,0,0,{"v":1909,"d":"1,909.0"},10,0,0,{"v":2956,"d":"2,956.0"},6,{"v":40,"d":"40.0"},1,{"v":1561,"d":"1,561.0"},3,0,0,0,0,0,0,0,0,0,0,0,0,{"v":1818,"d":"1,818.0"},4,{"v":12434,"d":"12,434.0"},14]
["화정면 개도리",{"v":9728737,"d":"9,728,737.0"},{"v":4572,"d":"4,572"},{"v":1575181,"d":"1,575,181.0"},{"v":1500,"d":"1,500"},{"v":463100,"d":"463,100.0"},464,0,0,0,0,{"v":7082662,"d":"7,082,662.0"},{"v":1358,"d":"1,358"},0,0,0,0,{"v":135869,"d":"135,869.0"},512,0,0,{"v":19803,"d":"19,803.0"},4,0,0,0,0,0,0,{"v":214861,"d":"214,861.0"},574,0,0,{"v":21970,"d":"21,970.0"},17,0,0,{"v":86466,"d":"86,466.0"},50,{"v":63652,"d":"63,652.0"},19,{"v":19921,"d":"19,921.0"},17,0,0,0,0,0,0,0,0,{"v":1336,"d":"1,336.0"},4,0,0,{"v":12085,"d":"12,085.0"},11,{"v":31831,"d":"31,831.0"},42]
["화정면 제도리",{"v":1098088,"d":"1,098,088.0"},809,{"v":366730,"d":"366,730.0"},307,{"v":51007,"d":"51,007.0"},80,0,0,{"v":1719,"d":"1,719.0"},2,{"v":603017,"d":"603,017.0"},164,0,0,0,0,{"v":34418,"d":"34,418.0"},105,0,0,{"v":81,"d":"81.0"},3,0,0,0,0,0,0,{"v":16816,"d":"16,816.0"},109,0,0,{"v":2932,"d":"2,932.0"},9,0,0,{"v":4572,"d":"4,572.0"},3,{"v":1842,"d":"1,842.0"},1,0,0,0,0,0,0,0,0,0,0,0,0,0,0,{"v":3114,"d":"3,114.0"},10,{"v":11840,"d":"11,840.0"},16]
["화정면 상화리",{"v":672426,"d":"672,426.0"},578,{"v":301408,"d":"301,408.0"},342,{"v":5980,"d":"5,980.0"},17,0,0,0,0,{"v":325737,"d":"325,737.0"},109,0,0,0,0,{"v":20999,"d":"20,999.0"},83,0,0,{"v":54,"d":"54.0"},1,0,0,0,0,0,0,{"v":11087,"d":"11,087.0"},10,0,0,{"v":1519,"d":"1,519.0"},4,0,0,0,0,0,0,0,0,0,0,0,0,0,0,0,0,{"v":1117,"d":"1,117.0"},1,0,0,{"v":2446,"d":"2,446.0"},8,{"v":2079,"d":"2,079.0"},3]
["화정면 하화리",{"v":673278,"d":"673,278.0"},535,{"v":256512,"d":"256,512.0"},289,{"v":2435,"d":"2,435.0"},15,0,0,0,0,{"v":369876,"d":"369,876.0"},116,0,0,0,0,{"v":17319,"d":"17,319.0"},65,0,0,{"v":1908,"d":"1,908.0"},3,0,0,0,0,0,0,{"v":4531,"d":"4,531.0"},12,0,0,{"v":606,"d":"606.0"},5,0,0,{"v":9045,"d":"9,045.0"},8,0,0,0,0,0,0,0,0,0,0,0,0,0,0,0,0,{"v":7061,"d":"7,061.0"},13,{"v":3985,"d":"3,985.0"},9]
["화정면 낭도리",{"v":5608745,"d":"5,608,745.0"},{"v":3252,"d":"3,252"},{"v":1443180,"d":"1,443,180.0"},{"v":1573,"d":"1,573"},{"v":155524,"d":"155,524.0"},209,{"v":1895,"d":"1,895.0"},2,0,0,{"v":3708952,"d":"3,708,952.0"},745,0,0,{"v":8625,"d":"8,625.0"},2,{"v":72869,"d":"72,869.0"},361,0,0,{"v":33324,"d":"33,324.0"},13,0,0,0,0,{"v":395,"d":"395.0"},1,{"v":57290,"d":"57,290.0"},212,0,0,{"v":10962,"d":"10,962.0"},17,{"v":11323,"d":"11,323.0"},5,{"v":25833,"d":"25,833.0"},27,{"v":7590,"d":"7,590.0"},3,0,0,0,0,0,0,0,0,0,0,{"v":753,"d":"753.0"},2,0,0,{"v":20087,"d":"20,087.0"},37,{"v":50143,"d":"50,143.0"},43]
["화정면 조발리",{"v":1940570,"d":"1,940,570.0"},956,{"v":344423,"d":"344,423.0"},409,{"v":17238,"d":"17,238.0"},32,0,0,0,0,{"v":1531543,"d":"1,531,543.0"},333,0,0,0,0,{"v":23495,"d":"23,495.0"},120,0,0,{"v":2465,"d":"2,465.0"},5,0,0,0,0,0,0,{"v":13072,"d":"13,072.0"},26,0,0,{"v":616,"d":"616.0"},6,0,0,{"v":1074,"d":"1,074.0"},5,0,0,0,0,0,0,0,0,0,0,0,0,0,0,0,0,{"v":3829,"d":"3,829.0"},10,{"v":2815,"d":"2,815.0"},10]
["화정면 적금리",{"v":855046,"d":"855,046.0"},{"v":1187,"d":"1,187"},{"v":556292,"d":"556,292.0"},789,{"v":17487,"d":"17,487.0"},24,0,0,0,0,{"v":157636,"d":"157,636.0"},66,0,0,0,0,{"v":48700,"d":"48,700.0"},189,0,0,{"v":4543,"d":"4,543.0"},5,0,0,0,0,0,0,{"v":18639,"d":"18,639.0"},11,0,0,{"v":1318,"d":"1,318.0"},5,{"v":4642,"d":"4,642.0"},11,{"v":790,"d":"790.0"},1,0,0,0,0,0,0,0,0,0,0,0,0,0,0,0,0,{"v":40152,"d":"40,152.0"},72,{"v":4847,"d":"4,847.0"},14]
["화정면 여자리",{"v":694152,"d":"694,152.0"},857,{"v":366860,"d":"366,860.0"},421,{"v":7848,"d":"7,848.0"},10,0,0,0,0,{"v":213234,"d":"213,234.0"},108,0,0,0,0,{"v":44730,"d":"44,730.0"},187,0,0,{"v":8451,"d":"8,451.0"},4,0,0,0,0,0,0,{"v":25108,"d":"25,108.0"},52,0,0,{"v":2998,"d":"2,998.0"},10,0,0,{"v":1656,"d":"1,656.0"},1,0,0,{"v":662,"d":"662.0"},1,0,0,0,0,0,0,0,0,{"v":2273,"d":"2,273.0"},2,0,0,{"v":13993,"d":"13,993.0"},45,{"v":6339,"d":"6,339.0"},16]
["삼산면 거문리",{"v":932449,"d":"932,449.0"},679,{"v":106524,"d":"106,524.0"},157,0,0,0,0,0,0,{"v":737137,"d":"737,137.0"},123,0,0,0,0,{"v":44025,"d":"44,025.0"},347,0,0,{"v":6338,"d":"6,338.0"},2,0,0,0,0,0,0,{"v":14267,"d":"14,267.0"},30,0,0,{"v":4275,"d":"4,275.0"},5,0,0,0,0,0,0,0,0,0,0,0,0,0,0,0,0,{"v":208,"d":"208.0"},1,0,0,{"v":641,"d":"641.0"},2,{"v":19034,"d":"19,034.0"},12]
["삼산면 덕촌리",{"v":3849842,"d":"3,849,842.0"},{"v":2535,"d":"2,535"},{"v":571632,"d":"571,632.0"},801,{"v":22013,"d":"22,013.0"},89,{"v":981,"d":"981.0"},1,0,0,{"v":2795389,"d":"2,795,389.0"},{"v":1101,"d":"1,101"},0,0,0,0,{"v":89867,"d":"89,867.0"},381,0,0,{"v":17072,"d":"17,072.0"},3,0,0,0,0,{"v":612,"d":"612.0"},3,{"v":52240,"d":"52,240.0"},93,0,0,{"v":1687,"d":"1,687.0"},3,{"v":1127,"d":"1,127.0"},6,{"v":6576,"d":"6,576.0"},5,{"v":1404,"d":"1,404.0"},2,0,0,0,0,0,0,0,0,0,0,0,0,0,0,{"v":268109,"d":"268,109.0"},37,{"v":21133,"d":"21,133.0"},10]
["삼산면 서도리",{"v":3430497,"d":"3,430,497.0"},{"v":2499,"d":"2,499"},{"v":705438,"d":"705,438.0"},{"v":1030,"d":"1,030"},{"v":28626,"d":"28,626.0"},93,0,0,0,0,{"v":2426864,"d":"2,426,864.0"},691,0,0,0,0,{"v":71026,"d":"71,026.0"},374,0,0,{"v":7708,"d":"7,708.0"},6,0,0,0,0,0,0,{"v":52908,"d":"52,908.0"},103,0,0,{"v":2707,"d":"2,707.0"},6,0,0,{"v":6271,"d":"6,271.0"},5,{"v":122,"d":"122.0"},1,{"v":3702,"d":"3,702.0"},4,0,0,0,0,0,0,0,0,{"v":539,"d":"539.0"},4,0,0,{"v":55427,"d":"55,427.0"},111,{"v":69159,"d":"69,159.0"},71]
["삼산면 동도리",{"v":4565912,"d":"4,565,912.0"},{"v":2617,"d":"2,617"},{"v":874710,"d":"874,710.0"},{"v":1130,"d":"1,130"},{"v":6382,"d":"6,382.0"},27,0,0,0,0,{"v":3447411,"d":"3,447,411.0"},910,0,0,0,0,{"v":65212,"d":"65,212.0"},335,0,0,{"v":7242,"d":"7,242.0"},5,0,0,0,0,0,0,{"v":34630,"d":"34,630.0"},44,0,0,{"v":11599,"d":"11,599.0"},10,0,0,{"v":12089,"d":"12,089.0"},9,{"v":1878,"d":"1,878.0"},1,{"v":6222,"d":"6,222.0"},5,0,0,0,0,0,0,0,0,{"v":225,"d":"225.0"},1,0,0,{"v":81359,"d":"81,359.0"},105,{"v":16953,"d":"16,953.0"},35]
["삼산면 초도리",{"v":8557524,"d":"8,557,524.0"},{"v":3722,"d":"3,722"},{"v":1643354,"d":"1,643,354.0"},{"v":1571,"d":"1,571"},{"v":186959,"d":"186,959.0"},350,0,0,{"v":61489,"d":"61,489.0"},5,{"v":6270624,"d":"6,270,624.0"},968,0,0,0,0,{"v":124363,"d":"124,363.0"},417,0,0,{"v":23337,"d":"23,337.0"},5,0,0,0,0,{"v":156,"d":"156.0"},1,{"v":177356,"d":"177,356.0"},359,0,0,{"v":7593,"d":"7,593.0"},13,0,0,{"v":10019,"d":"10,019.0"},8,0,0,0,0,0,0,0,0,0,0,0,0,{"v":793,"d":"793.0"},2,0,0,{"v":12496,"d":"12,496.0"},1,{"v":38985,"d":"38,985.0"},22]
["삼산면 손죽리",{"v":6207214,"d":"6,207,214.0"},{"v":1950,"d":"1,950"},{"v":903900,"d":"903,900.0"},{"v":1013,"d":"1,013"},{"v":41528,"d":"41,528.0"},119,0,0,{"v":20002,"d":"20,002.0"},1,{"v":5058865,"d":"5,058,865.0"},440,0,0,0,0,{"v":85341,"d":"85,341.0"},300,0,0,{"v":10215,"d":"10,215.0"},4,0,0,0,0,0,0,{"v":60428,"d":"60,428.0"},36,0,0,{"v":1024,"d":"1,024.0"},5,{"v":297,"d":"297.0"},2,{"v":13491,"d":"13,491.0"},8,{"v":893,"d":"893.0"},1,0,0,0,0,0,0,0,0,0,0,{"v":198,"d":"198.0"},1,0,0,{"v":3968,"d":"3,968.0"},4,{"v":7064,"d":"7,064.0"},16]

{"sheet":"행정동(2013년말)","index":4,"n_rows":34,"n_cols":59,"rows_kept":34,"merged":[[0,0,0,12],[4,0,5,0],[4,1,4,2],[4,3,4,4],[4,5,4,6],[4,7,4,8],[4,9,4,10],[4,11,4,12],[4,13,4,14],[4,15,4,16],[4,17,4,18],[4,19,4,20],[4,21,4,22],[4,23,4,24],[4,27,4,28],[4,29,4,30],[4,31,4,32],[4,33,4,34],[4,35,4,36],[4,37,4,38],[4,39,4,40],[4,41,4,42],[4,43,4,44],[4,45,4,46],[4,47,4,48],[4,49,4,50],[4,51,4,52],[4,53,4,54],[4,55,4,56],[4,57,4,58]]}
["여수시 지적(地籍) 통계 현황"]
[]
["기준일자 : 2013년12월31일 "]
["단위: 필지,㎡"]
["구    분","합      계",null,"전",null,"답",null,"과수원",null,"목장용지",null,"임야",null,"광천지",null,"염전",null,"대",null,"공장용지",null,"학교용지",null,"주차장",null,"주유소용지",null,"창고용지",null,"도로",null,"철도용지",null,"제방",null,"하천",null,"구거",null,"유지",null,"양어장",null,"수도용지",null,"공원",null,"체육용지",null,"유원지",null,"종교용지",null,"사적지",null,"묘지",null,"잡종지"]
[null,"면  적","지번수","면  적","지번수","면  적","지번수","면  적","지번수","면  적","지번수","면  적","지번수","면  적","지번수","면  적","지번수","면  적","지번수","면  적","지번수","면  적","지번수","면  적","지번수","면  적","지번수","면  적","지번수","면  적","지번수","면  적","지번수","면  적","지번수","면  적","지번수","면  적","지번수","면  적","지번수","면  적","지번수","면  적","지번수","면  적","지번수","면  적","지번수","면  적","지번수","면  적","지번수","면  적","지번수","면  적","지번수","면  적","지번수"]
["합  계",{"$f":"SUM(B8:B34)","v":{"v":504308958.00000006,"d":"504,308,958.00"}},{"$f":"SUM(C8:C34)","v":{"v":310125,"d":"310,125"}},{"v":66829496.599999994,"d":"66,829,496.60"},{"v":74906,"d":"74,906"},{"v":41689757.699999996,"d":"41,689,757.70"},{"v":46705,"d":"46,705"},{"v":564671,"d":"564,671.00"},204,{"v":1855559,"d":"1,855,559.00"},514,{"v":306283875.2,"d":"306,283,875.20"},{"v":54429,"d":"54,429"},0,0,{"v":10562,"d":"10,562.00"},6,{"v":21564759.399999995,"d":"21,564,759.40"},{"v":65811,"d":"65,811"},{"v":15756522.9,"d":"15,756,522.90"},{"v":1190,"d":"1,190"},{"v":2005867,"d":"2,005,867.00"},376,{"v":346626.39999999997,"d":"346,626.40"},394,{"v":501120.30000000005,"d":"501,120.30"},244,{"v":262666.6,"d":"262,666.60"},398,{"v":19684967,"d":"19,684,967.00"},{"v":48468,"d":"48,468"},{"v":1028567.2,"d":"1,028,567.20"},875,{"v":657269.2000000001,"d":"657,269.20"},788,{"v":2414211.7,"d":"2,414,211.70"},942,{"v":4612411.300000001,"d":"4,612,411.30"},{"v":4741,"d":"4,741"},{"v":2910786.9000000004,"d":"2,910,786.90"},{"v":1438,"d":"1,438"},{"v":227613.1,"d":"227,613.10"},148,{"v":475653.9,"d":"475,653.90"},405,{"v":1318673.2,"d":"1,318,673.20"},291,{"v":1176999.6,"d":"1,176,999.60"},45,{"v":263794.9,"d":"263,794.90"},4,{"v":417357.6,"d":"417,357.60"},445,{"v":20795,"d":"20,795.00"},15,{"v":1820471,"d":"1,820,471.00"},{"v":1928,"d":"1,928"},{"v":9607902.3,"d":"9,607,902.30"},{"v":4415,"d":"4,415"}]
["돌산읍",{"$f":"SUM('법정동(2013년말)'!B59:B68)","v":{"v":71922310.6,"d":"71,922,310.60"}},{"$f":"SUM('법정동(2013년말)'!C59:C68)","v":{"v":45239,"d":"45,239"}},{"$f":"SUM('법정동(2013년말)'!D59:D68)","v":{"v":10500379.7,"d":"10,500,379.70"}},{"$f":"SUM('법정동(2013년말)'!E59:E68)","v":{"v":11472,"d":"11,472"}},{"$f":"SUM('법정동(2013년말)'!F59:F68)","v":{"v":5013819.2,"d":"5,013,819.20"}},{"$f":"SUM('법정동(2013년말)'!G59:G68)","v":{"v":6377,"d":"6,377"}},{"$f":"SUM('법정동(2013년말)'!H59:H68)","v":{"v":95111,"d":"95,111.00"}},{"$f":"SUM('법정동(2013년말)'!I59:I68)","v":25},{"$f":"SUM('법정동(2013년말)'!J59:J68)","v":{"v":1007208,"d":"1,007,208.00"}},{"$f":"SUM('법정동(2013년말)'!K59:K68)","v":64},{"$f":"SUM('법정동(2013년말)'!L59:L68)","v":{"v":48181852,"d":"48,181,852.00"}},{"$f":"SUM('법정동(2013년말)'!M59:M68)","v":{"v":8912,"d":"8,912"}},{"$f":"SUM('법정동(2013년말)'!N59:N68)","v":0},{"$f":"SUM('법정동(2013년말)'!O59:O68)","v":0},{"$f":"SUM('법정동(2013년말)'!P59:P68)","v":0},{"$f":"SUM('법정동(2013년말)'!Q59:Q68)","v":0},{"$f":"SUM('법정동(2013년말)'!R59:R68)","v":{"v":2198656.9,"d":"2,198,656.90"}},{"$f":"SUM('법정동(2013년말)'!S59:S68)","v":{"v":6992,"d":"6,992"}},{"$f":"SUM('법정동(2013년말)'!T59:T68)","v":{"v":55438,"d":"55,438.00"}},{"$f":"SUM('법정동(2013년말)'!U59:U68)","v":49},{"$f":"SUM('법정동(2013년말)'!V59:V68)","v":{"v":172181.5,"d":"172,181.50"}},{"$f":"SUM('법정동(2013년말)'!W59:W68)","v":43},{"$f":"SUM('법정동(2013년말)'!X59:X68)","v":{"v":7090.6,"d":"7,090.60"}},{"$f":"SUM('법정동(2013년말)'!Y59:Y68)","v":13},{"$f":"SUM('법정동(2013년말)'!Z59:Z68)","v":{"v":7884,"d":"7,884.00"}},{"$f":"SUM('법정동(2013년말)'!AA59:AA68)","v":17},{"$f":"SUM('법정동(2013년말)'!AB59:AB68)","v":{"v":48116.6,"d":"48,116.60"}},{"$f":"SUM('법정동(2013년말)'!AC59:AC68)","v":83},{"$f":"SUM('법정동(2013년말)'!AD59:AD68)","v":{"v":2244027.6999999997,"d":"2,244,027.70"}},{"$f":"SUM('법정동(2013년말)'!AE59:AE68)","v":{"v":8459,"d":"8,459"}},{"$f":"SUM('법정동(2013년말)'!AF59:AF68)","v":0},{"$f":"SUM('법정동(2013년말)'!AG59:AG68)","v":0},{"$f":"SUM('법정동(2013년말)'!AH59:AH68)","v":{"v":94823.29999999999,"d":"94,823.30"}},{"$f":"SUM('법정동(2013년말)'!AI59:AI68)","v":191},{"$f":"SUM('법정동(2013년말)'!AJ59:AJ68)","v":{"v":59511.3,"d":"59,511.30"}},{"$f":"SUM('법정동(2013년말)'!AK59:AK68)","v":87},{"$f":"SUM('법정동(2013년말)'!AL59:AL68)","v":{"v":576624,"d":"576,624.00"}},{"$f":"SUM('법정동(2013년말)'!AM59:AM68)","v":689},{"$f":"SUM('법정동(2013년말)'!AN59:AN68)","v":{"v":426972,"d":"426,972.00"}},{"$f":"SUM('법정동(2013년말)'!AO59:AO68)","v":352},{"$f":"SUM('법정동(2013년말)'!AP59:AP68)","v":{"v":118911.1,"d":"118,911.10"}},{"$f":"SUM('법정동(2013년말)'!AQ59:AQ68)","v":68},{"$f":"SUM('법정동(2013년말)'!AR59:AR68)","v":{"v":833,"d":"833.00"}},{"$f":"SUM('법정동(2013년말)'!AS59:AS68)","v":2},{"$f":"SUM('법정동(2013년말)'!AT59:AT68)","v":{"v":56646.3,"d":"56,646.30"}},{"$f":"SUM('법정동(2013년말)'!AU59:AU68)","v":12},{"$f":"SUM('법정동(2013년말)'!AV59:AV68)","v":0},{"$f":"SUM('법정동(2013년말)'!AW59:AW68)","v":0},{"$f":"SUM('법정동(2013년말)'!AX59:AX68)","v":{"v":214140.6,"d":"214,140.60"}},{"$f":"SUM('법정동(2013년말)'!AY59:AY68)","v":2},{"$f":"SUM('법정동(2013년말)'!AZ59:AZ68)","v":{"v":58127.8,"d":"58,127.80"}},{"$f":"SUM('법정동(2013년말)'!BA59:BA68)","v":48},{"$f":"SUM('법정동(2013년말)'!BB59:BB68)","v":{"v":883,"d":"883.00"}},{"$f":"SUM('법정동(2013년말)'!BC59:BC68)","v":4},{"$f":"SUM('법정동(2013년말)'!BD59:BD68)","v":{"v":219787,"d":"219,787.00"}},{"$f":"SUM('법정동(2013년말)'!BE59:BE68)","v":251},{"$f":"SUM('법정동(2013년말)'!BF59:BF68)","v":{"v":563286,"d":"563,286.00"}},{"$f":"SUM('법정동(2013년말)'!BG59:BG68)","v":{"v":1027,"d":"1,027"}}]
["소라면",{"$f":"SUM('법정동(2013년말)'!B69:B76)","v":{"v":60562341.2,"d":"60,562,341.20"}},{"$f":"SUM('법정동(2013년말)'!C69:C76)","v":{"v":34610,"d":"34,610"}},{"$f":"SUM('법정동(2013년말)'!D69:D76)","v":{"v":6856119.2,"d":"6,856,119.20"}},{"$f":"SUM('법정동(2013년말)'!E69:E76)","v":{"v":7868,"d":"7,868"}},{"$f":"SUM('법정동(2013년말)'!F69:F76)","v":{"v":9742339.399999999,"d":"9,742,339.40"}},{"$f":"SUM('법정동(2013년말)'!G69:G76)","v":{"v":8194,"d":"8,194"}},{"$f":"SUM('법정동(2013년말)'!H69:H76)","v":{"v":36007,"d":"36,007.00"}},{"$f":"SUM('법정동(2013년말)'!I69:I76)","v":12},{"$f":"SUM('법정동(2013년말)'!J69:J76)","v":{"v":161334,"d":"161,334.00"}},{"$f":"SUM('법정동(2013년말)'!K69:K76)","v":92},{"$f":"SUM('법정동(2013년말)'!L69:L76)","v":{"v":35545534,"d":"35,545,534.00"}},{"$f":"SUM('법정동(2013년말)'!M69:M76)","v":{"v":5909,"d":"5,909"}},{"$f":"SUM('법정동(2013년말)'!N69:N76)","v":0},{"$f":"SUM('법정동(2013년말)'!O69:O76)","v":0},{"$f":"SUM('법정동(2013년말)'!P69:P76)","v":0},{"$f":"SUM('법정동(2013년말)'!Q69:Q76)","v":0},{"$f":"SUM('법정동(2013년말)'!R69:R76)","v":{"v":1782557.1,"d":"1,782,557.10"}},{"$f":"SUM('법정동(2013년말)'!S69:S76)","v":{"v":4337,"d":"4,337"}},{"$f":"SUM('법정동(2013년말)'!T69:T76)","v":{"v":61597,"d":"61,597.00"}},{"$f":"SUM('법정동(2013년말)'!U69:U76)","v":35},{"$f":"SUM('법정동(2013년말)'!V69:V76)","v":{"v":102110.7,"d":"102,110.70"}},{"$f":"SUM('법정동(2013년말)'!W69:W76)","v":17},{"$f":"SUM('법정동(2013년말)'!X69:X76)","v":{"v":40030.1,"d":"40,030.10"}},{"$f":"SUM('법정동(2013년말)'!Y69:Y76)","v":45},{"$f":"SUM('법정동(2013년말)'!Z69:Z76)","v":{"v":31441.7,"d":"31,441.70"}},{"$f":"SUM('법정동(2013년말)'!AA69:AA76)","v":36},{"$f":"SUM('법정동(2013년말)'!AB69:AB76)","v":{"v":60155,"d":"60,155.00"}},{"$f":"SUM('법정동(2013년말)'!AC69:AC76)","v":86},{"$f":"SUM('법정동(2013년말)'!AD69:AD76)","v":{"v":2374243.3,"d":"2,374,243.30"}},{"$f":"SUM('법정동(2013년말)'!AE69:AE76)","v":{"v":6032,"d":"6,032"}},{"$f":"SUM('법정동(2013년말)'!AF69:AF76)","v":{"v":95043,"d":"95,043.00"}},{"$f":"SUM('법정동(2013년말)'!AG69:AG76)","v":58},{"$f":"SUM('법정동(2013년말)'!AH69:AH76)","v":{"v":63531.6,"d":"63,531.60"}},{"$f":"SUM('법정동(2013년말)'!AI69:AI76)","v":40},{"$f":"SUM('법정동(2013년말)'!AJ69:AJ76)","v":{"v":793275.5,"d":"793,275.50"}},{"$f":"SUM('법정동(2013년말)'!AK69:AK76)","v":120},{"$f":"SUM('법정동(2013년말)'!AL69:AL76)","v":{"v":948935.1000000001,"d":"948,935.10"}},{"$f":"SUM('법정동(2013년말)'!AM69:AM76)","v":859},{"$f":"SUM('법정동(2013년말)'!AN69:AN76)","v":{"v":951415.6,"d":"951,415.60"}},{"$f":"SUM('법정동(2013년말)'!AO69:AO76)","v":188},{"$f":"SUM('법정동(2013년말)'!AP69:AP76)","v":{"v":1375,"d":"1,375.00"}},{"$f":"SUM('법정동(2013년말)'!AQ69:AQ76)","v":1},{"$f":"SUM('법정동(2013년말)'!AR69:AR76)","v":{"v":24714.8,"d":"24,714.80"}},{"$f":"SUM('법정동(2013년말)'!AS69:AS76)","v":59},{"$f":"SUM('법정동(2013년말)'!AT69:AT76)","v":{"v":145680.8,"d":"145,680.80"}},{"$f":"SUM('법정동(2013년말)'!AU69:AU76)","v":52},{"$f":"SUM('법정동(2013년말)'!AV69:AV76)","v":{"v":6110,"d":"6,110.00"}},{"$f":"SUM('법정동(2013년말)'!AW69:AW76)","v":8},{"$f":"SUM('법정동(2013년말)'!AX69:AX76)","v":0},{"$f":"SUM('법정동(2013년말)'!AY69:AY76)","v":0},{"$f":"SUM('법정동(2013년말)'!AZ69:AZ76)","v":{"v":28872.3,"d":"28,872.30"}},{"$f":"SUM('법정동(2013년말)'!BA69:BA76)","v":39},{"$f":"SUM('법정동(2013년말)'!BB69:BB76)","v":0},{"$f":"SUM('법정동(2013년말)'!BC69:BC76)","v":0},{"$f":"SUM('법정동(2013년말)'!BD69:BD76)","v":{"v":348768,"d":"348,768.00"}},{"$f":"SUM('법정동(2013년말)'!BE69:BE76)","v":184},{"$f":"SUM('법정동(2013년말)'!BF69:BF76)","v":{"v":361151,"d":"361,151.00"}},{"$f":"SUM('법정동(2013년말)'!BG69:BG76)","v":339}]
["율촌면",{"$f":"SUM('법정동(2013년말)'!B77:B86)","v":{"v":47352954.7,"d":"47,352,954.70"}},{"$f":"SUM('법정동(2013년말)'!C77:C86)","v":{"v":31453,"d":"31,453"}},{"$f":"SUM('법정동(2013년말)'!D77:D86)","v":{"v":5150053,"d":"5,150,053.00"}},{"$f":"SUM('법정동(2013년말)'!E77:E86)","v":{"v":5854,"d":"5,854"}},{"$f":"SUM('법정동(2013년말)'!F77:F86)","v":{"v":7883747,"d":"7,883,747.00"}},{"$f":"SUM('법정동(2013년말)'!G77:G86)","v":{"v":8109,"d":"8,109"}},{"$f":"SUM('법정동(2013년말)'!H77:H86)","v":{"v":231560,"d":"231,560.00"}},{"$f":"SUM('법정동(2013년말)'!I77:I86)","v":81},{"$f":"SUM('법정동(2013년말)'!J77:J86)","v":{"v":367311,"d":"367,311.00"}},{"$f":"SUM('법정동(2013년말)'!K77:K86)","v":239},{"$f":"SUM('법정동(2013년말)'!L77:L86)","v":{"v":26811120.900000002,"d":"26,811,120.90"}},{"$f":"SUM('법정동(2013년말)'!M77:M86)","v":{"v":5526,"d":"5,526"}},{"$f":"SUM('법정동(2013년말)'!N77:N86)","v":0},{"$f":"SUM('법정동(2013년말)'!O77:O86)","v":0},{"$f":"SUM('법정동(2013년말)'!P77:P86)","v":{"v":1937,"d":"1,937.00"}},{"$f":"SUM('법정동(2013년말)'!Q77:Q86)","v":4},{"$f":"SUM('법정동(2013년말)'!R77:R86)","v":{"v":1649657.1,"d":"1,649,657.10"}},{"$f":"SUM('법정동(2013년말)'!S77:S86)","v":{"v":4008,"d":"4,008"}},{"$f":"SUM('법정동(2013년말)'!T77:T86)","v":{"v":221674.4,"d":"221,674.40"}},{"$f":"SUM('법정동(2013년말)'!U77:U86)","v":35},{"$f":"SUM('법정동(2013년말)'!V77:V86)","v":{"v":82349,"d":"82,349.00"}},{"$f":"SUM('법정동(2013년말)'!W77:W86)","v":18},{"$f":"SUM('법정동(2013년말)'!X77:X86)","v":{"v":38922.5,"d":"38,922.50"}},{"$f":"SUM('법정동(2013년말)'!Y77:Y86)","v":28},{"$f":"SUM('법정동(2013년말)'!Z77:Z86)","v":{"v":22941,"d":"22,941.00"}},{"$f":"SUM('법정동(2013년말)'!AA77:AA86)","v":21},{"$f":"SUM('법정동(2013년말)'!AB77:AB86)","v":{"v":30350,"d":"30,350.00"}},{"$f":"SUM('법정동(2013년말)'!AC77:AC86)","v":41},{"$f":"SUM('법정동(2013년말)'!AD77:AD86)","v":{"v":1849784.6,"d":"1,849,784.60"}},{"$f":"SUM('법정동(2013년말)'!AE77:AE86)","v":{"v":5532,"d":"5,532"}},{"$f":"SUM('법정동(2013년말)'!AF77:AF86)","v":{"v":165012,"d":"165,012.00"}},{"$f":"SUM('법정동(2013년말)'!AG77:AG86)","v":116},{"$f":"SUM('법정동(2013년말)'!AH77:AH86)","v":{"v":34135,"d":"34,135.00"}},{"$f":"SUM('법정동(2013년말)'!AI77:AI86)","v":32},{"$f":"SUM('법정동(2013년말)'!AJ77:AJ86)","v":{"v":183928,"d":"183,928.00"}},{"$f":"SUM('법정동(2013년말)'!AK77:AK86)","v":63},{"$f":"SUM('법정동(2013년말)'!AL77:AL86)","v":{"v":892602.3,"d":"892,602.30"}},{"$f":"SUM('법정동(2013년말)'!AM77:AM86)","v":822},{"$f":"SUM('법정동(2013년말)'!AN77:AN86)","v":{"v":341352,"d":"341,352.00"}},{"$f":"SUM('법정동(2013년말)'!AO77:AO86)","v":191},{"$f":"SUM('법정동(2013년말)'!AP77:AP86)","v":{"v":2992,"d":"2,992.00"}},{"$f":"SUM('법정동(2013년말)'!AQ77:AQ86)","v":2},{"$f":"SUM('법정동(2013년말)'!AR77:AR86)","v":{"v":90847,"d":"90,847.00"}},{"$f":"SUM('법정동(2013년말)'!AS77:AS86)","v":104},{"$f":"SUM('법정동(2013년말)'!AT77:AT86)","v":{"v":188670.3,"d":"188,670.30"}},{"$f":"SUM('법정동(2013년말)'!AU77:AU86)","v":19},{"$f":"SUM('법정동(2013년말)'!AV77:AV86)","v":0},{"$f":"SUM('법정동(2013년말)'!AW77:AW86)","v":0},{"$f":"SUM('법정동(2013년말)'!AX77:AX86)","v":0},{"$f":"SUM('법정동(2013년말)'!AY77:AY86)","v":0},{"$f":"SUM('법정동(2013년말)'!AZ77:AZ86)","v":{"v":28673,"d":"28,673.00"}},{"$f":"SUM('법정동(2013년말)'!BA77:BA86)","v":31},{"$f":"SUM('법정동(2013년말)'!BB77:BB86)","v":0},{"$f":"SUM('법정동(2013년말)'!BC77:BC86)","v":0},{"$f":"SUM('법정동(2013년말)'!BD77:BD86)","v":{"v":124710,"d":"124,710.00"}},{"$f":"SUM('법정동(2013년말)'!BE77:BE86)","v":165},{"$f":"SUM('법정동(2013년말)'!BF77:BF86)","v":{"v":958625.6,"d":"958,625.60"}},{"$f":"SUM('법정동(2013년말)'!BG77:BG86)","v":412}]
["화양면",{"$f":"SUM('법정동(2013년말)'!B87:B96)","v":{"v":70121123.1,"d":"70,121,123.10"}},{"$f":"SUM('법정동(2013년말)'!C87:C96)","v":{"v":38690,"d":"38,690"}},{"$f":"SUM('법정동(2013년말)'!D87:D96)","v":{"v":10696032.7,"d":"10,696,032.70"}},{"$f":"SUM('법정동(2013년말)'!E87:E96)","v":{"v":10497,"d":"10,497"}},{"$f":"SUM('법정동(2013년말)'!F87:F96)","v":{"v":6059909.2,"d":"6,059,909.20"}},{"$f":"SUM('법정동(2013년말)'!G87:G96)","v":{"v":6625,"d":"6,625"}},{"$f":"SUM('법정동(2013년말)'!H87:H96)","v":{"v":130112,"d":"130,112.00"}},{"$f":"SUM('법정동(2013년말)'!I87:I96)","v":51},{"$f":"SUM('법정동(2013년말)'!J87:J96)","v":{"v":215431,"d":"215,431.00"}},{"$f":"SUM('법정동(2013년말)'!K87:K96)","v":84},{"$f":"SUM('법정동(2013년말)'!L87:L96)","v":{"v":47344967.8,"d":"47,344,967.80"}},{"$f":"SUM('법정동(2013년말)'!M87:M96)","v":{"v":8580,"d":"8,580"}},{"$f":"SUM('법정동(2013년말)'!N87:N96)","v":0},{"$f":"SUM('법정동(2013년말)'!O87:O96)","v":0},{"$f":"SUM('법정동(2013년말)'!P87:P96)","v":0},{"$f":"SUM('법정동(2013년말)'!Q87:Q96)","v":0},{"$f":"SUM('법정동(2013년말)'!R87:R96)","v":{"v":1351366.5,"d":"1,351,366.50"}},{"$f":"SUM('법정동(2013년말)'!S87:S96)","v":{"v":4044,"d":"4,044"}},{"$f":"SUM('법정동(2013년말)'!T87:T96)","v":{"v":220322.2,"d":"220,322.20"}},{"$f":"SUM('법정동(2013년말)'!U87:U96)","v":73},{"$f":"SUM('법정동(2013년말)'!V87:V96)","v":{"v":117587,"d":"117,587.00"}},{"$f":"SUM('법정동(2013년말)'!W87:W96)","v":38},{"$f":"SUM('법정동(2013년말)'!X87:X96)","v":{"v":6702,"d":"6,702.00"}},{"$f":"SUM('법정동(2013년말)'!Y87:Y96)","v":10},{"$f":"SUM('법정동(2013년말)'!Z87:Z96)","v":{"v":11752,"d":"11,752.00"}},{"$f":"SUM('법정동(2013년말)'!AA87:AA96)","v":7},{"$f":"SUM('법정동(2013년말)'!AB87:AB96)","v":{"v":40494,"d":"40,494.00"}},{"$f":"SUM('법정동(2013년말)'!AC87:AC96)","v":74},{"$f":"SUM('법정동(2013년말)'!AD87:AD96)","v":{"v":1995004.6,"d":"1,995,004.60"}},{"$f":"SUM('법정동(2013년말)'!AE87:AE96)","v":{"v":6742,"d":"6,742"}},{"$f":"SUM('법정동(2013년말)'!AF87:AF96)","v":0},{"$f":"SUM('법정동(2013년말)'!AG87:AG96)","v":0},{"$f":"SUM('법정동(2013년말)'!AH87:AH96)","v":{"v":48325,"d":"48,325.00"}},{"$f":"SUM('법정동(2013년말)'!AI87:AI96)","v":97},{"$f":"SUM('법정동(2013년말)'!AJ87:AJ96)","v":{"v":102962.1,"d":"102,962.10"}},{"$f":"SUM('법정동(2013년말)'!AK87:AK96)","v":69},{"$f":"SUM('법정동(2013년말)'!AL87:AL96)","v":{"v":770034.5,"d":"770,034.50"}},{"$f":"SUM('법정동(2013년말)'!AM87:AM96)","v":841},{"$f":"SUM('법정동(2013년말)'!AN87:AN96)","v":{"v":564672.8,"d":"564,672.80"}},{"$f":"SUM('법정동(2013년말)'!AO87:AO96)","v":271},{"$f":"SUM('법정동(2013년말)'!AP87:AP96)","v":{"v":33427,"d":"33,427.00"}},{"$f":"SUM('법정동(2013년말)'!AQ87:AQ96)","v":21},{"$f":"SUM('법정동(2013년말)'!AR87:AR96)","v":0},{"$f":"SUM('법정동(2013년말)'!AS87:AS96)","v":0},{"$f":"SUM('법정동(2013년말)'!AT87:AT96)","v":0},{"$f":"SUM('법정동(2013년말)'!AU87:AU96)","v":0},{"$f":"SUM('법정동(2013년말)'!AV87:AV96)","v":0},{"$f":"SUM('법정동(2013년말)'!AW87:AW96)","v":0},{"$f":"SUM('법정동(2013년말)'!AX87:AX96)","v":0},{"$f":"SUM('법정동(2013년말)'!AY87:AY96)","v":0},{"$f":"SUM('법정동(2013년말)'!AZ87:AZ96)","v":{"v":23395,"d":"23,395.00"}},{"$f":"SUM('법정동(2013년말)'!BA87:BA96)","v":40},{"$f":"SUM('법정동(2013년말)'!BB87:BB96)","v":{"v":6161,"d":"6,161.00"}},{"$f":"SUM('법정동(2013년말)'!BC87:BC96)","v":3},{"$f":"SUM('법정동(2013년말)'!BD87:BD96)","v":{"v":136137,"d":"136,137.00"}},{"$f":"SUM('법정동(2013년말)'!BE87:BE96)","v":161},{"$f":"SUM('법정동(2013년말)'!BF87:BF96)","v":{"v":246327.7,"d":"246,327.70"}},{"$f":"SUM('법정동(2013년말)'!BG87:BG96)","v":362}]
["남   면",{"$f":"SUM('법정동(2013년말)'!B97:B105)","v":{"v":42549792,"d":"42,549,792.00"}},{"$f":"SUM('법정동(2013년말)'!C97:C105)","v":{"v":21310,"d":"21,310"}},{"$f":"SUM('법정동(2013년말)'!D97:D105)","v":{"v":9160611,"d":"9,160,611.00"}},{"$f":"SUM('법정동(2013년말)'!E97:E105)","v":{"v":8379,"d":"8,379"}},{"$f":"SUM('법정동(2013년말)'!F97:F105)","v":{"v":1429688,"d":"1,429,688.00"}},{"$f":"SUM('법정동(2013년말)'!G97:G105)","v":{"v":3205,"d":"3,205"}},{"$f":"SUM('법정동(2013년말)'!H97:H105)","v":0},{"$f":"SUM('법정동(2013년말)'!I97:I105)","v":0},{"$f":"SUM('법정동(2013년말)'!J97:J105)","v":{"v":598,"d":"598.00"}},{"$f":"SUM('법정동(2013년말)'!K97:K105)","v":1},{"$f":"SUM('법정동(2013년말)'!L97:L105)","v":{"v":29898435,"d":"29,898,435.00"}},{"$f":"SUM('법정동(2013년말)'!M97:M105)","v":{"v":4318,"d":"4,318"}},{"$f":"SUM('법정동(2013년말)'!N97:N105)","v":0},{"$f":"SUM('법정동(2013년말)'!O97:O105)","v":0},{"$f":"SUM('법정동(2013년말)'!P97:P105)","v":0},{"$f":"SUM('법정동(2013년말)'!Q97:Q105)","v":0},{"$f":"SUM('법정동(2013년말)'!R97:R105)","v":{"v":639132,"d":"639,132.00"}},{"$f":"SUM('법정동(2013년말)'!S97:S105)","v":{"v":2667,"d":"2,667"}},{"$f":"SUM('법정동(2013년말)'!T97:T105)","v":0},{"$f":"SUM('법정동(2013년말)'!U97:U105)","v":0},{"$f":"SUM('법정동(2013년말)'!V97:V105)","v":{"v":97434,"d":"97,434.00"}},{"$f":"SUM('법정동(2013년말)'!W97:W105)","v":45},{"$f":"SUM('법정동(2013년말)'!X97:X105)","v":0},{"$f":"SUM('법정동(2013년말)'!Y97:Y105)","v":0},{"$f":"SUM('법정동(2013년말)'!Z97:Z105)","v":0},{"$f":"SUM('법정동(2013년말)'!AA97:AA105)","v":0},{"$f":"SUM('법정동(2013년말)'!AB97:AB105)","v":{"v":900,"d":"900.00"}},{"$f":"SUM('법정동(2013년말)'!AC97:AC105)","v":4},{"$f":"SUM('법정동(2013년말)'!AD97:AD105)","v":{"v":765618,"d":"765,618.00"}},{"$f":"SUM('법정동(2013년말)'!AE97:AE105)","v":{"v":1907,"d":"1,907"}},{"$f":"SUM('법정동(2013년말)'!AF97:AF105)","v":0},{"$f":"SUM('법정동(2013년말)'!AG97:AG105)","v":0},{"$f":"SUM('법정동(2013년말)'!AH97:AH105)","v":{"v":33581,"d":"33,581.00"}},{"$f":"SUM('법정동(2013년말)'!AI97:AI105)","v":104},{"$f":"SUM('법정동(2013년말)'!AJ97:AJ105)","v":{"v":14717,"d":"14,717.00"}},{"$f":"SUM('법정동(2013년말)'!AK97:AK105)","v":49},{"$f":"SUM('법정동(2013년말)'!AL97:AL105)","v":{"v":128685,"d":"128,685.00"}},{"$f":"SUM('법정동(2013년말)'!AM97:AM105)","v":140},{"$f":"SUM('법정동(2013년말)'!AN97:AN105)","v":{"v":38108,"d":"38,108.00"}},{"$f":"SUM('법정동(2013년말)'!AO97:AO105)","v":54},{"$f":"SUM('법정동(2013년말)'!AP97:AP105)","v":{"v":26460,"d":"26,460.00"}},{"$f":"SUM('법정동(2013년말)'!AQ97:AQ105)","v":21},{"$f":"SUM('법정동(2013년말)'!AR97:AR105)","v":{"v":2410,"d":"2,410.00"}},{"$f":"SUM('법정동(2013년말)'!AS97:AS105)","v":5},{"$f":"SUM('법정동(2013년말)'!AT97:AT105)","v":0},{"$f":"SUM('법정동(2013년말)'!AU97:AU105)","v":0},{"$f":"SUM('법정동(2013년말)'!AV97:AV105)","v":0},{"$f":"SUM('법정동(2013년말)'!AW97:AW105)","v":0},{"$f":"SUM('법정동(2013년말)'!AX97:AX105)","v":0},{"$f":"SUM('법정동(2013년말)'!AY97:AY105)","v":0},{"$f":"SUM('법정동(2013년말)'!AZ97:AZ105)","v":{"v":4706,"d":"4,706.00"}},{"$f":"SUM('법정동(2013년말)'!BA97:BA105)","v":14},{"$f":"SUM('법정동(2013년말)'!BB97:BB105)","v":0},{"$f":"SUM('법정동(2013년말)'!BC97:BC105)","v":0},{"$f":"SUM('법정동(2013년말)'!BD97:BD105)","v":{"v":126508,"d":"126,508.00"}},{"$f":"SUM('법정동(2013년말)'!BE97:BE105)","v":127},{"$f":"SUM('법정동(2013년말)'!BF97:BF105)","v":{"v":182201,"d":"182,201.00"}},{"$f":"SUM('법정동(2013년말)'!BG97:BG105)","v":270}]
["화정면",{"$f":"SUM('법정동(2013년말)'!B106:B115)","v":{"v":26352161,"d":"26,352,161.00"}},{"$f":"SUM('법정동(2013년말)'!C106:C115)","v":{"v":15880,"d":"15,880"}},{"$f":"SUM('법정동(2013년말)'!D106:D115)","v":{"v":6730242,"d":"6,730,242.00"}},{"$f":"SUM('법정동(2013년말)'!E106:E115)","v":{"v":6999,"d":"6,999"}},{"$f":"SUM('법정동(2013년말)'!F106:F115)","v":{"v":919673,"d":"919,673.00"}},{"$f":"SUM('법정동(2013년말)'!G106:G115)","v":{"v":1143,"d":"1,143"}},{"$f":"SUM('법정동(2013년말)'!H106:H115)","v":{"v":1895,"d":"1,895.00"}},{"$f":"SUM('법정동(2013년말)'!I106:I115)","v":2},{"$f":"SUM('법정동(2013년말)'!J106:J115)","v":{"v":2927,"d":"2,927.00"}},{"$f":"SUM('법정동(2013년말)'!K106:K115)","v":3},{"$f":"SUM('법정동(2013년말)'!L106:L115)","v":{"v":17083456,"d":"17,083,456.00"}},{"$f":"SUM('법정동(2013년말)'!M106:M115)","v":{"v":3704,"d":"3,704"}},{"$f":"SUM('법정동(2013년말)'!N106:N115)","v":0},{"$f":"SUM('법정동(2013년말)'!O106:O115)","v":0},{"$f":"SUM('법정동(2013년말)'!P106:P115)","v":{"v":8625,"d":"8,625.00"}},{"$f":"SUM('법정동(2013년말)'!Q106:Q115)","v":2},{"$f":"SUM('법정동(2013년말)'!R106:R115)","v":{"v":518661,"d":"518,661.00"}},{"$f":"SUM('법정동(2013년말)'!S106:S115)","v":{"v":2022,"d":"2,022"}},{"$f":"SUM('법정동(2013년말)'!T106:T115)","v":0},{"$f":"SUM('법정동(2013년말)'!U106:U115)","v":0},{"$f":"SUM('법정동(2013년말)'!V106:V115)","v":{"v":95502,"d":"95,502.00"}},{"$f":"SUM('법정동(2013년말)'!W106:W115)","v":45},{"$f":"SUM('법정동(2013년말)'!X106:X115)","v":0},{"$f":"SUM('법정동(2013년말)'!Y106:Y115)","v":0},{"$f":"SUM('법정동(2013년말)'!Z106:Z115)","v":0},{"$f":"SUM('법정동(2013년말)'!AA106:AA115)","v":0},{"$f":"SUM('법정동(2013년말)'!AB106:AB115)","v":{"v":395,"d":"395.00"}},{"$f":"SUM('법정동(2013년말)'!AC106:AC115)","v":1},{"$f":"SUM('법정동(2013년말)'!AD106:AD115)","v":{"v":430334,"d":"430,334.00"}},{"$f":"SUM('법정동(2013년말)'!AE106:AE115)","v":{"v":1287,"d":"1,287"}},{"$f":"SUM('법정동(2013년말)'!AF106:AF115)","v":0},{"$f":"SUM('법정동(2013년말)'!AG106:AG115)","v":0},{"$f":"SUM('법정동(2013년말)'!AH106:AH115)","v":{"v":48143,"d":"48,143.00"}},{"$f":"SUM('법정동(2013년말)'!AI106:AI115)","v":94},{"$f":"SUM('법정동(2013년말)'!AJ106:AJ115)","v":{"v":15965,"d":"15,965.00"}},{"$f":"SUM('법정동(2013년말)'!AK106:AK115)","v":16},{"$f":"SUM('법정동(2013년말)'!AL106:AL115)","v":{"v":134098,"d":"134,098.00"}},{"$f":"SUM('법정동(2013년말)'!AM106:AM115)","v":103},{"$f":"SUM('법정동(2013년말)'!AN106:AN115)","v":{"v":74637,"d":"74,637.00"}},{"$f":"SUM('법정동(2013년말)'!AO106:AO115)","v":26},{"$f":"SUM('법정동(2013년말)'!AP106:AP115)","v":{"v":31907,"d":"31,907.00"}},{"$f":"SUM('법정동(2013년말)'!AQ106:AQ115)","v":24},{"$f":"SUM('법정동(2013년말)'!AR106:AR115)","v":0},{"$f":"SUM('법정동(2013년말)'!AS106:AS115)","v":0},{"$f":"SUM('법정동(2013년말)'!AT106:AT115)","v":0},{"$f":"SUM('법정동(2013년말)'!AU106:AU115)","v":0},{"$f":"SUM('법정동(2013년말)'!AV106:AV115)","v":0},{"$f":"SUM('법정동(2013년말)'!AW106:AW115)","v":0},{"$f":"SUM('법정동(2013년말)'!AX106:AX115)","v":0},{"$f":"SUM('법정동(2013년말)'!AY106:AY115)","v":0},{"$f":"SUM('법정동(2013년말)'!AZ106:AZ115)","v":{"v":7371,"d":"7,371.00"}},{"$f":"SUM('법정동(2013년말)'!BA106:BA115)","v":13},{"$f":"SUM('법정동(2013년말)'!BB106:BB115)","v":0},{"$f":"SUM('법정동(2013년말)'!BC106:BC115)","v":0},{"$f":"SUM('법정동(2013년말)'!BD106:BD115)","v":{"v":109115,"d":"109,115.00"}},{"$f":"SUM('법정동(2013년말)'!BE106:BE115)","v":214},{"$f":"SUM('법정동(2013년말)'!BF106:BF115)","v":{"v":139215,"d":"139,215.00"}},{"$f":"SUM('법정동(2013년말)'!BG106:BG115)","v":182}]
["삼산면",{"$f":"SUM('법정동(2013년말)'!B116:B121)","v":{"v":27543438,"d":"27,543,438.00"}},{"$f":"SUM('법정동(2013년말)'!C116:C121)","v":{"v":14002,"d":"14,002"}},{"$f":"SUM('법정동(2013년말)'!D116:D121)","v":{"v":4805558,"d":"4,805,558.00"}},{"$f":"SUM('법정동(2013년말)'!E116:E121)","v":{"v":5702,"d":"5,702"}},{"$f":"SUM('법정동(2013년말)'!F116:F121)","v":{"v":285508,"d":"285,508.00"}},{"$f":"SUM('법정동(2013년말)'!G116:G121)","v":678},{"$f":"SUM('법정동(2013년말)'!H116:H121)","v":{"v":981,"d":"981.00"}},{"$f":"SUM('법정동(2013년말)'!I116:I121)","v":1},{"$f":"SUM('법정동(2013년말)'!J116:J121)","v":{"v":81491,"d":"81,491.00"}},{"$f":"SUM('법정동(2013년말)'!K116:K121)","v":6},{"$f":"SUM('법정동(2013년말)'!L116:L121)","v":{"v":20736290,"d":"20,736,290.00"}},{"$f":"SUM('법정동(2013년말)'!M116:M121)","v":{"v":4233,"d":"4,233"}},{"$f":"SUM('법정동(2013년말)'!N116:N121)","v":0},{"$f":"SUM('법정동(2013년말)'!O116:O121)","v":0},{"$f":"SUM('법정동(2013년말)'!P116:P121)","v":0},{"$f":"SUM('법정동(2013년말)'!Q116:Q121)","v":0},{"$f":"SUM('법정동(2013년말)'!R116:R121)","v":{"v":479834,"d":"479,834.00"}},{"$f":"SUM('법정동(2013년말)'!S116:S121)","v":{"v":2154,"d":"2,154"}},{"$f":"SUM('법정동(2013년말)'!T116:T121)","v":0},{"$f":"SUM('법정동(2013년말)'!U116:U121)","v":0},{"$f":"SUM('법정동(2013년말)'!V116:V121)","v":{"v":71912,"d":"71,912.00"}},{"$f":"SUM('법정동(2013년말)'!W116:W121)","v":25},{"$f":"SUM('법정동(2013년말)'!X116:X121)","v":0},{"$f":"SUM('법정동(2013년말)'!Y116:Y121)","v":0},{"$f":"SUM('법정동(2013년말)'!Z116:Z121)","v":0},{"$f":"SUM('법정동(2013년말)'!AA116:AA121)","v":0},{"$f":"SUM('법정동(2013년말)'!AB116:AB121)","v":{"v":768,"d":"768.00"}},{"$f":"SUM('법정동(2013년말)'!AC116:AC121)","v":4},{"$f":"SUM('법정동(2013년말)'!AD116:AD121)","v":{"v":391829,"d":"391,829.00"}},{"$f":"SUM('법정동(2013년말)'!AE116:AE121)","v":665},{"$f":"SUM('법정동(2013년말)'!AF116:AF121)","v":0},{"$f":"SUM('법정동(2013년말)'!AG116:AG121)","v":0},{"$f":"SUM('법정동(2013년말)'!AH116:AH121)","v":{"v":28885,"d":"28,885.00"}},{"$f":"SUM('법정동(2013년말)'!AI116:AI121)","v":42},{"$f":"SUM('법정동(2013년말)'!AJ116:AJ121)","v":{"v":1424,"d":"1,424.00"}},{"$f":"SUM('법정동(2013년말)'!AK116:AK121)","v":8},{"$f":"SUM('법정동(2013년말)'!AL116:AL121)","v":{"v":48446,"d":"48,446.00"}},{"$f":"SUM('법정동(2013년말)'!AM116:AM121)","v":35},{"$f":"SUM('법정동(2013년말)'!AN116:AN121)","v":{"v":4297,"d":"4,297.00"}},{"$f":"SUM('법정동(2013년말)'!AO116:AO121)","v":5},{"$f":"SUM('법정동(2013년말)'!AP116:AP121)","v":{"v":9924,"d":"9,924.00"}},{"$f":"SUM('법정동(2013년말)'!AQ116:AQ121)","v":9},{"$f":"SUM('법정동(2013년말)'!AR116:AR121)","v":0},{"$f":"SUM('법정동(2013년말)'!AS116:AS121)","v":0},{"$f":"SUM('법정동(2013년말)'!AT116:AT121)","v":0},{"$f":"SUM('법정동(2013년말)'!AU116:AU121)","v":0},{"$f":"SUM('법정동(2013년말)'!AV116:AV121)","v":0},{"$f":"SUM('법정동(2013년말)'!AW116:AW121)","v":0},{"$f":"SUM('법정동(2013년말)'!AX116:AX121)","v":0},{"$f":"SUM('법정동(2013년말)'!AY116:AY121)","v":0},{"$f":"SUM('법정동(2013년말)'!AZ116:AZ121)","v":{"v":1963,"d":"1,963.00"}},{"$f":"SUM('법정동(2013년말)'!BA116:BA121)","v":9},{"$f":"SUM('법정동(2013년말)'!BB116:BB121)","v":0},{"$f":"SUM('법정동(2013년말)'!BC116:BC121)","v":0},{"$f":"SUM('법정동(2013년말)'!BD116:BD121)","v":{"v":422000,"d":"422,000.00"}},{"$f":"SUM('법정동(2013년말)'!BE116:BE121)","v":260},{"$f":"SUM('법정동(2013년말)'!BF116:BF121)","v":{"v":172328,"d":"172,328.00"}},{"$f":"SUM('법정동(2013년말)'!BG116:BG121)","v":166}]
["동문동",{"$f":"SUM('법정동(2013년말)'!B8,'법정동(2013년말)'!B11,'법정동(2013년말)'!B13)","v":{"v":930673,"d":"930,673.00"}},{"$f":"SUM('법정동(2013년말)'!C8,'법정동(2013년말)'!C11,'법정동(2013년말)'!C13)","v":{"v":4533,"d":"4,533"}},{"$f":"SUM('법정동(2013년말)'!D8,'법정동(2013년말)'!D11,'법정동(2013년말)'!D13)","v":{"v":109719,"d":"109,719.00"}},{"$f":"SUM('법정동(2013년말)'!E8,'법정동(2013년말)'!E11,'법정동(2013년말)'!E13)","v":358},{"$f":"SUM('법정동(2013년말)'!F8,'법정동(2013년말)'!F11,'법정동(2013년말)'!F13)","v":{"v":4253,"d":"4,253.00"}},{"$f":"SUM('법정동(2013년말)'!G8,'법정동(2013년말)'!G11,'법정동(2013년말)'!G13)","v":23},{"$f":"SUM('법정동(2013년말)'!H8,'법정동(2013년말)'!H11,'법정동(2013년말)'!H13)","v":0},{"$f":"SUM('법정동(2013년말)'!I8,'법정동(2013년말)'!I11,'법정동(2013년말)'!I13)","v":0},{"$f":"SUM('법정동(2013년말)'!J8,'법정동(2013년말)'!J11,'법정동(2013년말)'!J13)","v":0},{"$f":"SUM('법정동(2013년말)'!K8,'법정동(2013년말)'!K11,'법정동(2013년말)'!K13)","v":0},{"$f":"SUM('법정동(2013년말)'!L8,'법정동(2013년말)'!L11,'법정동(2013년말)'!L13)","v":{"v":154022,"d":"154,022.00"}},{"$f":"SUM('법정동(2013년말)'!M8,'법정동(2013년말)'!M11,'법정동(2013년말)'!M13)","v":107},{"$f":"SUM('법정동(2013년말)'!N8,'법정동(2013년말)'!N11,'법정동(2013년말)'!N13)","v":0},{"$f":"SUM('법정동(2013년말)'!O8,'법정동(2013년말)'!O11,'법정동(2013년말)'!O13)","v":0},{"$f":"SUM('법정동(2013년말)'!P8,'법정동(2013년말)'!P11,'법정동(2013년말)'!P13)","v":0},{"$f":"SUM('법정동(2013년말)'!Q8,'법정동(2013년말)'!Q11,'법정동(2013년말)'!Q13)","v":0},{"$f":"SUM('법정동(2013년말)'!R8,'법정동(2013년말)'!R11,'법정동(2013년말)'!R13)","v":{"v":343443,"d":"343,443.00"}},{"$f":"SUM('법정동(2013년말)'!S8,'법정동(2013년말)'!S11,'법정동(2013년말)'!S13)","v":{"v":3241,"d":"3,241"}},{"$f":"SUM('법정동(2013년말)'!T8,'법정동(2013년말)'!T11,'법정동(2013년말)'!T13)","v":0},{"$f":"SUM('법정동(2013년말)'!U8,'법정동(2013년말)'!U11,'법정동(2013년말)'!U13)","v":0},{"$f":"SUM('법정동(2013년말)'!V8,'법정동(2013년말)'!V11,'법정동(2013년말)'!V13)","v":{"v":76324,"d":"76,324.00"}},{"$f":"SUM('법정동(2013년말)'!W8,'법정동(2013년말)'!W11,'법정동(2013년말)'!W13)","v":8},{"$f":"SUM('법정동(2013년말)'!X8,'법정동(2013년말)'!X11,'법정동(2013년말)'!X13)","v":{"v":1247,"d":"1,247.00"}},{"$f":"SUM('법정동(2013년말)'!Y8,'법정동(2013년말)'!Y11,'법정동(2013년말)'!Y13)","v":9},{"$f":"SUM('법정동(2013년말)'!Z8,'법정동(2013년말)'!Z11,'법정동(2013년말)'!Z13)","v":0},{"$f":"SUM('법정동(2013년말)'!AA8,'법정동(2013년말)'!AA11,'법정동(2013년말)'!AA13)","v":0},{"$f":"SUM('법정동(2013년말)'!AB8,'법정동(2013년말)'!AB11,'법정동(2013년말)'!AB13)","v":{"v":177,"d":"177.00"}},{"$f":"SUM('법정동(2013년말)'!AC8,'법정동(2013년말)'!AC11,'법정동(2013년말)'!AC13)","v":1},{"$f":"SUM('법정동(2013년말)'!AD8,'법정동(2013년말)'!AD11,'법정동(2013년말)'!AD13)","v":{"v":122288,"d":"122,288.00"}},{"$f":"SUM('법정동(2013년말)'!AE8,'법정동(2013년말)'!AE11,'법정동(2013년말)'!AE13)","v":693},{"$f":"SUM('법정동(2013년말)'!AF8,'법정동(2013년말)'!AF11,'법정동(2013년말)'!AF13)","v":0},{"$f":"SUM('법정동(2013년말)'!AG8,'법정동(2013년말)'!AG11,'법정동(2013년말)'!AG13)","v":0},{"$f":"SUM('법정동(2013년말)'!AH8,'법정동(2013년말)'!AH11,'법정동(2013년말)'!AH13)","v":{"v":2134,"d":"2,134.00"}},{"$f":"SUM('법정동(2013년말)'!AI8,'법정동(2013년말)'!AI11,'법정동(2013년말)'!AI13)","v":5},{"$f":"SUM('법정동(2013년말)'!AJ8,'법정동(2013년말)'!AJ11,'법정동(2013년말)'!AJ13)","v":0},{"$f":"SUM('법정동(2013년말)'!AK8,'법정동(2013년말)'!AK11,'법정동(2013년말)'!AK13)","v":0},{"$f":"SUM('법정동(2013년말)'!AL8,'법정동(2013년말)'!AL11,'법정동(2013년말)'!AL13)","v":{"v":5328,"d":"5,328.00"}},{"$f":"SUM('법정동(2013년말)'!AM8,'법정동(2013년말)'!AM11,'법정동(2013년말)'!AM13)","v":21},{"$f":"SUM('법정동(2013년말)'!AN8,'법정동(2013년말)'!AN11,'법정동(2013년말)'!AN13)","v":0},{"$f":"SUM('법정동(2013년말)'!AO8,'법정동(2013년말)'!AO11,'법정동(2013년말)'!AO13)","v":0},{"$f":"SUM('법정동(2013년말)'!AP8,'법정동(2013년말)'!AP11,'법정동(2013년말)'!AP13)","v":0},{"$f":"SUM('법정동(2013년말)'!AQ8,'법정동(2013년말)'!AQ11,'법정동(2013년말)'!AQ13)","v":0},{"$f":"SUM('법정동(2013년말)'!AR8,'법정동(2013년말)'!AR11,'법정동(2013년말)'!AR13)","v":{"v":5945,"d":"5,945.00"}},{"$f":"SUM('법정동(2013년말)'!AS8,'법정동(2013년말)'!AS11,'법정동(2013년말)'!AS13)","v":6},{"$f":"SUM('법정동(2013년말)'!AT8,'법정동(2013년말)'!AT11,'법정동(2013년말)'!AT13)","v":{"v":84607,"d":"84,607.00"}},{"$f":"SUM('법정동(2013년말)'!AU8,'법정동(2013년말)'!AU11,'법정동(2013년말)'!AU13)","v":15},{"$f":"SUM('법정동(2013년말)'!AV8,'법정동(2013년말)'!AV11,'법정동(2013년말)'!AV13)","v":0},{"$f":"SUM('법정동(2013년말)'!AW8,'법정동(2013년말)'!AW11,'법정동(2013년말)'!AW13)","v":0},{"$f":"SUM('법정동(2013년말)'!AX8,'법정동(2013년말)'!AX11,'법정동(2013년말)'!AX13)","v":0},{"$f":"SUM('법정동(2013년말)'!AY8,'법정동(2013년말)'!AY11,'법정동(2013년말)'!AY13)","v":0},{"$f":"SUM('법정동(2013년말)'!AZ8,'법정동(2013년말)'!AZ11,'법정동(2013년말)'!AZ13)","v":{"v":3567,"d":"3,567.00"}},{"$f":"SUM('법정동(2013년말)'!BA8,'법정동(2013년말)'!BA11,'법정동(2013년말)'!BA13)","v":11},{"$f":"SUM('법정동(2013년말)'!BB8,'법정동(2013년말)'!BB11,'법정동(2013년말)'!BB13)","v":0},{"$f":"SUM('법정동(2013년말)'!BC8,'법정동(2013년말)'!BC11,'법정동(2013년말)'!BC13)","v":0},{"$f":"SUM('법정동(2013년말)'!BD8,'법정동(2013년말)'!BD11,'법정동(2013년말)'!BD13)","v":{"v":4334,"d":"4,334.00"}},{"$f":"SUM('법정동(2013년말)'!BE8,'법정동(2013년말)'!BE11,'법정동(2013년말)'!BE13)","v":15},{"$f":"SUM('법정동(2013년말)'!BF8,'법정동(2013년말)'!BF11,'법정동(2013년말)'!BF13)","v":{"v":13285,"d":"13,285.00"}},{"$f":"SUM('법정동(2013년말)'!BG8,'법정동(2013년말)'!BG11,'법정동(2013년말)'!BG13)","v":20}]
["한려동",{"$f":"SUM('법정동(2013년말)'!B9:B10)","v":{"v":949848.7,"d":"949,848.70"}},{"$f":"SUM('법정동(2013년말)'!C9:C10)","v":{"v":3150,"d":"3,150"}},{"$f":"SUM('법정동(2013년말)'!D9:D10)","v":{"v":42514,"d":"42,514.00"}},{"$f":"SUM('법정동(2013년말)'!E9:E10)","v":251},{"$f":"SUM('법정동(2013년말)'!F9:F10)","v":0},{"$f":"SUM('법정동(2013년말)'!G9:G10)","v":0},{"$f":"SUM('법정동(2013년말)'!H9:H10)","v":0},{"$f":"SUM('법정동(2013년말)'!I9:I10)","v":0},{"$f":"SUM('법정동(2013년말)'!J9:J10)","v":0},{"$f":"SUM('법정동(2013년말)'!K9:K10)","v":0},{"$f":"SUM('법정동(2013년말)'!L9:L10)","v":{"v":131879,"d":"131,879.00"}},{"$f":"SUM('법정동(2013년말)'!M9:M10)","v":51},{"$f":"SUM('법정동(2013년말)'!N9:N10)","v":0},{"$f":"SUM('법정동(2013년말)'!O9:O10)","v":0},{"$f":"SUM('법정동(2013년말)'!P9:P10)","v":0},{"$f":"SUM('법정동(2013년말)'!Q9:Q10)","v":0},{"$f":"SUM('법정동(2013년말)'!R9:R10)","v":{"v":323834.8,"d":"323,834.80"}},{"$f":"SUM('법정동(2013년말)'!S9:S10)","v":{"v":2221,"d":"2,221"}},{"$f":"SUM('법정동(2013년말)'!T9:T10)","v":0},{"$f":"SUM('법정동(2013년말)'!U9:U10)","v":0},{"$f":"SUM('법정동(2013년말)'!V9:V10)","v":{"v":89058,"d":"89,058.00"}},{"$f":"SUM('법정동(2013년말)'!W9:W10)","v":8},{"$f":"SUM('법정동(2013년말)'!X9:X10)","v":{"v":14505.8,"d":"14,505.80"}},{"$f":"SUM('법정동(2013년말)'!Y9:Y10)","v":11},{"$f":"SUM('법정동(2013년말)'!Z9:Z10)","v":{"v":1141,"d":"1,141.00"}},{"$f":"SUM('법정동(2013년말)'!AA9:AA10)","v":4},{"$f":"SUM('법정동(2013년말)'!AB9:AB10)","v":0},{"$f":"SUM('법정동(2013년말)'!AC9:AC10)","v":0},{"$f":"SUM('법정동(2013년말)'!AD9:AD10)","v":{"v":212354.3,"d":"212,354.30"}},{"$f":"SUM('법정동(2013년말)'!AE9:AE10)","v":504},{"$f":"SUM('법정동(2013년말)'!AF9:AF10)","v":{"v":3858,"d":"3,858.00"}},{"$f":"SUM('법정동(2013년말)'!AG9:AG10)","v":28},{"$f":"SUM('법정동(2013년말)'!AH9:AH10)","v":{"v":11759,"d":"11,759.00"}},{"$f":"SUM('법정동(2013년말)'!AI9:AI10)","v":4},{"$f":"SUM('법정동(2013년말)'!AJ9:AJ10)","v":0},{"$f":"SUM('법정동(2013년말)'!AK9:AK10)","v":0},{"$f":"SUM('법정동(2013년말)'!AL9:AL10)","v":{"v":3480,"d":"3,480.00"}},{"$f":"SUM('법정동(2013년말)'!AM9:AM10)","v":22},{"$f":"SUM('법정동(2013년말)'!AN9:AN10)","v":0},{"$f":"SUM('법정동(2013년말)'!AO9:AO10)","v":0},{"$f":"SUM('법정동(2013년말)'!AP9:AP10)","v":0},{"$f":"SUM('법정동(2013년말)'!AQ9:AQ10)","v":0},{"$f":"SUM('법정동(2013년말)'!AR9:AR10)","v":0},{"$f":"SUM('법정동(2013년말)'!AS9:AS10)","v":0},{"$f":"SUM('법정동(2013년말)'!AT9:AT10)","v":{"v":73715.6,"d":"73,715.60"}},{"$f":"SUM('법정동(2013년말)'!AU9:AU10)","v":8},{"$f":"SUM('법정동(2013년말)'!AV9:AV10)","v":0},{"$f":"SUM('법정동(2013년말)'!AW9:AW10)","v":0},{"$f":"SUM('법정동(2013년말)'!AX9:AX10)","v":0},{"$f":"SUM('법정동(2013년말)'!AY9:AY10)","v":0},{"$f":"SUM('법정동(2013년말)'!AZ9:AZ10)","v":{"v":6337,"d":"6,337.00"}},{"$f":"SUM('법정동(2013년말)'!BA9:BA10)","v":9},{"$f":"SUM('법정동(2013년말)'!BB9:BB10)","v":0},{"$f":"SUM('법정동(2013년말)'!BC9:BC10)","v":0},{"$f":"SUM('법정동(2013년말)'!BD9:BD10)","v":{"v":1128,"d":"1,128.00"}},{"$f":"SUM('법정동(2013년말)'!BE9:BE10)","v":5},{"$f":"SUM('법정동(2013년말)'!BF9:BF10)","v":{"v":34284.2,"d":"34,284.20"}},{"$f":"SUM('법정동(2013년말)'!BG9:BG10)","v":24}]
["중앙동",{"$f":"SUM('법정동(2013년말)'!B12,'법정동(2013년말)'!B14:B15)","v":{"v":501936.2,"d":"501,936.20"}},{"$f":"SUM('법정동(2013년말)'!C12,'법정동(2013년말)'!C14:C15)","v":{"v":3288,"d":"3,288"}},{"$f":"SUM('법정동(2013년말)'!D12,'법정동(2013년말)'!D14:D15)","v":{"v":16605,"d":"16,605.00"}},{"$f":"SUM('법정동(2013년말)'!E12,'법정동(2013년말)'!E14:E15)","v":104},{"$f":"SUM('법정동(2013년말)'!F12,'법정동(2013년말)'!F14:F15)","v":0},{"$f":"SUM('법정동(2013년말)'!G12,'법정동(2013년말)'!G14:G15)","v":0},{"$f":"SUM('법정동(2013년말)'!H12,'법정동(2013년말)'!H14:H15)","v":0},{"$f":"SUM('법정동(2013년말)'!I12,'법정동(2013년말)'!I14:I15)","v":0},{"$f":"SUM('법정동(2013년말)'!J12,'법정동(2013년말)'!J14:J15)","v":0},{"$f":"SUM('법정동(2013년말)'!K12,'법정동(2013년말)'!K14:K15)","v":0},{"$f":"SUM('법정동(2013년말)'!L12,'법정동(2013년말)'!L14:L15)","v":{"v":21202,"d":"21,202.00"}},{"$f":"SUM('법정동(2013년말)'!M12,'법정동(2013년말)'!M14:M15)","v":24},{"$f":"SUM('법정동(2013년말)'!N12,'법정동(2013년말)'!N14:N15)","v":0},{"$f":"SUM('법정동(2013년말)'!O12,'법정동(2013년말)'!O14:O15)","v":0},{"$f":"SUM('법정동(2013년말)'!P12,'법정동(2013년말)'!P14:P15)","v":0},{"$f":"SUM('법정동(2013년말)'!Q12,'법정동(2013년말)'!Q14:Q15)","v":0},{"$f":"SUM('법정동(2013년말)'!R12,'법정동(2013년말)'!R14:R15)","v":{"v":279748,"d":"279,748.00"}},{"$f":"SUM('법정동(2013년말)'!S12,'법정동(2013년말)'!S14:S15)","v":{"v":2555,"d":"2,555"}},{"$f":"SUM('법정동(2013년말)'!T12,'법정동(2013년말)'!T14:T15)","v":0},{"$f":"SUM('법정동(2013년말)'!U12,'법정동(2013년말)'!U14:U15)","v":0},{"$f":"SUM('법정동(2013년말)'!V12,'법정동(2013년말)'!V14:V15)","v":0},{"$f":"SUM('법정동(2013년말)'!W12,'법정동(2013년말)'!W14:W15)","v":0},{"$f":"SUM('법정동(2013년말)'!X12,'법정동(2013년말)'!X14:X15)","v":{"v":6241.2,"d":"6,241.20"}},{"$f":"SUM('법정동(2013년말)'!Y12,'법정동(2013년말)'!Y14:Y15)","v":7},{"$f":"SUM('법정동(2013년말)'!Z12,'법정동(2013년말)'!Z14:Z15)","v":0},{"$f":"SUM('법정동(2013년말)'!AA12,'법정동(2013년말)'!AA14:AA15)","v":0},{"$f":"SUM('법정동(2013년말)'!AB12,'법정동(2013년말)'!AB14:AB15)","v":0},{"$f":"SUM('법정동(2013년말)'!AC12,'법정동(2013년말)'!AC14:AC15)","v":0},{"$f":"SUM('법정동(2013년말)'!AD12,'법정동(2013년말)'!AD14:AD15)","v":{"v":135266,"d":"135,266.00"}},{"$f":"SUM('법정동(2013년말)'!AE12,'법정동(2013년말)'!AE14:AE15)","v":562},{"$f":"SUM('법정동(2013년말)'!AF12,'법정동(2013년말)'!AF14:AF15)","v":0},{"$f":"SUM('법정동(2013년말)'!AG12,'법정동(2013년말)'!AG14:AG15)","v":0},{"$f":"SUM('법정동(2013년말)'!AH12,'법정동(2013년말)'!AH14:AH15)","v":{"v":800,"d":"800.00"}},{"$f":"SUM('법정동(2013년말)'!AI12,'법정동(2013년말)'!AI14:AI15)","v":2},{"$f":"SUM('법정동(2013년말)'!AJ12,'법정동(2013년말)'!AJ14:AJ15)","v":{"v":9005,"d":"9,005.00"}},{"$f":"SUM('법정동(2013년말)'!AK12,'법정동(2013년말)'!AK14:AK15)","v":1},{"$f":"SUM('법정동(2013년말)'!AL12,'법정동(2013년말)'!AL14:AL15)","v":{"v":445,"d":"445.00"}},{"$f":"SUM('법정동(2013년말)'!AM12,'법정동(2013년말)'!AM14:AM15)","v":5},{"$f":"SUM('법정동(2013년말)'!AN12,'법정동(2013년말)'!AN14:AN15)","v":0},{"$f":"SUM('법정동(2013년말)'!AO12,'법정동(2013년말)'!AO14:AO15)","v":0},{"$f":"SUM('법정동(2013년말)'!AP12,'법정동(2013년말)'!AP14:AP15)","v":0},{"$f":"SUM('법정동(2013년말)'!AQ12,'법정동(2013년말)'!AQ14:AQ15)","v":0},{"$f":"SUM('법정동(2013년말)'!AR12,'법정동(2013년말)'!AR14:AR15)","v":{"v":671,"d":"671.00"}},{"$f":"SUM('법정동(2013년말)'!AS12,'법정동(2013년말)'!AS14:AS15)","v":1},{"$f":"SUM('법정동(2013년말)'!AT12,'법정동(2013년말)'!AT14:AT15)","v":{"v":9732,"d":"9,732.00"}},{"$f":"SUM('법정동(2013년말)'!AU12,'법정동(2013년말)'!AU14:AU15)","v":1},{"$f":"SUM('법정동(2013년말)'!AV12,'법정동(2013년말)'!AV14:AV15)","v":0},{"$f":"SUM('법정동(2013년말)'!AW12,'법정동(2013년말)'!AW14:AW15)","v":0},{"$f":"SUM('법정동(2013년말)'!AX12,'법정동(2013년말)'!AX14:AX15)","v":0},{"$f":"SUM('법정동(2013년말)'!AY12,'법정동(2013년말)'!AY14:AY15)","v":0},{"$f":"SUM('법정동(2013년말)'!AZ12,'법정동(2013년말)'!AZ14:AZ15)","v":{"v":3526,"d":"3,526.00"}},{"$f":"SUM('법정동(2013년말)'!BA12,'법정동(2013년말)'!BA14:BA15)","v":4},{"$f":"SUM('법정동(2013년말)'!BB12,'법정동(2013년말)'!BB14:BB15)","v":{"v":1583,"d":"1,583.00"}},{"$f":"SUM('법정동(2013년말)'!BC12,'법정동(2013년말)'!BC14:BC15)","v":1},{"$f":"SUM('법정동(2013년말)'!BD12,'법정동(2013년말)'!BD14:BD15)","v":{"v":78,"d":"78.00"}},{"$f":"SUM('법정동(2013년말)'!BE12,'법정동(2013년말)'!BE14:BE15)","v":3},{"$f":"SUM('법정동(2013년말)'!BF12,'법정동(2013년말)'!BF14:BF15)","v":{"v":17034,"d":"17,034.00"}},{"$f":"SUM('법정동(2013년말)'!BG12,'법정동(2013년말)'!BG14:BG15)","v":18}]
["충무동",{"$f":"SUM('법정동(2013년말)'!B16:B18)","v":{"v":1349528.5,"d":"1,349,528.50"}},{"$f":"SUM('법정동(2013년말)'!C16:C18)","v":{"v":3789,"d":"3,789"}},{"$f":"SUM('법정동(2013년말)'!D16:D18)","v":{"v":231270,"d":"231,270.00"}},{"$f":"SUM('법정동(2013년말)'!E16:E18)","v":514},{"$f":"SUM('법정동(2013년말)'!F16:F18)","v":{"v":45899,"d":"45,899.00"}},{"$f":"SUM('법정동(2013년말)'!G16:G18)","v":82},{"$f":"SUM('법정동(2013년말)'!H16:H18)","v":0},{"$f":"SUM('법정동(2013년말)'!I16:I18)","v":0},{"$f":"SUM('법정동(2013년말)'!J16:J18)","v":0},{"$f":"SUM('법정동(2013년말)'!K16:K18)","v":0},{"$f":"SUM('법정동(2013년말)'!L16:L18)","v":{"v":447669.8,"d":"447,669.80"}},{"$f":"SUM('법정동(2013년말)'!M16:M18)","v":157},{"$f":"SUM('법정동(2013년말)'!N16:N18)","v":0},{"$f":"SUM('법정동(2013년말)'!O16:O18)","v":0},{"$f":"SUM('법정동(2013년말)'!P16:P18)","v":0},{"$f":"SUM('법정동(2013년말)'!Q16:Q18)","v":0},{"$f":"SUM('법정동(2013년말)'!R16:R18)","v":{"v":308443.1,"d":"308,443.10"}},{"$f":"SUM('법정동(2013년말)'!S16:S18)","v":{"v":2462,"d":"2,462"}},{"$f":"SUM('법정동(2013년말)'!T16:T18)","v":{"v":696.7,"d":"696.70"}},{"$f":"SUM('법정동(2013년말)'!U16:U18)","v":1},{"$f":"SUM('법정동(2013년말)'!V16:V18)","v":{"v":21502,"d":"21,502.00"}},{"$f":"SUM('법정동(2013년말)'!W16:W18)","v":3},{"$f":"SUM('법정동(2013년말)'!X16:X18)","v":{"v":2838,"d":"2,838.00"}},{"$f":"SUM('법정동(2013년말)'!Y16:Y18)","v":12},{"$f":"SUM('법정동(2013년말)'!Z16:Z18)","v":{"v":1946.1,"d":"1,946.10"}},{"$f":"SUM('법정동(2013년말)'!AA16:AA18)","v":7},{"$f":"SUM('법정동(2013년말)'!AB16:AB18)","v":{"v":2638.4,"d":"2,638.40"}},{"$f":"SUM('법정동(2013년말)'!AC16:AC18)","v":3},{"$f":"SUM('법정동(2013년말)'!AD16:AD18)","v":{"v":201920,"d":"201,920.00"}},{"$f":"SUM('법정동(2013년말)'!AE16:AE18)","v":445},{"$f":"SUM('법정동(2013년말)'!AF16:AF18)","v":0},{"$f":"SUM('법정동(2013년말)'!AG16:AG18)","v":0},{"$f":"SUM('법정동(2013년말)'!AH16:AH18)","v":0},{"$f":"SUM('법정동(2013년말)'!AI16:AI18)","v":0},{"$f":"SUM('법정동(2013년말)'!AJ16:AJ18)","v":{"v":20098,"d":"20,098.00"}},{"$f":"SUM('법정동(2013년말)'!AK16:AK18)","v":23},{"$f":"SUM('법정동(2013년말)'!AL16:AL18)","v":{"v":34073.4,"d":"34,073.40"}},{"$f":"SUM('법정동(2013년말)'!AM16:AM18)","v":26},{"$f":"SUM('법정동(2013년말)'!AN16:AN18)","v":0},{"$f":"SUM('법정동(2013년말)'!AO16:AO18)","v":0},{"$f":"SUM('법정동(2013년말)'!AP16:AP18)","v":0},{"$f":"SUM('법정동(2013년말)'!AQ16:AQ18)","v":0},{"$f":"SUM('법정동(2013년말)'!AR16:AR18)","v":{"v":2189.1,"d":"2,189.10"}},{"$f":"SUM('법정동(2013년말)'!AS16:AS18)","v":4},{"$f":"SUM('법정동(2013년말)'!AT16:AT18)","v":{"v":991.9,"d":"991.90"}},{"$f":"SUM('법정동(2013년말)'!AU16:AU18)","v":1},{"$f":"SUM('법정동(2013년말)'!AV16:AV18)","v":0},{"$f":"SUM('법정동(2013년말)'!AW16:AW18)","v":0},{"$f":"SUM('법정동(2013년말)'!AX16:AX18)","v":0},{"$f":"SUM('법정동(2013년말)'!AY16:AY18)","v":0},{"$f":"SUM('법정동(2013년말)'!AZ16:AZ18)","v":{"v":9435,"d":"9,435.00"}},{"$f":"SUM('법정동(2013년말)'!BA16:BA18)","v":17},{"$f":"SUM('법정동(2013년말)'!BB16:BB18)","v":{"v":5718,"d":"5,718.00"}},{"$f":"SUM('법정동(2013년말)'!BC16:BC18)","v":5},{"$f":"SUM('법정동(2013년말)'!BD16:BD18)","v":{"v":5021,"d":"5,021.00"}},{"$f":"SUM('법정동(2013년말)'!BE16:BE18)","v":9},{"$f":"SUM('법정동(2013년말)'!BF16:BF18)","v":{"v":7179,"d":"7,179.00"}},{"$f":"SUM('법정동(2013년말)'!BG16:BG18)","v":18}]
["광림동",{"$f":"SUM('법정동(2013년말)'!B19,'법정동(2013년말)'!B28)","v":{"v":3395957.1,"d":"3,395,957.10"}},{"$f":"SUM('법정동(2013년말)'!C19,'법정동(2013년말)'!C28)","v":{"v":4570,"d":"4,570"}},{"$f":"SUM('법정동(2013년말)'!D19,'법정동(2013년말)'!D28)","v":{"v":374738,"d":"374,738.00"}},{"$f":"SUM('법정동(2013년말)'!E19,'법정동(2013년말)'!E28)","v":698},{"$f":"SUM('법정동(2013년말)'!F19,'법정동(2013년말)'!F28)","v":{"v":65058,"d":"65,058.00"}},{"$f":"SUM('법정동(2013년말)'!G19,'법정동(2013년말)'!G28)","v":149},{"$f":"SUM('법정동(2013년말)'!H19,'법정동(2013년말)'!H28)","v":0},{"$f":"SUM('법정동(2013년말)'!I19,'법정동(2013년말)'!I28)","v":0},{"$f":"SUM('법정동(2013년말)'!J19,'법정동(2013년말)'!J28)","v":0},{"$f":"SUM('법정동(2013년말)'!K19,'법정동(2013년말)'!K28)","v":0},{"$f":"SUM('법정동(2013년말)'!L19,'법정동(2013년말)'!L28)","v":{"v":1763396,"d":"1,763,396.00"}},{"$f":"SUM('법정동(2013년말)'!M19,'법정동(2013년말)'!M28)","v":389},{"$f":"SUM('법정동(2013년말)'!N19,'법정동(2013년말)'!N28)","v":0},{"$f":"SUM('법정동(2013년말)'!O19,'법정동(2013년말)'!O28)","v":0},{"$f":"SUM('법정동(2013년말)'!P19,'법정동(2013년말)'!P28)","v":0},{"$f":"SUM('법정동(2013년말)'!Q19,'법정동(2013년말)'!Q28)","v":0},{"$f":"SUM('법정동(2013년말)'!R19,'법정동(2013년말)'!R28)","v":{"v":410560,"d":"410,560.00"}},{"$f":"SUM('법정동(2013년말)'!S19,'법정동(2013년말)'!S28)","v":{"v":2354,"d":"2,354"}},{"$f":"SUM('법정동(2013년말)'!T19,'법정동(2013년말)'!T28)","v":{"v":895,"d":"895.00"}},{"$f":"SUM('법정동(2013년말)'!U19,'법정동(2013년말)'!U28)","v":1},{"$f":"SUM('법정동(2013년말)'!V19,'법정동(2013년말)'!V28)","v":{"v":45635,"d":"45,635.00"}},{"$f":"SUM('법정동(2013년말)'!W19,'법정동(2013년말)'!W28)","v":7},{"$f":"SUM('법정동(2013년말)'!X19,'법정동(2013년말)'!X28)","v":{"v":2396.3,"d":"2,396.30"}},{"$f":"SUM('법정동(2013년말)'!Y19,'법정동(2013년말)'!Y28)","v":5},{"$f":"SUM('법정동(2013년말)'!Z19,'법정동(2013년말)'!Z28)","v":{"v":3635.6000000000004,"d":"3,635.60"}},{"$f":"SUM('법정동(2013년말)'!AA19,'법정동(2013년말)'!AA28)","v":9},{"$f":"SUM('법정동(2013년말)'!AB19,'법정동(2013년말)'!AB28)","v":{"v":894,"d":"894.00"}},{"$f":"SUM('법정동(2013년말)'!AC19,'법정동(2013년말)'!AC28)","v":2},{"$f":"SUM('법정동(2013년말)'!AD19,'법정동(2013년말)'!AD28)","v":{"v":265137.8,"d":"265,137.80"}},{"$f":"SUM('법정동(2013년말)'!AE19,'법정동(2013년말)'!AE28)","v":764},{"$f":"SUM('법정동(2013년말)'!AF19,'법정동(2013년말)'!AF28)","v":{"v":33331,"d":"33,331.00"}},{"$f":"SUM('법정동(2013년말)'!AG19,'법정동(2013년말)'!AG28)","v":33},{"$f":"SUM('법정동(2013년말)'!AH19,'법정동(2013년말)'!AH28)","v":0},{"$f":"SUM('법정동(2013년말)'!AI19,'법정동(2013년말)'!AI28)","v":0},{"$f":"SUM('법정동(2013년말)'!AJ19,'법정동(2013년말)'!AJ28)","v":{"v":25852.4,"d":"25,852.40"}},{"$f":"SUM('법정동(2013년말)'!AK19,'법정동(2013년말)'!AK28)","v":16},{"$f":"SUM('법정동(2013년말)'!AL19,'법정동(2013년말)'!AL28)","v":{"v":19052.100000000002,"d":"19,052.10"}},{"$f":"SUM('법정동(2013년말)'!AM19,'법정동(2013년말)'!AM28)","v":43},{"$f":"SUM('법정동(2013년말)'!AN19,'법정동(2013년말)'!AN28)","v":{"v":10,"d":"10.00"}},{"$f":"SUM('법정동(2013년말)'!AO19,'법정동(2013년말)'!AO28)","v":1},{"$f":"SUM('법정동(2013년말)'!AP19,'법정동(2013년말)'!AP28)","v":0},{"$f":"SUM('법정동(2013년말)'!AQ19,'법정동(2013년말)'!AQ28)","v":0},{"$f":"SUM('법정동(2013년말)'!AR19,'법정동(2013년말)'!AR28)","v":{"v":12938,"d":"12,938.00"}},{"$f":"SUM('법정동(2013년말)'!AS19,'법정동(2013년말)'!AS28)","v":16},{"$f":"SUM('법정동(2013년말)'!AT19,'법정동(2013년말)'!AT28)","v":{"v":2315.4,"d":"2,315.40"}},{"$f":"SUM('법정동(2013년말)'!AU19,'법정동(2013년말)'!AU28)","v":2},{"$f":"SUM('법정동(2013년말)'!AV19,'법정동(2013년말)'!AV28)","v":{"v":310227,"d":"310,227.00"}},{"$f":"SUM('법정동(2013년말)'!AW19,'법정동(2013년말)'!AW28)","v":14},{"$f":"SUM('법정동(2013년말)'!AX19,'법정동(2013년말)'!AX28)","v":0},{"$f":"SUM('법정동(2013년말)'!AY19,'법정동(2013년말)'!AY28)","v":0},{"$f":"SUM('법정동(2013년말)'!AZ19,'법정동(2013년말)'!AZ28)","v":{"v":8655.9,"d":"8,655.90"}},{"$f":"SUM('법정동(2013년말)'!BA19,'법정동(2013년말)'!BA28)","v":12},{"$f":"SUM('법정동(2013년말)'!BB19,'법정동(2013년말)'!BB28)","v":0},{"$f":"SUM('법정동(2013년말)'!BC19,'법정동(2013년말)'!BC28)","v":0},{"$f":"SUM('법정동(2013년말)'!BD19,'법정동(2013년말)'!BD28)","v":{"v":39638,"d":"39,638.00"}},{"$f":"SUM('법정동(2013년말)'!BE19,'법정동(2013년말)'!BE28)","v":26},{"$f":"SUM('법정동(2013년말)'!BF19,'법정동(2013년말)'!BF28)","v":{"v":11591.6,"d":"11,591.60"}},{"$f":"SUM('법정동(2013년말)'!BG19,'법정동(2013년말)'!BG28)","v":29}]
["서강동",{"$f":"SUM('법정동(2013년말)'!B20:B21)","v":{"v":655394.5,"d":"655,394.50"}},{"$f":"SUM('법정동(2013년말)'!C20:C21)","v":{"v":2767,"d":"2,767"}},{"$f":"SUM('법정동(2013년말)'!D20:D21)","v":{"v":79595,"d":"79,595.00"}},{"$f":"SUM('법정동(2013년말)'!E20:E21)","v":172},{"$f":"SUM('법정동(2013년말)'!F20:F21)","v":{"v":27350,"d":"27,350.00"}},{"$f":"SUM('법정동(2013년말)'!G20:G21)","v":58},{"$f":"SUM('법정동(2013년말)'!H20:H21)","v":0},{"$f":"SUM('법정동(2013년말)'!I20:I21)","v":0},{"$f":"SUM('법정동(2013년말)'!J20:J21)","v":0},{"$f":"SUM('법정동(2013년말)'!K20:K21)","v":0},{"$f":"SUM('법정동(2013년말)'!L20:L21)","v":{"v":156344,"d":"156,344.00"}},{"$f":"SUM('법정동(2013년말)'!M20:M21)","v":55},{"$f":"SUM('법정동(2013년말)'!N20:N21)","v":0},{"$f":"SUM('법정동(2013년말)'!O20:O21)","v":0},{"$f":"SUM('법정동(2013년말)'!P20:P21)","v":0},{"$f":"SUM('법정동(2013년말)'!Q20:Q21)","v":0},{"$f":"SUM('법정동(2013년말)'!R20:R21)","v":{"v":207727.2,"d":"207,727.20"}},{"$f":"SUM('법정동(2013년말)'!S20:S21)","v":{"v":1783,"d":"1,783"}},{"$f":"SUM('법정동(2013년말)'!T20:T21)","v":0},{"$f":"SUM('법정동(2013년말)'!U20:U21)","v":0},{"$f":"SUM('법정동(2013년말)'!V20:V21)","v":{"v":55144,"d":"55,144.00"}},{"$f":"SUM('법정동(2013년말)'!W20:W21)","v":3},{"$f":"SUM('법정동(2013년말)'!X20:X21)","v":{"v":7312,"d":"7,312.00"}},{"$f":"SUM('법정동(2013년말)'!Y20:Y21)","v":6},{"$f":"SUM('법정동(2013년말)'!Z20:Z21)","v":0},{"$f":"SUM('법정동(2013년말)'!AA20:AA21)","v":0},{"$f":"SUM('법정동(2013년말)'!AB20:AB21)","v":0},{"$f":"SUM('법정동(2013년말)'!AC20:AC21)","v":0},{"$f":"SUM('법정동(2013년말)'!AD20:AD21)","v":{"v":95180.7,"d":"95,180.70"}},{"$f":"SUM('법정동(2013년말)'!AE20:AE21)","v":627},{"$f":"SUM('법정동(2013년말)'!AF20:AF21)","v":0},{"$f":"SUM('법정동(2013년말)'!AG20:AG21)","v":0},{"$f":"SUM('법정동(2013년말)'!AH20:AH21)","v":0},{"$f":"SUM('법정동(2013년말)'!AI20:AI21)","v":0},{"$f":"SUM('법정동(2013년말)'!AJ20:AJ21)","v":{"v":8724,"d":"8,724.00"}},{"$f":"SUM('법정동(2013년말)'!AK20:AK21)","v":4},{"$f":"SUM('법정동(2013년말)'!AL20:AL21)","v":{"v":4157,"d":"4,157.00"}},{"$f":"SUM('법정동(2013년말)'!AM20:AM21)","v":26},{"$f":"SUM('법정동(2013년말)'!AN20:AN21)","v":0},{"$f":"SUM('법정동(2013년말)'!AO20:AO21)","v":0},{"$f":"SUM('법정동(2013년말)'!AP20:AP21)","v":0},{"$f":"SUM('법정동(2013년말)'!AQ20:AQ21)","v":0},{"$f":"SUM('법정동(2013년말)'!AR20:AR21)","v":0},{"$f":"SUM('법정동(2013년말)'!AS20:AS21)","v":0},{"$f":"SUM('법정동(2013년말)'!AT20:AT21)","v":{"v":2049.9,"d":"2,049.90"}},{"$f":"SUM('법정동(2013년말)'!AU20:AU21)","v":2},{"$f":"SUM('법정동(2013년말)'!AV20:AV21)","v":0},{"$f":"SUM('법정동(2013년말)'!AW20:AW21)","v":0},{"$f":"SUM('법정동(2013년말)'!AX20:AX21)","v":0},{"$f":"SUM('법정동(2013년말)'!AY20:AY21)","v":0},{"$f":"SUM('법정동(2013년말)'!AZ20:AZ21)","v":{"v":8250,"d":"8,250.00"}},{"$f":"SUM('법정동(2013년말)'!BA20:BA21)","v":7},{"$f":"SUM('법정동(2013년말)'!BB20:BB21)","v":0},{"$f":"SUM('법정동(2013년말)'!BC20:BC21)","v":0},{"$f":"SUM('법정동(2013년말)'!BD20:BD21)","v":0},{"$f":"SUM('법정동(2013년말)'!BE20:BE21)","v":0},{"$f":"SUM('법정동(2013년말)'!BF20:BF21)","v":{"v":3560.7,"d":"3,560.70"}},{"$f":"SUM('법정동(2013년말)'!BG20:BG21)","v":24}]
["대교동",{"$f":"SUM('법정동(2013년말)'!B22:B23)","v":{"v":1614169.7,"d":"1,614,169.70"}},{"$f":"SUM('법정동(2013년말)'!C22:C23)","v":{"v":4807,"d":"4,807"}},{"$f":"SUM('법정동(2013년말)'!D22:D23)","v":{"v":242927,"d":"242,927.00"}},{"$f":"SUM('법정동(2013년말)'!E22:E23)","v":527},{"$f":"SUM('법정동(2013년말)'!F22:F23)","v":{"v":43040,"d":"43,040.00"}},{"$f":"SUM('법정동(2013년말)'!G22:G23)","v":102},{"$f":"SUM('법정동(2013년말)'!H22:H23)","v":0},{"$f":"SUM('법정동(2013년말)'!I22:I23)","v":0},{"$f":"SUM('법정동(2013년말)'!J22:J23)","v":0},{"$f":"SUM('법정동(2013년말)'!K22:K23)","v":0},{"$f":"SUM('법정동(2013년말)'!L22:L23)","v":{"v":385533,"d":"385,533.00"}},{"$f":"SUM('법정동(2013년말)'!M22:M23)","v":95},{"$f":"SUM('법정동(2013년말)'!N22:N23)","v":0},{"$f":"SUM('법정동(2013년말)'!O22:O23)","v":0},{"$f":"SUM('법정동(2013년말)'!P22:P23)","v":0},{"$f":"SUM('법정동(2013년말)'!Q22:Q23)","v":0},{"$f":"SUM('법정동(2013년말)'!R22:R23)","v":{"v":546175.1,"d":"546,175.10"}},{"$f":"SUM('법정동(2013년말)'!S22:S23)","v":{"v":3187,"d":"3,187"}},{"$f":"SUM('법정동(2013년말)'!T22:T23)","v":{"v":353.1,"d":"353.10"}},{"$f":"SUM('법정동(2013년말)'!U22:U23)","v":1},{"$f":"SUM('법정동(2013년말)'!V22:V23)","v":{"v":33929,"d":"33,929.00"}},{"$f":"SUM('법정동(2013년말)'!W22:W23)","v":8},{"$f":"SUM('법정동(2013년말)'!X22:X23)","v":{"v":3693.1,"d":"3,693.10"}},{"$f":"SUM('법정동(2013년말)'!Y22:Y23)","v":7},{"$f":"SUM('법정동(2013년말)'!Z22:Z23)","v":{"v":2234.6,"d":"2,234.60"}},{"$f":"SUM('법정동(2013년말)'!AA22:AA23)","v":4},{"$f":"SUM('법정동(2013년말)'!AB22:AB23)","v":{"v":1297.1,"d":"1,297.10"}},{"$f":"SUM('법정동(2013년말)'!AC22:AC23)","v":4},{"$f":"SUM('법정동(2013년말)'!AD22:AD23)","v":{"v":284670.7,"d":"284,670.70"}},{"$f":"SUM('법정동(2013년말)'!AE22:AE23)","v":793},{"$f":"SUM('법정동(2013년말)'!AF22:AF23)","v":0},{"$f":"SUM('법정동(2013년말)'!AG22:AG23)","v":0},{"$f":"SUM('법정동(2013년말)'!AH22:AH23)","v":{"v":273,"d":"273.00"}},{"$f":"SUM('법정동(2013년말)'!AI22:AI23)","v":4},{"$f":"SUM('법정동(2013년말)'!AJ22:AJ23)","v":{"v":9140,"d":"9,140.00"}},{"$f":"SUM('법정동(2013년말)'!AK22:AK23)","v":1},{"$f":"SUM('법정동(2013년말)'!AL22:AL23)","v":{"v":4499,"d":"4,499.00"}},{"$f":"SUM('법정동(2013년말)'!AM22:AM23)","v":16},{"$f":"SUM('법정동(2013년말)'!AN22:AN23)","v":{"v":27,"d":"27.00"}},{"$f":"SUM('법정동(2013년말)'!AO22:AO23)","v":2},{"$f":"SUM('법정동(2013년말)'!AP22:AP23)","v":0},{"$f":"SUM('법정동(2013년말)'!AQ22:AQ23)","v":0},{"$f":"SUM('법정동(2013년말)'!AR22:AR23)","v":{"v":283,"d":"283.00"}},{"$f":"SUM('법정동(2013년말)'!AS22:AS23)","v":2},{"$f":"SUM('법정동(2013년말)'!AT22:AT23)","v":0},{"$f":"SUM('법정동(2013년말)'!AU22:AU23)","v":0},{"$f":"SUM('법정동(2013년말)'!AV22:AV23)","v":0},{"$f":"SUM('법정동(2013년말)'!AW22:AW23)","v":0},{"$f":"SUM('법정동(2013년말)'!AX22:AX23)","v":0},{"$f":"SUM('법정동(2013년말)'!AY22:AY23)","v":0},{"$f":"SUM('법정동(2013년말)'!AZ22:AZ23)","v":{"v":7586,"d":"7,586.00"}},{"$f":"SUM('법정동(2013년말)'!BA22:BA23)","v":6},{"$f":"SUM('법정동(2013년말)'!BB22:BB23)","v":0},{"$f":"SUM('법정동(2013년말)'!BC22:BC23)","v":0},{"$f":"SUM('법정동(2013년말)'!BD22:BD23)","v":{"v":2565,"d":"2,565.00"}},{"$f":"SUM('법정동(2013년말)'!BE22:BE23)","v":11},{"$f":"SUM('법정동(2013년말)'!BF22:BF23)","v":{"v":45944,"d":"45,944.00"}},{"$f":"SUM('법정동(2013년말)'!BG22:BG23)","v":37}]
["국   동",{"$f":"SUM('법정동(2013년말)'!B24)","v":{"v":1533342.3,"d":"1,533,342.30"}},{"$f":"SUM('법정동(2013년말)'!C24)","v":{"v":3253,"d":"3,253"}},{"$f":"SUM('법정동(2013년말)'!D24)","v":{"v":98672,"d":"98,672.00"}},{"$f":"SUM('법정동(2013년말)'!E24)","v":452},{"$f":"SUM('법정동(2013년말)'!F24)","v":{"v":15592,"d":"15,592.00"}},{"$f":"SUM('법정동(2013년말)'!G24)","v":83},{"$f":"SUM('법정동(2013년말)'!H24)","v":{"v":815,"d":"815.00"}},{"$f":"SUM('법정동(2013년말)'!I24)","v":1},{"$f":"SUM('법정동(2013년말)'!J24)","v":0},{"$f":"SUM('법정동(2013년말)'!K24)","v":0},{"$f":"SUM('법정동(2013년말)'!L24)","v":{"v":486239,"d":"486,239.00"}},{"$f":"SUM('법정동(2013년말)'!M24)","v":91},{"$f":"SUM('법정동(2013년말)'!N24)","v":0},{"$f":"SUM('법정동(2013년말)'!O24)","v":0},{"$f":"SUM('법정동(2013년말)'!P24)","v":0},{"$f":"SUM('법정동(2013년말)'!Q24)","v":0},{"$f":"SUM('법정동(2013년말)'!R24)","v":{"v":527745.2,"d":"527,745.20"}},{"$f":"SUM('법정동(2013년말)'!S24)","v":{"v":1887,"d":"1,887"}},{"$f":"SUM('법정동(2013년말)'!T24)","v":{"v":5044,"d":"5,044.00"}},{"$f":"SUM('법정동(2013년말)'!U24)","v":9},{"$f":"SUM('법정동(2013년말)'!V24)","v":{"v":126054.2,"d":"126,054.20"}},{"$f":"SUM('법정동(2013년말)'!W24)","v":32},{"$f":"SUM('법정동(2013년말)'!X24)","v":{"v":5577,"d":"5,577.00"}},{"$f":"SUM('법정동(2013년말)'!Y24)","v":5},{"$f":"SUM('법정동(2013년말)'!Z24)","v":{"v":1291,"d":"1,291.00"}},{"$f":"SUM('법정동(2013년말)'!AA24)","v":2},{"$f":"SUM('법정동(2013년말)'!AB24)","v":{"v":609,"d":"609.00"}},{"$f":"SUM('법정동(2013년말)'!AC24)","v":4},{"$f":"SUM('법정동(2013년말)'!AD24)","v":{"v":174089.6,"d":"174,089.60"}},{"$f":"SUM('법정동(2013년말)'!AE24)","v":583},{"$f":"SUM('법정동(2013년말)'!AF24)","v":0},{"$f":"SUM('법정동(2013년말)'!AG24)","v":0},{"$f":"SUM('법정동(2013년말)'!AH24)","v":{"v":2006,"d":"2,006.00"}},{"$f":"SUM('법정동(2013년말)'!AI24)","v":1},{"$f":"SUM('법정동(2013년말)'!AJ24)","v":0},{"$f":"SUM('법정동(2013년말)'!AK24)","v":0},{"$f":"SUM('법정동(2013년말)'!AL24)","v":{"v":15931,"d":"15,931.00"}},{"$f":"SUM('법정동(2013년말)'!AM24)","v":14},{"$f":"SUM('법정동(2013년말)'!AN24)","v":0},{"$f":"SUM('법정동(2013년말)'!AO24)","v":0},{"$f":"SUM('법정동(2013년말)'!AP24)","v":0},{"$f":"SUM('법정동(2013년말)'!AQ24)","v":0},{"$f":"SUM('법정동(2013년말)'!AR24)","v":{"v":3092,"d":"3,092.00"}},{"$f":"SUM('법정동(2013년말)'!AS24)","v":6},{"$f":"SUM('법정동(2013년말)'!AT24)","v":0},{"$f":"SUM('법정동(2013년말)'!AU24)","v":0},{"$f":"SUM('법정동(2013년말)'!AV24)","v":0},{"$f":"SUM('법정동(2013년말)'!AW24)","v":0},{"$f":"SUM('법정동(2013년말)'!AX24)","v":0},{"$f":"SUM('법정동(2013년말)'!AY24)","v":0},{"$f":"SUM('법정동(2013년말)'!AZ24)","v":{"v":7538.5,"d":"7,538.50"}},{"$f":"SUM('법정동(2013년말)'!BA24)","v":17},{"$f":"SUM('법정동(2013년말)'!BB24)","v":0},{"$f":"SUM('법정동(2013년말)'!BC24)","v":0},{"$f":"SUM('법정동(2013년말)'!BD24)","v":{"v":1035,"d":"1,035.00"}},{"$f":"SUM('법정동(2013년말)'!BE24)","v":10},{"$f":"SUM('법정동(2013년말)'!BF24)","v":{"v":62011.8,"d":"62,011.80"}},{"$f":"SUM('법정동(2013년말)'!BG24)","v":56}]
["월호동",{"$f":"SUM('법정동(2013년말)'!B25,'법정동(2013년말)'!B34)","v":{"v":6797563.5,"d":"6,797,563.50"}},{"$f":"SUM('법정동(2013년말)'!C25,'법정동(2013년말)'!C34)","v":{"v":6430,"d":"6,430"}},{"$f":"SUM('법정동(2013년말)'!D25,'법정동(2013년말)'!D34)","v":{"v":1737922,"d":"1,737,922.00"}},{"$f":"SUM('법정동(2013년말)'!E25,'법정동(2013년말)'!E34)","v":{"v":2218,"d":"2,218"}},{"$f":"SUM('법정동(2013년말)'!F25,'법정동(2013년말)'!F34)","v":{"v":278116,"d":"278,116.00"}},{"$f":"SUM('법정동(2013년말)'!G25,'법정동(2013년말)'!G34)","v":458},{"$f":"SUM('법정동(2013년말)'!H25,'법정동(2013년말)'!H34)","v":0},{"$f":"SUM('법정동(2013년말)'!I25,'법정동(2013년말)'!I34)","v":0},{"$f":"SUM('법정동(2013년말)'!J25,'법정동(2013년말)'!J34)","v":0},{"$f":"SUM('법정동(2013년말)'!K25,'법정동(2013년말)'!K34)","v":0},{"$f":"SUM('법정동(2013년말)'!L25,'법정동(2013년말)'!L34)","v":{"v":2930499,"d":"2,930,499.00"}},{"$f":"SUM('법정동(2013년말)'!M25,'법정동(2013년말)'!M34)","v":{"v":1222,"d":"1,222"}},{"$f":"SUM('법정동(2013년말)'!N25,'법정동(2013년말)'!N34)","v":0},{"$f":"SUM('법정동(2013년말)'!O25,'법정동(2013년말)'!O34)","v":0},{"$f":"SUM('법정동(2013년말)'!P25,'법정동(2013년말)'!P34)","v":0},{"$f":"SUM('법정동(2013년말)'!Q25,'법정동(2013년말)'!Q34)","v":0},{"$f":"SUM('법정동(2013년말)'!R25,'법정동(2013년말)'!R34)","v":{"v":387272.2,"d":"387,272.20"}},{"$f":"SUM('법정동(2013년말)'!S25,'법정동(2013년말)'!S34)","v":{"v":1231,"d":"1,231"}},{"$f":"SUM('법정동(2013년말)'!T25,'법정동(2013년말)'!T34)","v":{"v":849314,"d":"849,314.00"}},{"$f":"SUM('법정동(2013년말)'!U25,'법정동(2013년말)'!U34)","v":124},{"$f":"SUM('법정동(2013년말)'!V25,'법정동(2013년말)'!V34)","v":{"v":19320,"d":"19,320.00"}},{"$f":"SUM('법정동(2013년말)'!W25,'법정동(2013년말)'!W34)","v":3},{"$f":"SUM('법정동(2013년말)'!X25,'법정동(2013년말)'!X34)","v":{"v":2408.6,"d":"2,408.60"}},{"$f":"SUM('법정동(2013년말)'!Y25,'법정동(2013년말)'!Y34)","v":9},{"$f":"SUM('법정동(2013년말)'!Z25,'법정동(2013년말)'!Z34)","v":{"v":2571,"d":"2,571.00"}},{"$f":"SUM('법정동(2013년말)'!AA25,'법정동(2013년말)'!AA34)","v":10},{"$f":"SUM('법정동(2013년말)'!AB25,'법정동(2013년말)'!AB34)","v":{"v":1810,"d":"1,810.00"}},{"$f":"SUM('법정동(2013년말)'!AC25,'법정동(2013년말)'!AC34)","v":2},{"$f":"SUM('법정동(2013년말)'!AD25,'법정동(2013년말)'!AD34)","v":{"v":259304.1,"d":"259,304.10"}},{"$f":"SUM('법정동(2013년말)'!AE25,'법정동(2013년말)'!AE34)","v":841},{"$f":"SUM('법정동(2013년말)'!AF25,'법정동(2013년말)'!AF34)","v":0},{"$f":"SUM('법정동(2013년말)'!AG25,'법정동(2013년말)'!AG34)","v":0},{"$f":"SUM('법정동(2013년말)'!AH25,'법정동(2013년말)'!AH34)","v":{"v":17272,"d":"17,272.00"}},{"$f":"SUM('법정동(2013년말)'!AI25,'법정동(2013년말)'!AI34)","v":46},{"$f":"SUM('법정동(2013년말)'!AJ25,'법정동(2013년말)'!AJ34)","v":{"v":1220,"d":"1,220.00"}},{"$f":"SUM('법정동(2013년말)'!AK25,'법정동(2013년말)'!AK34)","v":5},{"$f":"SUM('법정동(2013년말)'!AL25,'법정동(2013년말)'!AL34)","v":{"v":45561,"d":"45,561.00"}},{"$f":"SUM('법정동(2013년말)'!AM25,'법정동(2013년말)'!AM34)","v":21},{"$f":"SUM('법정동(2013년말)'!AN25,'법정동(2013년말)'!AN34)","v":{"v":2473,"d":"2,473.00"}},{"$f":"SUM('법정동(2013년말)'!AO25,'법정동(2013년말)'!AO34)","v":2},{"$f":"SUM('법정동(2013년말)'!AP25,'법정동(2013년말)'!AP34)","v":{"v":1601,"d":"1,601.00"}},{"$f":"SUM('법정동(2013년말)'!AQ25,'법정동(2013년말)'!AQ34)","v":1},{"$f":"SUM('법정동(2013년말)'!AR25,'법정동(2013년말)'!AR34)","v":0},{"$f":"SUM('법정동(2013년말)'!AS25,'법정동(2013년말)'!AS34)","v":0},{"$f":"SUM('법정동(2013년말)'!AT25,'법정동(2013년말)'!AT34)","v":{"v":7918.6,"d":"7,918.60"}},{"$f":"SUM('법정동(2013년말)'!AU25,'법정동(2013년말)'!AU34)","v":11},{"$f":"SUM('법정동(2013년말)'!AV25,'법정동(2013년말)'!AV34)","v":0},{"$f":"SUM('법정동(2013년말)'!AW25,'법정동(2013년말)'!AW34)","v":0},{"$f":"SUM('법정동(2013년말)'!AX25,'법정동(2013년말)'!AX34)","v":0},{"$f":"SUM('법정동(2013년말)'!AY25,'법정동(2013년말)'!AY34)","v":0},{"$f":"SUM('법정동(2013년말)'!AZ25,'법정동(2013년말)'!AZ34)","v":{"v":10386,"d":"10,386.00"}},{"$f":"SUM('법정동(2013년말)'!BA25,'법정동(2013년말)'!BA34)","v":11},{"$f":"SUM('법정동(2013년말)'!BB25,'법정동(2013년말)'!BB34)","v":0},{"$f":"SUM('법정동(2013년말)'!BC25,'법정동(2013년말)'!BC34)","v":0},{"$f":"SUM('법정동(2013년말)'!BD25,'법정동(2013년말)'!BD34)","v":{"v":18366,"d":"18,366.00"}},{"$f":"SUM('법정동(2013년말)'!BE25,'법정동(2013년말)'!BE34)","v":53},{"$f":"SUM('법정동(2013년말)'!BF25,'법정동(2013년말)'!BF34)","v":{"v":224229,"d":"224,229.00"}},{"$f":"SUM('법정동(2013년말)'!BG25,'법정동(2013년말)'!BG34)","v":162}]
["여서동",{"$f":"SUM('법정동(2013년말)'!B26)","v":{"v":2575399.9,"d":"2,575,399.90"}},{"$f":"SUM('법정동(2013년말)'!C26)","v":{"v":1920,"d":"1,920"}},{"$f":"SUM('법정동(2013년말)'!D26)","v":{"v":204480,"d":"204,480.00"}},{"$f":"SUM('법정동(2013년말)'!E26)","v":278},{"$f":"SUM('법정동(2013년말)'!F26)","v":{"v":116419,"d":"116,419.00"}},{"$f":"SUM('법정동(2013년말)'!G26)","v":189},{"$f":"SUM('법정동(2013년말)'!H26)","v":0},{"$f":"SUM('법정동(2013년말)'!I26)","v":0},{"$f":"SUM('법정동(2013년말)'!J26)","v":0},{"$f":"SUM('법정동(2013년말)'!K26)","v":0},{"$f":"SUM('법정동(2013년말)'!L26)","v":{"v":1223736,"d":"1,223,736.00"}},{"$f":"SUM('법정동(2013년말)'!M26)","v":291},{"$f":"SUM('법정동(2013년말)'!N26)","v":0},{"$f":"SUM('법정동(2013년말)'!O26)","v":0},{"$f":"SUM('법정동(2013년말)'!P26)","v":0},{"$f":"SUM('법정동(2013년말)'!Q26)","v":0},{"$f":"SUM('법정동(2013년말)'!R26)","v":{"v":562622.2,"d":"562,622.20"}},{"$f":"SUM('법정동(2013년말)'!S26)","v":751},{"$f":"SUM('법정동(2013년말)'!T26)","v":0},{"$f":"SUM('법정동(2013년말)'!U26)","v":0},{"$f":"SUM('법정동(2013년말)'!V26)","v":{"v":58011,"d":"58,011.00"}},{"$f":"SUM('법정동(2013년말)'!W26)","v":4},{"$f":"SUM('법정동(2013년말)'!X26)","v":{"v":15531.6,"d":"15,531.60"}},{"$f":"SUM('법정동(2013년말)'!Y26)","v":15},{"$f":"SUM('법정동(2013년말)'!Z26)","v":{"v":1488,"d":"1,488.00"}},{"$f":"SUM('법정동(2013년말)'!AA26)","v":1},{"$f":"SUM('법정동(2013년말)'!AB26)","v":{"v":884,"d":"884.00"}},{"$f":"SUM('법정동(2013년말)'!AC26)","v":1},{"$f":"SUM('법정동(2013년말)'!AD26)","v":{"v":291248.5,"d":"291,248.50"}},{"$f":"SUM('법정동(2013년말)'!AE26)","v":281},{"$f":"SUM('법정동(2013년말)'!AF26)","v":0},{"$f":"SUM('법정동(2013년말)'!AG26)","v":0},{"$f":"SUM('법정동(2013년말)'!AH26)","v":0},{"$f":"SUM('법정동(2013년말)'!AI26)","v":0},{"$f":"SUM('법정동(2013년말)'!AJ26)","v":0},{"$f":"SUM('법정동(2013년말)'!AK26)","v":0},{"$f":"SUM('법정동(2013년말)'!AL26)","v":{"v":15119.9,"d":"15,119.90"}},{"$f":"SUM('법정동(2013년말)'!AM26)","v":20},{"$f":"SUM('법정동(2013년말)'!AN26)","v":{"v":958,"d":"958.00"}},{"$f":"SUM('법정동(2013년말)'!AO26)","v":2},{"$f":"SUM('법정동(2013년말)'!AP26)","v":0},{"$f":"SUM('법정동(2013년말)'!AQ26)","v":0},{"$f":"SUM('법정동(2013년말)'!AR26)","v":{"v":11855,"d":"11,855.00"}},{"$f":"SUM('법정동(2013년말)'!AS26)","v":5},{"$f":"SUM('법정동(2013년말)'!AT26)","v":{"v":19406.8,"d":"19,406.80"}},{"$f":"SUM('법정동(2013년말)'!AU26)","v":7},{"$f":"SUM('법정동(2013년말)'!AV26)","v":{"v":9361,"d":"9,361.00"}},{"$f":"SUM('법정동(2013년말)'!AW26)","v":5},{"$f":"SUM('법정동(2013년말)'!AX26)","v":0},{"$f":"SUM('법정동(2013년말)'!AY26)","v":0},{"$f":"SUM('법정동(2013년말)'!AZ26)","v":{"v":15908.4,"d":"15,908.40"}},{"$f":"SUM('법정동(2013년말)'!BA26)","v":22},{"$f":"SUM('법정동(2013년말)'!BB26)","v":0},{"$f":"SUM('법정동(2013년말)'!BC26)","v":0},{"$f":"SUM('법정동(2013년말)'!BD26)","v":{"v":2630,"d":"2,630.00"}},{"$f":"SUM('법정동(2013년말)'!BE26)","v":8},{"$f":"SUM('법정동(2013년말)'!BF26)","v":{"v":25740.5,"d":"25,740.50"}},{"$f":"SUM('법정동(2013년말)'!BG26)","v":40}]
["문수동",{"$f":"SUM('법정동(2013년말)'!B27)","v":{"v":2244118.3000000003,"d":"2,244,118.30"}},{"$f":"SUM('법정동(2013년말)'!C27)","v":{"v":3187,"d":"3,187"}},{"$f":"SUM('법정동(2013년말)'!D27)","v":{"v":175919,"d":"175,919.00"}},{"$f":"SUM('법정동(2013년말)'!E27)","v":321},{"$f":"SUM('법정동(2013년말)'!F27)","v":{"v":34182,"d":"34,182.00"}},{"$f":"SUM('법정동(2013년말)'!G27)","v":95},{"$f":"SUM('법정동(2013년말)'!H27)","v":0},{"$f":"SUM('법정동(2013년말)'!I27)","v":0},{"$f":"SUM('법정동(2013년말)'!J27)","v":0},{"$f":"SUM('법정동(2013년말)'!K27)","v":0},{"$f":"SUM('법정동(2013년말)'!L27)","v":{"v":836075.7,"d":"836,075.70"}},{"$f":"SUM('법정동(2013년말)'!M27)","v":325},{"$f":"SUM('법정동(2013년말)'!N27)","v":0},{"$f":"SUM('법정동(2013년말)'!O27)","v":0},{"$f":"SUM('법정동(2013년말)'!P27)","v":0},{"$f":"SUM('법정동(2013년말)'!Q27)","v":0},{"$f":"SUM('법정동(2013년말)'!R27)","v":{"v":715330.5,"d":"715,330.50"}},{"$f":"SUM('법정동(2013년말)'!S27)","v":{"v":1891,"d":"1,891"}},{"$f":"SUM('법정동(2013년말)'!T27)","v":0},{"$f":"SUM('법정동(2013년말)'!U27)","v":0},{"$f":"SUM('법정동(2013년말)'!V27)","v":{"v":122894.6,"d":"122,894.60"}},{"$f":"SUM('법정동(2013년말)'!W27)","v":10},{"$f":"SUM('법정동(2013년말)'!X27)","v":{"v":13515.4,"d":"13,515.40"}},{"$f":"SUM('법정동(2013년말)'!Y27)","v":44},{"$f":"SUM('법정동(2013년말)'!Z27)","v":{"v":1109.1,"d":"1,109.10"}},{"$f":"SUM('법정동(2013년말)'!AA27)","v":2},{"$f":"SUM('법정동(2013년말)'!AB27)","v":{"v":205,"d":"205.00"}},{"$f":"SUM('법정동(2013년말)'!AC27)","v":1},{"$f":"SUM('법정동(2013년말)'!AD27)","v":{"v":225509.9,"d":"225,509.90"}},{"$f":"SUM('법정동(2013년말)'!AE27)","v":367},{"$f":"SUM('법정동(2013년말)'!AF27)","v":0},{"$f":"SUM('법정동(2013년말)'!AG27)","v":0},{"$f":"SUM('법정동(2013년말)'!AH27)","v":0},{"$f":"SUM('법정동(2013년말)'!AI27)","v":0},{"$f":"SUM('법정동(2013년말)'!AJ27)","v":{"v":8513,"d":"8,513.00"}},{"$f":"SUM('법정동(2013년말)'!AK27)","v":5},{"$f":"SUM('법정동(2013년말)'!AL27)","v":{"v":9438.4,"d":"9,438.40"}},{"$f":"SUM('법정동(2013년말)'!AM27)","v":13},{"$f":"SUM('법정동(2013년말)'!AN27)","v":0},{"$f":"SUM('법정동(2013년말)'!AO27)","v":0},{"$f":"SUM('법정동(2013년말)'!AP27)","v":0},{"$f":"SUM('법정동(2013년말)'!AQ27)","v":0},{"$f":"SUM('법정동(2013년말)'!AR27)","v":{"v":31,"d":"31.00"}},{"$f":"SUM('법정동(2013년말)'!AS27)","v":1},{"$f":"SUM('법정동(2013년말)'!AT27)","v":{"v":54362.1,"d":"54,362.10"}},{"$f":"SUM('법정동(2013년말)'!AU27)","v":21},{"$f":"SUM('법정동(2013년말)'!AV27)","v":0},{"$f":"SUM('법정동(2013년말)'!AW27)","v":0},{"$f":"SUM('법정동(2013년말)'!AX27)","v":0},{"$f":"SUM('법정동(2013년말)'!AY27)","v":0},{"$f":"SUM('법정동(2013년말)'!AZ27)","v":{"v":25861,"d":"25,861.00"}},{"$f":"SUM('법정동(2013년말)'!BA27)","v":15},{"$f":"SUM('법정동(2013년말)'!BB27)","v":0},{"$f":"SUM('법정동(2013년말)'!BC27)","v":0},{"$f":"SUM('법정동(2013년말)'!BD27)","v":{"v":3861,"d":"3,861.00"}},{"$f":"SUM('법정동(2013년말)'!BE27)","v":19},{"$f":"SUM('법정동(2013년말)'!BF27)","v":{"v":17310.6,"d":"17,310.60"}},{"$f":"SUM('법정동(2013년말)'!BG27)","v":57}]
["미평동",{"$f":"SUM('법정동(2013년말)'!B29)","v":{"v":3089016.9,"d":"3,089,016.90"}},{"$f":"SUM('법정동(2013년말)'!C29)","v":{"v":2688,"d":"2,688"}},{"$f":"SUM('법정동(2013년말)'!D29)","v":{"v":142659,"d":"142,659.00"}},{"$f":"SUM('법정동(2013년말)'!E29)","v":329},{"$f":"SUM('법정동(2013년말)'!F29)","v":{"v":97075,"d":"97,075.00"}},{"$f":"SUM('법정동(2013년말)'!G29)","v":235},{"$f":"SUM('법정동(2013년말)'!H29)","v":0},{"$f":"SUM('법정동(2013년말)'!I29)","v":0},{"$f":"SUM('법정동(2013년말)'!J29)","v":0},{"$f":"SUM('법정동(2013년말)'!K29)","v":0},{"$f":"SUM('법정동(2013년말)'!L29)","v":{"v":1767325,"d":"1,767,325.00"}},{"$f":"SUM('법정동(2013년말)'!M29)","v":209},{"$f":"SUM('법정동(2013년말)'!N29)","v":0},{"$f":"SUM('법정동(2013년말)'!O29)","v":0},{"$f":"SUM('법정동(2013년말)'!P29)","v":0},{"$f":"SUM('법정동(2013년말)'!Q29)","v":0},{"$f":"SUM('법정동(2013년말)'!R29)","v":{"v":470726.1,"d":"470,726.10"}},{"$f":"SUM('법정동(2013년말)'!S29)","v":{"v":1169,"d":"1,169"}},{"$f":"SUM('법정동(2013년말)'!T29)","v":{"v":1501,"d":"1,501.00"}},{"$f":"SUM('법정동(2013년말)'!U29)","v":3},{"$f":"SUM('법정동(2013년말)'!V29)","v":{"v":64631.1,"d":"64,631.10"}},{"$f":"SUM('법정동(2013년말)'!W29)","v":10},{"$f":"SUM('법정동(2013년말)'!X29)","v":{"v":5010.8,"d":"5,010.80"}},{"$f":"SUM('법정동(2013년말)'!Y29)","v":14},{"$f":"SUM('법정동(2013년말)'!Z29)","v":{"v":1804.2,"d":"1,804.20"}},{"$f":"SUM('법정동(2013년말)'!AA29)","v":3},{"$f":"SUM('법정동(2013년말)'!AB29)","v":{"v":177.4,"d":"177.40"}},{"$f":"SUM('법정동(2013년말)'!AC29)","v":1},{"$f":"SUM('법정동(2013년말)'!AD29)","v":{"v":284889.4,"d":"284,889.40"}},{"$f":"SUM('법정동(2013년말)'!AE29)","v":528},{"$f":"SUM('법정동(2013년말)'!AF29)","v":{"v":53203,"d":"53,203.00"}},{"$f":"SUM('법정동(2013년말)'!AG29)","v":33},{"$f":"SUM('법정동(2013년말)'!AH29)","v":0},{"$f":"SUM('법정동(2013년말)'!AI29)","v":0},{"$f":"SUM('법정동(2013년말)'!AJ29)","v":{"v":9529.4,"d":"9,529.40"}},{"$f":"SUM('법정동(2013년말)'!AK29)","v":3},{"$f":"SUM('법정동(2013년말)'!AL29)","v":{"v":25651,"d":"25,651.00"}},{"$f":"SUM('법정동(2013년말)'!AM29)","v":50},{"$f":"SUM('법정동(2013년말)'!AN29)","v":0},{"$f":"SUM('법정동(2013년말)'!AO29)","v":0},{"$f":"SUM('법정동(2013년말)'!AP29)","v":0},{"$f":"SUM('법정동(2013년말)'!AQ29)","v":0},{"$f":"SUM('법정동(2013년말)'!AR29)","v":{"v":91230.5,"d":"91,230.50"}},{"$f":"SUM('법정동(2013년말)'!AS29)","v":57},{"$f":"SUM('법정동(2013년말)'!AT29)","v":{"v":16700.4,"d":"16,700.40"}},{"$f":"SUM('법정동(2013년말)'!AU29)","v":10},{"$f":"SUM('법정동(2013년말)'!AV29)","v":0},{"$f":"SUM('법정동(2013년말)'!AW29)","v":0},{"$f":"SUM('법정동(2013년말)'!AX29)","v":0},{"$f":"SUM('법정동(2013년말)'!AY29)","v":0},{"$f":"SUM('법정동(2013년말)'!AZ29)","v":{"v":8992.4,"d":"8,992.40"}},{"$f":"SUM('법정동(2013년말)'!BA29)","v":9},{"$f":"SUM('법정동(2013년말)'!BB29)","v":0},{"$f":"SUM('법정동(2013년말)'!BC29)","v":0},{"$f":"SUM('법정동(2013년말)'!BD29)","v":{"v":5712,"d":"5,712.00"}},{"$f":"SUM('법정동(2013년말)'!BE29)","v":7},{"$f":"SUM('법정동(2013년말)'!BF29)","v":{"v":42199.2,"d":"42,199.20"}},{"$f":"SUM('법정동(2013년말)'!BG29)","v":18}]
["둔덕동",{"$f":"SUM('법정동(2013년말)'!B30)","v":{"v":4076115.1,"d":"4,076,115.10"}},{"$f":"SUM('법정동(2013년말)'!C30)","v":{"v":2323,"d":"2,323"}},{"$f":"SUM('법정동(2013년말)'!D30)","v":{"v":178315,"d":"178,315.00"}},{"$f":"SUM('법정동(2013년말)'!E30)","v":288},{"$f":"SUM('법정동(2013년말)'!F30)","v":{"v":425547,"d":"425,547.00"}},{"$f":"SUM('법정동(2013년말)'!G30)","v":481},{"$f":"SUM('법정동(2013년말)'!H30)","v":0},{"$f":"SUM('법정동(2013년말)'!I30)","v":0},{"$f":"SUM('법정동(2013년말)'!J30)","v":0},{"$f":"SUM('법정동(2013년말)'!K30)","v":0},{"$f":"SUM('법정동(2013년말)'!L30)","v":{"v":2181263,"d":"2,181,263.00"}},{"$f":"SUM('법정동(2013년말)'!M30)","v":332},{"$f":"SUM('법정동(2013년말)'!N30)","v":0},{"$f":"SUM('법정동(2013년말)'!O30)","v":0},{"$f":"SUM('법정동(2013년말)'!P30)","v":0},{"$f":"SUM('법정동(2013년말)'!Q30)","v":0},{"$f":"SUM('법정동(2013년말)'!R30)","v":{"v":475434.9,"d":"475,434.90"}},{"$f":"SUM('법정동(2013년말)'!S30)","v":648},{"$f":"SUM('법정동(2013년말)'!T30)","v":{"v":362,"d":"362.00"}},{"$f":"SUM('법정동(2013년말)'!U30)","v":1},{"$f":"SUM('법정동(2013년말)'!V30)","v":{"v":722,"d":"722.00"}},{"$f":"SUM('법정동(2013년말)'!W30)","v":1},{"$f":"SUM('법정동(2013년말)'!X30)","v":{"v":2599.7,"d":"2,599.70"}},{"$f":"SUM('법정동(2013년말)'!Y30)","v":11},{"$f":"SUM('법정동(2013년말)'!Z30)","v":{"v":10143.9,"d":"10,143.90"}},{"$f":"SUM('법정동(2013년말)'!AA30)","v":8},{"$f":"SUM('법정동(2013년말)'!AB30)","v":{"v":6380.7,"d":"6,380.70"}},{"$f":"SUM('법정동(2013년말)'!AC30)","v":9},{"$f":"SUM('법정동(2013년말)'!AD30)","v":{"v":383843.6,"d":"383,843.60"}},{"$f":"SUM('법정동(2013년말)'!AE30)","v":414},{"$f":"SUM('법정동(2013년말)'!AF30)","v":{"v":22933,"d":"22,933.00"}},{"$f":"SUM('법정동(2013년말)'!AG30)","v":33},{"$f":"SUM('법정동(2013년말)'!AH30)","v":0},{"$f":"SUM('법정동(2013년말)'!AI30)","v":0},{"$f":"SUM('법정동(2013년말)'!AJ30)","v":{"v":9119.1,"d":"9,119.10"}},{"$f":"SUM('법정동(2013년말)'!AK30)","v":3},{"$f":"SUM('법정동(2013년말)'!AL30)","v":{"v":21254,"d":"21,254.00"}},{"$f":"SUM('법정동(2013년말)'!AM30)","v":11},{"$f":"SUM('법정동(2013년말)'!AN30)","v":0},{"$f":"SUM('법정동(2013년말)'!AO30)","v":0},{"$f":"SUM('법정동(2013년말)'!AP30)","v":0},{"$f":"SUM('법정동(2013년말)'!AQ30)","v":0},{"$f":"SUM('법정동(2013년말)'!AR30)","v":{"v":72838,"d":"72,838.00"}},{"$f":"SUM('법정동(2013년말)'!AS30)","v":4},{"$f":"SUM('법정동(2013년말)'!AT30)","v":{"v":18073.4,"d":"18,073.40"}},{"$f":"SUM('법정동(2013년말)'!AU30)","v":8},{"$f":"SUM('법정동(2013년말)'!AV30)","v":{"v":166279,"d":"166,279.00"}},{"$f":"SUM('법정동(2013년말)'!AW30)","v":6},{"$f":"SUM('법정동(2013년말)'!AX30)","v":0},{"$f":"SUM('법정동(2013년말)'!AY30)","v":0},{"$f":"SUM('법정동(2013년말)'!AZ30)","v":{"v":14763.3,"d":"14,763.30"}},{"$f":"SUM('법정동(2013년말)'!BA30)","v":10},{"$f":"SUM('법정동(2013년말)'!BB30)","v":0},{"$f":"SUM('법정동(2013년말)'!BC30)","v":0},{"$f":"SUM('법정동(2013년말)'!BD30)","v":{"v":2675,"d":"2,675.00"}},{"$f":"SUM('법정동(2013년말)'!BE30)","v":8},{"$f":"SUM('법정동(2013년말)'!BF30)","v":{"v":83568.5,"d":"83,568.50"}},{"$f":"SUM('법정동(2013년말)'!BG30)","v":47}]
["만덕동",{"$f":"SUM('법정동(2013년말)'!B31:B33)","v":{"v":15981076.600000001,"d":"15,981,076.60"}},{"$f":"SUM('법정동(2013년말)'!C31:C33)","v":{"v":8773,"d":"8,773"}},{"$f":"SUM('법정동(2013년말)'!D31:D33)","v":{"v":1643378,"d":"1,643,378.00"}},{"$f":"SUM('법정동(2013년말)'!E31:E33)","v":{"v":2297,"d":"2,297"}},{"$f":"SUM('법정동(2013년말)'!F31:F33)","v":{"v":931145,"d":"931,145.00"}},{"$f":"SUM('법정동(2013년말)'!G31:G33)","v":{"v":1162,"d":"1,162"}},{"$f":"SUM('법정동(2013년말)'!H31:H33)","v":0},{"$f":"SUM('법정동(2013년말)'!I31:I33)","v":0},{"$f":"SUM('법정동(2013년말)'!J31:J33)","v":0},{"$f":"SUM('법정동(2013년말)'!K31:K33)","v":0},{"$f":"SUM('법정동(2013년말)'!L31:L33)","v":{"v":10619138,"d":"10,619,138.00"}},{"$f":"SUM('법정동(2013년말)'!M31:M33)","v":{"v":1362,"d":"1,362"}},{"$f":"SUM('법정동(2013년말)'!N31:N33)","v":0},{"$f":"SUM('법정동(2013년말)'!O31:O33)","v":0},{"$f":"SUM('법정동(2013년말)'!P31:P33)","v":0},{"$f":"SUM('법정동(2013년말)'!Q31:Q33)","v":0},{"$f":"SUM('법정동(2013년말)'!R31:R33)","v":{"v":787438.2,"d":"787,438.20"}},{"$f":"SUM('법정동(2013년말)'!S31:S33)","v":{"v":1727,"d":"1,727"}},{"$f":"SUM('법정동(2013년말)'!T31:T33)","v":{"v":154447.6,"d":"154,447.60"}},{"$f":"SUM('법정동(2013년말)'!U31:U33)","v":86},{"$f":"SUM('법정동(2013년말)'!V31:V33)","v":{"v":66845,"d":"66,845.00"}},{"$f":"SUM('법정동(2013년말)'!W31:W33)","v":8},{"$f":"SUM('법정동(2013년말)'!X31:X33)","v":{"v":34995.8,"d":"34,995.80"}},{"$f":"SUM('법정동(2013년말)'!Y31:Y33)","v":9},{"$f":"SUM('법정동(2013년말)'!Z31:Z33)","v":{"v":1185,"d":"1,185.00"}},{"$f":"SUM('법정동(2013년말)'!AA31:AA33)","v":3},{"$f":"SUM('법정동(2013년말)'!AB31:AB33)","v":{"v":4253,"d":"4,253.00"}},{"$f":"SUM('법정동(2013년말)'!AC31:AC33)","v":10},{"$f":"SUM('법정동(2013년말)'!AD31:AD33)","v":{"v":735192.3,"d":"735,192.30"}},{"$f":"SUM('법정동(2013년말)'!AE31:AE33)","v":{"v":1446,"d":"1,446"}},{"$f":"SUM('법정동(2013년말)'!AF31:AF33)","v":{"v":170872,"d":"170,872.00"}},{"$f":"SUM('법정동(2013년말)'!AG31:AG33)","v":179},{"$f":"SUM('법정동(2013년말)'!AH31:AH33)","v":{"v":31710.4,"d":"31,710.40"}},{"$f":"SUM('법정동(2013년말)'!AI31:AI33)","v":22},{"$f":"SUM('법정동(2013년말)'!AJ31:AJ33)","v":{"v":19770.9,"d":"19,770.90"}},{"$f":"SUM('법정동(2013년말)'!AK31:AK33)","v":9},{"$f":"SUM('법정동(2013년말)'!AL31:AL33)","v":{"v":145709.8,"d":"145,709.80"}},{"$f":"SUM('법정동(2013년말)'!AM31:AM33)","v":114},{"$f":"SUM('법정동(2013년말)'!AN31:AN33)","v":{"v":104581,"d":"104,581.00"}},{"$f":"SUM('법정동(2013년말)'!AO31:AO33)","v":21},{"$f":"SUM('법정동(2013년말)'!AP31:AP33)","v":0},{"$f":"SUM('법정동(2013년말)'!AQ31:AQ33)","v":0},{"$f":"SUM('법정동(2013년말)'!AR31:AR33)","v":{"v":30739.7,"d":"30,739.70"}},{"$f":"SUM('법정동(2013년말)'!AS31:AS33)","v":69},{"$f":"SUM('법정동(2013년말)'!AT31:AT33)","v":{"v":128954.6,"d":"128,954.60"}},{"$f":"SUM('법정동(2013년말)'!AU31:AU33)","v":26},{"$f":"SUM('법정동(2013년말)'!AV31:AV33)","v":{"v":400,"d":"400.00"}},{"$f":"SUM('법정동(2013년말)'!AW31:AW33)","v":3},{"$f":"SUM('법정동(2013년말)'!AX31:AX33)","v":0},{"$f":"SUM('법정동(2013년말)'!AY31:AY33)","v":0},{"$f":"SUM('법정동(2013년말)'!AZ31:AZ33)","v":{"v":19884.8,"d":"19,884.80"}},{"$f":"SUM('법정동(2013년말)'!BA31:BA33)","v":20},{"$f":"SUM('법정동(2013년말)'!BB31:BB33)","v":0},{"$f":"SUM('법정동(2013년말)'!BC31:BC33)","v":0},{"$f":"SUM('법정동(2013년말)'!BD31:BD33)","v":{"v":46059,"d":"46,059.00"}},{"$f":"SUM('법정동(2013년말)'!BE31:BE33)","v":92},{"$f":"SUM('법정동(2013년말)'!BF31:BF33)","v":{"v":304376.5,"d":"304,376.50"}},{"$f":"SUM('법정동(2013년말)'!BG31:BG33)","v":108}]
["쌍봉동",{"$f":"SUM('법정동(2013년말)'!B35:B38)","v":{"v":7165960.9,"d":"7,165,960.90"}},{"$f":"SUM('법정동(2013년말)'!C35:C38)","v":{"v":6181,"d":"6,181"}},{"$f":"SUM('법정동(2013년말)'!D35:D38)","v":{"v":517090,"d":"517,090.00"}},{"$f":"SUM('법정동(2013년말)'!E35:E38)","v":809},{"$f":"SUM('법정동(2013년말)'!F35:F38)","v":{"v":375985,"d":"375,985.00"}},{"$f":"SUM('법정동(2013년말)'!G35:G38)","v":454},{"$f":"SUM('법정동(2013년말)'!H35:H38)","v":{"v":3826,"d":"3,826.00"}},{"$f":"SUM('법정동(2013년말)'!I35:I38)","v":4},{"$f":"SUM('법정동(2013년말)'!J35:J38)","v":0},{"$f":"SUM('법정동(2013년말)'!K35:K38)","v":0},{"$f":"SUM('법정동(2013년말)'!L35:L38)","v":{"v":2801197.1999999997,"d":"2,801,197.20"}},{"$f":"SUM('법정동(2013년말)'!M35:M38)","v":666},{"$f":"SUM('법정동(2013년말)'!N35:N38)","v":0},{"$f":"SUM('법정동(2013년말)'!O35:O38)","v":0},{"$f":"SUM('법정동(2013년말)'!P35:P38)","v":0},{"$f":"SUM('법정동(2013년말)'!Q35:Q38)","v":0},{"$f":"SUM('법정동(2013년말)'!R35:R38)","v":{"v":2074729.6,"d":"2,074,729.60"}},{"$f":"SUM('법정동(2013년말)'!S35:S38)","v":{"v":3225,"d":"3,225"}},{"$f":"SUM('법정동(2013년말)'!T35:T38)","v":{"v":12954,"d":"12,954.00"}},{"$f":"SUM('법정동(2013년말)'!U35:U38)","v":11},{"$f":"SUM('법정동(2013년말)'!V35:V38)","v":{"v":93344.5,"d":"93,344.50"}},{"$f":"SUM('법정동(2013년말)'!W35:W38)","v":9},{"$f":"SUM('법정동(2013년말)'!X35:X38)","v":{"v":26598,"d":"26,598.00"}},{"$f":"SUM('법정동(2013년말)'!Y35:Y38)","v":33},{"$f":"SUM('법정동(2013년말)'!Z35:Z38)","v":{"v":7604.2,"d":"7,604.20"}},{"$f":"SUM('법정동(2013년말)'!AA35:AA38)","v":10},{"$f":"SUM('법정동(2013년말)'!AB35:AB38)","v":{"v":3142,"d":"3,142.00"}},{"$f":"SUM('법정동(2013년말)'!AC35:AC38)","v":4},{"$f":"SUM('법정동(2013년말)'!AD35:AD38)","v":{"v":803094.1,"d":"803,094.10"}},{"$f":"SUM('법정동(2013년말)'!AE35:AE38)","v":668},{"$f":"SUM('법정동(2013년말)'!AF35:AF38)","v":{"v":73480,"d":"73,480.00"}},{"$f":"SUM('법정동(2013년말)'!AG35:AG38)","v":71},{"$f":"SUM('법정동(2013년말)'!AH35:AH38)","v":{"v":7082.200000000001,"d":"7,082.20"}},{"$f":"SUM('법정동(2013년말)'!AI35:AI38)","v":7},{"$f":"SUM('법정동(2013년말)'!AJ35:AJ38)","v":{"v":6362,"d":"6,362.00"}},{"$f":"SUM('법정동(2013년말)'!AK35:AK38)","v":16},{"$f":"SUM('법정동(2013년말)'!AL35:AL38)","v":{"v":26441.5,"d":"26,441.50"}},{"$f":"SUM('법정동(2013년말)'!AM35:AM38)","v":38},{"$f":"SUM('법정동(2013년말)'!AN35:AN38)","v":{"v":11688.5,"d":"11,688.50"}},{"$f":"SUM('법정동(2013년말)'!AO35:AO38)","v":4},{"$f":"SUM('법정동(2013년말)'!AP35:AP38)","v":0},{"$f":"SUM('법정동(2013년말)'!AQ35:AQ38)","v":0},{"$f":"SUM('법정동(2013년말)'!AR35:AR38)","v":{"v":20058,"d":"20,058.00"}},{"$f":"SUM('법정동(2013년말)'!AS35:AS38)","v":3},{"$f":"SUM('법정동(2013년말)'!AT35:AT38)","v":{"v":147893.9,"d":"147,893.90"}},{"$f":"SUM('법정동(2013년말)'!AU35:AU38)","v":24},{"$f":"SUM('법정동(2013년말)'!AV35:AV38)","v":{"v":10945.6,"d":"10,945.60"}},{"$f":"SUM('법정동(2013년말)'!AW35:AW38)","v":1},{"$f":"SUM('법정동(2013년말)'!AX35:AX38)","v":{"v":49654.3,"d":"49,654.30"}},{"$f":"SUM('법정동(2013년말)'!AY35:AY38)","v":2},{"$f":"SUM('법정동(2013년말)'!AZ35:AZ38)","v":{"v":22115.1,"d":"22,115.10"}},{"$f":"SUM('법정동(2013년말)'!BA35:BA38)","v":19},{"$f":"SUM('법정동(2013년말)'!BB35:BB38)","v":0},{"$f":"SUM('법정동(2013년말)'!BC35:BC38)","v":0},{"$f":"SUM('법정동(2013년말)'!BD35:BD38)","v":{"v":33381,"d":"33,381.00"}},{"$f":"SUM('법정동(2013년말)'!BE35:BE38)","v":56},{"$f":"SUM('법정동(2013년말)'!BF35:BF38)","v":{"v":37294.200000000004,"d":"37,294.20"}},{"$f":"SUM('법정동(2013년말)'!BG35:BG38)","v":47}]
["시전동",{"$f":"SUM('법정동(2013년말)'!B39:B41)","v":{"v":6258315.800000001,"d":"6,258,315.80"}},{"$f":"SUM('법정동(2013년말)'!C39:C41)","v":{"v":6293,"d":"6,293"}},{"$f":"SUM('법정동(2013년말)'!D39:D41)","v":{"v":1072585,"d":"1,072,585.00"}},{"$f":"SUM('법정동(2013년말)'!E39:E41)","v":{"v":1347,"d":"1,347"}},{"$f":"SUM('법정동(2013년말)'!F39:F41)","v":{"v":476672,"d":"476,672.00"}},{"$f":"SUM('법정동(2013년말)'!G39:G41)","v":746},{"$f":"SUM('법정동(2013년말)'!H39:H41)","v":{"v":4119,"d":"4,119.00"}},{"$f":"SUM('법정동(2013년말)'!I39:I41)","v":4},{"$f":"SUM('법정동(2013년말)'!J39:J41)","v":0},{"$f":"SUM('법정동(2013년말)'!K39:K41)","v":0},{"$f":"SUM('법정동(2013년말)'!L39:L41)","v":{"v":2419871.6,"d":"2,419,871.60"}},{"$f":"SUM('법정동(2013년말)'!M39:M41)","v":954},{"$f":"SUM('법정동(2013년말)'!N39:N41)","v":0},{"$f":"SUM('법정동(2013년말)'!O39:O41)","v":0},{"$f":"SUM('법정동(2013년말)'!P39:P41)","v":0},{"$f":"SUM('법정동(2013년말)'!Q39:Q41)","v":0},{"$f":"SUM('법정동(2013년말)'!R39:R41)","v":{"v":1084796.7000000002,"d":"1,084,796.70"}},{"$f":"SUM('법정동(2013년말)'!S39:S41)","v":{"v":2304,"d":"2,304"}},{"$f":"SUM('법정동(2013년말)'!T39:T41)","v":0},{"$f":"SUM('법정동(2013년말)'!U39:U41)","v":0},{"$f":"SUM('법정동(2013년말)'!V39:V41)","v":{"v":64545,"d":"64,545.00"}},{"$f":"SUM('법정동(2013년말)'!W39:W41)","v":4},{"$f":"SUM('법정동(2013년말)'!X39:X41)","v":{"v":24849.3,"d":"24,849.30"}},{"$f":"SUM('법정동(2013년말)'!Y39:Y41)","v":20},{"$f":"SUM('법정동(2013년말)'!Z39:Z41)","v":{"v":4565.2,"d":"4,565.20"}},{"$f":"SUM('법정동(2013년말)'!AA39:AA41)","v":5},{"$f":"SUM('법정동(2013년말)'!AB39:AB41)","v":{"v":350,"d":"350.00"}},{"$f":"SUM('법정동(2013년말)'!AC39:AC41)","v":1},{"$f":"SUM('법정동(2013년말)'!AD39:AD41)","v":{"v":585185.3,"d":"585,185.30"}},{"$f":"SUM('법정동(2013년말)'!AE39:AE41)","v":694},{"$f":"SUM('법정동(2013년말)'!AF39:AF41)","v":0},{"$f":"SUM('법정동(2013년말)'!AG39:AG41)","v":0},{"$f":"SUM('법정동(2013년말)'!AH39:AH41)","v":{"v":1881.6,"d":"1,881.60"}},{"$f":"SUM('법정동(2013년말)'!AI39:AI41)","v":6},{"$f":"SUM('법정동(2013년말)'!AJ39:AJ41)","v":{"v":555,"d":"555.00"}},{"$f":"SUM('법정동(2013년말)'!AK39:AK41)","v":4},{"$f":"SUM('법정동(2013년말)'!AL39:AL41)","v":{"v":48909,"d":"48,909.00"}},{"$f":"SUM('법정동(2013년말)'!AM39:AM41)","v":39},{"$f":"SUM('법정동(2013년말)'!AN39:AN41)","v":{"v":22484,"d":"22,484.00"}},{"$f":"SUM('법정동(2013년말)'!AO39:AO41)","v":30},{"$f":"SUM('법정동(2013년말)'!AP39:AP41)","v":0},{"$f":"SUM('법정동(2013년말)'!AQ39:AQ41)","v":0},{"$f":"SUM('법정동(2013년말)'!AR39:AR41)","v":{"v":3742.1,"d":"3,742.10"}},{"$f":"SUM('법정동(2013년말)'!AS39:AS41)","v":13},{"$f":"SUM('법정동(2013년말)'!AT39:AT41)","v":{"v":175196.1,"d":"175,196.10"}},{"$f":"SUM('법정동(2013년말)'!AU39:AU41)","v":40},{"$f":"SUM('법정동(2013년말)'!AV39:AV41)","v":{"v":157345,"d":"157,345.00"}},{"$f":"SUM('법정동(2013년말)'!AW39:AW41)","v":4},{"$f":"SUM('법정동(2013년말)'!AX39:AX41)","v":0},{"$f":"SUM('법정동(2013년말)'!AY39:AY41)","v":0},{"$f":"SUM('법정동(2013년말)'!AZ39:AZ41)","v":{"v":20483.7,"d":"20,483.70"}},{"$f":"SUM('법정동(2013년말)'!BA39:BA41)","v":10},{"$f":"SUM('법정동(2013년말)'!BB39:BB41)","v":0},{"$f":"SUM('법정동(2013년말)'!BC39:BC41)","v":0},{"$f":"SUM('법정동(2013년말)'!BD39:BD41)","v":{"v":24368,"d":"24,368.00"}},{"$f":"SUM('법정동(2013년말)'!BE39:BE41)","v":51},{"$f":"SUM('법정동(2013년말)'!BF39:BF41)","v":{"v":65812.2,"d":"65,812.20"}},{"$f":"SUM('법정동(2013년말)'!BG39:BG41)","v":17}]
["여천동",{"$f":"SUM('법정동(2013년말)'!B42:B44)","v":{"v":7531089.6,"d":"7,531,089.60"}},{"$f":"SUM('법정동(2013년말)'!C42:C44)","v":{"v":7427,"d":"7,427"}},{"$f":"SUM('법정동(2013년말)'!D42:D44)","v":{"v":813624,"d":"813,624.00"}},{"$f":"SUM('법정동(2013년말)'!E42:E44)","v":995},{"$f":"SUM('법정동(2013년말)'!F42:F44)","v":{"v":1248736,"d":"1,248,736.00"}},{"$f":"SUM('법정동(2013년말)'!G42:G44)","v":{"v":1341,"d":"1,341"}},{"$f":"SUM('법정동(2013년말)'!H42:H44)","v":{"v":17444,"d":"17,444.00"}},{"$f":"SUM('법정동(2013년말)'!I42:I44)","v":5},{"$f":"SUM('법정동(2013년말)'!J42:J44)","v":{"v":3663,"d":"3,663.00"}},{"$f":"SUM('법정동(2013년말)'!K42:K44)","v":6},{"$f":"SUM('법정동(2013년말)'!L42:L44)","v":{"v":2471977.5,"d":"2,471,977.50"}},{"$f":"SUM('법정동(2013년말)'!M42:M44)","v":605},{"$f":"SUM('법정동(2013년말)'!N42:N44)","v":0},{"$f":"SUM('법정동(2013년말)'!O42:O44)","v":0},{"$f":"SUM('법정동(2013년말)'!P42:P44)","v":0},{"$f":"SUM('법정동(2013년말)'!Q42:Q44)","v":0},{"$f":"SUM('법정동(2013년말)'!R42:R44)","v":{"v":1318649.7999999998,"d":"1,318,649.80"}},{"$f":"SUM('법정동(2013년말)'!S42:S44)","v":{"v":3184,"d":"3,184"}},{"$f":"SUM('법정동(2013년말)'!T42:T44)","v":{"v":5246,"d":"5,246.00"}},{"$f":"SUM('법정동(2013년말)'!U42:U44)","v":3},{"$f":"SUM('법정동(2013년말)'!V42:V44)","v":{"v":162547.4,"d":"162,547.40"}},{"$f":"SUM('법정동(2013년말)'!W42:W44)","v":8},{"$f":"SUM('법정동(2013년말)'!X42:X44)","v":{"v":41189.899999999994,"d":"41,189.90"}},{"$f":"SUM('법정동(2013년말)'!Y42:Y44)","v":48},{"$f":"SUM('법정동(2013년말)'!Z42:Z44)","v":{"v":14597.8,"d":"14,597.80"}},{"$f":"SUM('법정동(2013년말)'!AA42:AA44)","v":19},{"$f":"SUM('법정동(2013년말)'!AB42:AB44)","v":{"v":15394,"d":"15,394.00"}},{"$f":"SUM('법정동(2013년말)'!AC42:AC44)","v":18},{"$f":"SUM('법정동(2013년말)'!AD42:AD44)","v":{"v":865274.4,"d":"865,274.40"}},{"$f":"SUM('법정동(2013년말)'!AE42:AE44)","v":790},{"$f":"SUM('법정동(2013년말)'!AF42:AF44)","v":{"v":74938,"d":"74,938.00"}},{"$f":"SUM('법정동(2013년말)'!AG42:AG44)","v":55},{"$f":"SUM('법정동(2013년말)'!AH42:AH44)","v":0},{"$f":"SUM('법정동(2013년말)'!AI42:AI44)","v":0},{"$f":"SUM('법정동(2013년말)'!AJ42:AJ44)","v":{"v":87631,"d":"87,631.00"}},{"$f":"SUM('법정동(2013년말)'!AK42:AK44)","v":53},{"$f":"SUM('법정동(2013년말)'!AL42:AL44)","v":{"v":89829.90000000001,"d":"89,829.90"}},{"$f":"SUM('법정동(2013년말)'!AM42:AM44)","v":164},{"$f":"SUM('법정동(2013년말)'!AN42:AN44)","v":{"v":23888,"d":"23,888.00"}},{"$f":"SUM('법정동(2013년말)'!AO42:AO44)","v":17},{"$f":"SUM('법정동(2013년말)'!AP42:AP44)","v":{"v":1016,"d":"1,016.00"}},{"$f":"SUM('법정동(2013년말)'!AQ42:AQ44)","v":1},{"$f":"SUM('법정동(2013년말)'!AR42:AR44)","v":{"v":32581,"d":"32,581.00"}},{"$f":"SUM('법정동(2013년말)'!AS42:AS44)","v":13},{"$f":"SUM('법정동(2013년말)'!AT42:AT44)","v":{"v":176307.4,"d":"176,307.40"}},{"$f":"SUM('법정동(2013년말)'!AU42:AU44)","v":27},{"$f":"SUM('법정동(2013년말)'!AV42:AV44)","v":0},{"$f":"SUM('법정동(2013년말)'!AW42:AW44)","v":0},{"$f":"SUM('법정동(2013년말)'!AX42:AX44)","v":0},{"$f":"SUM('법정동(2013년말)'!AY42:AY44)","v":0},{"$f":"SUM('법정동(2013년말)'!AZ42:AZ44)","v":{"v":20634.4,"d":"20,634.40"}},{"$f":"SUM('법정동(2013년말)'!BA42:BA44)","v":14},{"$f":"SUM('법정동(2013년말)'!BB42:BB44)","v":{"v":6450,"d":"6,450.00"}},{"$f":"SUM('법정동(2013년말)'!BC42:BC44)","v":2},{"$f":"SUM('법정동(2013년말)'!BD42:BD44)","v":{"v":14863,"d":"14,863.00"}},{"$f":"SUM('법정동(2013년말)'!BE42:BE44)","v":28},{"$f":"SUM('법정동(2013년말)'!BF42:BF44)","v":{"v":24607.1,"d":"24,607.10"}},{"$f":"SUM('법정동(2013년말)'!BG42:BG44)","v":31}]
["주삼동",{"$f":"SUM('법정동(2013년말)'!B45:B47)","v":{"v":11528111.4,"d":"11,528,111.40"}},{"$f":"SUM('법정동(2013년말)'!C45:C47)","v":{"v":8553,"d":"8,553"}},{"$f":"SUM('법정동(2013년말)'!D45:D47)","v":{"v":1079574,"d":"1,079,574.00"}},{"$f":"SUM('법정동(2013년말)'!E45:E47)","v":{"v":1392,"d":"1,392"}},{"$f":"SUM('법정동(2013년말)'!F45:F47)","v":{"v":2045940.4,"d":"2,045,940.40"}},{"$f":"SUM('법정동(2013년말)'!G45:G47)","v":{"v":2100,"d":"2,100"}},{"$f":"SUM('법정동(2013년말)'!H45:H47)","v":{"v":3307,"d":"3,307.00"}},{"$f":"SUM('법정동(2013년말)'!I45:I47)","v":1},{"$f":"SUM('법정동(2013년말)'!J45:J47)","v":{"v":6533,"d":"6,533.00"}},{"$f":"SUM('법정동(2013년말)'!K45:K47)","v":10},{"$f":"SUM('법정동(2013년말)'!L45:L47)","v":{"v":5479807,"d":"5,479,807.00"}},{"$f":"SUM('법정동(2013년말)'!M45:M47)","v":{"v":1111,"d":"1,111"}},{"$f":"SUM('법정동(2013년말)'!N45:N47)","v":0},{"$f":"SUM('법정동(2013년말)'!O45:O47)","v":0},{"$f":"SUM('법정동(2013년말)'!P45:P47)","v":0},{"$f":"SUM('법정동(2013년말)'!Q45:Q47)","v":0},{"$f":"SUM('법정동(2013년말)'!R45:R47)","v":{"v":570821.7,"d":"570,821.70"}},{"$f":"SUM('법정동(2013년말)'!S45:S47)","v":994},{"$f":"SUM('법정동(2013년말)'!T45:T47)","v":{"v":130477,"d":"130,477.00"}},{"$f":"SUM('법정동(2013년말)'!U45:U47)","v":49},{"$f":"SUM('법정동(2013년말)'!V45:V47)","v":{"v":84875,"d":"84,875.00"}},{"$f":"SUM('법정동(2013년말)'!W45:W47)","v":3},{"$f":"SUM('법정동(2013년말)'!X45:X47)","v":{"v":26336,"d":"26,336.00"}},{"$f":"SUM('법정동(2013년말)'!Y45:Y47)","v":17},{"$f":"SUM('법정동(2013년말)'!Z45:Z47)","v":{"v":27090,"d":"27,090.00"}},{"$f":"SUM('법정동(2013년말)'!AA45:AA47)","v":27},{"$f":"SUM('법정동(2013년말)'!AB45:AB47)","v":{"v":15803,"d":"15,803.00"}},{"$f":"SUM('법정동(2013년말)'!AC45:AC47)","v":26},{"$f":"SUM('법정동(2013년말)'!AD45:AD47)","v":{"v":916169.5,"d":"916,169.50"}},{"$f":"SUM('법정동(2013년말)'!AE45:AE47)","v":{"v":2219,"d":"2,219"}},{"$f":"SUM('법정동(2013년말)'!AF45:AF47)","v":{"v":60329.2,"d":"60,329.20"}},{"$f":"SUM('법정동(2013년말)'!AG45:AG47)","v":78},{"$f":"SUM('법정동(2013년말)'!AH45:AH47)","v":{"v":9201,"d":"9,201.00"}},{"$f":"SUM('법정동(2013년말)'!AI45:AI47)","v":11},{"$f":"SUM('법정동(2013년말)'!AJ45:AJ47)","v":{"v":109024,"d":"109,024.00"}},{"$f":"SUM('법정동(2013년말)'!AK45:AK47)","v":58},{"$f":"SUM('법정동(2013년말)'!AL45:AL47)","v":{"v":201840,"d":"201,840.00"}},{"$f":"SUM('법정동(2013년말)'!AM45:AM47)","v":231},{"$f":"SUM('법정동(2013년말)'!AN45:AN47)","v":{"v":119944,"d":"119,944.00"}},{"$f":"SUM('법정동(2013년말)'!AO45:AO47)","v":58},{"$f":"SUM('법정동(2013년말)'!AP45:AP47)","v":0},{"$f":"SUM('법정동(2013년말)'!AQ45:AQ47)","v":0},{"$f":"SUM('법정동(2013년말)'!AR45:AR47)","v":{"v":3567,"d":"3,567.00"}},{"$f":"SUM('법정동(2013년말)'!AS45:AS47)","v":7},{"$f":"SUM('법정동(2013년말)'!AT45:AT47)","v":0},{"$f":"SUM('법정동(2013년말)'!AU45:AU47)","v":0},{"$f":"SUM('법정동(2013년말)'!AV45:AV47)","v":{"v":514788,"d":"514,788.00"}},{"$f":"SUM('법정동(2013년말)'!AW45:AW47)","v":2},{"$f":"SUM('법정동(2013년말)'!AX45:AX47)","v":0},{"$f":"SUM('법정동(2013년말)'!AY45:AY47)","v":0},{"$f":"SUM('법정동(2013년말)'!AZ45:AZ47)","v":{"v":9549,"d":"9,549.00"}},{"$f":"SUM('법정동(2013년말)'!BA45:BA47)","v":7},{"$f":"SUM('법정동(2013년말)'!BB45:BB47)","v":0},{"$f":"SUM('법정동(2013년말)'!BC45:BC47)","v":0},{"$f":"SUM('법정동(2013년말)'!BD45:BD47)","v":{"v":11926,"d":"11,926.00"}},{"$f":"SUM('법정동(2013년말)'!BE45:BE47)","v":18},{"$f":"SUM('법정동(2013년말)'!BF45:BF47)","v":{"v":101209.6,"d":"101,209.60"}},{"$f":"SUM('법정동(2013년말)'!BG45:BG47)","v":134}]
["삼일동",{"$f":"SUM('법정동(2013년말)'!B48:B53,'법정동(2013년말)'!B55:B58)","v":{"v":68211778.8,"d":"68,211,778.80"}},{"$f":"SUM('법정동(2013년말)'!C48:C53,'법정동(2013년말)'!C55:C58)","v":{"v":19185,"d":"19,185"}},{"$f":"SUM('법정동(2013년말)'!D48:D53,'법정동(2013년말)'!D55:D58)","v":{"v":2845900,"d":"2,845,900.00"}},{"$f":"SUM('법정동(2013년말)'!E48:E53,'법정동(2013년말)'!E55:E58)","v":{"v":3457,"d":"3,457"}},{"$f":"SUM('법정동(2013년말)'!F48:F53,'법정동(2013년말)'!F55:F58)","v":{"v":3188639.5,"d":"3,188,639.50"}},{"$f":"SUM('법정동(2013년말)'!G48:G53,'법정동(2013년말)'!G55:G58)","v":{"v":3535,"d":"3,535"}},{"$f":"SUM('법정동(2013년말)'!H48:H53,'법정동(2013년말)'!H55:H58)","v":{"v":36339,"d":"36,339.00"}},{"$f":"SUM('법정동(2013년말)'!I48:I53,'법정동(2013년말)'!I55:I58)","v":14},{"$f":"SUM('법정동(2013년말)'!J48:J53,'법정동(2013년말)'!J55:J58)","v":{"v":7471,"d":"7,471.00"}},{"$f":"SUM('법정동(2013년말)'!K48:K53,'법정동(2013년말)'!K55:K58)","v":5},{"$f":"SUM('법정동(2013년말)'!L48:L53,'법정동(2013년말)'!L55:L58)","v":{"v":38751444.699999996,"d":"38,751,444.70"}},{"$f":"SUM('법정동(2013년말)'!M48:M53,'법정동(2013년말)'!M55:M58)","v":{"v":3521,"d":"3,521"}},{"$f":"SUM('법정동(2013년말)'!N48:N53,'법정동(2013년말)'!N55:N58)","v":0},{"$f":"SUM('법정동(2013년말)'!O48:O53,'법정동(2013년말)'!O55:O58)","v":0},{"$f":"SUM('법정동(2013년말)'!P48:P53,'법정동(2013년말)'!P55:P58)","v":0},{"$f":"SUM('법정동(2013년말)'!Q48:Q53,'법정동(2013년말)'!Q55:Q58)","v":0},{"$f":"SUM('법정동(2013년말)'!R48:R53,'법정동(2013년말)'!R55:R58)","v":{"v":1368733.5,"d":"1,368,733.50"}},{"$f":"SUM('법정동(2013년말)'!S48:S53,'법정동(2013년말)'!S55:S58)","v":{"v":2110,"d":"2,110"}},{"$f":"SUM('법정동(2013년말)'!T48:T53,'법정동(2013년말)'!T55:T58)","v":{"v":14036200.9,"d":"14,036,200.90"}},{"$f":"SUM('법정동(2013년말)'!U48:U53,'법정동(2013년말)'!U55:U58)","v":709},{"$f":"SUM('법정동(2013년말)'!V48:V53,'법정동(2013년말)'!V55:V58)","v":{"v":62608,"d":"62,608.00"}},{"$f":"SUM('법정동(2013년말)'!W48:W53,'법정동(2013년말)'!W55:W58)","v":12},{"$f":"SUM('법정동(2013년말)'!X48:X53,'법정동(2013년말)'!X55:X58)","v":{"v":17007.7,"d":"17,007.70"}},{"$f":"SUM('법정동(2013년말)'!Y48:Y53,'법정동(2013년말)'!Y55:Y58)","v":15},{"$f":"SUM('법정동(2013년말)'!Z48:Z53,'법정동(2013년말)'!Z55:Z58)","v":{"v":344105.9,"d":"344,105.90"}},{"$f":"SUM('법정동(2013년말)'!AA48:AA53,'법정동(2013년말)'!AA55:AA58)","v":48},{"$f":"SUM('법정동(2013년말)'!AB48:AB53,'법정동(2013년말)'!AB55:AB58)","v":{"v":23822.4,"d":"23,822.40"}},{"$f":"SUM('법정동(2013년말)'!AC48:AC53,'법정동(2013년말)'!AC55:AC58)","v":12},{"$f":"SUM('법정동(2013년말)'!AD48:AD53,'법정동(2013년말)'!AD55:AD58)","v":{"v":2655946.6,"d":"2,655,946.60"}},{"$f":"SUM('법정동(2013년말)'!AE48:AE53,'법정동(2013년말)'!AE55:AE58)","v":{"v":3730,"d":"3,730"}},{"$f":"SUM('법정동(2013년말)'!AF48:AF53,'법정동(2013년말)'!AF55:AF58)","v":{"v":275568,"d":"275,568.00"}},{"$f":"SUM('법정동(2013년말)'!AG48:AG53,'법정동(2013년말)'!AG55:AG58)","v":191},{"$f":"SUM('법정동(2013년말)'!AH48:AH53,'법정동(2013년말)'!AH55:AH58)","v":{"v":108327.5,"d":"108,327.50"}},{"$f":"SUM('법정동(2013년말)'!AI48:AI53,'법정동(2013년말)'!AI55:AI58)","v":67},{"$f":"SUM('법정동(2013년말)'!AJ48:AJ53,'법정동(2013년말)'!AJ55:AJ58)","v":{"v":902431,"d":"902,431.00"}},{"$f":"SUM('법정동(2013년말)'!AK48:AK53,'법정동(2013년말)'!AK55:AK58)","v":327},{"$f":"SUM('법정동(2013년말)'!AL48:AL53,'법정동(2013년말)'!AL55:AL58)","v":{"v":332308.4,"d":"332,308.40"}},{"$f":"SUM('법정동(2013년말)'!AM48:AM53,'법정동(2013년말)'!AM55:AM58)","v":351},{"$f":"SUM('법정동(2013년말)'!AN48:AN53,'법정동(2013년말)'!AN55:AN58)","v":{"v":201243,"d":"201,243.00"}},{"$f":"SUM('법정동(2013년말)'!AO48:AO53,'법정동(2013년말)'!AO55:AO58)","v":187},{"$f":"SUM('법정동(2013년말)'!AP48:AP53,'법정동(2013년말)'!AP55:AP58)","v":0},{"$f":"SUM('법정동(2013년말)'!AQ48:AQ53,'법정동(2013년말)'!AQ55:AQ58)","v":0},{"$f":"SUM('법정동(2013년말)'!AR48:AR53,'법정동(2013년말)'!AR55:AR58)","v":{"v":65088.7,"d":"65,088.70"}},{"$f":"SUM('법정동(2013년말)'!AS48:AS53,'법정동(2013년말)'!AS55:AS58)","v":28},{"$f":"SUM('법정동(2013년말)'!AT48:AT53,'법정동(2013년말)'!AT55:AT58)","v":{"v":9450.7,"d":"9,450.70"}},{"$f":"SUM('법정동(2013년말)'!AU48:AU53,'법정동(2013년말)'!AU55:AU58)","v":5},{"$f":"SUM('법정동(2013년말)'!AV48:AV53,'법정동(2013년말)'!AV55:AV58)","v":{"v":1544,"d":"1,544.00"}},{"$f":"SUM('법정동(2013년말)'!AW48:AW53,'법정동(2013년말)'!AW55:AW58)","v":2},{"$f":"SUM('법정동(2013년말)'!AX48:AX53,'법정동(2013년말)'!AX55:AX58)","v":0},{"$f":"SUM('법정동(2013년말)'!AY48:AY53,'법정동(2013년말)'!AY55:AY58)","v":0},{"$f":"SUM('법정동(2013년말)'!AZ48:AZ53,'법정동(2013년말)'!AZ55:AZ58)","v":{"v":37095,"d":"37,095.00"}},{"$f":"SUM('법정동(2013년말)'!BA48:BA53,'법정동(2013년말)'!BA55:BA58)","v":29},{"$f":"SUM('법정동(2013년말)'!BB48:BB53,'법정동(2013년말)'!BB55:BB58)","v":0},{"$f":"SUM('법정동(2013년말)'!BC48:BC53,'법정동(2013년말)'!BC55:BC58)","v":0},{"$f":"SUM('법정동(2013년말)'!BD48:BD53,'법정동(2013년말)'!BD55:BD58)","v":{"v":86698,"d":"86,698.00"}},{"$f":"SUM('법정동(2013년말)'!BE48:BE53,'법정동(2013년말)'!BE55:BE58)","v":108},{"$f":"SUM('법정동(2013년말)'!BF48:BF53,'법정동(2013년말)'!BF55:BF58)","v":{"v":2853805.3000000003,"d":"2,853,805.30"}},{"$f":"SUM('법정동(2013년말)'!BG48:BG53,'법정동(2013년말)'!BG55:BG58)","v":722}]
["묘도동",{"$f":"SUM('법정동(2013년말)'!B54)","v":{"v":11515440.6,"d":"11,515,440.60"}},{"$f":"SUM('법정동(2013년말)'!C54)","v":{"v":5824,"d":"5,824"}},{"$f":"SUM('법정동(2013년말)'!D54)","v":{"v":1323015,"d":"1,323,015.00"}},{"$f":"SUM('법정동(2013년말)'!E54)","v":{"v":1328,"d":"1,328"}},{"$f":"SUM('법정동(2013년말)'!F54)","v":{"v":935425,"d":"935,425.00"}},{"$f":"SUM('법정동(2013년말)'!G54)","v":{"v":1081,"d":"1,081"}},{"$f":"SUM('법정동(2013년말)'!H54)","v":{"v":3155,"d":"3,155.00"}},{"$f":"SUM('법정동(2013년말)'!I54)","v":3},{"$f":"SUM('법정동(2013년말)'!J54)","v":{"v":1592,"d":"1,592.00"}},{"$f":"SUM('법정동(2013년말)'!K54)","v":4},{"$f":"SUM('법정동(2013년말)'!L54)","v":{"v":5653600,"d":"5,653,600.00"}},{"$f":"SUM('법정동(2013년말)'!M54)","v":{"v":1680,"d":"1,680"}},{"$f":"SUM('법정동(2013년말)'!N54)","v":0},{"$f":"SUM('법정동(2013년말)'!O54)","v":0},{"$f":"SUM('법정동(2013년말)'!P54)","v":0},{"$f":"SUM('법정동(2013년말)'!Q54)","v":0},{"$f":"SUM('법정동(2013년말)'!R54)","v":{"v":180663,"d":"180,663.00"}},{"$f":"SUM('법정동(2013년말)'!S54)","v":663},{"$f":"SUM('법정동(2013년말)'!T54)","v":0},{"$f":"SUM('법정동(2013년말)'!U54)","v":0},{"$f":"SUM('법정동(2013년말)'!V54)","v":{"v":18801,"d":"18,801.00"}},{"$f":"SUM('법정동(2013년말)'!W54)","v":4},{"$f":"SUM('법정동(2013년말)'!X54)","v":{"v":28,"d":"28.00"}},{"$f":"SUM('법정동(2013년말)'!Y54)","v":1},{"$f":"SUM('법정동(2013년말)'!Z54)","v":{"v":589,"d":"589.00"}},{"$f":"SUM('법정동(2013년말)'!AA54)","v":1},{"$f":"SUM('법정동(2013년말)'!AB54)","v":{"v":3651,"d":"3,651.00"}},{"$f":"SUM('법정동(2013년말)'!AC54)","v":6},{"$f":"SUM('법정동(2013년말)'!AD54)","v":{"v":137561,"d":"137,561.00"}},{"$f":"SUM('법정동(2013년말)'!AE54)","v":895},{"$f":"SUM('법정동(2013년말)'!AF54)","v":0},{"$f":"SUM('법정동(2013년말)'!AG54)","v":0},{"$f":"SUM('법정동(2013년말)'!AH54)","v":{"v":113398.6,"d":"113,398.60"}},{"$f":"SUM('법정동(2013년말)'!AI54)","v":13},{"$f":"SUM('법정동(2013년말)'!AJ54)","v":{"v":15454,"d":"15,454.00"}},{"$f":"SUM('법정동(2013년말)'!AK54)","v":2},{"$f":"SUM('법정동(2013년말)'!AL54)","v":{"v":63958,"d":"63,958.00"}},{"$f":"SUM('법정동(2013년말)'!AM54)","v":27},{"$f":"SUM('법정동(2013년말)'!AN54)","v":{"v":22036,"d":"22,036.00"}},{"$f":"SUM('법정동(2013년말)'!AO54)","v":27},{"$f":"SUM('법정동(2013년말)'!AP54)","v":0},{"$f":"SUM('법정동(2013년말)'!AQ54)","v":0},{"$f":"SUM('법정동(2013년말)'!AR54)","v":0},{"$f":"SUM('법정동(2013년말)'!AS54)","v":0},{"$f":"SUM('법정동(2013년말)'!AT54)","v":0},{"$f":"SUM('법정동(2013년말)'!AU54)","v":0},{"$f":"SUM('법정동(2013년말)'!AV54)","v":0},{"$f":"SUM('법정동(2013년말)'!AW54)","v":0},{"$f":"SUM('법정동(2013년말)'!AX54)","v":0},{"$f":"SUM('법정동(2013년말)'!AY54)","v":0},{"$f":"SUM('법정동(2013년말)'!AZ54)","v":{"v":3681,"d":"3,681.00"}},{"$f":"SUM('법정동(2013년말)'!BA54)","v":2},{"$f":"SUM('법정동(2013년말)'!BB54)","v":0},{"$f":"SUM('법정동(2013년말)'!BC54)","v":0},{"$f":"SUM('법정동(2013년말)'!BD54)","v":{"v":29108,"d":"29,108.00"}},{"$f":"SUM('법정동(2013년말)'!BE54)","v":39},{"$f":"SUM('법정동(2013년말)'!BF54)","v":{"v":3009725,"d":"3,009,725.00"}},{"$f":"SUM('법정동(2013년말)'!BG54)","v":48}]