{"text_format":"3","workbook":"xlsx","n_sheets":2,"sheets":["1.총괄현황 집계표","총괄"],"not_rendered":{"defined_names":4,"comments":1},"read":"whole","date_system":"1900"}

{"sheet":"1.총괄현황 집계표","index":0,"n_rows":251,"n_cols":22,"rows_kept":251,"hidden":true,"merged":[[0,0,0,21],[4,0,4,1],[4,2,4,8],[4,9,4,15],[4,16,4,17],[4,18,6,18],[4,19,6,19],[4,20,4,21],[5,0,6,0],[5,1,6,1],[5,2,6,2],[5,3,6,3],[5,4,5,8],[5,9,6,9],[5,10,5,11],[5,12,6,12],[5,13,6,13],[5,14,6,14],[5,15,6,15],[5,16,6,16],[5,17,6,17],[5,20,6,20],[5,21,6,21]]}
["<서식1> 2018년 위원회 총괄 현황(지자체별)"]
["<작성방법> -서식변경금지 / 기준일 : '18.12.31"]
["1. <2.실태조사(위원회별)> 시트 작성후 본 시트 작성!"]
["2. 노란색 셀은 별도로 작성 금지(<2.실태조사(위원회별)> 시트 입력시 자동계산)"]
["자치단체명",null,"위원회 수 (시기별, 증감사유별)",{"$nulls":6},"위원회 수 (설치근거별)   *18년말 기준",{"$nulls":6},"위원 수",null,"1년간 평균\n회의개최 횟수\n(1개 위원회 기준)","1년간 미개최\n위원회 수","운영경비 (단위: 천원)"]
["광역","기초","17년말 기준\n(A)","18년말 기준\n(B)","증감 ('18.1~'18.12)      ※ B-A = a-b-c+d",{"$nulls":4},"계","법령",null,"조례","규칙","기타 규정","법적근거\n없는 경우","총 위원수","여성위원 수",null,null,"예산기준","결산기준"]
[{"$nulls":4},"소계 (B-A)","신설 (a)","폐지 (b)","통합 (c)","누락(d)",null,"강행","임의"]
[null,"계",{"$f":"SUBTOTAL(9,C9:C251)","v":{"v":2043,"d":"2,043"}},{"$f":"SUBTOTAL(9,D9:D251)","v":{"$error":"#REF!"}},{"$f":"SUBTOTAL(9,E9:E251)","v":{"$error":"#REF!"}},{"$error":"#REF!"},{"$error":"#REF!"},{"$error":"#REF!"},{"$error":"#REF!"},{"$f":"SUBTOTAL(9,J9:J251)","v":0},{"$f":"SUBTOTAL(9,K9:K251)","v":0},0,0,0,0,0,0,0,{"$f":"SUBTOTAL(1,S9:S251)","v":{"$error":"#DIV/0!"}},{"$f":"SUBTOTAL(9,T9:T251)","v":0},{"$f":"SUBTOTAL(9,U9:U251)","v":0},0]
["서울","서울특별시",194,{"$f":"C9+F9-G9-H9","v":{"$error":"#REF!"}},{"$f":"F9-G9-H9+I9","v":{"$error":"#REF!"}},{"$f":"COUNTIFS(총괄!$B$6:$B$5127,'1.총괄현황 집계표'!$B9,총괄!$D$6:$D$5127,\"*\",총괄!#REF!,\"*\")","v":{"$error":"#REF!"}},{"$f":"COUNTIFS(총괄!$B$6:$B$5127,'1.총괄현황 집계표'!$B9,총괄!$D$6:$D$5127,\"*\",총괄!#REF!,\"*\")","v":{"$error":"#REF!"}},{"$f":"COUNTIFS(총괄!$B$6:$B$5127,'1.총괄현황 집계표'!$B9,총괄!$D$6:$D$5127,\"*\",총괄!#REF!,\"*\")","v":{"$error":"#REF!"}},{"$f":"COUNTIFS(총괄!$B$6:$B$5127,'1.총괄현황 집계표'!$B9,총괄!$D$6:$D$5127,\"*\",총괄!#REF!,\"*\")","v":{"$error":"#REF!"}},{"$f":"SUM(K9:P9)","v":0}]
["서울","서울종로구",92,{"$f":"C10+F10-G10-H10","v":{"$error":"#REF!"}},{"$f":"F10-G10-H10+I10","v":{"$error":"#REF!"}},{"$f":"COUNTIFS(총괄!$B$6:$B$5127,'1.총괄현황 집계표'!$B10,총괄!$D$6:$D$5127,\"*\",총괄!#REF!,\"*\")","v":{"$error":"#REF!"}},{"$f":"COUNTIFS(총괄!$B$6:$B$5127,'1.총괄현황 집계표'!$B10,총괄!$D$6:$D$5127,\"*\",총괄!#REF!,\"*\")","v":{"$error":"#REF!"}},{"$f":"COUNTIFS(총괄!$B$6:$B$5127,'1.총괄현황 집계표'!$B10,총괄!$D$6:$D$5127,\"*\",총괄!#REF!,\"*\")","v":{"$error":"#REF!"}},{"$f":"COUNTIFS(총괄!$B$6:$B$5127,'1.총괄현황 집계표'!$B10,총괄!$D$6:$D$5127,\"*\",총괄!#REF!,\"*\")","v":{"$error":"#REF!"}},{"$f":"SUM(K10:P10)","v":0}]
["서울","서울중구",93,{"$error":"#REF!"},{"$error":"#REF!"},{"$f":"COUNTIFS(총괄!$B$6:$B$5127,'1.총괄현황 집계표'!$B11,총괄!$D$6:$D$5127,\"*\",총괄!#REF!,\"*\")","v":{"$error":"#REF!"}},{"$f":"COUNTIFS(총괄!$B$6:$B$5127,'1.총괄현황 집계표'!$B11,총괄!$D$6:$D$5127,\"*\",총괄!#REF!,\"*\")","v":{"$error":"#REF!"}},{"$f":"COUNTIFS(총괄!$B$6:$B$5127,'1.총괄현황 집계표'!$B11,총괄!$D$6:$D$5127,\"*\",총괄!#REF!,\"*\")","v":{"$error":"#REF!"}},{"$f":"COUNTIFS(총괄!$B$6:$B$5127,'1.총괄현황 집계표'!$B11,총괄!$D$6:$D$5127,\"*\",총괄!#REF!,\"*\")","v":{"$error":"#REF!"}},0]
["서울","서울용산구",79,{"$error":"#REF!"},{"$error":"#REF!"},{"$f":"COUNTIFS(총괄!$B$6:$B$5127,'1.총괄현황 집계표'!$B12,총괄!$D$6:$D$5127,\"*\",총괄!#REF!,\"*\")","v":{"$error":"#REF!"}},{"$f":"COUNTIFS(총괄!$B$6:$B$5127,'1.총괄현황 집계표'!$B12,총괄!$D$6:$D$5127,\"*\",총괄!#REF!,\"*\")","v":{"$error":"#REF!"}},{"$f":"COUNTIFS(총괄!$B$6:$B$5127,'1.총괄현황 집계표'!$B12,총괄!$D$6:$D$5127,\"*\",총괄!#REF!,\"*\")","v":{"$error":"#REF!"}},{"$f":"COUNTIFS(총괄!$B$6:$B$5127,'1.총괄현황 집계표'!$B12,총괄!$D$6:$D$5127,\"*\",총괄!#REF!,\"*\")","v":{"$error":"#REF!"}},0]
["서울","서울성동구",84,{"$error":"#REF!"},{"$error":"#REF!"},{"$f":"COUNTIFS(총괄!$B$6:$B$5127,'1.총괄현황 집계표'!$B13,총괄!$D$6:$D$5127,\"*\",총괄!#REF!,\"*\")","v":{"$error":"#REF!"}},{"$f":"COUNTIFS(총괄!$B$6:$B$5127,'1.총괄현황 집계표'!$B13,총괄!$D$6:$D$5127,\"*\",총괄!#REF!,\"*\")","v":{"$error":"#REF!"}},{"$f":"COUNTIFS(총괄!$B$6:$B$5127,'1.총괄현황 집계표'!$B13,총괄!$D$6:$D$5127,\"*\",총괄!#REF!,\"*\")","v":{"$error":"#REF!"}},{"$f":"COUNTIFS(총괄!$B$6:$B$5127,'1.총괄현황 집계표'!$B13,총괄!$D$6:$D$5127,\"*\",총괄!#REF!,\"*\")","v":{"$error":"#REF!"}},0]
["서울","서울광진구",81,{"$error":"#REF!"},{"$error":"#REF!"},{"$f":"COUNTIFS(총괄!$B$6:$B$5127,'1.총괄현황 집계표'!$B14,총괄!$D$6:$D$5127,\"*\",총괄!#REF!,\"*\")","v":{"$error":"#REF!"}},{"$f":"COUNTIFS(총괄!$B$6:$B$5127,'1.총괄현황 집계표'!$B14,총괄!$D$6:$D$5127,\"*\",총괄!#REF!,\"*\")","v":{"$error":"#REF!"}},{"$f":"COUNTIFS(총괄!$B$6:$B$5127,'1.총괄현황 집계표'!$B14,총괄!$D$6:$D$5127,\"*\",총괄!#REF!,\"*\")","v":{"$error":"#REF!"}},{"$f":"COUNTIFS(총괄!$B$6:$B$5127,'1.총괄현황 집계표'!$B14,총괄!$D$6:$D$5127,\"*\",총괄!#REF!,\"*\")","v":{"$error":"#REF!"}},0]
["서울","서울동대문구",96,{"$error":"#REF!"},{"$error":"#REF!"},{"$f":"COUNTIFS(총괄!$B$6:$B$5127,'1.총괄현황 집계표'!$B15,총괄!$D$6:$D$5127,\"*\",총괄!#REF!,\"*\")","v":{"$error":"#REF!"}},{"$f":"COUNTIFS(총괄!$B$6:$B$5127,'1.총괄현황 집계표'!$B15,총괄!$D$6:$D$5127,\"*\",총괄!#REF!,\"*\")","v":{"$error":"#REF!"}},{"$f":"COUNTIFS(총괄!$B$6:$B$5127,'1.총괄현황 집계표'!$B15,총괄!$D$6:$D$5127,\"*\",총괄!#REF!,\"*\")","v":{"$error":"#REF!"}},{"$f":"COUNTIFS(총괄!$B$6:$B$5127,'1.총괄현황 집계표'!$B15,총괄!$D$6:$D$5127,\"*\",총괄!#REF!,\"*\")","v":{"$error":"#REF!"}},0]
["서울","서울중랑구",90,{"$error":"#REF!"},{"$error":"#REF!"},{"$f":"COUNTIFS(총괄!$B$6:$B$5127,'1.총괄현황 집계표'!$B16,총괄!$D$6:$D$5127,\"*\",총괄!#REF!,\"*\")","v":{"$error":"#REF!"}},{"$f":"COUNTIFS(총괄!$B$6:$B$5127,'1.총괄현황 집계표'!$B16,총괄!$D$6:$D$5127,\"*\",총괄!#REF!,\"*\")","v":{"$error":"#REF!"}},{"$f":"COUNTIFS(총괄!$B$6:$B$5127,'1.총괄현황 집계표'!$B16,총괄!$D$6:$D$5127,\"*\",총괄!#REF!,\"*\")","v":{"$error":"#REF!"}},{"$f":"COUNTIFS(총괄!$B$6:$B$5127,'1.총괄현황 집계표'!$B16,총괄!$D$6:$D$5127,\"*\",총괄!#REF!,\"*\")","v":{"$error":"#REF!"}},0]
["서울","서울성북구",131,{"$error":"#REF!"},{"$error":"#REF!"},{"$f":"COUNTIFS(총괄!$B$6:$B$5127,'1.총괄현황 집계표'!$B17,총괄!$D$6:$D$5127,\"*\",총괄!#REF!,\"*\")","v":{"$error":"#REF!"}},{"$f":"COUNTIFS(총괄!$B$6:$B$5127,'1.총괄현황 집계표'!$B17,총괄!$D$6:$D$5127,\"*\",총괄!#REF!,\"*\")","v":{"$error":"#REF!"}},{"$f":"COUNTIFS(총괄!$B$6:$B$5127,'1.총괄현황 집계표'!$B17,총괄!$D$6:$D$5127,\"*\",총괄!#REF!,\"*\")","v":{"$error":"#REF!"}},{"$f":"COUNTIFS(총괄!$B$6:$B$5127,'1.총괄현황 집계표'!$B17,총괄!$D$6:$D$5127,\"*\",총괄!#REF!,\"*\")","v":{"$error":"#REF!"}},0]
["서울","서울강북구",118,{"$error":"#REF!"},{"$error":"#REF!"},{"$f":"COUNTIFS(총괄!$B$6:$B$5127,'1.총괄현황 집계표'!$B18,총괄!$D$6:$D$5127,\"*\",총괄!#REF!,\"*\")","v":{"$error":"#REF!"}},{"$f":"COUNTIFS(총괄!$B$6:$B$5127,'1.총괄현황 집계표'!$B18,총괄!$D$6:$D$5127,\"*\",총괄!#REF!,\"*\")","v":{"$error":"#REF!"}},{"$f":"COUNTIFS(총괄!$B$6:$B$5127,'1.총괄현황 집계표'!$B18,총괄!$D$6:$D$5127,\"*\",총괄!#REF!,\"*\")","v":{"$error":"#REF!"}},{"$f":"COUNTIFS(총괄!$B$6:$B$5127,'1.총괄현황 집계표'!$B18,총괄!$D$6:$D$5127,\"*\",총괄!#REF!,\"*\")","v":{"$error":"#REF!"}},0]
["서울","서울도봉구",98,{"$error":"#REF!"},{"$error":"#REF!"},{"$f":"COUNTIFS(총괄!$B$6:$B$5127,'1.총괄현황 집계표'!$B19,총괄!$D$6:$D$5127,\"*\",총괄!#REF!,\"*\")","v":{"$error":"#REF!"}},{"$f":"COUNTIFS(총괄!$B$6:$B$5127,'1.총괄현황 집계표'!$B19,총괄!$D$6:$D$5127,\"*\",총괄!#REF!,\"*\")","v":{"$error":"#REF!"}},{"$f":"COUNTIFS(총괄!$B$6:$B$5127,'1.총괄현황 집계표'!$B19,총괄!$D$6:$D$5127,\"*\",총괄!#REF!,\"*\")","v":{"$error":"#REF!"}},{"$f":"COUNTIFS(총괄!$B$6:$B$5127,'1.총괄현황 집계표'!$B19,총괄!$D$6:$D$5127,\"*\",총괄!#REF!,\"*\")","v":{"$error":"#REF!"}},0]
["서울","서울노원구",107,{"$error":"#REF!"},{"$error":"#REF!"},{"$f":"COUNTIFS(총괄!$B$6:$B$5127,'1.총괄현황 집계표'!$B20,총괄!$D$6:$D$5127,\"*\",총괄!#REF!,\"*\")","v":{"$error":"#REF!"}},{"$f":"COUNTIFS(총괄!$B$6:$B$5127,'1.총괄현황 집계표'!$B20,총괄!$D$6:$D$5127,\"*\",총괄!#REF!,\"*\")","v":{"$error":"#REF!"}},{"$f":"COUNTIFS(총괄!$B$6:$B$5127,'1.총괄현황 집계표'!$B20,총괄!$D$6:$D$5127,\"*\",총괄!#REF!,\"*\")","v":{"$error":"#REF!"}},{"$f":"COUNTIFS(총괄!$B$6:$B$5127,'1.총괄현황 집계표'!$B20,총괄!$D$6:$D$5127,\"*\",총괄!#REF!,\"*\")","v":{"$error":"#REF!"}},0]
["서울","서울은평구",106,{"$error":"#REF!"},{"$error":"#REF!"},{"$f":"COUNTIFS(총괄!$B$6:$B$5127,'1.총괄현황 집계표'!$B21,총괄!$D$6:$D$5127,\"*\",총괄!#REF!,\"*\")","v":{"$error":"#REF!"}},{"$f":"COUNTIFS(총괄!$B$6:$B$5127,'1.총괄현황 집계표'!$B21,총괄!$D$6:$D$5127,\"*\",총괄!#REF!,\"*\")","v":{"$error":"#REF!"}},{"$f":"COUNTIFS(총괄!$B$6:$B$5127,'1.총괄현황 집계표'!$B21,총괄!$D$6:$D$5127,\"*\",총괄!#REF!,\"*\")","v":{"$error":"#REF!"}},{"$f":"COUNTIFS(총괄!$B$6:$B$5127,'1.총괄현황 집계표'!$B21,총괄!$D$6:$D$5127,\"*\",총괄!#REF!,\"*\")","v":{"$error":"#REF!"}},0]
["서울","서울서대문구",84,{"$error":"#REF!"},{"$error":"#REF!"},{"$f":"COUNTIFS(총괄!$B$6:$B$5127,'1.총괄현황 집계표'!$B22,총괄!$D$6:$D$5127,\"*\",총괄!#REF!,\"*\")","v":{"$error":"#REF!"}},{"$f":"COUNTIFS(총괄!$B$6:$B$5127,'1.총괄현황 집계표'!$B22,총괄!$D$6:$D$5127,\"*\",총괄!#REF!,\"*\")","v":{"$error":"#REF!"}},{"$f":"COUNTIFS(총괄!$B$6:$B$5127,'1.총괄현황 집계표'!$B22,총괄!$D$6:$D$5127,\"*\",총괄!#REF!,\"*\")","v":{"$error":"#REF!"}},{"$f":"COUNTIFS(총괄!$B$6:$B$5127,'1.총괄현황 집계표'!$B22,총괄!$D$6:$D$5127,\"*\",총괄!#REF!,\"*\")","v":{"$error":"#REF!"}},0]
["서울","서울마포구",107,{"$error":"#REF!"},{"$error":"#REF!"},{"$f":"COUNTIFS(총괄!$B$6:$B$5127,'1.총괄현황 집계표'!$B23,총괄!$D$6:$D$5127,\"*\",총괄!#REF!,\"*\")","v":{"$error":"#REF!"}},{"$f":"COUNTIFS(총괄!$B$6:$B$5127,'1.총괄현황 집계표'!$B23,총괄!$D$6:$D$5127,\"*\",총괄!#REF!,\"*\")","v":{"$error":"#REF!"}},{"$f":"COUNTIFS(총괄!$B$6:$B$5127,'1.총괄현황 집계표'!$B23,총괄!$D$6:$D$5127,\"*\",총괄!#REF!,\"*\")","v":{"$error":"#REF!"}},{"$f":"COUNTIFS(총괄!$B$6:$B$5127,'1.총괄현황 집계표'!$B23,총괄!$D$6:$D$5127,\"*\",총괄!#REF!,\"*\")","v":{"$error":"#REF!"}},0]
["서울","서울양천구",104,{"$error":"#REF!"},{"$error":"#REF!"},{"$f":"COUNTIFS(총괄!$B$6:$B$5127,'1.총괄현황 집계표'!$B24,총괄!$D$6:$D$5127,\"*\",총괄!#REF!,\"*\")","v":{"$error":"#REF!"}},{"$f":"COUNTIFS(총괄!$B$6:$B$5127,'1.총괄현황 집계표'!$B24,총괄!$D$6:$D$5127,\"*\",총괄!#REF!,\"*\")","v":{"$error":"#REF!"}},{"$f":"COUNTIFS(총괄!$B$6:$B$5127,'1.총괄현황 집계표'!$B24,총괄!$D$6:$D$5127,\"*\",총괄!#REF!,\"*\")","v":{"$error":"#REF!"}},{"$f":"COUNTIFS(총괄!$B$6:$B$5127,'1.총괄현황 집계표'!$B24,총괄!$D$6:$D$5127,\"*\",총괄!#REF!,\"*\")","v":{"$error":"#REF!"}},0]
["서울","서울강서구",97,{"$error":"#REF!"},{"$error":"#REF!"},{"$f":"COUNTIFS(총괄!$B$6:$B$5127,'1.총괄현황 집계표'!$B25,총괄!$D$6:$D$5127,\"*\",총괄!#REF!,\"*\")","v":{"$error":"#REF!"}},{"$f":"COUNTIFS(총괄!$B$6:$B$5127,'1.총괄현황 집계표'!$B25,총괄!$D$6:$D$5127,\"*\",총괄!#REF!,\"*\")","v":{"$error":"#REF!"}},{"$f":"COUNTIFS(총괄!$B$6:$B$5127,'1.총괄현황 집계표'!$B25,총괄!$D$6:$D$5127,\"*\",총괄!#REF!,\"*\")","v":{"$error":"#REF!"}},{"$f":"COUNTIFS(총괄!$B$6:$B$5127,'1.총괄현황 집계표'!$B25,총괄!$D$6:$D$5127,\"*\",총괄!#REF!,\"*\")","v":{"$error":"#REF!"}},0]
["서울","서울구로구",98,{"$error":"#REF!"},{"$error":"#REF!"},{"$f":"COUNTIFS(총괄!$B$6:$B$5127,'1.총괄현황 집계표'!$B26,총괄!$D$6:$D$5127,\"*\",총괄!#REF!,\"*\")","v":{"$error":"#REF!"}},{"$f":"COUNTIFS(총괄!$B$6:$B$5127,'1.총괄현황 집계표'!$B26,총괄!$D$6:$D$5127,\"*\",총괄!#REF!,\"*\")","v":{"$error":"#REF!"}},{"$f":"COUNTIFS(총괄!$B$6:$B$5127,'1.총괄현황 집계표'!$B26,총괄!$D$6:$D$5127,\"*\",총괄!#REF!,\"*\")","v":{"$error":"#REF!"}},{"$f":"COUNTIFS(총괄!$B$6:$B$5127,'1.총괄현황 집계표'!$B26,총괄!$D$6:$D$5127,\"*\",총괄!#REF!,\"*\")","v":{"$error":"#REF!"}},0]
["서울","서울금천구",87,{"$error":"#REF!"},{"$error":"#REF!"},{"$f":"COUNTIFS(총괄!$B$6:$B$5127,'1.총괄현황 집계표'!$B27,총괄!$D$6:$D$5127,\"*\",총괄!#REF!,\"*\")","v":{"$error":"#REF!"}},{"$f":"COUNTIFS(총괄!$B$6:$B$5127,'1.총괄현황 집계표'!$B27,총괄!$D$6:$D$5127,\"*\",총괄!#REF!,\"*\")","v":{"$error":"#REF!"}},{"$f":"COUNTIFS(총괄!$B$6:$B$5127,'1.총괄현황 집계표'!$B27,총괄!$D$6:$D$5127,\"*\",총괄!#REF!,\"*\")","v":{"$error":"#REF!"}},{"$f":"COUNTIFS(총괄!$B$6:$B$5127,'1.총괄현황 집계표'!$B27,총괄!$D$6:$D$5127,\"*\",총괄!#REF!,\"*\")","v":{"$error":"#REF!"}},0]
["서울","서울영등포구",93,{"$error":"#REF!"},{"$error":"#REF!"},{"$f":"COUNTIFS(총괄!$B$6:$B$5127,'1.총괄현황 집계표'!$B28,총괄!$D$6:$D$5127,\"*\",총괄!#REF!,\"*\")","v":{"$error":"#REF!"}},{"$f":"COUNTIFS(총괄!$B$6:$B$5127,'1.총괄현황 집계표'!$B28,총괄!$D$6:$D$5127,\"*\",총괄!#REF!,\"*\")","v":{"$error":"#REF!"}},{"$f":"COUNTIFS(총괄!$B$6:$B$5127,'1.총괄현황 집계표'!$B28,총괄!$D$6:$D$5127,\"*\",총괄!#REF!,\"*\")","v":{"$error":"#REF!"}},{"$f":"COUNTIFS(총괄!$B$6:$B$5127,'1.총괄현황 집계표'!$B28,총괄!$D$6:$D$5127,\"*\",총괄!#REF!,\"*\")","v":{"$error":"#REF!"}},0]
["서울","서울동작구",97,{"$error":"#REF!"},{"$error":"#REF!"},{"$f":"COUNTIFS(총괄!$B$6:$B$5127,'1.총괄현황 집계표'!$B29,총괄!$D$6:$D$5127,\"*\",총괄!#REF!,\"*\")","v":{"$error":"#REF!"}},{"$f":"COUNTIFS(총괄!$B$6:$B$5127,'1.총괄현황 집계표'!$B29,총괄!$D$6:$D$5127,\"*\",총괄!#REF!,\"*\")","v":{"$error":"#REF!"}},{"$f":"COUNTIFS(총괄!$B$6:$B$5127,'1.총괄현황 집계표'!$B29,총괄!$D$6:$D$5127,\"*\",총괄!#REF!,\"*\")","v":{"$error":"#REF!"}},{"$f":"COUNTIFS(총괄!$B$6:$B$5127,'1.총괄현황 집계표'!$B29,총괄!$D$6:$D$5127,\"*\",총괄!#REF!,\"*\")","v":{"$error":"#REF!"}},0]
["서울","서울관악구",108,{"$error":"#REF!"},{"$error":"#REF!"},{"$f":"COUNTIFS(총괄!$B$6:$B$5127,'1.총괄현황 집계표'!$B30,총괄!$D$6:$D$5127,\"*\",총괄!#REF!,\"*\")","v":{"$error":"#REF!"}},{"$f":"COUNTIFS(총괄!$B$6:$B$5127,'1.총괄현황 집계표'!$B30,총괄!$D$6:$D$5127,\"*\",총괄!#REF!,\"*\")","v":{"$error":"#REF!"}},{"$f":"COUNTIFS(총괄!$B$6:$B$5127,'1.총괄현황 집계표'!$B30,총괄!$D$6:$D$5127,\"*\",총괄!#REF!,\"*\")","v":{"$error":"#REF!"}},{"$f":"COUNTIFS(총괄!$B$6:$B$5127,'1.총괄현황 집계표'!$B30,총괄!$D$6:$D$5127,\"*\",총괄!#REF!,\"*\")","v":{"$error":"#REF!"}},0]
["서울","서울서초구",98,{"$error":"#REF!"},{"$error":"#REF!"},{"$f":"COUNTIFS(총괄!$B$6:$B$5127,'1.총괄현황 집계표'!$B31,총괄!$D$6:$D$5127,\"*\",총괄!#REF!,\"*\")","v":{"$error":"#REF!"}},{"$f":"COUNTIFS(총괄!$B$6:$B$5127,'1.총괄현황 집계표'!$B31,총괄!$D$6:$D$5127,\"*\",총괄!#REF!,\"*\")","v":{"$error":"#REF!"}},{"$f":"COUNTIFS(총괄!$B$6:$B$5127,'1.총괄현황 집계표'!$B31,총괄!$D$6:$D$5127,\"*\",총괄!#REF!,\"*\")","v":{"$error":"#REF!"}},{"$f":"COUNTIFS(총괄!$B$6:$B$5127,'1.총괄현황 집계표'!$B31,총괄!$D$6:$D$5127,\"*\",총괄!#REF!,\"*\")","v":{"$error":"#REF!"}},0]
["서울","서울강남구",104,{"$error":"#REF!"},{"$error":"#REF!"},{"$f":"COUNTIFS(총괄!$B$6:$B$5127,'1.총괄현황 집계표'!$B32,총괄!$D$6:$D$5127,\"*\",총괄!#REF!,\"*\")","v":{"$error":"#REF!"}},{"$f":"COUNTIFS(총괄!$B$6:$B$5127,'1.총괄현황 집계표'!$B32,총괄!$D$6:$D$5127,\"*\",총괄!#REF!,\"*\")","v":{"$error":"#REF!"}},{"$f":"COUNTIFS(총괄!$B$6:$B$5127,'1.총괄현황 집계표'!$B32,총괄!$D$6:$D$5127,\"*\",총괄!#REF!,\"*\")","v":{"$error":"#REF!"}},{"$f":"COUNTIFS(총괄!$B$6:$B$5127,'1.총괄현황 집계표'!$B32,총괄!$D$6:$D$5127,\"*\",총괄!#REF!,\"*\")","v":{"$error":"#REF!"}},0]
["서울","서울송파구",83,{"$error":"#REF!"},{"$error":"#REF!"},{"$f":"COUNTIFS(총괄!$B$6:$B$5127,'1.총괄현황 집계표'!$B33,총괄!$D$6:$D$5127,\"*\",총괄!#REF!,\"*\")","v":{"$error":"#REF!"}},{"$f":"COUNTIFS(총괄!$B$6:$B$5127,'1.총괄현황 집계표'!$B33,총괄!$D$6:$D$5127,\"*\",총괄!#REF!,\"*\")","v":{"$error":"#REF!"}},{"$f":"COUNTIFS(총괄!$B$6:$B$5127,'1.총괄현황 집계표'!$B33,총괄!$D$6:$D$5127,\"*\",총괄!#REF!,\"*\")","v":{"$error":"#REF!"}},{"$f":"COUNTIFS(총괄!$B$6:$B$5127,'1.총괄현황 집계표'!$B33,총괄!$D$6:$D$5127,\"*\",총괄!#REF!,\"*\")","v":{"$error":"#REF!"}},0]
["서울","서울강동구",113,{"$error":"#REF!"},{"$error":"#REF!"},{"$f":"COUNTIFS(총괄!$B$6:$B$5127,'1.총괄현황 집계표'!$B34,총괄!$D$6:$D$5127,\"*\",총괄!#REF!,\"*\")","v":{"$error":"#REF!"}},{"$f":"COUNTIFS(총괄!$B$6:$B$5127,'1.총괄현황 집계표'!$B34,총괄!$D$6:$D$5127,\"*\",총괄!#REF!,\"*\")","v":{"$error":"#REF!"}},{"$f":"COUNTIFS(총괄!$B$6:$B$5127,'1.총괄현황 집계표'!$B34,총괄!$D$6:$D$5127,\"*\",총괄!#REF!,\"*\")","v":{"$error":"#REF!"}},{"$f":"COUNTIFS(총괄!$B$6:$B$5127,'1.총괄현황 집계표'!$B34,총괄!$D$6:$D$5127,\"*\",총괄!#REF!,\"*\")","v":{"$error":"#REF!"}},0]
["부산","부산광역시",186,{"$error":"#REF!"},{"$error":"#REF!"},{"$f":"COUNTIFS(총괄!$B$6:$B$5127,'1.총괄현황 집계표'!$B35,총괄!$D$6:$D$5127,\"*\",총괄!#REF!,\"*\")","v":{"$error":"#REF!"}},{"$f":"COUNTIFS(총괄!$B$6:$B$5127,'1.총괄현황 집계표'!$B35,총괄!$D$6:$D$5127,\"*\",총괄!#REF!,\"*\")","v":{"$error":"#REF!"}},{"$f":"COUNTIFS(총괄!$B$6:$B$5127,'1.총괄현황 집계표'!$B35,총괄!$D$6:$D$5127,\"*\",총괄!#REF!,\"*\")","v":{"$error":"#REF!"}},{"$f":"COUNTIFS(총괄!$B$6:$B$5127,'1.총괄현황 집계표'!$B35,총괄!$D$6:$D$5127,\"*\",총괄!#REF!,\"*\")","v":{"$error":"#REF!"}},0]
["부산","부산중구",72,{"$error":"#REF!"},{"$error":"#REF!"},{"$f":"COUNTIFS(총괄!$B$6:$B$5127,'1.총괄현황 집계표'!$B36,총괄!$D$6:$D$5127,\"*\",총괄!#REF!,\"*\")","v":{"$error":"#REF!"}},{"$f":"COUNTIFS(총괄!$B$6:$B$5127,'1.총괄현황 집계표'!$B36,총괄!$D$6:$D$5127,\"*\",총괄!#REF!,\"*\")","v":{"$error":"#REF!"}},{"$f":"COUNTIFS(총괄!$B$6:$B$5127,'1.총괄현황 집계표'!$B36,총괄!$D$6:$D$5127,\"*\",총괄!#REF!,\"*\")","v":{"$error":"#REF!"}},{"$f":"COUNTIFS(총괄!$B$6:$B$5127,'1.총괄현황 집계표'!$B36,총괄!$D$6:$D$5127,\"*\",총괄!#REF!,\"*\")","v":{"$error":"#REF!"}},0]
["부산","부산서구",69,{"$error":"#REF!"},{"$error":"#REF!"},{"$f":"COUNTIFS(총괄!$B$6:$B$5127,'1.총괄현황 집계표'!$B37,총괄!$D$6:$D$5127,\"*\",총괄!#REF!,\"*\")","v":{"$error":"#REF!"}},{"$f":"COUNTIFS(총괄!$B$6:$B$5127,'1.총괄현황 집계표'!$B37,총괄!$D$6:$D$5127,\"*\",총괄!#REF!,\"*\")","v":{"$error":"#REF!"}},{"$f":"COUNTIFS(총괄!$B$6:$B$5127,'1.총괄현황 집계표'!$B37,총괄!$D$6:$D$5127,\"*\",총괄!#REF!,\"*\")","v":{"$error":"#REF!"}},{"$f":"COUNTIFS(총괄!$B$6:$B$5127,'1.총괄현황 집계표'!$B37,총괄!$D$6:$D$5127,\"*\",총괄!#REF!,\"*\")","v":{"$error":"#REF!"}},0]
["부산","부산동구",65,{"$error":"#REF!"},{"$error":"#REF!"},{"$f":"COUNTIFS(총괄!$B$6:$B$5127,'1.총괄현황 집계표'!$B38,총괄!$D$6:$D$5127,\"*\",총괄!#REF!,\"*\")","v":{"$error":"#REF!"}},{"$f":"COUNTIFS(총괄!$B$6:$B$5127,'1.총괄현황 집계표'!$B38,총괄!$D$6:$D$5127,\"*\",총괄!#REF!,\"*\")","v":{"$error":"#REF!"}},{"$f":"COUNTIFS(총괄!$B$6:$B$5127,'1.총괄현황 집계표'!$B38,총괄!$D$6:$D$5127,\"*\",총괄!#REF!,\"*\")","v":{"$error":"#REF!"}},{"$f":"COUNTIFS(총괄!$B$6:$B$5127,'1.총괄현황 집계표'!$B38,총괄!$D$6:$D$5127,\"*\",총괄!#REF!,\"*\")","v":{"$error":"#REF!"}},0]
["부산","부산영도구",68,{"$error":"#REF!"},{"$error":"#REF!"},{"$f":"COUNTIFS(총괄!$B$6:$B$5127,'1.총괄현황 집계표'!$B39,총괄!$D$6:$D$5127,\"*\",총괄!#REF!,\"*\")","v":{"$error":"#REF!"}},{"$f":"COUNTIFS(총괄!$B$6:$B$5127,'1.총괄현황 집계표'!$B39,총괄!$D$6:$D$5127,\"*\",총괄!#REF!,\"*\")","v":{"$error":"#REF!"}},{"$f":"COUNTIFS(총괄!$B$6:$B$5127,'1.총괄현황 집계표'!$B39,총괄!$D$6:$D$5127,\"*\",총괄!#REF!,\"*\")","v":{"$error":"#REF!"}},{"$f":"COUNTIFS(총괄!$B$6:$B$5127,'1.총괄현황 집계표'!$B39,총괄!$D$6:$D$5127,\"*\",총괄!#REF!,\"*\")","v":{"$error":"#REF!"}},0]
["부산","부산부산진구",73,{"$error":"#REF!"},{"$error":"#REF!"},{"$f":"COUNTIFS(총괄!$B$6:$B$5127,'1.총괄현황 집계표'!$B40,총괄!$D$6:$D$5127,\"*\",총괄!#REF!,\"*\")","v":{"$error":"#REF!"}},{"$f":"COUNTIFS(총괄!$B$6:$B$5127,'1.총괄현황 집계표'!$B40,총괄!$D$6:$D$5127,\"*\",총괄!#REF!,\"*\")","v":{"$error":"#REF!"}},{"$f":"COUNTIFS(총괄!$B$6:$B$5127,'1.총괄현황 집계표'!$B40,총괄!$D$6:$D$5127,\"*\",총괄!#REF!,\"*\")","v":{"$error":"#REF!"}},{"$f":"COUNTIFS(총괄!$B$6:$B$5127,'1.총괄현황 집계표'!$B40,총괄!$D$6:$D$5127,\"*\",총괄!#REF!,\"*\")","v":{"$error":"#REF!"}},0]
["부산","부산동래구",77,{"$error":"#REF!"},{"$error":"#REF!"},{"$f":"COUNTIFS(총괄!$B$6:$B$5127,'1.총괄현황 집계표'!$B41,총괄!$D$6:$D$5127,\"*\",총괄!#REF!,\"*\")","v":{"$error":"#REF!"}},{"$f":"COUNTIFS(총괄!$B$6:$B$5127,'1.총괄현황 집계표'!$B41,총괄!$D$6:$D$5127,\"*\",총괄!#REF!,\"*\")","v":{"$error":"#REF!"}},{"$f":"COUNTIFS(총괄!$B$6:$B$5127,'1.총괄현황 집계표'!$B41,총괄!$D$6:$D$5127,\"*\",총괄!#REF!,\"*\")","v":{"$error":"#REF!"}},{"$f":"COUNTIFS(총괄!$B$6:$B$5127,'1.총괄현황 집계표'!$B41,총괄!$D$6:$D$5127,\"*\",총괄!#REF!,\"*\")","v":{"$error":"#REF!"}},0]
["부산","부산남구",84,{"$error":"#REF!"},{"$error":"#REF!"},{"$f":"COUNTIFS(총괄!$B$6:$B$5127,'1.총괄현황 집계표'!$B42,총괄!$D$6:$D$5127,\"*\",총괄!#REF!,\"*\")","v":{"$error":"#REF!"}},{"$f":"COUNTIFS(총괄!$B$6:$B$5127,'1.총괄현황 집계표'!$B42,총괄!$D$6:$D$5127,\"*\",총괄!#REF!,\"*\")","v":{"$error":"#REF!"}},{"$f":"COUNTIFS(총괄!$B$6:$B$5127,'1.총괄현황 집계표'!$B42,총괄!$D$6:$D$5127,\"*\",총괄!#REF!,\"*\")","v":{"$error":"#REF!"}},{"$f":"COUNTIFS(총괄!$B$6:$B$5127,'1.총괄현황 집계표'!$B42,총괄!$D$6:$D$5127,\"*\",총괄!#REF!,\"*\")","v":{"$error":"#REF!"}},0]
["부산","부산북구",84,{"$error":"#REF!"},{"$error":"#REF!"},{"$f":"COUNTIFS(총괄!$B$6:$B$5127,'1.총괄현황 집계표'!$B43,총괄!$D$6:$D$5127,\"*\",총괄!#REF!,\"*\")","v":{"$error":"#REF!"}},{"$f":"COUNTIFS(총괄!$B$6:$B$5127,'1.총괄현황 집계표'!$B43,총괄!$D$6:$D$5127,\"*\",총괄!#REF!,\"*\")","v":{"$error":"#REF!"}},{"$f":"COUNTIFS(총괄!$B$6:$B$5127,'1.총괄현황 집계표'!$B43,총괄!$D$6:$D$5127,\"*\",총괄!#REF!,\"*\")","v":{"$error":"#REF!"}},{"$f":"COUNTIFS(총괄!$B$6:$B$5127,'1.총괄현황 집계표'!$B43,총괄!$D$6:$D$5127,\"*\",총괄!#REF!,\"*\")","v":{"$error":"#REF!"}},0]
["부산","부산해운대구",94,{"$error":"#REF!"},{"$error":"#REF!"},{"$f":"COUNTIFS(총괄!$B$6:$B$5127,'1.총괄현황 집계표'!$B44,총괄!$D$6:$D$5127,\"*\",총괄!#REF!,\"*\")","v":{"$error":"#REF!"}},{"$f":"COUNTIFS(총괄!$B$6:$B$5127,'1.총괄현황 집계표'!$B44,총괄!$D$6:$D$5127,\"*\",총괄!#REF!,\"*\")","v":{"$error":"#REF!"}},{"$f":"COUNTIFS(총괄!$B$6:$B$5127,'1.총괄현황 집계표'!$B44,총괄!$D$6:$D$5127,\"*\",총괄!#REF!,\"*\")","v":{"$error":"#REF!"}},{"$f":"COUNTIFS(총괄!$B$6:$B$5127,'1.총괄현황 집계표'!$B44,총괄!$D$6:$D$5127,\"*\",총괄!#REF!,\"*\")","v":{"$error":"#REF!"}},0]
["부산","부산사하구",89,{"$error":"#REF!"},{"$error":"#REF!"},{"$f":"COUNTIFS(총괄!$B$6:$B$5127,'1.총괄현황 집계표'!$B45,총괄!$D$6:$D$5127,\"*\",총괄!#REF!,\"*\")","v":{"$error":"#REF!"}},{"$f":"COUNTIFS(총괄!$B$6:$B$5127,'1.총괄현황 집계표'!$B45,총괄!$D$6:$D$5127,\"*\",총괄!#REF!,\"*\")","v":{"$error":"#REF!"}},{"$f":"COUNTIFS(총괄!$B$6:$B$5127,'1.총괄현황 집계표'!$B45,총괄!$D$6:$D$5127,\"*\",총괄!#REF!,\"*\")","v":{"$error":"#REF!"}},{"$f":"COUNTIFS(총괄!$B$6:$B$5127,'1.총괄현황 집계표'!$B45,총괄!$D$6:$D$5127,\"*\",총괄!#REF!,\"*\")","v":{"$error":"#REF!"}},0]
["부산","부산금정구",81,{"$error":"#REF!"},{"$error":"#REF!"},{"$f":"COUNTIFS(총괄!$B$6:$B$5127,'1.총괄현황 집계표'!$B46,총괄!$D$6:$D$5127,\"*\",총괄!#REF!,\"*\")","v":{"$error":"#REF!"}},{"$f":"COUNTIFS(총괄!$B$6:$B$5127,'1.총괄현황 집계표'!$B46,총괄!$D$6:$D$5127,\"*\",총괄!#REF!,\"*\")","v":{"$error":"#REF!"}},{"$f":"COUNTIFS(총괄!$B$6:$B$5127,'1.총괄현황 집계표'!$B46,총괄!$D$6:$D$5127,\"*\",총괄!#REF!,\"*\")","v":{"$error":"#REF!"}},{"$f":"COUNTIFS(총괄!$B$6:$B$5127,'1.총괄현황 집계표'!$B46,총괄!$D$6:$D$5127,\"*\",총괄!#REF!,\"*\")","v":{"$error":"#REF!"}},0]
["부산","부산강서구",62,{"$error":"#REF!"},{"$error":"#REF!"},{"$f":"COUNTIFS(총괄!$B$6:$B$5127,'1.총괄현황 집계표'!$B47,총괄!$D$6:$D$5127,\"*\",총괄!#REF!,\"*\")","v":{"$error":"#REF!"}},{"$f":"COUNTIFS(총괄!$B$6:$B$5127,'1.총괄현황 집계표'!$B47,총괄!$D$6:$D$5127,\"*\",총괄!#REF!,\"*\")","v":{"$error":"#REF!"}},{"$f":"COUNTIFS(총괄!$B$6:$B$5127,'1.총괄현황 집계표'!$B47,총괄!$D$6:$D$5127,\"*\",총괄!#REF!,\"*\")","v":{"$error":"#REF!"}},{"$f":"COUNTIFS(총괄!$B$6:$B$5127,'1.총괄현황 집계표'!$B47,총괄!$D$6:$D$5127,\"*\",총괄!#REF!,\"*\")","v":{"$error":"#REF!"}},0]
["부산","부산연제구",90,{"$error":"#REF!"},{"$error":"#REF!"},{"$f":"COUNTIFS(총괄!$B$6:$B$5127,'1.총괄현황 집계표'!$B48,총괄!$D$6:$D$5127,\"*\",총괄!#REF!,\"*\")","v":{"$error":"#REF!"}},{"$f":"COUNTIFS(총괄!$B$6:$B$5127,'1.총괄현황 집계표'!$B48,총괄!$D$6:$D$5127,\"*\",총괄!#REF!,\"*\")","v":{"$error":"#REF!"}},{"$f":"COUNTIFS(총괄!$B$6:$B$5127,'1.총괄현황 집계표'!$B48,총괄!$D$6:$D$5127,\"*\",총괄!#REF!,\"*\")","v":{"$error":"#REF!"}},{"$f":"COUNTIFS(총괄!$B$6:$B$5127,'1.총괄현황 집계표'!$B48,총괄!$D$6:$D$5127,\"*\",총괄!#REF!,\"*\")","v":{"$error":"#REF!"}},0]
["부산","부산수영구",93,{"$error":"#REF!"},{"$error":"#REF!"},{"$f":"COUNTIFS(총괄!$B$6:$B$5127,'1.총괄현황 집계표'!$B49,총괄!$D$6:$D$5127,\"*\",총괄!#REF!,\"*\")","v":{"$error":"#REF!"}},{"$f":"COUNTIFS(총괄!$B$6:$B$5127,'1.총괄현황 집계표'!$B49,총괄!$D$6:$D$5127,\"*\",총괄!#REF!,\"*\")","v":{"$error":"#REF!"}},{"$f":"COUNTIFS(총괄!$B$6:$B$5127,'1.총괄현황 집계표'!$B49,총괄!$D$6:$D$5127,\"*\",총괄!#REF!,\"*\")","v":{"$error":"#REF!"}},{"$f":"COUNTIFS(총괄!$B$6:$B$5127,'1.총괄현황 집계표'!$B49,총괄!$D$6:$D$5127,\"*\",총괄!#REF!,\"*\")","v":{"$error":"#REF!"}},0]
["부산","부산사상구",73,{"$error":"#REF!"},{"$error":"#REF!"},{"$f":"COUNTIFS(총괄!$B$6:$B$5127,'1.총괄현황 집계표'!$B50,총괄!$D$6:$D$5127,\"*\",총괄!#REF!,\"*\")","v":{"$error":"#REF!"}},{"$f":"COUNTIFS(총괄!$B$6:$B$5127,'1.총괄현황 집계표'!$B50,총괄!$D$6:$D$5127,\"*\",총괄!#REF!,\"*\")","v":{"$error":"#REF!"}},{"$f":"COUNTIFS(총괄!$B$6:$B$5127,'1.총괄현황 집계표'!$B50,총괄!$D$6:$D$5127,\"*\",총괄!#REF!,\"*\")","v":{"$error":"#REF!"}},{"$f":"COUNTIFS(총괄!$B$6:$B$5127,'1.총괄현황 집계표'!$B50,총괄!$D$6:$D$5127,\"*\",총괄!#REF!,\"*\")","v":{"$error":"#REF!"}},0]
["부산","부산기장군",87,{"$error":"#REF!"},{"$error":"#REF!"},{"$f":"COUNTIFS(총괄!$B$6:$B$5127,'1.총괄현황 집계표'!$B51,총괄!$D$6:$D$5127,\"*\",총괄!#REF!,\"*\")","v":{"$error":"#REF!"}},{"$f":"COUNTIFS(총괄!$B$6:$B$5127,'1.총괄현황 집계표'!$B51,총괄!$D$6:$D$5127,\"*\",총괄!#REF!,\"*\")","v":{"$error":"#REF!"}},{"$f":"COUNTIFS(총괄!$B$6:$B$5127,'1.총괄현황 집계표'!$B51,총괄!$D$6:$D$5127,\"*\",총괄!#REF!,\"*\")","v":{"$error":"#REF!"}},{"$f":"COUNTIFS(총괄!$B$6:$B$5127,'1.총괄현황 집계표'!$B51,총괄!$D$6:$D$5127,\"*\",총괄!#REF!,\"*\")","v":{"$error":"#REF!"}},0]
["대구","대구광역시",162,{"$error":"#REF!"},{"$error":"#REF!"},{"$f":"COUNTIFS(총괄!$B$6:$B$5127,'1.총괄현황 집계표'!$B52,총괄!$D$6:$D$5127,\"*\",총괄!#REF!,\"*\")","v":{"$error":"#REF!"}},{"$f":"COUNTIFS(총괄!$B$6:$B$5127,'1.총괄현황 집계표'!$B52,총괄!$D$6:$D$5127,\"*\",총괄!#REF!,\"*\")","v":{"$error":"#REF!"}},{"$f":"COUNTIFS(총괄!$B$6:$B$5127,'1.총괄현황 집계표'!$B52,총괄!$D$6:$D$5127,\"*\",총괄!#REF!,\"*\")","v":{"$error":"#REF!"}},{"$f":"COUNTIFS(총괄!$B$6:$B$5127,'1.총괄현황 집계표'!$B52,총괄!$D$6:$D$5127,\"*\",총괄!#REF!,\"*\")","v":{"$error":"#REF!"}},0]
["대구","대구중구",67,{"$error":"#REF!"},{"$error":"#REF!"},{"$f":"COUNTIFS(총괄!$B$6:$B$5127,'1.총괄현황 집계표'!$B53,총괄!$D$6:$D$5127,\"*\",총괄!#REF!,\"*\")","v":{"$error":"#REF!"}},{"$f":"COUNTIFS(총괄!$B$6:$B$5127,'1.총괄현황 집계표'!$B53,총괄!$D$6:$D$5127,\"*\",총괄!#REF!,\"*\")","v":{"$error":"#REF!"}},{"$f":"COUNTIFS(총괄!$B$6:$B$5127,'1.총괄현황 집계표'!$B53,총괄!$D$6:$D$5127,\"*\",총괄!#REF!,\"*\")","v":{"$error":"#REF!"}},{"$f":"COUNTIFS(총괄!$B$6:$B$5127,'1.총괄현황 집계표'!$B53,총괄!$D$6:$D$5127,\"*\",총괄!#REF!,\"*\")","v":{"$error":"#REF!"}},0]
["대구","대구동구",76,{"$error":"#REF!"},{"$error":"#REF!"},{"$f":"COUNTIFS(총괄!$B$6:$B$5127,'1.총괄현황 집계표'!$B54,총괄!$D$6:$D$5127,\"*\",총괄!#REF!,\"*\")","v":{"$error":"#REF!"}},{"$f":"COUNTIFS(총괄!$B$6:$B$5127,'1.총괄현황 집계표'!$B54,총괄!$D$6:$D$5127,\"*\",총괄!#REF!,\"*\")","v":{"$error":"#REF!"}},{"$f":"COUNTIFS(총괄!$B$6:$B$5127,'1.총괄현황 집계표'!$B54,총괄!$D$6:$D$5127,\"*\",총괄!#REF!,\"*\")","v":{"$error":"#REF!"}},{"$f":"COUNTIFS(총괄!$B$6:$B$5127,'1.총괄현황 집계표'!$B54,총괄!$D$6:$D$5127,\"*\",총괄!#REF!,\"*\")","v":{"$error":"#REF!"}},0]
["대구","대구서구",75,{"$error":"#REF!"},{"$error":"#REF!"},{"$f":"COUNTIFS(총괄!$B$6:$B$5127,'1.총괄현황 집계표'!$B55,총괄!$D$6:$D$5127,\"*\",총괄!#REF!,\"*\")","v":{"$error":"#REF!"}},{"$f":"COUNTIFS(총괄!$B$6:$B$5127,'1.총괄현황 집계표'!$B55,총괄!$D$6:$D$5127,\"*\",총괄!#REF!,\"*\")","v":{"$error":"#REF!"}},{"$f":"COUNTIFS(총괄!$B$6:$B$5127,'1.총괄현황 집계표'!$B55,총괄!$D$6:$D$5127,\"*\",총괄!#REF!,\"*\")","v":{"$error":"#REF!"}},{"$f":"COUNTIFS(총괄!$B$6:$B$5127,'1.총괄현황 집계표'!$B55,총괄!$D$6:$D$5127,\"*\",총괄!#REF!,\"*\")","v":{"$error":"#REF!"}},0]
["대구","대구남구",80,{"$error":"#REF!"},{"$error":"#REF!"},{"$f":"COUNTIFS(총괄!$B$6:$B$5127,'1.총괄현황 집계표'!$B56,총괄!$D$6:$D$5127,\"*\",총괄!#REF!,\"*\")","v":{"$error":"#REF!"}},{"$f":"COUNTIFS(총괄!$B$6:$B$5127,'1.총괄현황 집계표'!$B56,총괄!$D$6:$D$5127,\"*\",총괄!#REF!,\"*\")","v":{"$error":"#REF!"}},{"$f":"COUNTIFS(총괄!$B$6:$B$5127,'1.총괄현황 집계표'!$B56,총괄!$D$6:$D$5127,\"*\",총괄!#REF!,\"*\")","v":{"$error":"#REF!"}},{"$f":"COUNTIFS(총괄!$B$6:$B$5127,'1.총괄현황 집계표'!$B56,총괄!$D$6:$D$5127,\"*\",총괄!#REF!,\"*\")","v":{"$error":"#REF!"}},0]
["대구","대구북구",84,{"$error":"#REF!"},{"$error":"#REF!"},{"$f":"COUNTIFS(총괄!$B$6:$B$5127,'1.총괄현황 집계표'!$B57,총괄!$D$6:$D$5127,\"*\",총괄!#REF!,\"*\")","v":{"$error":"#REF!"}},{"$f":"COUNTIFS(총괄!$B$6:$B$5127,'1.총괄현황 집계표'!$B57,총괄!$D$6:$D$5127,\"*\",총괄!#REF!,\"*\")","v":{"$error":"#REF!"}},{"$f":"COUNTIFS(총괄!$B$6:$B$5127,'1.총괄현황 집계표'!$B57,총괄!$D$6:$D$5127,\"*\",총괄!#REF!,\"*\")","v":{"$error":"#REF!"}},{"$f":"COUNTIFS(총괄!$B$6:$B$5127,'1.총괄현황 집계표'!$B57,총괄!$D$6:$D$5127,\"*\",총괄!#REF!,\"*\")","v":{"$error":"#REF!"}},0]
["대구","대구수성구",84,{"$error":"#REF!"},{"$error":"#REF!"},{"$f":"COUNTIFS(총괄!$B$6:$B$5127,'1.총괄현황 집계표'!$B58,총괄!$D$6:$D$5127,\"*\",총괄!#REF!,\"*\")","v":{"$error":"#REF!"}},{"$f":"COUNTIFS(총괄!$B$6:$B$5127,'1.총괄현황 집계표'!$B58,총괄!$D$6:$D$5127,\"*\",총괄!#REF!,\"*\")","v":{"$error":"#REF!"}},{"$f":"COUNTIFS(총괄!$B$6:$B$5127,'1.총괄현황 집계표'!$B58,총괄!$D$6:$D$5127,\"*\",총괄!#REF!,\"*\")","v":{"$error":"#REF!"}},{"$f":"COUNTIFS(총괄!$B$6:$B$5127,'1.총괄현황 집계표'!$B58,총괄!$D$6:$D$5127,\"*\",총괄!#REF!,\"*\")","v":{"$error":"#REF!"}},0]
["대구","대구달서구",86,{"$error":"#REF!"},{"$error":"#REF!"},{"$f":"COUNTIFS(총괄!$B$6:$B$5127,'1.총괄현황 집계표'!$B59,총괄!$D$6:$D$5127,\"*\",총괄!#REF!,\"*\")","v":{"$error":"#REF!"}},{"$f":"COUNTIFS(총괄!$B$6:$B$5127,'1.총괄현황 집계표'!$B59,총괄!$D$6:$D$5127,\"*\",총괄!#REF!,\"*\")","v":{"$error":"#REF!"}},{"$f":"COUNTIFS(총괄!$B$6:$B$5127,'1.총괄현황 집계표'!$B59,총괄!$D$6:$D$5127,\"*\",총괄!#REF!,\"*\")","v":{"$error":"#REF!"}},{"$f":"COUNTIFS(총괄!$B$6:$B$5127,'1.총괄현황 집계표'!$B59,총괄!$D$6:$D$5127,\"*\",총괄!#REF!,\"*\")","v":{"$error":"#REF!"}},0]
["대구","대구달성군",70,{"$error":"#REF!"},{"$error":"#REF!"},{"$f":"COUNTIFS(총괄!$B$6:$B$5127,'1.총괄현황 집계표'!$B60,총괄!$D$6:$D$5127,\"*\",총괄!#REF!,\"*\")","v":{"$error":"#REF!"}},{"$f":"COUNTIFS(총괄!$B$6:$B$5127,'1.총괄현황 집계표'!$B60,총괄!$D$6:$D$5127,\"*\",총괄!#REF!,\"*\")","v":{"$error":"#REF!"}},{"$f":"COUNTIFS(총괄!$B$6:$B$5127,'1.총괄현황 집계표'!$B60,총괄!$D$6:$D$5127,\"*\",총괄!#REF!,\"*\")","v":{"$error":"#REF!"}},{"$f":"COUNTIFS(총괄!$B$6:$B$5127,'1.총괄현황 집계표'!$B60,총괄!$D$6:$D$5127,\"*\",총괄!#REF!,\"*\")","v":{"$error":"#REF!"}},0]
["인천","인천광역시",197,{"$error":"#REF!"},{"$error":"#REF!"},{"$f":"COUNTIFS(총괄!$B$6:$B$5127,'1.총괄현황 집계표'!$B61,총괄!$D$6:$D$5127,\"*\",총괄!#REF!,\"*\")","v":{"$error":"#REF!"}},{"$f":"COUNTIFS(총괄!$B$6:$B$5127,'1.총괄현황 집계표'!$B61,총괄!$D$6:$D$5127,\"*\",총괄!#REF!,\"*\")","v":{"$error":"#REF!"}},{"$f":"COUNTIFS(총괄!$B$6:$B$5127,'1.총괄현황 집계표'!$B61,총괄!$D$6:$D$5127,\"*\",총괄!#REF!,\"*\")","v":{"$error":"#REF!"}},{"$f":"COUNTIFS(총괄!$B$6:$B$5127,'1.총괄현황 집계표'!$B61,총괄!$D$6:$D$5127,\"*\",총괄!#REF!,\"*\")","v":{"$error":"#REF!"}},0]
["인천","인천중구",91,{"$error":"#REF!"},{"$error":"#REF!"},{"$f":"COUNTIFS(총괄!$B$6:$B$5127,'1.총괄현황 집계표'!$B62,총괄!$D$6:$D$5127,\"*\",총괄!#REF!,\"*\")","v":{"$error":"#REF!"}},{"$f":"COUNTIFS(총괄!$B$6:$B$5127,'1.총괄현황 집계표'!$B62,총괄!$D$6:$D$5127,\"*\",총괄!#REF!,\"*\")","v":{"$error":"#REF!"}},{"$f":"COUNTIFS(총괄!$B$6:$B$5127,'1.총괄현황 집계표'!$B62,총괄!$D$6:$D$5127,\"*\",총괄!#REF!,\"*\")","v":{"$error":"#REF!"}},{"$f":"COUNTIFS(총괄!$B$6:$B$5127,'1.총괄현황 집계표'!$B62,총괄!$D$6:$D$5127,\"*\",총괄!#REF!,\"*\")","v":{"$error":"#REF!"}},0]
["인천","인천동구",76,{"$error":"#REF!"},{"$error":"#REF!"},{"$f":"COUNTIFS(총괄!$B$6:$B$5127,'1.총괄현황 집계표'!$B63,총괄!$D$6:$D$5127,\"*\",총괄!#REF!,\"*\")","v":{"$error":"#REF!"}},{"$f":"COUNTIFS(총괄!$B$6:$B$5127,'1.총괄현황 집계표'!$B63,총괄!$D$6:$D$5127,\"*\",총괄!#REF!,\"*\")","v":{"$error":"#REF!"}},{"$f":"COUNTIFS(총괄!$B$6:$B$5127,'1.총괄현황 집계표'!$B63,총괄!$D$6:$D$5127,\"*\",총괄!#REF!,\"*\")","v":{"$error":"#REF!"}},{"$f":"COUNTIFS(총괄!$B$6:$B$5127,'1.총괄현황 집계표'!$B63,총괄!$D$6:$D$5127,\"*\",총괄!#REF!,\"*\")","v":{"$error":"#REF!"}},0]
["인천","인천미추홀구",91,{"$error":"#REF!"},{"$error":"#REF!"},{"$f":"COUNTIFS(총괄!$B$6:$B$5127,'1.총괄현황 집계표'!$B64,총괄!$D$6:$D$5127,\"*\",총괄!#REF!,\"*\")","v":{"$error":"#REF!"}},{"$f":"COUNTIFS(총괄!$B$6:$B$5127,'1.총괄현황 집계표'!$B64,총괄!$D$6:$D$5127,\"*\",총괄!#REF!,\"*\")","v":{"$error":"#REF!"}},{"$f":"COUNTIFS(총괄!$B$6:$B$5127,'1.총괄현황 집계표'!$B64,총괄!$D$6:$D$5127,\"*\",총괄!#REF!,\"*\")","v":{"$error":"#REF!"}},{"$f":"COUNTIFS(총괄!$B$6:$B$5127,'1.총괄현황 집계표'!$B64,총괄!$D$6:$D$5127,\"*\",총괄!#REF!,\"*\")","v":{"$error":"#REF!"}},0]
["인천","인천연수구",81,{"$error":"#REF!"},{"$error":"#REF!"},{"$f":"COUNTIFS(총괄!$B$6:$B$5127,'1.총괄현황 집계표'!$B65,총괄!$D$6:$D$5127,\"*\",총괄!#REF!,\"*\")","v":{"$error":"#REF!"}},{"$f":"COUNTIFS(총괄!$B$6:$B$5127,'1.총괄현황 집계표'!$B65,총괄!$D$6:$D$5127,\"*\",총괄!#REF!,\"*\")","v":{"$error":"#REF!"}},{"$f":"COUNTIFS(총괄!$B$6:$B$5127,'1.총괄현황 집계표'!$B65,총괄!$D$6:$D$5127,\"*\",총괄!#REF!,\"*\")","v":{"$error":"#REF!"}},{"$f":"COUNTIFS(총괄!$B$6:$B$5127,'1.총괄현황 집계표'!$B65,총괄!$D$6:$D$5127,\"*\",총괄!#REF!,\"*\")","v":{"$error":"#REF!"}},0]
["인천","인천남동구",95,{"$error":"#REF!"},{"$error":"#REF!"},{"$f":"COUNTIFS(총괄!$B$6:$B$5127,'1.총괄현황 집계표'!$B66,총괄!$D$6:$D$5127,\"*\",총괄!#REF!,\"*\")","v":{"$error":"#REF!"}},{"$f":"COUNTIFS(총괄!$B$6:$B$5127,'1.총괄현황 집계표'!$B66,총괄!$D$6:$D$5127,\"*\",총괄!#REF!,\"*\")","v":{"$error":"#REF!"}},{"$f":"COUNTIFS(총괄!$B$6:$B$5127,'1.총괄현황 집계표'!$B66,총괄!$D$6:$D$5127,\"*\",총괄!#REF!,\"*\")","v":{"$error":"#REF!"}},{"$f":"COUNTIFS(총괄!$B$6:$B$5127,'1.총괄현황 집계표'!$B66,총괄!$D$6:$D$5127,\"*\",총괄!#REF!,\"*\")","v":{"$error":"#REF!"}},0]
["인천","인천부평구",104,{"$error":"#REF!"},{"$error":"#REF!"},{"$f":"COUNTIFS(총괄!$B$6:$B$5127,'1.총괄현황 집계표'!$B67,총괄!$D$6:$D$5127,\"*\",총괄!#REF!,\"*\")","v":{"$error":"#REF!"}},{"$f":"COUNTIFS(총괄!$B$6:$B$5127,'1.총괄현황 집계표'!$B67,총괄!$D$6:$D$5127,\"*\",총괄!#REF!,\"*\")","v":{"$error":"#REF!"}},{"$f":"COUNTIFS(총괄!$B$6:$B$5127,'1.총괄현황 집계표'!$B67,총괄!$D$6:$D$5127,\"*\",총괄!#REF!,\"*\")","v":{"$error":"#REF!"}},{"$f":"COUNTIFS(총괄!$B$6:$B$5127,'1.총괄현황 집계표'!$B67,총괄!$D$6:$D$5127,\"*\",총괄!#REF!,\"*\")","v":{"$error":"#REF!"}},0]
["인천","인천계양구",95,{"$error":"#REF!"},{"$error":"#REF!"},{"$f":"COUNTIFS(총괄!$B$6:$B$5127,'1.총괄현황 집계표'!$B68,총괄!$D$6:$D$5127,\"*\",총괄!#REF!,\"*\")","v":{"$error":"#REF!"}},{"$f":"COUNTIFS(총괄!$B$6:$B$5127,'1.총괄현황 집계표'!$B68,총괄!$D$6:$D$5127,\"*\",총괄!#REF!,\"*\")","v":{"$error":"#REF!"}},{"$f":"COUNTIFS(총괄!$B$6:$B$5127,'1.총괄현황 집계표'!$B68,총괄!$D$6:$D$5127,\"*\",총괄!#REF!,\"*\")","v":{"$error":"#REF!"}},{"$f":"COUNTIFS(총괄!$B$6:$B$5127,'1.총괄현황 집계표'!$B68,총괄!$D$6:$D$5127,\"*\",총괄!#REF!,\"*\")","v":{"$error":"#REF!"}},0]
["인천","인천서구",114,{"$error":"#REF!"},{"$error":"#REF!"},{"$f":"COUNTIFS(총괄!$B$6:$B$5127,'1.총괄현황 집계표'!$B69,총괄!$D$6:$D$5127,\"*\",총괄!#REF!,\"*\")","v":{"$error":"#REF!"}},{"$f":"COUNTIFS(총괄!$B$6:$B$5127,'1.총괄현황 집계표'!$B69,총괄!$D$6:$D$5127,\"*\",총괄!#REF!,\"*\")","v":{"$error":"#REF!"}},{"$f":"COUNTIFS(총괄!$B$6:$B$5127,'1.총괄현황 집계표'!$B69,총괄!$D$6:$D$5127,\"*\",총괄!#REF!,\"*\")","v":{"$error":"#REF!"}},{"$f":"COUNTIFS(총괄!$B$6:$B$5127,'1.총괄현황 집계표'!$B69,총괄!$D$6:$D$5127,\"*\",총괄!#REF!,\"*\")","v":{"$error":"#REF!"}},0]
["인천","인천강화군",76,{"$error":"#REF!"},{"$error":"#REF!"},{"$f":"COUNTIFS(총괄!$B$6:$B$5127,'1.총괄현황 집계표'!$B70,총괄!$D$6:$D$5127,\"*\",총괄!#REF!,\"*\")","v":{"$error":"#REF!"}},{"$f":"COUNTIFS(총괄!$B$6:$B$5127,'1.총괄현황 집계표'!$B70,총괄!$D$6:$D$5127,\"*\",총괄!#REF!,\"*\")","v":{"$error":"#REF!"}},{"$f":"COUNTIFS(총괄!$B$6:$B$5127,'1.총괄현황 집계표'!$B70,총괄!$D$6:$D$5127,\"*\",총괄!#REF!,\"*\")","v":{"$error":"#REF!"}},{"$f":"COUNTIFS(총괄!$B$6:$B$5127,'1.총괄현황 집계표'!$B70,총괄!$D$6:$D$5127,\"*\",총괄!#REF!,\"*\")","v":{"$error":"#REF!"}},0]
["인천","인천옹진군",72,{"$error":"#REF!"},{"$error":"#REF!"},{"$f":"COUNTIFS(총괄!$B$6:$B$5127,'1.총괄현황 집계표'!$B71,총괄!$D$6:$D$5127,\"*\",총괄!#REF!,\"*\")","v":{"$error":"#REF!"}},{"$f":"COUNTIFS(총괄!$B$6:$B$5127,'1.총괄현황 집계표'!$B71,총괄!$D$6:$D$5127,\"*\",총괄!#REF!,\"*\")","v":{"$error":"#REF!"}},{"$f":"COUNTIFS(총괄!$B$6:$B$5127,'1.총괄현황 집계표'!$B71,총괄!$D$6:$D$5127,\"*\",총괄!#REF!,\"*\")","v":{"$error":"#REF!"}},{"$f":"COUNTIFS(총괄!$B$6:$B$5127,'1.총괄현황 집계표'!$B71,총괄!$D$6:$D$5127,\"*\",총괄!#REF!,\"*\")","v":{"$error":"#REF!"}},0]
["광주","광주광역시",162,{"$error":"#REF!"},{"$error":"#REF!"},{"$f":"COUNTIFS(총괄!$B$6:$B$5127,'1.총괄현황 집계표'!$B72,총괄!$D$6:$D$5127,\"*\",총괄!#REF!,\"*\")","v":{"$error":"#REF!"}},{"$f":"COUNTIFS(총괄!$B$6:$B$5127,'1.총괄현황 집계표'!$B72,총괄!$D$6:$D$5127,\"*\",총괄!#REF!,\"*\")","v":{"$error":"#REF!"}},{"$f":"COUNTIFS(총괄!$B$6:$B$5127,'1.총괄현황 집계표'!$B72,총괄!$D$6:$D$5127,\"*\",총괄!#REF!,\"*\")","v":{"$error":"#REF!"}},{"$f":"COUNTIFS(총괄!$B$6:$B$5127,'1.총괄현황 집계표'!$B72,총괄!$D$6:$D$5127,\"*\",총괄!#REF!,\"*\")","v":{"$error":"#REF!"}},0]
["광주","광주동구",82,{"$error":"#REF!"},{"$error":"#REF!"},{"$f":"COUNTIFS(총괄!$B$6:$B$5127,'1.총괄현황 집계표'!$B73,총괄!$D$6:$D$5127,\"*\",총괄!#REF!,\"*\")","v":{"$error":"#REF!"}},{"$f":"COUNTIFS(총괄!$B$6:$B$5127,'1.총괄현황 집계표'!$B73,총괄!$D$6:$D$5127,\"*\",총괄!#REF!,\"*\")","v":{"$error":"#REF!"}},{"$f":"COUNTIFS(총괄!$B$6:$B$5127,'1.총괄현황 집계표'!$B73,총괄!$D$6:$D$5127,\"*\",총괄!#REF!,\"*\")","v":{"$error":"#REF!"}},{"$f":"COUNTIFS(총괄!$B$6:$B$5127,'1.총괄현황 집계표'!$B73,총괄!$D$6:$D$5127,\"*\",총괄!#REF!,\"*\")","v":{"$error":"#REF!"}},0]
["광주","광주서구",93,{"$f":"C74+F74-G74-H74","v":{"$error":"#REF!"}},{"$f":"F74-G74-H74+I74","v":{"$error":"#REF!"}},{"$f":"COUNTIFS(총괄!$B$6:$B$5127,'1.총괄현황 집계표'!$B74,총괄!$D$6:$D$5127,\"*\",총괄!#REF!,\"*\")","v":{"$error":"#REF!"}},{"$f":"COUNTIFS(총괄!$B$6:$B$5127,'1.총괄현황 집계표'!$B74,총괄!$D$6:$D$5127,\"*\",총괄!#REF!,\"*\")","v":{"$error":"#REF!"}},{"$f":"COUNTIFS(총괄!$B$6:$B$5127,'1.총괄현황 집계표'!$B74,총괄!$D$6:$D$5127,\"*\",총괄!#REF!,\"*\")","v":{"$error":"#REF!"}},{"$f":"COUNTIFS(총괄!$B$6:$B$5127,'1.총괄현황 집계표'!$B74,총괄!$D$6:$D$5127,\"*\",총괄!#REF!,\"*\")","v":{"$error":"#REF!"}},{"$f":"SUM(K74:P74)","v":0}]
["광주","광주남구",92,{"$error":"#REF!"},{"$error":"#REF!"},{"$f":"COUNTIFS(총괄!$B$6:$B$5127,'1.총괄현황 집계표'!$B75,총괄!$D$6:$D$5127,\"*\",총괄!#REF!,\"*\")","v":{"$error":"#REF!"}},{"$f":"COUNTIFS(총괄!$B$6:$B$5127,'1.총괄현황 집계표'!$B75,총괄!$D$6:$D$5127,\"*\",총괄!#REF!,\"*\")","v":{"$error":"#REF!"}},{"$f":"COUNTIFS(총괄!$B$6:$B$5127,'1.총괄현황 집계표'!$B75,총괄!$D$6:$D$5127,\"*\",총괄!#REF!,\"*\")","v":{"$error":"#REF!"}},{"$f":"COUNTIFS(총괄!$B$6:$B$5127,'1.총괄현황 집계표'!$B75,총괄!$D$6:$D$5127,\"*\",총괄!#REF!,\"*\")","v":{"$error":"#REF!"}},0]
["광주","광주북구",91,{"$error":"#REF!"},{"$error":"#REF!"},{"$f":"COUNTIFS(총괄!$B$6:$B$5127,'1.총괄현황 집계표'!$B76,총괄!$D$6:$D$5127,\"*\",총괄!#REF!,\"*\")","v":{"$error":"#REF!"}},{"$f":"COUNTIFS(총괄!$B$6:$B$5127,'1.총괄현황 집계표'!$B76,총괄!$D$6:$D$5127,\"*\",총괄!#REF!,\"*\")","v":{"$error":"#REF!"}},{"$f":"COUNTIFS(총괄!$B$6:$B$5127,'1.총괄현황 집계표'!$B76,총괄!$D$6:$D$5127,\"*\",총괄!#REF!,\"*\")","v":{"$error":"#REF!"}},{"$f":"COUNTIFS(총괄!$B$6:$B$5127,'1.총괄현황 집계표'!$B76,총괄!$D$6:$D$5127,\"*\",총괄!#REF!,\"*\")","v":{"$error":"#REF!"}},0]
["광주","광주광산구",89,{"$error":"#REF!"},{"$error":"#REF!"},{"$f":"COUNTIFS(총괄!$B$6:$B$5127,'1.총괄현황 집계표'!$B77,총괄!$D$6:$D$5127,\"*\",총괄!#REF!,\"*\")","v":{"$error":"#REF!"}},{"$f":"COUNTIFS(총괄!$B$6:$B$5127,'1.총괄현황 집계표'!$B77,총괄!$D$6:$D$5127,\"*\",총괄!#REF!,\"*\")","v":{"$error":"#REF!"}},{"$f":"COUNTIFS(총괄!$B$6:$B$5127,'1.총괄현황 집계표'!$B77,총괄!$D$6:$D$5127,\"*\",총괄!#REF!,\"*\")","v":{"$error":"#REF!"}},{"$f":"COUNTIFS(총괄!$B$6:$B$5127,'1.총괄현황 집계표'!$B77,총괄!$D$6:$D$5127,\"*\",총괄!#REF!,\"*\")","v":{"$error":"#REF!"}},0]
["대전","대전광역시",137,{"$error":"#REF!"},{"$error":"#REF!"},{"$f":"COUNTIFS(총괄!$B$6:$B$5127,'1.총괄현황 집계표'!$B78,총괄!$D$6:$D$5127,\"*\",총괄!#REF!,\"*\")","v":{"$error":"#REF!"}},{"$f":"COUNTIFS(총괄!$B$6:$B$5127,'1.총괄현황 집계표'!$B78,총괄!$D$6:$D$5127,\"*\",총괄!#REF!,\"*\")","v":{"$error":"#REF!"}},{"$f":"COUNTIFS(총괄!$B$6:$B$5127,'1.총괄현황 집계표'!$B78,총괄!$D$6:$D$5127,\"*\",총괄!#REF!,\"*\")","v":{"$error":"#REF!"}},{"$f":"COUNTIFS(총괄!$B$6:$B$5127,'1.총괄현황 집계표'!$B78,총괄!$D$6:$D$5127,\"*\",총괄!#REF!,\"*\")","v":{"$error":"#REF!"}},0]
["대전","대전동구",67,{"$error":"#REF!"},{"$error":"#REF!"},{"$f":"COUNTIFS(총괄!$B$6:$B$5127,'1.총괄현황 집계표'!$B79,총괄!$D$6:$D$5127,\"*\",총괄!#REF!,\"*\")","v":{"$error":"#REF!"}},{"$f":"COUNTIFS(총괄!$B$6:$B$5127,'1.총괄현황 집계표'!$B79,총괄!$D$6:$D$5127,\"*\",총괄!#REF!,\"*\")","v":{"$error":"#REF!"}},{"$f":"COUNTIFS(총괄!$B$6:$B$5127,'1.총괄현황 집계표'!$B79,총괄!$D$6:$D$5127,\"*\",총괄!#REF!,\"*\")","v":{"$error":"#REF!"}},{"$f":"COUNTIFS(총괄!$B$6:$B$5127,'1.총괄현황 집계표'!$B79,총괄!$D$6:$D$5127,\"*\",총괄!#REF!,\"*\")","v":{"$error":"#REF!"}},0]
["대전","대전중구",82,{"$error":"#REF!"},{"$error":"#REF!"},{"$f":"COUNTIFS(총괄!$B$6:$B$5127,'1.총괄현황 집계표'!$B80,총괄!$D$6:$D$5127,\"*\",총괄!#REF!,\"*\")","v":{"$error":"#REF!"}},{"$f":"COUNTIFS(총괄!$B$6:$B$5127,'1.총괄현황 집계표'!$B80,총괄!$D$6:$D$5127,\"*\",총괄!#REF!,\"*\")","v":{"$error":"#REF!"}},{"$f":"COUNTIFS(총괄!$B$6:$B$5127,'1.총괄현황 집계표'!$B80,총괄!$D$6:$D$5127,\"*\",총괄!#REF!,\"*\")","v":{"$error":"#REF!"}},{"$f":"COUNTIFS(총괄!$B$6:$B$5127,'1.총괄현황 집계표'!$B80,총괄!$D$6:$D$5127,\"*\",총괄!#REF!,\"*\")","v":{"$error":"#REF!"}},0]
["대전","대전서구",98,{"$error":"#REF!"},{"$error":"#REF!"},{"$f":"COUNTIFS(총괄!$B$6:$B$5127,'1.총괄현황 집계표'!$B81,총괄!$D$6:$D$5127,\"*\",총괄!#REF!,\"*\")","v":{"$error":"#REF!"}},{"$f":"COUNTIFS(총괄!$B$6:$B$5127,'1.총괄현황 집계표'!$B81,총괄!$D$6:$D$5127,\"*\",총괄!#REF!,\"*\")","v":{"$error":"#REF!"}},{"$f":"COUNTIFS(총괄!$B$6:$B$5127,'1.총괄현황 집계표'!$B81,총괄!$D$6:$D$5127,\"*\",총괄!#REF!,\"*\")","v":{"$error":"#REF!"}},{"$f":"COUNTIFS(총괄!$B$6:$B$5127,'1.총괄현황 집계표'!$B81,총괄!$D$6:$D$5127,\"*\",총괄!#REF!,\"*\")","v":{"$error":"#REF!"}},0]
["대전","대전유성구",102,{"$error":"#REF!"},{"$error":"#REF!"},{"$f":"COUNTIFS(총괄!$B$6:$B$5127,'1.총괄현황 집계표'!$B82,총괄!$D$6:$D$5127,\"*\",총괄!#REF!,\"*\")","v":{"$error":"#REF!"}},{"$f":"COUNTIFS(총괄!$B$6:$B$5127,'1.총괄현황 집계표'!$B82,총괄!$D$6:$D$5127,\"*\",총괄!#REF!,\"*\")","v":{"$error":"#REF!"}},{"$f":"COUNTIFS(총괄!$B$6:$B$5127,'1.총괄현황 집계표'!$B82,총괄!$D$6:$D$5127,\"*\",총괄!#REF!,\"*\")","v":{"$error":"#REF!"}},{"$f":"COUNTIFS(총괄!$B$6:$B$5127,'1.총괄현황 집계표'!$B82,총괄!$D$6:$D$5127,\"*\",총괄!#REF!,\"*\")","v":{"$error":"#REF!"}},0]
["대전","대전대덕구",87,{"$error":"#REF!"},{"$error":"#REF!"},{"$f":"COUNTIFS(총괄!$B$6:$B$5127,'1.총괄현황 집계표'!$B83,총괄!$D$6:$D$5127,\"*\",총괄!#REF!,\"*\")","v":{"$error":"#REF!"}},{"$f":"COUNTIFS(총괄!$B$6:$B$5127,'1.총괄현황 집계표'!$B83,총괄!$D$6:$D$5127,\"*\",총괄!#REF!,\"*\")","v":{"$error":"#REF!"}},{"$f":"COUNTIFS(총괄!$B$6:$B$5127,'1.총괄현황 집계표'!$B83,총괄!$D$6:$D$5127,\"*\",총괄!#REF!,\"*\")","v":{"$error":"#REF!"}},{"$f":"COUNTIFS(총괄!$B$6:$B$5127,'1.총괄현황 집계표'!$B83,총괄!$D$6:$D$5127,\"*\",총괄!#REF!,\"*\")","v":{"$error":"#REF!"}},0]
["울산","울산광역시",136,{"$error":"#REF!"},{"$error":"#REF!"},{"$f":"COUNTIFS(총괄!$B$6:$B$5127,'1.총괄현황 집계표'!$B84,총괄!$D$6:$D$5127,\"*\",총괄!#REF!,\"*\")","v":{"$error":"#REF!"}},{"$f":"COUNTIFS(총괄!$B$6:$B$5127,'1.총괄현황 집계표'!$B84,총괄!$D$6:$D$5127,\"*\",총괄!#REF!,\"*\")","v":{"$error":"#REF!"}},{"$f":"COUNTIFS(총괄!$B$6:$B$5127,'1.총괄현황 집계표'!$B84,총괄!$D$6:$D$5127,\"*\",총괄!#REF!,\"*\")","v":{"$error":"#REF!"}},{"$f":"COUNTIFS(총괄!$B$6:$B$5127,'1.총괄현황 집계표'!$B84,총괄!$D$6:$D$5127,\"*\",총괄!#REF!,\"*\")","v":{"$error":"#REF!"}},0]
["울산","울산중구",79,{"$error":"#REF!"},{"$error":"#REF!"},{"$f":"COUNTIFS(총괄!$B$6:$B$5127,'1.총괄현황 집계표'!$B85,총괄!$D$6:$D$5127,\"*\",총괄!#REF!,\"*\")","v":{"$error":"#REF!"}},{"$f":"COUNTIFS(총괄!$B$6:$B$5127,'1.총괄현황 집계표'!$B85,총괄!$D$6:$D$5127,\"*\",총괄!#REF!,\"*\")","v":{"$error":"#REF!"}},{"$f":"COUNTIFS(총괄!$B$6:$B$5127,'1.총괄현황 집계표'!$B85,총괄!$D$6:$D$5127,\"*\",총괄!#REF!,\"*\")","v":{"$error":"#REF!"}},{"$f":"COUNTIFS(총괄!$B$6:$B$5127,'1.총괄현황 집계표'!$B85,총괄!$D$6:$D$5127,\"*\",총괄!#REF!,\"*\")","v":{"$error":"#REF!"}},0]
["울산","울산남구",88,{"$error":"#REF!"},{"$error":"#REF!"},{"$f":"COUNTIFS(총괄!$B$6:$B$5127,'1.총괄현황 집계표'!$B86,총괄!$D$6:$D$5127,\"*\",총괄!#REF!,\"*\")","v":{"$error":"#REF!"}},{"$f":"COUNTIFS(총괄!$B$6:$B$5127,'1.총괄현황 집계표'!$B86,총괄!$D$6:$D$5127,\"*\",총괄!#REF!,\"*\")","v":{"$error":"#REF!"}},{"$f":"COUNTIFS(총괄!$B$6:$B$5127,'1.총괄현황 집계표'!$B86,총괄!$D$6:$D$5127,\"*\",총괄!#REF!,\"*\")","v":{"$error":"#REF!"}},{"$f":"COUNTIFS(총괄!$B$6:$B$5127,'1.총괄현황 집계표'!$B86,총괄!$D$6:$D$5127,\"*\",총괄!#REF!,\"*\")","v":{"$error":"#REF!"}},0]
["울산","울산동구",88,{"$error":"#REF!"},{"$error":"#REF!"},{"$f":"COUNTIFS(총괄!$B$6:$B$5127,'1.총괄현황 집계표'!$B87,총괄!$D$6:$D$5127,\"*\",총괄!#REF!,\"*\")","v":{"$error":"#REF!"}},{"$f":"COUNTIFS(총괄!$B$6:$B$5127,'1.총괄현황 집계표'!$B87,총괄!$D$6:$D$5127,\"*\",총괄!#REF!,\"*\")","v":{"$error":"#REF!"}},{"$f":"COUNTIFS(총괄!$B$6:$B$5127,'1.총괄현황 집계표'!$B87,총괄!$D$6:$D$5127,\"*\",총괄!#REF!,\"*\")","v":{"$error":"#REF!"}},{"$f":"COUNTIFS(총괄!$B$6:$B$5127,'1.총괄현황 집계표'!$B87,총괄!$D$6:$D$5127,\"*\",총괄!#REF!,\"*\")","v":{"$error":"#REF!"}},0]
["울산","울산북구",90,{"$error":"#REF!"},{"$error":"#REF!"},{"$f":"COUNTIFS(총괄!$B$6:$B$5127,'1.총괄현황 집계표'!$B88,총괄!$D$6:$D$5127,\"*\",총괄!#REF!,\"*\")","v":{"$error":"#REF!"}},{"$f":"COUNTIFS(총괄!$B$6:$B$5127,'1.총괄현황 집계표'!$B88,총괄!$D$6:$D$5127,\"*\",총괄!#REF!,\"*\")","v":{"$error":"#REF!"}},{"$f":"COUNTIFS(총괄!$B$6:$B$5127,'1.총괄현황 집계표'!$B88,총괄!$D$6:$D$5127,\"*\",총괄!#REF!,\"*\")","v":{"$error":"#REF!"}},{"$f":"COUNTIFS(총괄!$B$6:$B$5127,'1.총괄현황 집계표'!$B88,총괄!$D$6:$D$5127,\"*\",총괄!#REF!,\"*\")","v":{"$error":"#REF!"}},0]
["울산","울산울주군",94,{"$error":"#REF!"},{"$error":"#REF!"},{"$f":"COUNTIFS(총괄!$B$6:$B$5127,'1.총괄현황 집계표'!$B89,총괄!$D$6:$D$5127,\"*\",총괄!#REF!,\"*\")","v":{"$error":"#REF!"}},{"$f":"COUNTIFS(총괄!$B$6:$B$5127,'1.총괄현황 집계표'!$B89,총괄!$D$6:$D$5127,\"*\",총괄!#REF!,\"*\")","v":{"$error":"#REF!"}},{"$f":"COUNTIFS(총괄!$B$6:$B$5127,'1.총괄현황 집계표'!$B89,총괄!$D$6:$D$5127,\"*\",총괄!#REF!,\"*\")","v":{"$error":"#REF!"}},{"$f":"COUNTIFS(총괄!$B$6:$B$5127,'1.총괄현황 집계표'!$B89,총괄!$D$6:$D$5127,\"*\",총괄!#REF!,\"*\")","v":{"$error":"#REF!"}},0]
["세종","세종특별자치시",158,{"$error":"#REF!"},{"$error":"#REF!"},{"$f":"COUNTIFS(총괄!$B$6:$B$5127,'1.총괄현황 집계표'!$B90,총괄!$D$6:$D$5127,\"*\",총괄!#REF!,\"*\")","v":{"$error":"#REF!"}},{"$f":"COUNTIFS(총괄!$B$6:$B$5127,'1.총괄현황 집계표'!$B90,총괄!$D$6:$D$5127,\"*\",총괄!#REF!,\"*\")","v":{"$error":"#REF!"}},{"$f":"COUNTIFS(총괄!$B$6:$B$5127,'1.총괄현황 집계표'!$B90,총괄!$D$6:$D$5127,\"*\",총괄!#REF!,\"*\")","v":{"$error":"#REF!"}},{"$f":"COUNTIFS(총괄!$B$6:$B$5127,'1.총괄현황 집계표'!$B90,총괄!$D$6:$D$5127,\"*\",총괄!#REF!,\"*\")","v":{"$error":"#REF!"}},0]
["경기","경기도",196,{"$error":"#REF!"},{"$error":"#REF!"},{"$f":"COUNTIFS(총괄!$B$6:$B$5127,'1.총괄현황 집계표'!$B91,총괄!$D$6:$D$5127,\"*\",총괄!#REF!,\"*\")","v":{"$error":"#REF!"}},{"$f":"COUNTIFS(총괄!$B$6:$B$5127,'1.총괄현황 집계표'!$B91,총괄!$D$6:$D$5127,\"*\",총괄!#REF!,\"*\")","v":{"$error":"#REF!"}},{"$f":"COUNTIFS(총괄!$B$6:$B$5127,'1.총괄현황 집계표'!$B91,총괄!$D$6:$D$5127,\"*\",총괄!#REF!,\"*\")","v":{"$error":"#REF!"}},{"$f":"COUNTIFS(총괄!$B$6:$B$5127,'1.총괄현황 집계표'!$B91,총괄!$D$6:$D$5127,\"*\",총괄!#REF!,\"*\")","v":{"$error":"#REF!"}},0]
["경기","경기수원시",165,{"$error":"#REF!"},{"$error":"#REF!"},{"$f":"COUNTIFS(총괄!$B$6:$B$5127,'1.총괄현황 집계표'!$B92,총괄!$D$6:$D$5127,\"*\",총괄!#REF!,\"*\")","v":{"$error":"#REF!"}},{"$f":"COUNTIFS(총괄!$B$6:$B$5127,'1.총괄현황 집계표'!$B92,총괄!$D$6:$D$5127,\"*\",총괄!#REF!,\"*\")","v":{"$error":"#REF!"}},{"$f":"COUNTIFS(총괄!$B$6:$B$5127,'1.총괄현황 집계표'!$B92,총괄!$D$6:$D$5127,\"*\",총괄!#REF!,\"*\")","v":{"$error":"#REF!"}},{"$f":"COUNTIFS(총괄!$B$6:$B$5127,'1.총괄현황 집계표'!$B92,총괄!$D$6:$D$5127,\"*\",총괄!#REF!,\"*\")","v":{"$error":"#REF!"}},0]
["경기","경기성남시",157,{"$error":"#REF!"},{"$error":"#REF!"},{"$f":"COUNTIFS(총괄!$B$6:$B$5127,'1.총괄현황 집계표'!$B93,총괄!$D$6:$D$5127,\"*\",총괄!#REF!,\"*\")","v":{"$error":"#REF!"}},{"$f":"COUNTIFS(총괄!$B$6:$B$5127,'1.총괄현황 집계표'!$B93,총괄!$D$6:$D$5127,\"*\",총괄!#REF!,\"*\")","v":{"$error":"#REF!"}},{"$f":"COUNTIFS(총괄!$B$6:$B$5127,'1.총괄현황 집계표'!$B93,총괄!$D$6:$D$5127,\"*\",총괄!#REF!,\"*\")","v":{"$error":"#REF!"}},{"$f":"COUNTIFS(총괄!$B$6:$B$5127,'1.총괄현황 집계표'!$B93,총괄!$D$6:$D$5127,\"*\",총괄!#REF!,\"*\")","v":{"$error":"#REF!"}},0]
["경기","경기의정부시",115,{"$error":"#REF!"},{"$error":"#REF!"},{"$f":"COUNTIFS(총괄!$B$6:$B$5127,'1.총괄현황 집계표'!$B94,총괄!$D$6:$D$5127,\"*\",총괄!#REF!,\"*\")","v":{"$error":"#REF!"}},{"$f":"COUNTIFS(총괄!$B$6:$B$5127,'1.총괄현황 집계표'!$B94,총괄!$D$6:$D$5127,\"*\",총괄!#REF!,\"*\")","v":{"$error":"#REF!"}},{"$f":"COUNTIFS(총괄!$B$6:$B$5127,'1.총괄현황 집계표'!$B94,총괄!$D$6:$D$5127,\"*\",총괄!#REF!,\"*\")","v":{"$error":"#REF!"}},{"$f":"COUNTIFS(총괄!$B$6:$B$5127,'1.총괄현황 집계표'!$B94,총괄!$D$6:$D$5127,\"*\",총괄!#REF!,\"*\")","v":{"$error":"#REF!"}},0]
["경기","경기안양시",140,{"$error":"#REF!"},{"$error":"#REF!"},{"$f":"COUNTIFS(총괄!$B$6:$B$5127,'1.총괄현황 집계표'!$B95,총괄!$D$6:$D$5127,\"*\",총괄!#REF!,\"*\")","v":{"$error":"#REF!"}},{"$f":"COUNTIFS(총괄!$B$6:$B$5127,'1.총괄현황 집계표'!$B95,총괄!$D$6:$D$5127,\"*\",총괄!#REF!,\"*\")","v":{"$error":"#REF!"}},{"$f":"COUNTIFS(총괄!$B$6:$B$5127,'1.총괄현황 집계표'!$B95,총괄!$D$6:$D$5127,\"*\",총괄!#REF!,\"*\")","v":{"$error":"#REF!"}},{"$f":"COUNTIFS(총괄!$B$6:$B$5127,'1.총괄현황 집계표'!$B95,총괄!$D$6:$D$5127,\"*\",총괄!#REF!,\"*\")","v":{"$error":"#REF!"}},0]
["경기","경기부천시",130,{"$error":"#REF!"},{"$error":"#REF!"},{"$f":"COUNTIFS(총괄!$B$6:$B$5127,'1.총괄현황 집계표'!$B96,총괄!$D$6:$D$5127,\"*\",총괄!#REF!,\"*\")","v":{"$error":"#REF!"}},{"$f":"COUNTIFS(총괄!$B$6:$B$5127,'1.총괄현황 집계표'!$B96,총괄!$D$6:$D$5127,\"*\",총괄!#REF!,\"*\")","v":{"$error":"#REF!"}},{"$f":"COUNTIFS(총괄!$B$6:$B$5127,'1.총괄현황 집계표'!$B96,총괄!$D$6:$D$5127,\"*\",총괄!#REF!,\"*\")","v":{"$error":"#REF!"}},{"$f":"COUNTIFS(총괄!$B$6:$B$5127,'1.총괄현황 집계표'!$B96,총괄!$D$6:$D$5127,\"*\",총괄!#REF!,\"*\")","v":{"$error":"#REF!"}},0]
["경기","경기광명시",110,{"$error":"#REF!"},{"$error":"#REF!"},{"$f":"COUNTIFS(총괄!$B$6:$B$5127,'1.총괄현황 집계표'!$B97,총괄!$D$6:$D$5127,\"*\",총괄!#REF!,\"*\")","v":{"$error":"#REF!"}},{"$f":"COUNTIFS(총괄!$B$6:$B$5127,'1.총괄현황 집계표'!$B97,총괄!$D$6:$D$5127,\"*\",총괄!#REF!,\"*\")","v":{"$error":"#REF!"}},{"$f":"COUNTIFS(총괄!$B$6:$B$5127,'1.총괄현황 집계표'!$B97,총괄!$D$6:$D$5127,\"*\",총괄!#REF!,\"*\")","v":{"$error":"#REF!"}},{"$f":"COUNTIFS(총괄!$B$6:$B$5127,'1.총괄현황 집계표'!$B97,총괄!$D$6:$D$5127,\"*\",총괄!#REF!,\"*\")","v":{"$error":"#REF!"}},0]
["경기","경기평택시",118,{"$error":"#REF!"},{"$error":"#REF!"},{"$f":"COUNTIFS(총괄!$B$6:$B$5127,'1.총괄현황 집계표'!$B98,총괄!$D$6:$D$5127,\"*\",총괄!#REF!,\"*\")","v":{"$error":"#REF!"}},{"$f":"COUNTIFS(총괄!$B$6:$B$5127,'1.총괄현황 집계표'!$B98,총괄!$D$6:$D$5127,\"*\",총괄!#REF!,\"*\")","v":{"$error":"#REF!"}},{"$f":"COUNTIFS(총괄!$B$6:$B$5127,'1.총괄현황 집계표'!$B98,총괄!$D$6:$D$5127,\"*\",총괄!#REF!,\"*\")","v":{"$error":"#REF!"}},{"$f":"COUNTIFS(총괄!$B$6:$B$5127,'1.총괄현황 집계표'!$B98,총괄!$D$6:$D$5127,\"*\",총괄!#REF!,\"*\")","v":{"$error":"#REF!"}},0]
["경기","경기동두천시",99,{"$error":"#REF!"},{"$error":"#REF!"},{"$f":"COUNTIFS(총괄!$B$6:$B$5127,'1.총괄현황 집계표'!$B99,총괄!$D$6:$D$5127,\"*\",총괄!#REF!,\"*\")","v":{"$error":"#REF!"}},{"$f":"COUNTIFS(총괄!$B$6:$B$5127,'1.총괄현황 집계표'!$B99,총괄!$D$6:$D$5127,\"*\",총괄!#REF!,\"*\")","v":{"$error":"#REF!"}},{"$f":"COUNTIFS(총괄!$B$6:$B$5127,'1.총괄현황 집계표'!$B99,총괄!$D$6:$D$5127,\"*\",총괄!#REF!,\"*\")","v":{"$error":"#REF!"}},{"$f":"COUNTIFS(총괄!$B$6:$B$5127,'1.총괄현황 집계표'!$B99,총괄!$D$6:$D$5127,\"*\",총괄!#REF!,\"*\")","v":{"$error":"#REF!"}},0]
["경기","경기안산시",139,{"$error":"#REF!"},{"$error":"#REF!"},{"$f":"COUNTIFS(총괄!$B$6:$B$5127,'1.총괄현황 집계표'!$B100,총괄!$D$6:$D$5127,\"*\",총괄!#REF!,\"*\")","v":{"$error":"#REF!"}},{"$f":"COUNTIFS(총괄!$B$6:$B$5127,'1.총괄현황 집계표'!$B100,총괄!$D$6:$D$5127,\"*\",총괄!#REF!,\"*\")","v":{"$error":"#REF!"}},{"$f":"COUNTIFS(총괄!$B$6:$B$5127,'1.총괄현황 집계표'!$B100,총괄!$D$6:$D$5127,\"*\",총괄!#REF!,\"*\")","v":{"$error":"#REF!"}},{"$f":"COUNTIFS(총괄!$B$6:$B$5127,'1.총괄현황 집계표'!$B100,총괄!$D$6:$D$5127,\"*\",총괄!#REF!,\"*\")","v":{"$error":"#REF!"}},0]
["경기","경기고양시",128,{"$error":"#REF!"},{"$error":"#REF!"},{"$f":"COUNTIFS(총괄!$B$6:$B$5127,'1.총괄현황 집계표'!$B101,총괄!$D$6:$D$5127,\"*\",총괄!#REF!,\"*\")","v":{"$error":"#REF!"}},{"$f":"COUNTIFS(총괄!$B$6:$B$5127,'1.총괄현황 집계표'!$B101,총괄!$D$6:$D$5127,\"*\",총괄!#REF!,\"*\")","v":{"$error":"#REF!"}},{"$f":"COUNTIFS(총괄!$B$6:$B$5127,'1.총괄현황 집계표'!$B101,총괄!$D$6:$D$5127,\"*\",총괄!#REF!,\"*\")","v":{"$error":"#REF!"}},{"$f":"COUNTIFS(총괄!$B$6:$B$5127,'1.총괄현황 집계표'!$B101,총괄!$D$6:$D$5127,\"*\",총괄!#REF!,\"*\")","v":{"$error":"#REF!"}},0]
["경기","경기과천시",110,{"$error":"#REF!"},{"$error":"#REF!"},{"$f":"COUNTIFS(총괄!$B$6:$B$5127,'1.총괄현황 집계표'!$B102,총괄!$D$6:$D$5127,\"*\",총괄!#REF!,\"*\")","v":{"$error":"#REF!"}},{"$f":"COUNTIFS(총괄!$B$6:$B$5127,'1.총괄현황 집계표'!$B102,총괄!$D$6:$D$5127,\"*\",총괄!#REF!,\"*\")","v":{"$error":"#REF!"}},{"$f":"COUNTIFS(총괄!$B$6:$B$5127,'1.총괄현황 집계표'!$B102,총괄!$D$6:$D$5127,\"*\",총괄!#REF!,\"*\")","v":{"$error":"#REF!"}},{"$f":"COUNTIFS(총괄!$B$6:$B$5127,'1.총괄현황 집계표'!$B102,총괄!$D$6:$D$5127,\"*\",총괄!#REF!,\"*\")","v":{"$error":"#REF!"}},0]
["경기","경기구리시",97,{"$error":"#REF!"},{"$error":"#REF!"},{"$f":"COUNTIFS(총괄!$B$6:$B$5127,'1.총괄현황 집계표'!$B103,총괄!$D$6:$D$5127,\"*\",총괄!#REF!,\"*\")","v":{"$error":"#REF!"}},{"$f":"COUNTIFS(총괄!$B$6:$B$5127,'1.총괄현황 집계표'!$B103,총괄!$D$6:$D$5127,\"*\",총괄!#REF!,\"*\")","v":{"$error":"#REF!"}},{"$f":"COUNTIFS(총괄!$B$6:$B$5127,'1.총괄현황 집계표'!$B103,총괄!$D$6:$D$5127,\"*\",총괄!#REF!,\"*\")","v":{"$error":"#REF!"}},{"$f":"COUNTIFS(총괄!$B$6:$B$5127,'1.총괄현황 집계표'!$B103,총괄!$D$6:$D$5127,\"*\",총괄!#REF!,\"*\")","v":{"$error":"#REF!"}},0]
["경기","경기남양주시",111,{"$error":"#REF!"},{"$error":"#REF!"},{"$f":"COUNTIFS(총괄!$B$6:$B$5127,'1.총괄현황 집계표'!$B104,총괄!$D$6:$D$5127,\"*\",총괄!#REF!,\"*\")","v":{"$error":"#REF!"}},{"$f":"COUNTIFS(총괄!$B$6:$B$5127,'1.총괄현황 집계표'!$B104,총괄!$D$6:$D$5127,\"*\",총괄!#REF!,\"*\")","v":{"$error":"#REF!"}},{"$f":"COUNTIFS(총괄!$B$6:$B$5127,'1.총괄현황 집계표'!$B104,총괄!$D$6:$D$5127,\"*\",총괄!#REF!,\"*\")","v":{"$error":"#REF!"}},{"$f":"COUNTIFS(총괄!$B$6:$B$5127,'1.총괄현황 집계표'!$B104,총괄!$D$6:$D$5127,\"*\",총괄!#REF!,\"*\")","v":{"$error":"#REF!"}},0]
["경기","경기오산시",97,{"$error":"#REF!"},{"$error":"#REF!"},{"$f":"COUNTIFS(총괄!$B$6:$B$5127,'1.총괄현황 집계표'!$B105,총괄!$D$6:$D$5127,\"*\",총괄!#REF!,\"*\")","v":{"$error":"#REF!"}},{"$f":"COUNTIFS(총괄!$B$6:$B$5127,'1.총괄현황 집계표'!$B105,총괄!$D$6:$D$5127,\"*\",총괄!#REF!,\"*\")","v":{"$error":"#REF!"}},{"$f":"COUNTIFS(총괄!$B$6:$B$5127,'1.총괄현황 집계표'!$B105,총괄!$D$6:$D$5127,\"*\",총괄!#REF!,\"*\")","v":{"$error":"#REF!"}},{"$f":"COUNTIFS(총괄!$B$6:$B$5127,'1.총괄현황 집계표'!$B105,총괄!$D$6:$D$5127,\"*\",총괄!#REF!,\"*\")","v":{"$error":"#REF!"}},0]
["경기","경기시흥시",87,{"$error":"#REF!"},{"$error":"#REF!"},{"$f":"COUNTIFS(총괄!$B$6:$B$5127,'1.총괄현황 집계표'!$B106,총괄!$D$6:$D$5127,\"*\",총괄!#REF!,\"*\")","v":{"$error":"#REF!"}},{"$f":"COUNTIFS(총괄!$B$6:$B$5127,'1.총괄현황 집계표'!$B106,총괄!$D$6:$D$5127,\"*\",총괄!#REF!,\"*\")","v":{"$error":"#REF!"}},{"$f":"COUNTIFS(총괄!$B$6:$B$5127,'1.총괄현황 집계표'!$B106,총괄!$D$6:$D$5127,\"*\",총괄!#REF!,\"*\")","v":{"$error":"#REF!"}},{"$f":"COUNTIFS(총괄!$B$6:$B$5127,'1.총괄현황 집계표'!$B106,총괄!$D$6:$D$5127,\"*\",총괄!#REF!,\"*\")","v":{"$error":"#REF!"}},0]
["경기","경기군포시",88,{"$error":"#REF!"},{"$error":"#REF!"},{"$f":"COUNTIFS(총괄!$B$6:$B$5127,'1.총괄현황 집계표'!$B107,총괄!$D$6:$D$5127,\"*\",총괄!#REF!,\"*\")","v":{"$error":"#REF!"}},{"$f":"COUNTIFS(총괄!$B$6:$B$5127,'1.총괄현황 집계표'!$B107,총괄!$D$6:$D$5127,\"*\",총괄!#REF!,\"*\")","v":{"$error":"#REF!"}},{"$f":"COUNTIFS(총괄!$B$6:$B$5127,'1.총괄현황 집계표'!$B107,총괄!$D$6:$D$5127,\"*\",총괄!#REF!,\"*\")","v":{"$error":"#REF!"}},{"$f":"COUNTIFS(총괄!$B$6:$B$5127,'1.총괄현황 집계표'!$B107,총괄!$D$6:$D$5127,\"*\",총괄!#REF!,\"*\")","v":{"$error":"#REF!"}},0]
["경기","경기의왕시",104,{"$error":"#REF!"},{"$error":"#REF!"},{"$f":"COUNTIFS(총괄!$B$6:$B$5127,'1.총괄현황 집계표'!$B108,총괄!$D$6:$D$5127,\"*\",총괄!#REF!,\"*\")","v":{"$error":"#REF!"}},{"$f":"COUNTIFS(총괄!$B$6:$B$5127,'1.총괄현황 집계표'!$B108,총괄!$D$6:$D$5127,\"*\",총괄!#REF!,\"*\")","v":{"$error":"#REF!"}},{"$f":"COUNTIFS(총괄!$B$6:$B$5127,'1.총괄현황 집계표'!$B108,총괄!$D$6:$D$5127,\"*\",총괄!#REF!,\"*\")","v":{"$error":"#REF!"}},{"$f":"COUNTIFS(총괄!$B$6:$B$5127,'1.총괄현황 집계표'!$B108,총괄!$D$6:$D$5127,\"*\",총괄!#REF!,\"*\")","v":{"$error":"#REF!"}},0]
["경기","경기하남시",90,{"$error":"#REF!"},{"$error":"#REF!"},{"$f":"COUNTIFS(총괄!$B$6:$B$5127,'1.총괄현황 집계표'!$B109,총괄!$D$6:$D$5127,\"*\",총괄!#REF!,\"*\")","v":{"$error":"#REF!"}},{"$f":"COUNTIFS(총괄!$B$6:$B$5127,'1.총괄현황 집계표'!$B109,총괄!$D$6:$D$5127,\"*\",총괄!#REF!,\"*\")","v":{"$error":"#REF!"}},{"$f":"COUNTIFS(총괄!$B$6:$B$5127,'1.총괄현황 집계표'!$B109,총괄!$D$6:$D$5127,\"*\",총괄!#REF!,\"*\")","v":{"$error":"#REF!"}},{"$f":"COUNTIFS(총괄!$B$6:$B$5127,'1.총괄현황 집계표'!$B109,총괄!$D$6:$D$5127,\"*\",총괄!#REF!,\"*\")","v":{"$error":"#REF!"}},0]
["경기","경기용인시",163,{"$error":"#REF!"},{"$error":"#REF!"},{"$f":"COUNTIFS(총괄!$B$6:$B$5127,'1.총괄현황 집계표'!$B110,총괄!$D$6:$D$5127,\"*\",총괄!#REF!,\"*\")","v":{"$error":"#REF!"}},{"$f":"COUNTIFS(총괄!$B$6:$B$5127,'1.총괄현황 집계표'!$B110,총괄!$D$6:$D$5127,\"*\",총괄!#REF!,\"*\")","v":{"$error":"#REF!"}},{"$f":"COUNTIFS(총괄!$B$6:$B$5127,'1.총괄현황 집계표'!$B110,총괄!$D$6:$D$5127,\"*\",총괄!#REF!,\"*\")","v":{"$error":"#REF!"}},{"$f":"COUNTIFS(총괄!$B$6:$B$5127,'1.총괄현황 집계표'!$B110,총괄!$D$6:$D$5127,\"*\",총괄!#REF!,\"*\")","v":{"$error":"#REF!"}},0]
["경기","경기파주시",73,{"$error":"#REF!"},{"$error":"#REF!"},{"$f":"COUNTIFS(총괄!$B$6:$B$5127,'1.총괄현황 집계표'!$B111,총괄!$D$6:$D$5127,\"*\",총괄!#REF!,\"*\")","v":{"$error":"#REF!"}},{"$f":"COUNTIFS(총괄!$B$6:$B$5127,'1.총괄현황 집계표'!$B111,총괄!$D$6:$D$5127,\"*\",총괄!#REF!,\"*\")","v":{"$error":"#REF!"}},{"$f":"COUNTIFS(총괄!$B$6:$B$5127,'1.총괄현황 집계표'!$B111,총괄!$D$6:$D$5127,\"*\",총괄!#REF!,\"*\")","v":{"$error":"#REF!"}},{"$f":"COUNTIFS(총괄!$B$6:$B$5127,'1.총괄현황 집계표'!$B111,총괄!$D$6:$D$5127,\"*\",총괄!#REF!,\"*\")","v":{"$error":"#REF!"}},0]
["경기","경기이천시",120,{"$error":"#REF!"},{"$error":"#REF!"},{"$f":"COUNTIFS(총괄!$B$6:$B$5127,'1.총괄현황 집계표'!$B112,총괄!$D$6:$D$5127,\"*\",총괄!#REF!,\"*\")","v":{"$error":"#REF!"}},{"$f":"COUNTIFS(총괄!$B$6:$B$5127,'1.총괄현황 집계표'!$B112,총괄!$D$6:$D$5127,\"*\",총괄!#REF!,\"*\")","v":{"$error":"#REF!"}},{"$f":"COUNTIFS(총괄!$B$6:$B$5127,'1.총괄현황 집계표'!$B112,총괄!$D$6:$D$5127,\"*\",총괄!#REF!,\"*\")","v":{"$error":"#REF!"}},{"$f":"COUNTIFS(총괄!$B$6:$B$5127,'1.총괄현황 집계표'!$B112,총괄!$D$6:$D$5127,\"*\",총괄!#REF!,\"*\")","v":{"$error":"#REF!"}},0]
["경기","경기안성시",116,{"$error":"#REF!"},{"$error":"#REF!"},{"$f":"COUNTIFS(총괄!$B$6:$B$5127,'1.총괄현황 집계표'!$B113,총괄!$D$6:$D$5127,\"*\",총괄!#REF!,\"*\")","v":{"$error":"#REF!"}},{"$f":"COUNTIFS(총괄!$B$6:$B$5127,'1.총괄현황 집계표'!$B113,총괄!$D$6:$D$5127,\"*\",총괄!#REF!,\"*\")","v":{"$error":"#REF!"}},{"$f":"COUNTIFS(총괄!$B$6:$B$5127,'1.총괄현황 집계표'!$B113,총괄!$D$6:$D$5127,\"*\",총괄!#REF!,\"*\")","v":{"$error":"#REF!"}},{"$f":"COUNTIFS(총괄!$B$6:$B$5127,'1.총괄현황 집계표'!$B113,총괄!$D$6:$D$5127,\"*\",총괄!#REF!,\"*\")","v":{"$error":"#REF!"}},0]
["경기","경기김포시",108,{"$error":"#REF!"},{"$error":"#REF!"},{"$f":"COUNTIFS(총괄!$B$6:$B$5127,'1.총괄현황 집계표'!$B114,총괄!$D$6:$D$5127,\"*\",총괄!#REF!,\"*\")","v":{"$error":"#REF!"}},{"$f":"COUNTIFS(총괄!$B$6:$B$5127,'1.총괄현황 집계표'!$B114,총괄!$D$6:$D$5127,\"*\",총괄!#REF!,\"*\")","v":{"$error":"#REF!"}},{"$f":"COUNTIFS(총괄!$B$6:$B$5127,'1.총괄현황 집계표'!$B114,총괄!$D$6:$D$5127,\"*\",총괄!#REF!,\"*\")","v":{"$error":"#REF!"}},{"$f":"COUNTIFS(총괄!$B$6:$B$5127,'1.총괄현황 집계표'!$B114,총괄!$D$6:$D$5127,\"*\",총괄!#REF!,\"*\")","v":{"$error":"#REF!"}},0]
["경기","경기화성시",109,{"$error":"#REF!"},{"$error":"#REF!"},{"$f":"COUNTIFS(총괄!$B$6:$B$5127,'1.총괄현황 집계표'!$B115,총괄!$D$6:$D$5127,\"*\",총괄!#REF!,\"*\")","v":{"$error":"#REF!"}},{"$f":"COUNTIFS(총괄!$B$6:$B$5127,'1.총괄현황 집계표'!$B115,총괄!$D$6:$D$5127,\"*\",총괄!#REF!,\"*\")","v":{"$error":"#REF!"}},{"$f":"COUNTIFS(총괄!$B$6:$B$5127,'1.총괄현황 집계표'!$B115,총괄!$D$6:$D$5127,\"*\",총괄!#REF!,\"*\")","v":{"$error":"#REF!"}},{"$f":"COUNTIFS(총괄!$B$6:$B$5127,'1.총괄현황 집계표'!$B115,총괄!$D$6:$D$5127,\"*\",총괄!#REF!,\"*\")","v":{"$error":"#REF!"}},0]
["경기","경기광주시",83,{"$error":"#REF!"},{"$error":"#REF!"},{"$f":"COUNTIFS(총괄!$B$6:$B$5127,'1.총괄현황 집계표'!$B116,총괄!$D$6:$D$5127,\"*\",총괄!#REF!,\"*\")","v":{"$error":"#REF!"}},{"$f":"COUNTIFS(총괄!$B$6:$B$5127,'1.총괄현황 집계표'!$B116,총괄!$D$6:$D$5127,\"*\",총괄!#REF!,\"*\")","v":{"$error":"#REF!"}},{"$f":"COUNTIFS(총괄!$B$6:$B$5127,'1.총괄현황 집계표'!$B116,총괄!$D$6:$D$5127,\"*\",총괄!#REF!,\"*\")","v":{"$error":"#REF!"}},{"$f":"COUNTIFS(총괄!$B$6:$B$5127,'1.총괄현황 집계표'!$B116,총괄!$D$6:$D$5127,\"*\",총괄!#REF!,\"*\")","v":{"$error":"#REF!"}},0]
["경기","경기양주시",60,{"$error":"#REF!"},{"$error":"#REF!"},{"$f":"COUNTIFS(총괄!$B$6:$B$5127,'1.총괄현황 집계표'!$B117,총괄!$D$6:$D$5127,\"*\",총괄!#REF!,\"*\")","v":{"$error":"#REF!"}},{"$f":"COUNTIFS(총괄!$B$6:$B$5127,'1.총괄현황 집계표'!$B117,총괄!$D$6:$D$5127,\"*\",총괄!#REF!,\"*\")","v":{"$error":"#REF!"}},{"$f":"COUNTIFS(총괄!$B$6:$B$5127,'1.총괄현황 집계표'!$B117,총괄!$D$6:$D$5127,\"*\",총괄!#REF!,\"*\")","v":{"$error":"#REF!"}},{"$f":"COUNTIFS(총괄!$B$6:$B$5127,'1.총괄현황 집계표'!$B117,총괄!$D$6:$D$5127,\"*\",총괄!#REF!,\"*\")","v":{"$error":"#REF!"}},0]
["경기","경기포천시",89,{"$error":"#REF!"},{"$error":"#REF!"},{"$f":"COUNTIFS(총괄!$B$6:$B$5127,'1.총괄현황 집계표'!$B118,총괄!$D$6:$D$5127,\"*\",총괄!#REF!,\"*\")","v":{"$error":"#REF!"}},{"$f":"COUNTIFS(총괄!$B$6:$B$5127,'1.총괄현황 집계표'!$B118,총괄!$D$6:$D$5127,\"*\",총괄!#REF!,\"*\")","v":{"$error":"#REF!"}},{"$f":"COUNTIFS(총괄!$B$6:$B$5127,'1.총괄현황 집계표'!$B118,총괄!$D$6:$D$5127,\"*\",총괄!#REF!,\"*\")","v":{"$error":"#REF!"}},{"$f":"COUNTIFS(총괄!$B$6:$B$5127,'1.총괄현황 집계표'!$B118,총괄!$D$6:$D$5127,\"*\",총괄!#REF!,\"*\")","v":{"$error":"#REF!"}},0]
["경기","경기여주시",112,{"$error":"#REF!"},{"$error":"#REF!"},{"$f":"COUNTIFS(총괄!$B$6:$B$5127,'1.총괄현황 집계표'!$B119,총괄!$D$6:$D$5127,\"*\",총괄!#REF!,\"*\")","v":{"$error":"#REF!"}},{"$f":"COUNTIFS(총괄!$B$6:$B$5127,'1.총괄현황 집계표'!$B119,총괄!$D$6:$D$5127,\"*\",총괄!#REF!,\"*\")","v":{"$error":"#REF!"}},{"$f":"COUNTIFS(총괄!$B$6:$B$5127,'1.총괄현황 집계표'!$B119,총괄!$D$6:$D$5127,\"*\",총괄!#REF!,\"*\")","v":{"$error":"#REF!"}},{"$f":"COUNTIFS(총괄!$B$6:$B$5127,'1.총괄현황 집계표'!$B119,총괄!$D$6:$D$5127,\"*\",총괄!#REF!,\"*\")","v":{"$error":"#REF!"}},0]
["경기","경기연천군",77,{"$error":"#REF!"},{"$error":"#REF!"},{"$f":"COUNTIFS(총괄!$B$6:$B$5127,'1.총괄현황 집계표'!$B120,총괄!$D$6:$D$5127,\"*\",총괄!#REF!,\"*\")","v":{"$error":"#REF!"}},{"$f":"COUNTIFS(총괄!$B$6:$B$5127,'1.총괄현황 집계표'!$B120,총괄!$D$6:$D$5127,\"*\",총괄!#REF!,\"*\")","v":{"$error":"#REF!"}},{"$f":"COUNTIFS(총괄!$B$6:$B$5127,'1.총괄현황 집계표'!$B120,총괄!$D$6:$D$5127,\"*\",총괄!#REF!,\"*\")","v":{"$error":"#REF!"}},{"$f":"COUNTIFS(총괄!$B$6:$B$5127,'1.총괄현황 집계표'!$B120,총괄!$D$6:$D$5127,\"*\",총괄!#REF!,\"*\")","v":{"$error":"#REF!"}},0]
["경기","경기가평군",76,{"$error":"#REF!"},{"$error":"#REF!"},{"$f":"COUNTIFS(총괄!$B$6:$B$5127,'1.총괄현황 집계표'!$B121,총괄!$D$6:$D$5127,\"*\",총괄!#REF!,\"*\")","v":{"$error":"#REF!"}},{"$f":"COUNTIFS(총괄!$B$6:$B$5127,'1.총괄현황 집계표'!$B121,총괄!$D$6:$D$5127,\"*\",총괄!#REF!,\"*\")","v":{"$error":"#REF!"}},{"$f":"COUNTIFS(총괄!$B$6:$B$5127,'1.총괄현황 집계표'!$B121,총괄!$D$6:$D$5127,\"*\",총괄!#REF!,\"*\")","v":{"$error":"#REF!"}},{"$f":"COUNTIFS(총괄!$B$6:$B$5127,'1.총괄현황 집계표'!$B121,총괄!$D$6:$D$5127,\"*\",총괄!#REF!,\"*\")","v":{"$error":"#REF!"}},0]
["경기","경기양평군",67,{"$error":"#REF!"},{"$error":"#REF!"},{"$f":"COUNTIFS(총괄!$B$6:$B$5127,'1.총괄현황 집계표'!$B122,총괄!$D$6:$D$5127,\"*\",총괄!#REF!,\"*\")","v":{"$error":"#REF!"}},{"$f":"COUNTIFS(총괄!$B$6:$B$5127,'1.총괄현황 집계표'!$B122,총괄!$D$6:$D$5127,\"*\",총괄!#REF!,\"*\")","v":{"$error":"#REF!"}},{"$f":"COUNTIFS(총괄!$B$6:$B$5127,'1.총괄현황 집계표'!$B122,총괄!$D$6:$D$5127,\"*\",총괄!#REF!,\"*\")","v":{"$error":"#REF!"}},{"$f":"COUNTIFS(총괄!$B$6:$B$5127,'1.총괄현황 집계표'!$B122,총괄!$D$6:$D$5127,\"*\",총괄!#REF!,\"*\")","v":{"$error":"#REF!"}},0]
["강원","강원도",163,{"$error":"#REF!"},{"$error":"#REF!"},{"$f":"COUNTIFS(총괄!$B$6:$B$5127,'1.총괄현황 집계표'!$B123,총괄!$D$6:$D$5127,\"*\",총괄!#REF!,\"*\")","v":{"$error":"#REF!"}},{"$f":"COUNTIFS(총괄!$B$6:$B$5127,'1.총괄현황 집계표'!$B123,총괄!$D$6:$D$5127,\"*\",총괄!#REF!,\"*\")","v":{"$error":"#REF!"}},{"$f":"COUNTIFS(총괄!$B$6:$B$5127,'1.총괄현황 집계표'!$B123,총괄!$D$6:$D$5127,\"*\",총괄!#REF!,\"*\")","v":{"$error":"#REF!"}},{"$f":"COUNTIFS(총괄!$B$6:$B$5127,'1.총괄현황 집계표'!$B123,총괄!$D$6:$D$5127,\"*\",총괄!#REF!,\"*\")","v":{"$error":"#REF!"}},0]
["강원","강원춘천시",104,{"$error":"#REF!"},{"$error":"#REF!"},{"$f":"COUNTIFS(총괄!$B$6:$B$5127,'1.총괄현황 집계표'!$B124,총괄!$D$6:$D$5127,\"*\",총괄!#REF!,\"*\")","v":{"$error":"#REF!"}},{"$f":"COUNTIFS(총괄!$B$6:$B$5127,'1.총괄현황 집계표'!$B124,총괄!$D$6:$D$5127,\"*\",총괄!#REF!,\"*\")","v":{"$error":"#REF!"}},{"$f":"COUNTIFS(총괄!$B$6:$B$5127,'1.총괄현황 집계표'!$B124,총괄!$D$6:$D$5127,\"*\",총괄!#REF!,\"*\")","v":{"$error":"#REF!"}},{"$f":"COUNTIFS(총괄!$B$6:$B$5127,'1.총괄현황 집계표'!$B124,총괄!$D$6:$D$5127,\"*\",총괄!#REF!,\"*\")","v":{"$error":"#REF!"}},0]
["강원","강원원주시",137,{"$error":"#REF!"},{"$error":"#REF!"},{"$f":"COUNTIFS(총괄!$B$6:$B$5127,'1.총괄현황 집계표'!$B125,총괄!$D$6:$D$5127,\"*\",총괄!#REF!,\"*\")","v":{"$error":"#REF!"}},{"$f":"COUNTIFS(총괄!$B$6:$B$5127,'1.총괄현황 집계표'!$B125,총괄!$D$6:$D$5127,\"*\",총괄!#REF!,\"*\")","v":{"$error":"#REF!"}},{"$f":"COUNTIFS(총괄!$B$6:$B$5127,'1.총괄현황 집계표'!$B125,총괄!$D$6:$D$5127,\"*\",총괄!#REF!,\"*\")","v":{"$error":"#REF!"}},{"$f":"COUNTIFS(총괄!$B$6:$B$5127,'1.총괄현황 집계표'!$B125,총괄!$D$6:$D$5127,\"*\",총괄!#REF!,\"*\")","v":{"$error":"#REF!"}},0]
["강원","강원강릉시",112,{"$error":"#REF!"},{"$error":"#REF!"},{"$f":"COUNTIFS(총괄!$B$6:$B$5127,'1.총괄현황 집계표'!$B126,총괄!$D$6:$D$5127,\"*\",총괄!#REF!,\"*\")","v":{"$error":"#REF!"}},{"$f":"COUNTIFS(총괄!$B$6:$B$5127,'1.총괄현황 집계표'!$B126,총괄!$D$6:$D$5127,\"*\",총괄!#REF!,\"*\")","v":{"$error":"#REF!"}},{"$f":"COUNTIFS(총괄!$B$6:$B$5127,'1.총괄현황 집계표'!$B126,총괄!$D$6:$D$5127,\"*\",총괄!#REF!,\"*\")","v":{"$error":"#REF!"}},{"$f":"COUNTIFS(총괄!$B$6:$B$5127,'1.총괄현황 집계표'!$B126,총괄!$D$6:$D$5127,\"*\",총괄!#REF!,\"*\")","v":{"$error":"#REF!"}},0]
["강원","강원동해시",89,{"$error":"#REF!"},{"$error":"#REF!"},{"$f":"COUNTIFS(총괄!$B$6:$B$5127,'1.총괄현황 집계표'!$B127,총괄!$D$6:$D$5127,\"*\",총괄!#REF!,\"*\")","v":{"$error":"#REF!"}},{"$f":"COUNTIFS(총괄!$B$6:$B$5127,'1.총괄현황 집계표'!$B127,총괄!$D$6:$D$5127,\"*\",총괄!#REF!,\"*\")","v":{"$error":"#REF!"}},{"$f":"COUNTIFS(총괄!$B$6:$B$5127,'1.총괄현황 집계표'!$B127,총괄!$D$6:$D$5127,\"*\",총괄!#REF!,\"*\")","v":{"$error":"#REF!"}},{"$f":"COUNTIFS(총괄!$B$6:$B$5127,'1.총괄현황 집계표'!$B127,총괄!$D$6:$D$5127,\"*\",총괄!#REF!,\"*\")","v":{"$error":"#REF!"}},0]
["강원","강원태백시",82,{"$error":"#REF!"},{"$error":"#REF!"},{"$f":"COUNTIFS(총괄!$B$6:$B$5127,'1.총괄현황 집계표'!$B128,총괄!$D$6:$D$5127,\"*\",총괄!#REF!,\"*\")","v":{"$error":"#REF!"}},{"$f":"COUNTIFS(총괄!$B$6:$B$5127,'1.총괄현황 집계표'!$B128,총괄!$D$6:$D$5127,\"*\",총괄!#REF!,\"*\")","v":{"$error":"#REF!"}},{"$f":"COUNTIFS(총괄!$B$6:$B$5127,'1.총괄현황 집계표'!$B128,총괄!$D$6:$D$5127,\"*\",총괄!#REF!,\"*\")","v":{"$error":"#REF!"}},{"$f":"COUNTIFS(총괄!$B$6:$B$5127,'1.총괄현황 집계표'!$B128,총괄!$D$6:$D$5127,\"*\",총괄!#REF!,\"*\")","v":{"$error":"#REF!"}},0]
["강원","강원속초시",115,{"$error":"#REF!"},{"$error":"#REF!"},{"$f":"COUNTIFS(총괄!$B$6:$B$5127,'1.총괄현황 집계표'!$B129,총괄!$D$6:$D$5127,\"*\",총괄!#REF!,\"*\")","v":{"$error":"#REF!"}},{"$f":"COUNTIFS(총괄!$B$6:$B$5127,'1.총괄현황 집계표'!$B129,총괄!$D$6:$D$5127,\"*\",총괄!#REF!,\"*\")","v":{"$error":"#REF!"}},{"$f":"COUNTIFS(총괄!$B$6:$B$5127,'1.총괄현황 집계표'!$B129,총괄!$D$6:$D$5127,\"*\",총괄!#REF!,\"*\")","v":{"$error":"#REF!"}},{"$f":"COUNTIFS(총괄!$B$6:$B$5127,'1.총괄현황 집계표'!$B129,총괄!$D$6:$D$5127,\"*\",총괄!#REF!,\"*\")","v":{"$error":"#REF!"}},0]
["강원","강원삼척시",91,{"$error":"#REF!"},{"$error":"#REF!"},{"$f":"COUNTIFS(총괄!$B$6:$B$5127,'1.총괄현황 집계표'!$B130,총괄!$D$6:$D$5127,\"*\",총괄!#REF!,\"*\")","v":{"$error":"#REF!"}},{"$f":"COUNTIFS(총괄!$B$6:$B$5127,'1.총괄현황 집계표'!$B130,총괄!$D$6:$D$5127,\"*\",총괄!#REF!,\"*\")","v":{"$error":"#REF!"}},{"$f":"COUNTIFS(총괄!$B$6:$B$5127,'1.총괄현황 집계표'!$B130,총괄!$D$6:$D$5127,\"*\",총괄!#REF!,\"*\")","v":{"$error":"#REF!"}},{"$f":"COUNTIFS(총괄!$B$6:$B$5127,'1.총괄현황 집계표'!$B130,총괄!$D$6:$D$5127,\"*\",총괄!#REF!,\"*\")","v":{"$error":"#REF!"}},0]
["강원","강원홍천군",112,{"$error":"#REF!"},{"$error":"#REF!"},{"$f":"COUNTIFS(총괄!$B$6:$B$5127,'1.총괄현황 집계표'!$B131,총괄!$D$6:$D$5127,\"*\",총괄!#REF!,\"*\")","v":{"$error":"#REF!"}},{"$f":"COUNTIFS(총괄!$B$6:$B$5127,'1.총괄현황 집계표'!$B131,총괄!$D$6:$D$5127,\"*\",총괄!#REF!,\"*\")","v":{"$error":"#REF!"}},{"$f":"COUNTIFS(총괄!$B$6:$B$5127,'1.총괄현황 집계표'!$B131,총괄!$D$6:$D$5127,\"*\",총괄!#REF!,\"*\")","v":{"$error":"#REF!"}},{"$f":"COUNTIFS(총괄!$B$6:$B$5127,'1.총괄현황 집계표'!$B131,총괄!$D$6:$D$5127,\"*\",총괄!#REF!,\"*\")","v":{"$error":"#REF!"}},0]
["강원","강원횡성군",114,{"$error":"#REF!"},{"$error":"#REF!"},{"$f":"COUNTIFS(총괄!$B$6:$B$5127,'1.총괄현황 집계표'!$B132,총괄!$D$6:$D$5127,\"*\",총괄!#REF!,\"*\")","v":{"$error":"#REF!"}},{"$f":"COUNTIFS(총괄!$B$6:$B$5127,'1.총괄현황 집계표'!$B132,총괄!$D$6:$D$5127,\"*\",총괄!#REF!,\"*\")","v":{"$error":"#REF!"}},{"$f":"COUNTIFS(총괄!$B$6:$B$5127,'1.총괄현황 집계표'!$B132,총괄!$D$6:$D$5127,\"*\",총괄!#REF!,\"*\")","v":{"$error":"#REF!"}},{"$f":"COUNTIFS(총괄!$B$6:$B$5127,'1.총괄현황 집계표'!$B132,총괄!$D$6:$D$5127,\"*\",총괄!#REF!,\"*\")","v":{"$error":"#REF!"}},0]
["강원","강원영월군",85,{"$error":"#REF!"},{"$error":"#REF!"},{"$f":"COUNTIFS(총괄!$B$6:$B$5127,'1.총괄현황 집계표'!$B133,총괄!$D$6:$D$5127,\"*\",총괄!#REF!,\"*\")","v":{"$error":"#REF!"}},{"$f":"COUNTIFS(총괄!$B$6:$B$5127,'1.총괄현황 집계표'!$B133,총괄!$D$6:$D$5127,\"*\",총괄!#REF!,\"*\")","v":{"$error":"#REF!"}},{"$f":"COUNTIFS(총괄!$B$6:$B$5127,'1.총괄현황 집계표'!$B133,총괄!$D$6:$D$5127,\"*\",총괄!#REF!,\"*\")","v":{"$error":"#REF!"}},{"$f":"COUNTIFS(총괄!$B$6:$B$5127,'1.총괄현황 집계표'!$B133,총괄!$D$6:$D$5127,\"*\",총괄!#REF!,\"*\")","v":{"$error":"#REF!"}},0]
["강원","강원평창군",69,{"$error":"#REF!"},{"$error":"#REF!"},{"$f":"COUNTIFS(총괄!$B$6:$B$5127,'1.총괄현황 집계표'!$B134,총괄!$D$6:$D$5127,\"*\",총괄!#REF!,\"*\")","v":{"$error":"#REF!"}},{"$f":"COUNTIFS(총괄!$B$6:$B$5127,'1.총괄현황 집계표'!$B134,총괄!$D$6:$D$5127,\"*\",총괄!#REF!,\"*\")","v":{"$error":"#REF!"}},{"$f":"COUNTIFS(총괄!$B$6:$B$5127,'1.총괄현황 집계표'!$B134,총괄!$D$6:$D$5127,\"*\",총괄!#REF!,\"*\")","v":{"$error":"#REF!"}},{"$f":"COUNTIFS(총괄!$B$6:$B$5127,'1.총괄현황 집계표'!$B134,총괄!$D$6:$D$5127,\"*\",총괄!#REF!,\"*\")","v":{"$error":"#REF!"}},0]
["강원","강원정선군",74,{"$error":"#REF!"},{"$error":"#REF!"},{"$f":"COUNTIFS(총괄!$B$6:$B$5127,'1.총괄현황 집계표'!$B135,총괄!$D$6:$D$5127,\"*\",총괄!#REF!,\"*\")","v":{"$error":"#REF!"}},{"$f":"COUNTIFS(총괄!$B$6:$B$5127,'1.총괄현황 집계표'!$B135,총괄!$D$6:$D$5127,\"*\",총괄!#REF!,\"*\")","v":{"$error":"#REF!"}},{"$f":"COUNTIFS(총괄!$B$6:$B$5127,'1.총괄현황 집계표'!$B135,총괄!$D$6:$D$5127,\"*\",총괄!#REF!,\"*\")","v":{"$error":"#REF!"}},{"$f":"COUNTIFS(총괄!$B$6:$B$5127,'1.총괄현황 집계표'!$B135,총괄!$D$6:$D$5127,\"*\",총괄!#REF!,\"*\")","v":{"$error":"#REF!"}},0]
["강원","강원철원군",76,{"$error":"#REF!"},{"$error":"#REF!"},{"$f":"COUNTIFS(총괄!$B$6:$B$5127,'1.총괄현황 집계표'!$B136,총괄!$D$6:$D$5127,\"*\",총괄!#REF!,\"*\")","v":{"$error":"#REF!"}},{"$f":"COUNTIFS(총괄!$B$6:$B$5127,'1.총괄현황 집계표'!$B136,총괄!$D$6:$D$5127,\"*\",총괄!#REF!,\"*\")","v":{"$error":"#REF!"}},{"$f":"COUNTIFS(총괄!$B$6:$B$5127,'1.총괄현황 집계표'!$B136,총괄!$D$6:$D$5127,\"*\",총괄!#REF!,\"*\")","v":{"$error":"#REF!"}},{"$f":"COUNTIFS(총괄!$B$6:$B$5127,'1.총괄현황 집계표'!$B136,총괄!$D$6:$D$5127,\"*\",총괄!#REF!,\"*\")","v":{"$error":"#REF!"}},0]
["강원","강원화천군",64,{"$error":"#REF!"},{"$error":"#REF!"},{"$f":"COUNTIFS(총괄!$B$6:$B$5127,'1.총괄현황 집계표'!$B137,총괄!$D$6:$D$5127,\"*\",총괄!#REF!,\"*\")","v":{"$error":"#REF!"}},{"$f":"COUNTIFS(총괄!$B$6:$B$5127,'1.총괄현황 집계표'!$B137,총괄!$D$6:$D$5127,\"*\",총괄!#REF!,\"*\")","v":{"$error":"#REF!"}},{"$f":"COUNTIFS(총괄!$B$6:$B$5127,'1.총괄현황 집계표'!$B137,총괄!$D$6:$D$5127,\"*\",총괄!#REF!,\"*\")","v":{"$error":"#REF!"}},{"$f":"COUNTIFS(총괄!$B$6:$B$5127,'1.총괄현황 집계표'!$B137,총괄!$D$6:$D$5127,\"*\",총괄!#REF!,\"*\")","v":{"$error":"#REF!"}},0]
["강원","강원양구군",79,{"$f":"C138+F138-G138-H138","v":{"$error":"#REF!"}},{"$f":"F138-G138-H138+I138","v":{"$error":"#REF!"}},{"$f":"COUNTIFS(총괄!$B$6:$B$5127,'1.총괄현황 집계표'!$B138,총괄!$D$6:$D$5127,\"*\",총괄!#REF!,\"*\")","v":{"$error":"#REF!"}},{"$f":"COUNTIFS(총괄!$B$6:$B$5127,'1.총괄현황 집계표'!$B138,총괄!$D$6:$D$5127,\"*\",총괄!#REF!,\"*\")","v":{"$error":"#REF!"}},{"$f":"COUNTIFS(총괄!$B$6:$B$5127,'1.총괄현황 집계표'!$B138,총괄!$D$6:$D$5127,\"*\",총괄!#REF!,\"*\")","v":{"$error":"#REF!"}},{"$f":"COUNTIFS(총괄!$B$6:$B$5127,'1.총괄현황 집계표'!$B138,총괄!$D$6:$D$5127,\"*\",총괄!#REF!,\"*\")","v":{"$error":"#REF!"}},{"$f":"SUM(K138:P138)","v":0}]
["강원","강원인제군",97,{"$error":"#REF!"},{"$error":"#REF!"},{"$f":"COUNTIFS(총괄!$B$6:$B$5127,'1.총괄현황 집계표'!$B139,총괄!$D$6:$D$5127,\"*\",총괄!#REF!,\"*\")","v":{"$error":"#REF!"}},{"$f":"COUNTIFS(총괄!$B$6:$B$5127,'1.총괄현황 집계표'!$B139,총괄!$D$6:$D$5127,\"*\",총괄!#REF!,\"*\")","v":{"$error":"#REF!"}},{"$f":"COUNTIFS(총괄!$B$6:$B$5127,'1.총괄현황 집계표'!$B139,총괄!$D$6:$D$5127,\"*\",총괄!#REF!,\"*\")","v":{"$error":"#REF!"}},{"$f":"COUNTIFS(총괄!$B$6:$B$5127,'1.총괄현황 집계표'!$B139,총괄!$D$6:$D$5127,\"*\",총괄!#REF!,\"*\")","v":{"$error":"#REF!"}},0]
["강원","강원고성군",69,{"$error":"#REF!"},{"$error":"#REF!"},{"$f":"COUNTIFS(총괄!$B$6:$B$5127,'1.총괄현황 집계표'!$B140,총괄!$D$6:$D$5127,\"*\",총괄!#REF!,\"*\")","v":{"$error":"#REF!"}},{"$f":"COUNTIFS(총괄!$B$6:$B$5127,'1.총괄현황 집계표'!$B140,총괄!$D$6:$D$5127,\"*\",총괄!#REF!,\"*\")","v":{"$error":"#REF!"}},{"$f":"COUNTIFS(총괄!$B$6:$B$5127,'1.총괄현황 집계표'!$B140,총괄!$D$6:$D$5127,\"*\",총괄!#REF!,\"*\")","v":{"$error":"#REF!"}},{"$f":"COUNTIFS(총괄!$B$6:$B$5127,'1.총괄현황 집계표'!$B140,총괄!$D$6:$D$5127,\"*\",총괄!#REF!,\"*\")","v":{"$error":"#REF!"}},0]
["강원","강원양양군",72,{"$error":"#REF!"},{"$error":"#REF!"},{"$f":"COUNTIFS(총괄!$B$6:$B$5127,'1.총괄현황 집계표'!$B141,총괄!$D$6:$D$5127,\"*\",총괄!#REF!,\"*\")","v":{"$error":"#REF!"}},{"$f":"COUNTIFS(총괄!$B$6:$B$5127,'1.총괄현황 집계표'!$B141,총괄!$D$6:$D$5127,\"*\",총괄!#REF!,\"*\")","v":{"$error":"#REF!"}},{"$f":"COUNTIFS(총괄!$B$6:$B$5127,'1.총괄현황 집계표'!$B141,총괄!$D$6:$D$5127,\"*\",총괄!#REF!,\"*\")","v":{"$error":"#REF!"}},{"$f":"COUNTIFS(총괄!$B$6:$B$5127,'1.총괄현황 집계표'!$B141,총괄!$D$6:$D$5127,\"*\",총괄!#REF!,\"*\")","v":{"$error":"#REF!"}},0]
["충북","충청북도",124,{"$error":"#REF!"},{"$error":"#REF!"},{"$f":"COUNTIFS(총괄!$B$6:$B$5127,'1.총괄현황 집계표'!$B142,총괄!$D$6:$D$5127,\"*\",총괄!#REF!,\"*\")","v":{"$error":"#REF!"}},{"$f":"COUNTIFS(총괄!$B$6:$B$5127,'1.총괄현황 집계표'!$B142,총괄!$D$6:$D$5127,\"*\",총괄!#REF!,\"*\")","v":{"$error":"#REF!"}},{"$f":"COUNTIFS(총괄!$B$6:$B$5127,'1.총괄현황 집계표'!$B142,총괄!$D$6:$D$5127,\"*\",총괄!#REF!,\"*\")","v":{"$error":"#REF!"}},{"$f":"COUNTIFS(총괄!$B$6:$B$5127,'1.총괄현황 집계표'!$B142,총괄!$D$6:$D$5127,\"*\",총괄!#REF!,\"*\")","v":{"$error":"#REF!"}},0]
["충북","충북청주시",140,{"$error":"#REF!"},{"$error":"#REF!"},{"$f":"COUNTIFS(총괄!$B$6:$B$5127,'1.총괄현황 집계표'!$B143,총괄!$D$6:$D$5127,\"*\",총괄!#REF!,\"*\")","v":{"$error":"#REF!"}},{"$f":"COUNTIFS(총괄!$B$6:$B$5127,'1.총괄현황 집계표'!$B143,총괄!$D$6:$D$5127,\"*\",총괄!#REF!,\"*\")","v":{"$error":"#REF!"}},{"$f":"COUNTIFS(총괄!$B$6:$B$5127,'1.총괄현황 집계표'!$B143,총괄!$D$6:$D$5127,\"*\",총괄!#REF!,\"*\")","v":{"$error":"#REF!"}},{"$f":"COUNTIFS(총괄!$B$6:$B$5127,'1.총괄현황 집계표'!$B143,총괄!$D$6:$D$5127,\"*\",총괄!#REF!,\"*\")","v":{"$error":"#REF!"}},0]
["충북","충북충주시",112,{"$error":"#REF!"},{"$error":"#REF!"},{"$f":"COUNTIFS(총괄!$B$6:$B$5127,'1.총괄현황 집계표'!$B144,총괄!$D$6:$D$5127,\"*\",총괄!#REF!,\"*\")","v":{"$error":"#REF!"}},{"$f":"COUNTIFS(총괄!$B$6:$B$5127,'1.총괄현황 집계표'!$B144,총괄!$D$6:$D$5127,\"*\",총괄!#REF!,\"*\")","v":{"$error":"#REF!"}},{"$f":"COUNTIFS(총괄!$B$6:$B$5127,'1.총괄현황 집계표'!$B144,총괄!$D$6:$D$5127,\"*\",총괄!#REF!,\"*\")","v":{"$error":"#REF!"}},{"$f":"COUNTIFS(총괄!$B$6:$B$5127,'1.총괄현황 집계표'!$B144,총괄!$D$6:$D$5127,\"*\",총괄!#REF!,\"*\")","v":{"$error":"#REF!"}},0]
["충북","충북제천시",113,{"$error":"#REF!"},{"$error":"#REF!"},{"$f":"COUNTIFS(총괄!$B$6:$B$5127,'1.총괄현황 집계표'!$B145,총괄!$D$6:$D$5127,\"*\",총괄!#REF!,\"*\")","v":{"$error":"#REF!"}},{"$f":"COUNTIFS(총괄!$B$6:$B$5127,'1.총괄현황 집계표'!$B145,총괄!$D$6:$D$5127,\"*\",총괄!#REF!,\"*\")","v":{"$error":"#REF!"}},{"$f":"COUNTIFS(총괄!$B$6:$B$5127,'1.총괄현황 집계표'!$B145,총괄!$D$6:$D$5127,\"*\",총괄!#REF!,\"*\")","v":{"$error":"#REF!"}},{"$f":"COUNTIFS(총괄!$B$6:$B$5127,'1.총괄현황 집계표'!$B145,총괄!$D$6:$D$5127,\"*\",총괄!#REF!,\"*\")","v":{"$error":"#REF!"}},0]
["충북","충북보은군",84,{"$error":"#REF!"},{"$error":"#REF!"},{"$f":"COUNTIFS(총괄!$B$6:$B$5127,'1.총괄현황 집계표'!$B146,총괄!$D$6:$D$5127,\"*\",총괄!#REF!,\"*\")","v":{"$error":"#REF!"}},{"$f":"COUNTIFS(총괄!$B$6:$B$5127,'1.총괄현황 집계표'!$B146,총괄!$D$6:$D$5127,\"*\",총괄!#REF!,\"*\")","v":{"$error":"#REF!"}},{"$f":"COUNTIFS(총괄!$B$6:$B$5127,'1.총괄현황 집계표'!$B146,총괄!$D$6:$D$5127,\"*\",총괄!#REF!,\"*\")","v":{"$error":"#REF!"}},{"$f":"COUNTIFS(총괄!$B$6:$B$5127,'1.총괄현황 집계표'!$B146,총괄!$D$6:$D$5127,\"*\",총괄!#REF!,\"*\")","v":{"$error":"#REF!"}},0]
["충북","충북옥천군",80,{"$error":"#REF!"},{"$error":"#REF!"},{"$f":"COUNTIFS(총괄!$B$6:$B$5127,'1.총괄현황 집계표'!$B147,총괄!$D$6:$D$5127,\"*\",총괄!#REF!,\"*\")","v":{"$error":"#REF!"}},{"$f":"COUNTIFS(총괄!$B$6:$B$5127,'1.총괄현황 집계표'!$B147,총괄!$D$6:$D$5127,\"*\",총괄!#REF!,\"*\")","v":{"$error":"#REF!"}},{"$f":"COUNTIFS(총괄!$B$6:$B$5127,'1.총괄현황 집계표'!$B147,총괄!$D$6:$D$5127,\"*\",총괄!#REF!,\"*\")","v":{"$error":"#REF!"}},{"$f":"COUNTIFS(총괄!$B$6:$B$5127,'1.총괄현황 집계표'!$B147,총괄!$D$6:$D$5127,\"*\",총괄!#REF!,\"*\")","v":{"$error":"#REF!"}},0]
["충북","충북영동군",93,{"$error":"#REF!"},{"$error":"#REF!"},{"$f":"COUNTIFS(총괄!$B$6:$B$5127,'1.총괄현황 집계표'!$B148,총괄!$D$6:$D$5127,\"*\",총괄!#REF!,\"*\")","v":{"$error":"#REF!"}},{"$f":"COUNTIFS(총괄!$B$6:$B$5127,'1.총괄현황 집계표'!$B148,총괄!$D$6:$D$5127,\"*\",총괄!#REF!,\"*\")","v":{"$error":"#REF!"}},{"$f":"COUNTIFS(총괄!$B$6:$B$5127,'1.총괄현황 집계표'!$B148,총괄!$D$6:$D$5127,\"*\",총괄!#REF!,\"*\")","v":{"$error":"#REF!"}},{"$f":"COUNTIFS(총괄!$B$6:$B$5127,'1.총괄현황 집계표'!$B148,총괄!$D$6:$D$5127,\"*\",총괄!#REF!,\"*\")","v":{"$error":"#REF!"}},0]
["충북","충북증평군",108,{"$error":"#REF!"},{"$error":"#REF!"},{"$f":"COUNTIFS(총괄!$B$6:$B$5127,'1.총괄현황 집계표'!$B149,총괄!$D$6:$D$5127,\"*\",총괄!#REF!,\"*\")","v":{"$error":"#REF!"}},{"$f":"COUNTIFS(총괄!$B$6:$B$5127,'1.총괄현황 집계표'!$B149,총괄!$D$6:$D$5127,\"*\",총괄!#REF!,\"*\")","v":{"$error":"#REF!"}},{"$f":"COUNTIFS(총괄!$B$6:$B$5127,'1.총괄현황 집계표'!$B149,총괄!$D$6:$D$5127,\"*\",총괄!#REF!,\"*\")","v":{"$error":"#REF!"}},{"$f":"COUNTIFS(총괄!$B$6:$B$5127,'1.총괄현황 집계표'!$B149,총괄!$D$6:$D$5127,\"*\",총괄!#REF!,\"*\")","v":{"$error":"#REF!"}},0]
["충북","충북진천군",88,{"$error":"#REF!"},{"$error":"#REF!"},{"$f":"COUNTIFS(총괄!$B$6:$B$5127,'1.총괄현황 집계표'!$B150,총괄!$D$6:$D$5127,\"*\",총괄!#REF!,\"*\")","v":{"$error":"#REF!"}},{"$f":"COUNTIFS(총괄!$B$6:$B$5127,'1.총괄현황 집계표'!$B150,총괄!$D$6:$D$5127,\"*\",총괄!#REF!,\"*\")","v":{"$error":"#REF!"}},{"$f":"COUNTIFS(총괄!$B$6:$B$5127,'1.총괄현황 집계표'!$B150,총괄!$D$6:$D$5127,\"*\",총괄!#REF!,\"*\")","v":{"$error":"#REF!"}},{"$f":"COUNTIFS(총괄!$B$6:$B$5127,'1.총괄현황 집계표'!$B150,총괄!$D$6:$D$5127,\"*\",총괄!#REF!,\"*\")","v":{"$error":"#REF!"}},0]
["충북","충북괴산군",74,{"$error":"#REF!"},{"$error":"#REF!"},{"$f":"COUNTIFS(총괄!$B$6:$B$5127,'1.총괄현황 집계표'!$B151,총괄!$D$6:$D$5127,\"*\",총괄!#REF!,\"*\")","v":{"$error":"#REF!"}},{"$f":"COUNTIFS(총괄!$B$6:$B$5127,'1.총괄현황 집계표'!$B151,총괄!$D$6:$D$5127,\"*\",총괄!#REF!,\"*\")","v":{"$error":"#REF!"}},{"$f":"COUNTIFS(총괄!$B$6:$B$5127,'1.총괄현황 집계표'!$B151,총괄!$D$6:$D$5127,\"*\",총괄!#REF!,\"*\")","v":{"$error":"#REF!"}},{"$f":"COUNTIFS(총괄!$B$6:$B$5127,'1.총괄현황 집계표'!$B151,총괄!$D$6:$D$5127,\"*\",총괄!#REF!,\"*\")","v":{"$error":"#REF!"}},0]
["충북","충북음성군",92,{"$error":"#REF!"},{"$error":"#REF!"},{"$f":"COUNTIFS(총괄!$B$6:$B$5127,'1.총괄현황 집계표'!$B152,총괄!$D$6:$D$5127,\"*\",총괄!#REF!,\"*\")","v":{"$error":"#REF!"}},{"$f":"COUNTIFS(총괄!$B$6:$B$5127,'1.총괄현황 집계표'!$B152,총괄!$D$6:$D$5127,\"*\",총괄!#REF!,\"*\")","v":{"$error":"#REF!"}},{"$f":"COUNTIFS(총괄!$B$6:$B$5127,'1.총괄현황 집계표'!$B152,총괄!$D$6:$D$5127,\"*\",총괄!#REF!,\"*\")","v":{"$error":"#REF!"}},{"$f":"COUNTIFS(총괄!$B$6:$B$5127,'1.총괄현황 집계표'!$B152,총괄!$D$6:$D$5127,\"*\",총괄!#REF!,\"*\")","v":{"$error":"#REF!"}},0]
["충북","충북단양군",82,{"$error":"#REF!"},{"$error":"#REF!"},{"$f":"COUNTIFS(총괄!$B$6:$B$5127,'1.총괄현황 집계표'!$B153,총괄!$D$6:$D$5127,\"*\",총괄!#REF!,\"*\")","v":{"$error":"#REF!"}},{"$f":"COUNTIFS(총괄!$B$6:$B$5127,'1.총괄현황 집계표'!$B153,총괄!$D$6:$D$5127,\"*\",총괄!#REF!,\"*\")","v":{"$error":"#REF!"}},{"$f":"COUNTIFS(총괄!$B$6:$B$5127,'1.총괄현황 집계표'!$B153,총괄!$D$6:$D$5127,\"*\",총괄!#REF!,\"*\")","v":{"$error":"#REF!"}},{"$f":"COUNTIFS(총괄!$B$6:$B$5127,'1.총괄현황 집계표'!$B153,총괄!$D$6:$D$5127,\"*\",총괄!#REF!,\"*\")","v":{"$error":"#REF!"}},0]
["충남","충청남도",119,{"$error":"#REF!"},{"$error":"#REF!"},{"$f":"COUNTIFS(총괄!$B$6:$B$5127,'1.총괄현황 집계표'!$B154,총괄!$D$6:$D$5127,\"*\",총괄!#REF!,\"*\")","v":{"$error":"#REF!"}},{"$f":"COUNTIFS(총괄!$B$6:$B$5127,'1.총괄현황 집계표'!$B154,총괄!$D$6:$D$5127,\"*\",총괄!#REF!,\"*\")","v":{"$error":"#REF!"}},{"$f":"COUNTIFS(총괄!$B$6:$B$5127,'1.총괄현황 집계표'!$B154,총괄!$D$6:$D$5127,\"*\",총괄!#REF!,\"*\")","v":{"$error":"#REF!"}},{"$f":"COUNTIFS(총괄!$B$6:$B$5127,'1.총괄현황 집계표'!$B154,총괄!$D$6:$D$5127,\"*\",총괄!#REF!,\"*\")","v":{"$error":"#REF!"}},0]
["충남","충남천안시",135,{"$error":"#REF!"},{"$error":"#REF!"},{"$f":"COUNTIFS(총괄!$B$6:$B$5127,'1.총괄현황 집계표'!$B155,총괄!$D$6:$D$5127,\"*\",총괄!#REF!,\"*\")","v":{"$error":"#REF!"}},{"$f":"COUNTIFS(총괄!$B$6:$B$5127,'1.총괄현황 집계표'!$B155,총괄!$D$6:$D$5127,\"*\",총괄!#REF!,\"*\")","v":{"$error":"#REF!"}},{"$f":"COUNTIFS(총괄!$B$6:$B$5127,'1.총괄현황 집계표'!$B155,총괄!$D$6:$D$5127,\"*\",총괄!#REF!,\"*\")","v":{"$error":"#REF!"}},{"$f":"COUNTIFS(총괄!$B$6:$B$5127,'1.총괄현황 집계표'!$B155,총괄!$D$6:$D$5127,\"*\",총괄!#REF!,\"*\")","v":{"$error":"#REF!"}},0]
["충남","충남공주시",91,{"$error":"#REF!"},{"$error":"#REF!"},{"$f":"COUNTIFS(총괄!$B$6:$B$5127,'1.총괄현황 집계표'!$B156,총괄!$D$6:$D$5127,\"*\",총괄!#REF!,\"*\")","v":{"$error":"#REF!"}},{"$f":"COUNTIFS(총괄!$B$6:$B$5127,'1.총괄현황 집계표'!$B156,총괄!$D$6:$D$5127,\"*\",총괄!#REF!,\"*\")","v":{"$error":"#REF!"}},{"$f":"COUNTIFS(총괄!$B$6:$B$5127,'1.총괄현황 집계표'!$B156,총괄!$D$6:$D$5127,\"*\",총괄!#REF!,\"*\")","v":{"$error":"#REF!"}},{"$f":"COUNTIFS(총괄!$B$6:$B$5127,'1.총괄현황 집계표'!$B156,총괄!$D$6:$D$5127,\"*\",총괄!#REF!,\"*\")","v":{"$error":"#REF!"}},0]
["충남","충남보령시",116,{"$error":"#REF!"},{"$error":"#REF!"},{"$f":"COUNTIFS(총괄!$B$6:$B$5127,'1.총괄현황 집계표'!$B157,총괄!$D$6:$D$5127,\"*\",총괄!#REF!,\"*\")","v":{"$error":"#REF!"}},{"$f":"COUNTIFS(총괄!$B$6:$B$5127,'1.총괄현황 집계표'!$B157,총괄!$D$6:$D$5127,\"*\",총괄!#REF!,\"*\")","v":{"$error":"#REF!"}},{"$f":"COUNTIFS(총괄!$B$6:$B$5127,'1.총괄현황 집계표'!$B157,총괄!$D$6:$D$5127,\"*\",총괄!#REF!,\"*\")","v":{"$error":"#REF!"}},{"$f":"COUNTIFS(총괄!$B$6:$B$5127,'1.총괄현황 집계표'!$B157,총괄!$D$6:$D$5127,\"*\",총괄!#REF!,\"*\")","v":{"$error":"#REF!"}},0]
["충남","충남아산시",74,{"$error":"#REF!"},{"$error":"#REF!"},{"$f":"COUNTIFS(총괄!$B$6:$B$5127,'1.총괄현황 집계표'!$B158,총괄!$D$6:$D$5127,\"*\",총괄!#REF!,\"*\")","v":{"$error":"#REF!"}},{"$f":"COUNTIFS(총괄!$B$6:$B$5127,'1.총괄현황 집계표'!$B158,총괄!$D$6:$D$5127,\"*\",총괄!#REF!,\"*\")","v":{"$error":"#REF!"}},{"$f":"COUNTIFS(총괄!$B$6:$B$5127,'1.총괄현황 집계표'!$B158,총괄!$D$6:$D$5127,\"*\",총괄!#REF!,\"*\")","v":{"$error":"#REF!"}},{"$f":"COUNTIFS(총괄!$B$6:$B$5127,'1.총괄현황 집계표'!$B158,총괄!$D$6:$D$5127,\"*\",총괄!#REF!,\"*\")","v":{"$error":"#REF!"}},0]
["충남","충남서산시",101,{"$error":"#REF!"},{"$error":"#REF!"},{"$f":"COUNTIFS(총괄!$B$6:$B$5127,'1.총괄현황 집계표'!$B159,총괄!$D$6:$D$5127,\"*\",총괄!#REF!,\"*\")","v":{"$error":"#REF!"}},{"$f":"COUNTIFS(총괄!$B$6:$B$5127,'1.총괄현황 집계표'!$B159,총괄!$D$6:$D$5127,\"*\",총괄!#REF!,\"*\")","v":{"$error":"#REF!"}},{"$f":"COUNTIFS(총괄!$B$6:$B$5127,'1.총괄현황 집계표'!$B159,총괄!$D$6:$D$5127,\"*\",총괄!#REF!,\"*\")","v":{"$error":"#REF!"}},{"$f":"COUNTIFS(총괄!$B$6:$B$5127,'1.총괄현황 집계표'!$B159,총괄!$D$6:$D$5127,\"*\",총괄!#REF!,\"*\")","v":{"$error":"#REF!"}},0]
["충남","충남논산시",103,{"$error":"#REF!"},{"$error":"#REF!"},{"$f":"COUNTIFS(총괄!$B$6:$B$5127,'1.총괄현황 집계표'!$B160,총괄!$D$6:$D$5127,\"*\",총괄!#REF!,\"*\")","v":{"$error":"#REF!"}},{"$f":"COUNTIFS(총괄!$B$6:$B$5127,'1.총괄현황 집계표'!$B160,총괄!$D$6:$D$5127,\"*\",총괄!#REF!,\"*\")","v":{"$error":"#REF!"}},{"$f":"COUNTIFS(총괄!$B$6:$B$5127,'1.총괄현황 집계표'!$B160,총괄!$D$6:$D$5127,\"*\",총괄!#REF!,\"*\")","v":{"$error":"#REF!"}},{"$f":"COUNTIFS(총괄!$B$6:$B$5127,'1.총괄현황 집계표'!$B160,총괄!$D$6:$D$5127,\"*\",총괄!#REF!,\"*\")","v":{"$error":"#REF!"}},0]
["충남","충남계룡시",76,{"$error":"#REF!"},{"$error":"#REF!"},{"$f":"COUNTIFS(총괄!$B$6:$B$5127,'1.총괄현황 집계표'!$B161,총괄!$D$6:$D$5127,\"*\",총괄!#REF!,\"*\")","v":{"$error":"#REF!"}},{"$f":"COUNTIFS(총괄!$B$6:$B$5127,'1.총괄현황 집계표'!$B161,총괄!$D$6:$D$5127,\"*\",총괄!#REF!,\"*\")","v":{"$error":"#REF!"}},{"$f":"COUNTIFS(총괄!$B$6:$B$5127,'1.총괄현황 집계표'!$B161,총괄!$D$6:$D$5127,\"*\",총괄!#REF!,\"*\")","v":{"$error":"#REF!"}},{"$f":"COUNTIFS(총괄!$B$6:$B$5127,'1.총괄현황 집계표'!$B161,총괄!$D$6:$D$5127,\"*\",총괄!#REF!,\"*\")","v":{"$error":"#REF!"}},0]
["충남","충남당진시",96,{"$error":"#REF!"},{"$error":"#REF!"},{"$f":"COUNTIFS(총괄!$B$6:$B$5127,'1.총괄현황 집계표'!$B162,총괄!$D$6:$D$5127,\"*\",총괄!#REF!,\"*\")","v":{"$error":"#REF!"}},{"$f":"COUNTIFS(총괄!$B$6:$B$5127,'1.총괄현황 집계표'!$B162,총괄!$D$6:$D$5127,\"*\",총괄!#REF!,\"*\")","v":{"$error":"#REF!"}},{"$f":"COUNTIFS(총괄!$B$6:$B$5127,'1.총괄현황 집계표'!$B162,총괄!$D$6:$D$5127,\"*\",총괄!#REF!,\"*\")","v":{"$error":"#REF!"}},{"$f":"COUNTIFS(총괄!$B$6:$B$5127,'1.총괄현황 집계표'!$B162,총괄!$D$6:$D$5127,\"*\",총괄!#REF!,\"*\")","v":{"$error":"#REF!"}},0]
["충남","충남금산군",87,{"$error":"#REF!"},{"$error":"#REF!"},{"$f":"COUNTIFS(총괄!$B$6:$B$5127,'1.총괄현황 집계표'!$B163,총괄!$D$6:$D$5127,\"*\",총괄!#REF!,\"*\")","v":{"$error":"#REF!"}},{"$f":"COUNTIFS(총괄!$B$6:$B$5127,'1.총괄현황 집계표'!$B163,총괄!$D$6:$D$5127,\"*\",총괄!#REF!,\"*\")","v":{"$error":"#REF!"}},{"$f":"COUNTIFS(총괄!$B$6:$B$5127,'1.총괄현황 집계표'!$B163,총괄!$D$6:$D$5127,\"*\",총괄!#REF!,\"*\")","v":{"$error":"#REF!"}},{"$f":"COUNTIFS(총괄!$B$6:$B$5127,'1.총괄현황 집계표'!$B163,총괄!$D$6:$D$5127,\"*\",총괄!#REF!,\"*\")","v":{"$error":"#REF!"}},0]
["충남","충남부여군",76,{"$error":"#REF!"},{"$error":"#REF!"},{"$f":"COUNTIFS(총괄!$B$6:$B$5127,'1.총괄현황 집계표'!$B164,총괄!$D$6:$D$5127,\"*\",총괄!#REF!,\"*\")","v":{"$error":"#REF!"}},{"$f":"COUNTIFS(총괄!$B$6:$B$5127,'1.총괄현황 집계표'!$B164,총괄!$D$6:$D$5127,\"*\",총괄!#REF!,\"*\")","v":{"$error":"#REF!"}},{"$f":"COUNTIFS(총괄!$B$6:$B$5127,'1.총괄현황 집계표'!$B164,총괄!$D$6:$D$5127,\"*\",총괄!#REF!,\"*\")","v":{"$error":"#REF!"}},{"$f":"COUNTIFS(총괄!$B$6:$B$5127,'1.총괄현황 집계표'!$B164,총괄!$D$6:$D$5127,\"*\",총괄!#REF!,\"*\")","v":{"$error":"#REF!"}},0]
["충남","충남서천군",86,{"$error":"#REF!"},{"$error":"#REF!"},{"$f":"COUNTIFS(총괄!$B$6:$B$5127,'1.총괄현황 집계표'!$B165,총괄!$D$6:$D$5127,\"*\",총괄!#REF!,\"*\")","v":{"$error":"#REF!"}},{"$f":"COUNTIFS(총괄!$B$6:$B$5127,'1.총괄현황 집계표'!$B165,총괄!$D$6:$D$5127,\"*\",총괄!#REF!,\"*\")","v":{"$error":"#REF!"}},{"$f":"COUNTIFS(총괄!$B$6:$B$5127,'1.총괄현황 집계표'!$B165,총괄!$D$6:$D$5127,\"*\",총괄!#REF!,\"*\")","v":{"$error":"#REF!"}},{"$f":"COUNTIFS(총괄!$B$6:$B$5127,'1.총괄현황 집계표'!$B165,총괄!$D$6:$D$5127,\"*\",총괄!#REF!,\"*\")","v":{"$error":"#REF!"}},0]
["충남","충남청양군",70,{"$error":"#REF!"},{"$error":"#REF!"},{"$f":"COUNTIFS(총괄!$B$6:$B$5127,'1.총괄현황 집계표'!$B166,총괄!$D$6:$D$5127,\"*\",총괄!#REF!,\"*\")","v":{"$error":"#REF!"}},{"$f":"COUNTIFS(총괄!$B$6:$B$5127,'1.총괄현황 집계표'!$B166,총괄!$D$6:$D$5127,\"*\",총괄!#REF!,\"*\")","v":{"$error":"#REF!"}},{"$f":"COUNTIFS(총괄!$B$6:$B$5127,'1.총괄현황 집계표'!$B166,총괄!$D$6:$D$5127,\"*\",총괄!#REF!,\"*\")","v":{"$error":"#REF!"}},{"$f":"COUNTIFS(총괄!$B$6:$B$5127,'1.총괄현황 집계표'!$B166,총괄!$D$6:$D$5127,\"*\",총괄!#REF!,\"*\")","v":{"$error":"#REF!"}},0]
["충남","충남홍성군",86,{"$error":"#REF!"},{"$error":"#REF!"},{"$f":"COUNTIFS(총괄!$B$6:$B$5127,'1.총괄현황 집계표'!$B167,총괄!$D$6:$D$5127,\"*\",총괄!#REF!,\"*\")","v":{"$error":"#REF!"}},{"$f":"COUNTIFS(총괄!$B$6:$B$5127,'1.총괄현황 집계표'!$B167,총괄!$D$6:$D$5127,\"*\",총괄!#REF!,\"*\")","v":{"$error":"#REF!"}},{"$f":"COUNTIFS(총괄!$B$6:$B$5127,'1.총괄현황 집계표'!$B167,총괄!$D$6:$D$5127,\"*\",총괄!#REF!,\"*\")","v":{"$error":"#REF!"}},{"$f":"COUNTIFS(총괄!$B$6:$B$5127,'1.총괄현황 집계표'!$B167,총괄!$D$6:$D$5127,\"*\",총괄!#REF!,\"*\")","v":{"$error":"#REF!"}},0]
["충남","충남예산군",75,{"$error":"#REF!"},{"$error":"#REF!"},{"$f":"COUNTIFS(총괄!$B$6:$B$5127,'1.총괄현황 집계표'!$B168,총괄!$D$6:$D$5127,\"*\",총괄!#REF!,\"*\")","v":{"$error":"#REF!"}},{"$f":"COUNTIFS(총괄!$B$6:$B$5127,'1.총괄현황 집계표'!$B168,총괄!$D$6:$D$5127,\"*\",총괄!#REF!,\"*\")","v":{"$error":"#REF!"}},{"$f":"COUNTIFS(총괄!$B$6:$B$5127,'1.총괄현황 집계표'!$B168,총괄!$D$6:$D$5127,\"*\",총괄!#REF!,\"*\")","v":{"$error":"#REF!"}},{"$f":"COUNTIFS(총괄!$B$6:$B$5127,'1.총괄현황 집계표'!$B168,총괄!$D$6:$D$5127,\"*\",총괄!#REF!,\"*\")","v":{"$error":"#REF!"}},0]
["충남","충남태안군",65,{"$error":"#REF!"},{"$error":"#REF!"},{"$f":"COUNTIFS(총괄!$B$6:$B$5127,'1.총괄현황 집계표'!$B169,총괄!$D$6:$D$5127,\"*\",총괄!#REF!,\"*\")","v":{"$error":"#REF!"}},{"$f":"COUNTIFS(총괄!$B$6:$B$5127,'1.총괄현황 집계표'!$B169,총괄!$D$6:$D$5127,\"*\",총괄!#REF!,\"*\")","v":{"$error":"#REF!"}},{"$f":"COUNTIFS(총괄!$B$6:$B$5127,'1.총괄현황 집계표'!$B169,총괄!$D$6:$D$5127,\"*\",총괄!#REF!,\"*\")","v":{"$error":"#REF!"}},{"$f":"COUNTIFS(총괄!$B$6:$B$5127,'1.총괄현황 집계표'!$B169,총괄!$D$6:$D$5127,\"*\",총괄!#REF!,\"*\")","v":{"$error":"#REF!"}},0]
["전북","전라북도",129,{"$error":"#REF!"},{"$error":"#REF!"},{"$f":"COUNTIFS(총괄!$B$6:$B$5127,'1.총괄현황 집계표'!$B170,총괄!$D$6:$D$5127,\"*\",총괄!#REF!,\"*\")","v":{"$error":"#REF!"}},{"$f":"COUNTIFS(총괄!$B$6:$B$5127,'1.총괄현황 집계표'!$B170,총괄!$D$6:$D$5127,\"*\",총괄!#REF!,\"*\")","v":{"$error":"#REF!"}},{"$f":"COUNTIFS(총괄!$B$6:$B$5127,'1.총괄현황 집계표'!$B170,총괄!$D$6:$D$5127,\"*\",총괄!#REF!,\"*\")","v":{"$error":"#REF!"}},{"$f":"COUNTIFS(총괄!$B$6:$B$5127,'1.총괄현황 집계표'!$B170,총괄!$D$6:$D$5127,\"*\",총괄!#REF!,\"*\")","v":{"$error":"#REF!"}},0]
["전북","전북전주시",123,{"$error":"#REF!"},{"$error":"#REF!"},{"$f":"COUNTIFS(총괄!$B$6:$B$5127,'1.총괄현황 집계표'!$B171,총괄!$D$6:$D$5127,\"*\",총괄!#REF!,\"*\")","v":{"$error":"#REF!"}},{"$f":"COUNTIFS(총괄!$B$6:$B$5127,'1.총괄현황 집계표'!$B171,총괄!$D$6:$D$5127,\"*\",총괄!#REF!,\"*\")","v":{"$error":"#REF!"}},{"$f":"COUNTIFS(총괄!$B$6:$B$5127,'1.총괄현황 집계표'!$B171,총괄!$D$6:$D$5127,\"*\",총괄!#REF!,\"*\")","v":{"$error":"#REF!"}},{"$f":"COUNTIFS(총괄!$B$6:$B$5127,'1.총괄현황 집계표'!$B171,총괄!$D$6:$D$5127,\"*\",총괄!#REF!,\"*\")","v":{"$error":"#REF!"}},0]
["전북","전북군산시",116,{"$error":"#REF!"},{"$error":"#REF!"},{"$f":"COUNTIFS(총괄!$B$6:$B$5127,'1.총괄현황 집계표'!$B172,총괄!$D$6:$D$5127,\"*\",총괄!#REF!,\"*\")","v":{"$error":"#REF!"}},{"$f":"COUNTIFS(총괄!$B$6:$B$5127,'1.총괄현황 집계표'!$B172,총괄!$D$6:$D$5127,\"*\",총괄!#REF!,\"*\")","v":{"$error":"#REF!"}},{"$f":"COUNTIFS(총괄!$B$6:$B$5127,'1.총괄현황 집계표'!$B172,총괄!$D$6:$D$5127,\"*\",총괄!#REF!,\"*\")","v":{"$error":"#REF!"}},{"$f":"COUNTIFS(총괄!$B$6:$B$5127,'1.총괄현황 집계표'!$B172,총괄!$D$6:$D$5127,\"*\",총괄!#REF!,\"*\")","v":{"$error":"#REF!"}},0]
["전북","전북익산시",98,{"$error":"#REF!"},{"$error":"#REF!"},{"$f":"COUNTIFS(총괄!$B$6:$B$5127,'1.총괄현황 집계표'!$B173,총괄!$D$6:$D$5127,\"*\",총괄!#REF!,\"*\")","v":{"$error":"#REF!"}},{"$f":"COUNTIFS(총괄!$B$6:$B$5127,'1.총괄현황 집계표'!$B173,총괄!$D$6:$D$5127,\"*\",총괄!#REF!,\"*\")","v":{"$error":"#REF!"}},{"$f":"COUNTIFS(총괄!$B$6:$B$5127,'1.총괄현황 집계표'!$B173,총괄!$D$6:$D$5127,\"*\",총괄!#REF!,\"*\")","v":{"$error":"#REF!"}},{"$f":"COUNTIFS(총괄!$B$6:$B$5127,'1.총괄현황 집계표'!$B173,총괄!$D$6:$D$5127,\"*\",총괄!#REF!,\"*\")","v":{"$error":"#REF!"}},0]
["전북","전북정읍시",111,{"$error":"#REF!"},{"$error":"#REF!"},{"$f":"COUNTIFS(총괄!$B$6:$B$5127,'1.총괄현황 집계표'!$B174,총괄!$D$6:$D$5127,\"*\",총괄!#REF!,\"*\")","v":{"$error":"#REF!"}},{"$f":"COUNTIFS(총괄!$B$6:$B$5127,'1.총괄현황 집계표'!$B174,총괄!$D$6:$D$5127,\"*\",총괄!#REF!,\"*\")","v":{"$error":"#REF!"}},{"$f":"COUNTIFS(총괄!$B$6:$B$5127,'1.총괄현황 집계표'!$B174,총괄!$D$6:$D$5127,\"*\",총괄!#REF!,\"*\")","v":{"$error":"#REF!"}},{"$f":"COUNTIFS(총괄!$B$6:$B$5127,'1.총괄현황 집계표'!$B174,총괄!$D$6:$D$5127,\"*\",총괄!#REF!,\"*\")","v":{"$error":"#REF!"}},0]
["전북","전북남원시",88,{"$error":"#REF!"},{"$error":"#REF!"},{"$f":"COUNTIFS(총괄!$B$6:$B$5127,'1.총괄현황 집계표'!$B175,총괄!$D$6:$D$5127,\"*\",총괄!#REF!,\"*\")","v":{"$error":"#REF!"}},{"$f":"COUNTIFS(총괄!$B$6:$B$5127,'1.총괄현황 집계표'!$B175,총괄!$D$6:$D$5127,\"*\",총괄!#REF!,\"*\")","v":{"$error":"#REF!"}},{"$f":"COUNTIFS(총괄!$B$6:$B$5127,'1.총괄현황 집계표'!$B175,총괄!$D$6:$D$5127,\"*\",총괄!#REF!,\"*\")","v":{"$error":"#REF!"}},{"$f":"COUNTIFS(총괄!$B$6:$B$5127,'1.총괄현황 집계표'!$B175,총괄!$D$6:$D$5127,\"*\",총괄!#REF!,\"*\")","v":{"$error":"#REF!"}},0]
["전북","전북김제시",103,{"$error":"#REF!"},{"$error":"#REF!"},{"$f":"COUNTIFS(총괄!$B$6:$B$5127,'1.총괄현황 집계표'!$B176,총괄!$D$6:$D$5127,\"*\",총괄!#REF!,\"*\")","v":{"$error":"#REF!"}},{"$f":"COUNTIFS(총괄!$B$6:$B$5127,'1.총괄현황 집계표'!$B176,총괄!$D$6:$D$5127,\"*\",총괄!#REF!,\"*\")","v":{"$error":"#REF!"}},{"$f":"COUNTIFS(총괄!$B$6:$B$5127,'1.총괄현황 집계표'!$B176,총괄!$D$6:$D$5127,\"*\",총괄!#REF!,\"*\")","v":{"$error":"#REF!"}},{"$f":"COUNTIFS(총괄!$B$6:$B$5127,'1.총괄현황 집계표'!$B176,총괄!$D$6:$D$5127,\"*\",총괄!#REF!,\"*\")","v":{"$error":"#REF!"}},0]
["전북","전북완주군",63,{"$error":"#REF!"},{"$error":"#REF!"},{"$f":"COUNTIFS(총괄!$B$6:$B$5127,'1.총괄현황 집계표'!$B177,총괄!$D$6:$D$5127,\"*\",총괄!#REF!,\"*\")","v":{"$error":"#REF!"}},{"$f":"COUNTIFS(총괄!$B$6:$B$5127,'1.총괄현황 집계표'!$B177,총괄!$D$6:$D$5127,\"*\",총괄!#REF!,\"*\")","v":{"$error":"#REF!"}},{"$f":"COUNTIFS(총괄!$B$6:$B$5127,'1.총괄현황 집계표'!$B177,총괄!$D$6:$D$5127,\"*\",총괄!#REF!,\"*\")","v":{"$error":"#REF!"}},{"$f":"COUNTIFS(총괄!$B$6:$B$5127,'1.총괄현황 집계표'!$B177,총괄!$D$6:$D$5127,\"*\",총괄!#REF!,\"*\")","v":{"$error":"#REF!"}},0]
["전북","전북진안군",81,{"$error":"#REF!"},{"$error":"#REF!"},{"$f":"COUNTIFS(총괄!$B$6:$B$5127,'1.총괄현황 집계표'!$B178,총괄!$D$6:$D$5127,\"*\",총괄!#REF!,\"*\")","v":{"$error":"#REF!"}},{"$f":"COUNTIFS(총괄!$B$6:$B$5127,'1.총괄현황 집계표'!$B178,총괄!$D$6:$D$5127,\"*\",총괄!#REF!,\"*\")","v":{"$error":"#REF!"}},{"$f":"COUNTIFS(총괄!$B$6:$B$5127,'1.총괄현황 집계표'!$B178,총괄!$D$6:$D$5127,\"*\",총괄!#REF!,\"*\")","v":{"$error":"#REF!"}},{"$f":"COUNTIFS(총괄!$B$6:$B$5127,'1.총괄현황 집계표'!$B178,총괄!$D$6:$D$5127,\"*\",총괄!#REF!,\"*\")","v":{"$error":"#REF!"}},0]
["전북","전북무주군",62,{"$error":"#REF!"},{"$error":"#REF!"},{"$f":"COUNTIFS(총괄!$B$6:$B$5127,'1.총괄현황 집계표'!$B179,총괄!$D$6:$D$5127,\"*\",총괄!#REF!,\"*\")","v":{"$error":"#REF!"}},{"$f":"COUNTIFS(총괄!$B$6:$B$5127,'1.총괄현황 집계표'!$B179,총괄!$D$6:$D$5127,\"*\",총괄!#REF!,\"*\")","v":{"$error":"#REF!"}},{"$f":"COUNTIFS(총괄!$B$6:$B$5127,'1.총괄현황 집계표'!$B179,총괄!$D$6:$D$5127,\"*\",총괄!#REF!,\"*\")","v":{"$error":"#REF!"}},{"$f":"COUNTIFS(총괄!$B$6:$B$5127,'1.총괄현황 집계표'!$B179,총괄!$D$6:$D$5127,\"*\",총괄!#REF!,\"*\")","v":{"$error":"#REF!"}},0]
["전북","전북장수군",81,{"$error":"#REF!"},{"$error":"#REF!"},{"$f":"COUNTIFS(총괄!$B$6:$B$5127,'1.총괄현황 집계표'!$B180,총괄!$D$6:$D$5127,\"*\",총괄!#REF!,\"*\")","v":{"$error":"#REF!"}},{"$f":"COUNTIFS(총괄!$B$6:$B$5127,'1.총괄현황 집계표'!$B180,총괄!$D$6:$D$5127,\"*\",총괄!#REF!,\"*\")","v":{"$error":"#REF!"}},{"$f":"COUNTIFS(총괄!$B$6:$B$5127,'1.총괄현황 집계표'!$B180,총괄!$D$6:$D$5127,\"*\",총괄!#REF!,\"*\")","v":{"$error":"#REF!"}},{"$f":"COUNTIFS(총괄!$B$6:$B$5127,'1.총괄현황 집계표'!$B180,총괄!$D$6:$D$5127,\"*\",총괄!#REF!,\"*\")","v":{"$error":"#REF!"}},0]
["전북","전북임실군",55,{"$error":"#REF!"},{"$error":"#REF!"},{"$f":"COUNTIFS(총괄!$B$6:$B$5127,'1.총괄현황 집계표'!$B181,총괄!$D$6:$D$5127,\"*\",총괄!#REF!,\"*\")","v":{"$error":"#REF!"}},{"$f":"COUNTIFS(총괄!$B$6:$B$5127,'1.총괄현황 집계표'!$B181,총괄!$D$6:$D$5127,\"*\",총괄!#REF!,\"*\")","v":{"$error":"#REF!"}},{"$f":"COUNTIFS(총괄!$B$6:$B$5127,'1.총괄현황 집계표'!$B181,총괄!$D$6:$D$5127,\"*\",총괄!#REF!,\"*\")","v":{"$error":"#REF!"}},{"$f":"COUNTIFS(총괄!$B$6:$B$5127,'1.총괄현황 집계표'!$B181,총괄!$D$6:$D$5127,\"*\",총괄!#REF!,\"*\")","v":{"$error":"#REF!"}},0]
["전북","전북순창군",75,{"$error":"#REF!"},{"$error":"#REF!"},{"$f":"COUNTIFS(총괄!$B$6:$B$5127,'1.총괄현황 집계표'!$B182,총괄!$D$6:$D$5127,\"*\",총괄!#REF!,\"*\")","v":{"$error":"#REF!"}},{"$f":"COUNTIFS(총괄!$B$6:$B$5127,'1.총괄현황 집계표'!$B182,총괄!$D$6:$D$5127,\"*\",총괄!#REF!,\"*\")","v":{"$error":"#REF!"}},{"$f":"COUNTIFS(총괄!$B$6:$B$5127,'1.총괄현황 집계표'!$B182,총괄!$D$6:$D$5127,\"*\",총괄!#REF!,\"*\")","v":{"$error":"#REF!"}},{"$f":"COUNTIFS(총괄!$B$6:$B$5127,'1.총괄현황 집계표'!$B182,총괄!$D$6:$D$5127,\"*\",총괄!#REF!,\"*\")","v":{"$error":"#REF!"}},0]
["전북","전북고창군",80,{"$error":"#REF!"},{"$error":"#REF!"},{"$f":"COUNTIFS(총괄!$B$6:$B$5127,'1.총괄현황 집계표'!$B183,총괄!$D$6:$D$5127,\"*\",총괄!#REF!,\"*\")","v":{"$error":"#REF!"}},{"$f":"COUNTIFS(총괄!$B$6:$B$5127,'1.총괄현황 집계표'!$B183,총괄!$D$6:$D$5127,\"*\",총괄!#REF!,\"*\")","v":{"$error":"#REF!"}},{"$f":"COUNTIFS(총괄!$B$6:$B$5127,'1.총괄현황 집계표'!$B183,총괄!$D$6:$D$5127,\"*\",총괄!#REF!,\"*\")","v":{"$error":"#REF!"}},{"$f":"COUNTIFS(총괄!$B$6:$B$5127,'1.총괄현황 집계표'!$B183,총괄!$D$6:$D$5127,\"*\",총괄!#REF!,\"*\")","v":{"$error":"#REF!"}},0]
["전북","전북부안군",81,{"$error":"#REF!"},{"$error":"#REF!"},{"$f":"COUNTIFS(총괄!$B$6:$B$5127,'1.총괄현황 집계표'!$B184,총괄!$D$6:$D$5127,\"*\",총괄!#REF!,\"*\")","v":{"$error":"#REF!"}},{"$f":"COUNTIFS(총괄!$B$6:$B$5127,'1.총괄현황 집계표'!$B184,총괄!$D$6:$D$5127,\"*\",총괄!#REF!,\"*\")","v":{"$error":"#REF!"}},{"$f":"COUNTIFS(총괄!$B$6:$B$5127,'1.총괄현황 집계표'!$B184,총괄!$D$6:$D$5127,\"*\",총괄!#REF!,\"*\")","v":{"$error":"#REF!"}},{"$f":"COUNTIFS(총괄!$B$6:$B$5127,'1.총괄현황 집계표'!$B184,총괄!$D$6:$D$5127,\"*\",총괄!#REF!,\"*\")","v":{"$error":"#REF!"}},0]
["전남","전라남도",135,{"$error":"#REF!"},{"$error":"#REF!"},{"$f":"COUNTIFS(총괄!$B$6:$B$5127,'1.총괄현황 집계표'!$B185,총괄!$D$6:$D$5127,\"*\",총괄!#REF!,\"*\")","v":{"$error":"#REF!"}},{"$f":"COUNTIFS(총괄!$B$6:$B$5127,'1.총괄현황 집계표'!$B185,총괄!$D$6:$D$5127,\"*\",총괄!#REF!,\"*\")","v":{"$error":"#REF!"}},{"$f":"COUNTIFS(총괄!$B$6:$B$5127,'1.총괄현황 집계표'!$B185,총괄!$D$6:$D$5127,\"*\",총괄!#REF!,\"*\")","v":{"$error":"#REF!"}},{"$f":"COUNTIFS(총괄!$B$6:$B$5127,'1.총괄현황 집계표'!$B185,총괄!$D$6:$D$5127,\"*\",총괄!#REF!,\"*\")","v":{"$error":"#REF!"}},0]
["전남","전남목포시",119,{"$error":"#REF!"},{"$error":"#REF!"},{"$f":"COUNTIFS(총괄!$B$6:$B$5127,'1.총괄현황 집계표'!$B186,총괄!$D$6:$D$5127,\"*\",총괄!#REF!,\"*\")","v":{"$error":"#REF!"}},{"$f":"COUNTIFS(총괄!$B$6:$B$5127,'1.총괄현황 집계표'!$B186,총괄!$D$6:$D$5127,\"*\",총괄!#REF!,\"*\")","v":{"$error":"#REF!"}},{"$f":"COUNTIFS(총괄!$B$6:$B$5127,'1.총괄현황 집계표'!$B186,총괄!$D$6:$D$5127,\"*\",총괄!#REF!,\"*\")","v":{"$error":"#REF!"}},{"$f":"COUNTIFS(총괄!$B$6:$B$5127,'1.총괄현황 집계표'!$B186,총괄!$D$6:$D$5127,\"*\",총괄!#REF!,\"*\")","v":{"$error":"#REF!"}},0]
["전남","전남여수시",136,{"$error":"#REF!"},{"$error":"#REF!"},{"$f":"COUNTIFS(총괄!$B$6:$B$5127,'1.총괄현황 집계표'!$B187,총괄!$D$6:$D$5127,\"*\",총괄!#REF!,\"*\")","v":{"$error":"#REF!"}},{"$f":"COUNTIFS(총괄!$B$6:$B$5127,'1.총괄현황 집계표'!$B187,총괄!$D$6:$D$5127,\"*\",총괄!#REF!,\"*\")","v":{"$error":"#REF!"}},{"$f":"COUNTIFS(총괄!$B$6:$B$5127,'1.총괄현황 집계표'!$B187,총괄!$D$6:$D$5127,\"*\",총괄!#REF!,\"*\")","v":{"$error":"#REF!"}},{"$f":"COUNTIFS(총괄!$B$6:$B$5127,'1.총괄현황 집계표'!$B187,총괄!$D$6:$D$5127,\"*\",총괄!#REF!,\"*\")","v":{"$error":"#REF!"}},0]
["전남","전남순천시",136,{"$error":"#REF!"},{"$error":"#REF!"},{"$f":"COUNTIFS(총괄!$B$6:$B$5127,'1.총괄현황 집계표'!$B188,총괄!$D$6:$D$5127,\"*\",총괄!#REF!,\"*\")","v":{"$error":"#REF!"}},{"$f":"COUNTIFS(총괄!$B$6:$B$5127,'1.총괄현황 집계표'!$B188,총괄!$D$6:$D$5127,\"*\",총괄!#REF!,\"*\")","v":{"$error":"#REF!"}},{"$f":"COUNTIFS(총괄!$B$6:$B$5127,'1.총괄현황 집계표'!$B188,총괄!$D$6:$D$5127,\"*\",총괄!#REF!,\"*\")","v":{"$error":"#REF!"}},{"$f":"COUNTIFS(총괄!$B$6:$B$5127,'1.총괄현황 집계표'!$B188,총괄!$D$6:$D$5127,\"*\",총괄!#REF!,\"*\")","v":{"$error":"#REF!"}},0]
["전남","전남나주시",110,{"$error":"#REF!"},{"$error":"#REF!"},{"$f":"COUNTIFS(총괄!$B$6:$B$5127,'1.총괄현황 집계표'!$B189,총괄!$D$6:$D$5127,\"*\",총괄!#REF!,\"*\")","v":{"$error":"#REF!"}},{"$f":"COUNTIFS(총괄!$B$6:$B$5127,'1.총괄현황 집계표'!$B189,총괄!$D$6:$D$5127,\"*\",총괄!#REF!,\"*\")","v":{"$error":"#REF!"}},{"$f":"COUNTIFS(총괄!$B$6:$B$5127,'1.총괄현황 집계표'!$B189,총괄!$D$6:$D$5127,\"*\",총괄!#REF!,\"*\")","v":{"$error":"#REF!"}},{"$f":"COUNTIFS(총괄!$B$6:$B$5127,'1.총괄현황 집계표'!$B189,총괄!$D$6:$D$5127,\"*\",총괄!#REF!,\"*\")","v":{"$error":"#REF!"}},0]
["전남","전남광양시",102,{"$error":"#REF!"},{"$error":"#REF!"},{"$f":"COUNTIFS(총괄!$B$6:$B$5127,'1.총괄현황 집계표'!$B190,총괄!$D$6:$D$5127,\"*\",총괄!#REF!,\"*\")","v":{"$error":"#REF!"}},{"$f":"COUNTIFS(총괄!$B$6:$B$5127,'1.총괄현황 집계표'!$B190,총괄!$D$6:$D$5127,\"*\",총괄!#REF!,\"*\")","v":{"$error":"#REF!"}},{"$f":"COUNTIFS(총괄!$B$6:$B$5127,'1.총괄현황 집계표'!$B190,총괄!$D$6:$D$5127,\"*\",총괄!#REF!,\"*\")","v":{"$error":"#REF!"}},{"$f":"COUNTIFS(총괄!$B$6:$B$5127,'1.총괄현황 집계표'!$B190,총괄!$D$6:$D$5127,\"*\",총괄!#REF!,\"*\")","v":{"$error":"#REF!"}},0]
["전남","전남담양군",61,{"$error":"#REF!"},{"$error":"#REF!"},{"$f":"COUNTIFS(총괄!$B$6:$B$5127,'1.총괄현황 집계표'!$B191,총괄!$D$6:$D$5127,\"*\",총괄!#REF!,\"*\")","v":{"$error":"#REF!"}},{"$f":"COUNTIFS(총괄!$B$6:$B$5127,'1.총괄현황 집계표'!$B191,총괄!$D$6:$D$5127,\"*\",총괄!#REF!,\"*\")","v":{"$error":"#REF!"}},{"$f":"COUNTIFS(총괄!$B$6:$B$5127,'1.총괄현황 집계표'!$B191,총괄!$D$6:$D$5127,\"*\",총괄!#REF!,\"*\")","v":{"$error":"#REF!"}},{"$f":"COUNTIFS(총괄!$B$6:$B$5127,'1.총괄현황 집계표'!$B191,총괄!$D$6:$D$5127,\"*\",총괄!#REF!,\"*\")","v":{"$error":"#REF!"}},0]
["전남","전남곡성군",69,{"$error":"#REF!"},{"$error":"#REF!"},{"$f":"COUNTIFS(총괄!$B$6:$B$5127,'1.총괄현황 집계표'!$B192,총괄!$D$6:$D$5127,\"*\",총괄!#REF!,\"*\")","v":{"$error":"#REF!"}},{"$f":"COUNTIFS(총괄!$B$6:$B$5127,'1.총괄현황 집계표'!$B192,총괄!$D$6:$D$5127,\"*\",총괄!#REF!,\"*\")","v":{"$error":"#REF!"}},{"$f":"COUNTIFS(총괄!$B$6:$B$5127,'1.총괄현황 집계표'!$B192,총괄!$D$6:$D$5127,\"*\",총괄!#REF!,\"*\")","v":{"$error":"#REF!"}},{"$f":"COUNTIFS(총괄!$B$6:$B$5127,'1.총괄현황 집계표'!$B192,총괄!$D$6:$D$5127,\"*\",총괄!#REF!,\"*\")","v":{"$error":"#REF!"}},0]
["전남","전남구례군",89,{"$error":"#REF!"},{"$error":"#REF!"},{"$f":"COUNTIFS(총괄!$B$6:$B$5127,'1.총괄현황 집계표'!$B193,총괄!$D$6:$D$5127,\"*\",총괄!#REF!,\"*\")","v":{"$error":"#REF!"}},{"$f":"COUNTIFS(총괄!$B$6:$B$5127,'1.총괄현황 집계표'!$B193,총괄!$D$6:$D$5127,\"*\",총괄!#REF!,\"*\")","v":{"$error":"#REF!"}},{"$f":"COUNTIFS(총괄!$B$6:$B$5127,'1.총괄현황 집계표'!$B193,총괄!$D$6:$D$5127,\"*\",총괄!#REF!,\"*\")","v":{"$error":"#REF!"}},{"$f":"COUNTIFS(총괄!$B$6:$B$5127,'1.총괄현황 집계표'!$B193,총괄!$D$6:$D$5127,\"*\",총괄!#REF!,\"*\")","v":{"$error":"#REF!"}},0]
["전남","전남고흥군",75,{"$error":"#REF!"},{"$error":"#REF!"},{"$f":"COUNTIFS(총괄!$B$6:$B$5127,'1.총괄현황 집계표'!$B194,총괄!$D$6:$D$5127,\"*\",총괄!#REF!,\"*\")","v":{"$error":"#REF!"}},{"$f":"COUNTIFS(총괄!$B$6:$B$5127,'1.총괄현황 집계표'!$B194,총괄!$D$6:$D$5127,\"*\",총괄!#REF!,\"*\")","v":{"$error":"#REF!"}},{"$f":"COUNTIFS(총괄!$B$6:$B$5127,'1.총괄현황 집계표'!$B194,총괄!$D$6:$D$5127,\"*\",총괄!#REF!,\"*\")","v":{"$error":"#REF!"}},{"$f":"COUNTIFS(총괄!$B$6:$B$5127,'1.총괄현황 집계표'!$B194,총괄!$D$6:$D$5127,\"*\",총괄!#REF!,\"*\")","v":{"$error":"#REF!"}},0]
["전남","전남보성군",82,{"$error":"#REF!"},{"$error":"#REF!"},{"$f":"COUNTIFS(총괄!$B$6:$B$5127,'1.총괄현황 집계표'!$B195,총괄!$D$6:$D$5127,\"*\",총괄!#REF!,\"*\")","v":{"$error":"#REF!"}},{"$f":"COUNTIFS(총괄!$B$6:$B$5127,'1.총괄현황 집계표'!$B195,총괄!$D$6:$D$5127,\"*\",총괄!#REF!,\"*\")","v":{"$error":"#REF!"}},{"$f":"COUNTIFS(총괄!$B$6:$B$5127,'1.총괄현황 집계표'!$B195,총괄!$D$6:$D$5127,\"*\",총괄!#REF!,\"*\")","v":{"$error":"#REF!"}},{"$f":"COUNTIFS(총괄!$B$6:$B$5127,'1.총괄현황 집계표'!$B195,총괄!$D$6:$D$5127,\"*\",총괄!#REF!,\"*\")","v":{"$error":"#REF!"}},0]
["전남","전남화순군",86,{"$error":"#REF!"},{"$error":"#REF!"},{"$f":"COUNTIFS(총괄!$B$6:$B$5127,'1.총괄현황 집계표'!$B196,총괄!$D$6:$D$5127,\"*\",총괄!#REF!,\"*\")","v":{"$error":"#REF!"}},{"$f":"COUNTIFS(총괄!$B$6:$B$5127,'1.총괄현황 집계표'!$B196,총괄!$D$6:$D$5127,\"*\",총괄!#REF!,\"*\")","v":{"$error":"#REF!"}},{"$f":"COUNTIFS(총괄!$B$6:$B$5127,'1.총괄현황 집계표'!$B196,총괄!$D$6:$D$5127,\"*\",총괄!#REF!,\"*\")","v":{"$error":"#REF!"}},{"$f":"COUNTIFS(총괄!$B$6:$B$5127,'1.총괄현황 집계표'!$B196,총괄!$D$6:$D$5127,\"*\",총괄!#REF!,\"*\")","v":{"$error":"#REF!"}},0]
["전남","전남장흥군",92,{"$error":"#REF!"},{"$error":"#REF!"},{"$f":"COUNTIFS(총괄!$B$6:$B$5127,'1.총괄현황 집계표'!$B197,총괄!$D$6:$D$5127,\"*\",총괄!#REF!,\"*\")","v":{"$error":"#REF!"}},{"$f":"COUNTIFS(총괄!$B$6:$B$5127,'1.총괄현황 집계표'!$B197,총괄!$D$6:$D$5127,\"*\",총괄!#REF!,\"*\")","v":{"$error":"#REF!"}},{"$f":"COUNTIFS(총괄!$B$6:$B$5127,'1.총괄현황 집계표'!$B197,총괄!$D$6:$D$5127,\"*\",총괄!#REF!,\"*\")","v":{"$error":"#REF!"}},{"$f":"COUNTIFS(총괄!$B$6:$B$5127,'1.총괄현황 집계표'!$B197,총괄!$D$6:$D$5127,\"*\",총괄!#REF!,\"*\")","v":{"$error":"#REF!"}},0]
["전남","전남강진군",89,{"$error":"#REF!"},{"$error":"#REF!"},{"$f":"COUNTIFS(총괄!$B$6:$B$5127,'1.총괄현황 집계표'!$B198,총괄!$D$6:$D$5127,\"*\",총괄!#REF!,\"*\")","v":{"$error":"#REF!"}},{"$f":"COUNTIFS(총괄!$B$6:$B$5127,'1.총괄현황 집계표'!$B198,총괄!$D$6:$D$5127,\"*\",총괄!#REF!,\"*\")","v":{"$error":"#REF!"}},{"$f":"COUNTIFS(총괄!$B$6:$B$5127,'1.총괄현황 집계표'!$B198,총괄!$D$6:$D$5127,\"*\",총괄!#REF!,\"*\")","v":{"$error":"#REF!"}},{"$f":"COUNTIFS(총괄!$B$6:$B$5127,'1.총괄현황 집계표'!$B198,총괄!$D$6:$D$5127,\"*\",총괄!#REF!,\"*\")","v":{"$error":"#REF!"}},0]
["전남","전남해남군",94,{"$error":"#REF!"},{"$error":"#REF!"},{"$f":"COUNTIFS(총괄!$B$6:$B$5127,'1.총괄현황 집계표'!$B199,총괄!$D$6:$D$5127,\"*\",총괄!#REF!,\"*\")","v":{"$error":"#REF!"}},{"$f":"COUNTIFS(총괄!$B$6:$B$5127,'1.총괄현황 집계표'!$B199,총괄!$D$6:$D$5127,\"*\",총괄!#REF!,\"*\")","v":{"$error":"#REF!"}},{"$f":"COUNTIFS(총괄!$B$6:$B$5127,'1.총괄현황 집계표'!$B199,총괄!$D$6:$D$5127,\"*\",총괄!#REF!,\"*\")","v":{"$error":"#REF!"}},{"$f":"COUNTIFS(총괄!$B$6:$B$5127,'1.총괄현황 집계표'!$B199,총괄!$D$6:$D$5127,\"*\",총괄!#REF!,\"*\")","v":{"$error":"#REF!"}},0]
["전남","전남영암군",78,{"$error":"#REF!"},{"$error":"#REF!"},{"$f":"COUNTIFS(총괄!$B$6:$B$5127,'1.총괄현황 집계표'!$B200,총괄!$D$6:$D$5127,\"*\",총괄!#REF!,\"*\")","v":{"$error":"#REF!"}},{"$f":"COUNTIFS(총괄!$B$6:$B$5127,'1.총괄현황 집계표'!$B200,총괄!$D$6:$D$5127,\"*\",총괄!#REF!,\"*\")","v":{"$error":"#REF!"}},{"$f":"COUNTIFS(총괄!$B$6:$B$5127,'1.총괄현황 집계표'!$B200,총괄!$D$6:$D$5127,\"*\",총괄!#REF!,\"*\")","v":{"$error":"#REF!"}},{"$f":"COUNTIFS(총괄!$B$6:$B$5127,'1.총괄현황 집계표'!$B200,총괄!$D$6:$D$5127,\"*\",총괄!#REF!,\"*\")","v":{"$error":"#REF!"}},0]
["전남","전남무안군",74,{"$error":"#REF!"},{"$error":"#REF!"},{"$f":"COUNTIFS(총괄!$B$6:$B$5127,'1.총괄현황 집계표'!$B201,총괄!$D$6:$D$5127,\"*\",총괄!#REF!,\"*\")","v":{"$error":"#REF!"}},{"$f":"COUNTIFS(총괄!$B$6:$B$5127,'1.총괄현황 집계표'!$B201,총괄!$D$6:$D$5127,\"*\",총괄!#REF!,\"*\")","v":{"$error":"#REF!"}},{"$f":"COUNTIFS(총괄!$B$6:$B$5127,'1.총괄현황 집계표'!$B201,총괄!$D$6:$D$5127,\"*\",총괄!#REF!,\"*\")","v":{"$error":"#REF!"}},{"$f":"COUNTIFS(총괄!$B$6:$B$5127,'1.총괄현황 집계표'!$B201,총괄!$D$6:$D$5127,\"*\",총괄!#REF!,\"*\")","v":{"$error":"#REF!"}},0]
["전남","전남함평군",58,{"$f":"C202+F202-G202-H202","v":{"$error":"#REF!"}},{"$f":"F202-G202-H202+I202","v":{"$error":"#REF!"}},{"$f":"COUNTIFS(총괄!$B$6:$B$5127,'1.총괄현황 집계표'!$B202,총괄!$D$6:$D$5127,\"*\",총괄!#REF!,\"*\")","v":{"$error":"#REF!"}},{"$f":"COUNTIFS(총괄!$B$6:$B$5127,'1.총괄현황 집계표'!$B202,총괄!$D$6:$D$5127,\"*\",총괄!#REF!,\"*\")","v":{"$error":"#REF!"}},{"$f":"COUNTIFS(총괄!$B$6:$B$5127,'1.총괄현황 집계표'!$B202,총괄!$D$6:$D$5127,\"*\",총괄!#REF!,\"*\")","v":{"$error":"#REF!"}},{"$f":"COUNTIFS(총괄!$B$6:$B$5127,'1.총괄현황 집계표'!$B202,총괄!$D$6:$D$5127,\"*\",총괄!#REF!,\"*\")","v":{"$error":"#REF!"}},{"$f":"SUM(K202:P202)","v":0}]
["전남","전남영광군",83,{"$error":"#REF!"},{"$error":"#REF!"},{"$f":"COUNTIFS(총괄!$B$6:$B$5127,'1.총괄현황 집계표'!$B203,총괄!$D$6:$D$5127,\"*\",총괄!#REF!,\"*\")","v":{"$error":"#REF!"}},{"$f":"COUNTIFS(총괄!$B$6:$B$5127,'1.총괄현황 집계표'!$B203,총괄!$D$6:$D$5127,\"*\",총괄!#REF!,\"*\")","v":{"$error":"#REF!"}},{"$f":"COUNTIFS(총괄!$B$6:$B$5127,'1.총괄현황 집계표'!$B203,총괄!$D$6:$D$5127,\"*\",총괄!#REF!,\"*\")","v":{"$error":"#REF!"}},{"$f":"COUNTIFS(총괄!$B$6:$B$5127,'1.총괄현황 집계표'!$B203,총괄!$D$6:$D$5127,\"*\",총괄!#REF!,\"*\")","v":{"$error":"#REF!"}},0]
["전남","전남장성군",77,{"$error":"#REF!"},{"$error":"#REF!"},{"$f":"COUNTIFS(총괄!$B$6:$B$5127,'1.총괄현황 집계표'!$B204,총괄!$D$6:$D$5127,\"*\",총괄!#REF!,\"*\")","v":{"$error":"#REF!"}},{"$f":"COUNTIFS(총괄!$B$6:$B$5127,'1.총괄현황 집계표'!$B204,총괄!$D$6:$D$5127,\"*\",총괄!#REF!,\"*\")","v":{"$error":"#REF!"}},{"$f":"COUNTIFS(총괄!$B$6:$B$5127,'1.총괄현황 집계표'!$B204,총괄!$D$6:$D$5127,\"*\",총괄!#REF!,\"*\")","v":{"$error":"#REF!"}},{"$f":"COUNTIFS(총괄!$B$6:$B$5127,'1.총괄현황 집계표'!$B204,총괄!$D$6:$D$5127,\"*\",총괄!#REF!,\"*\")","v":{"$error":"#REF!"}},0]
["전남","전남완도군",69,{"$error":"#REF!"},{"$error":"#REF!"},{"$f":"COUNTIFS(총괄!$B$6:$B$5127,'1.총괄현황 집계표'!$B205,총괄!$D$6:$D$5127,\"*\",총괄!#REF!,\"*\")","v":{"$error":"#REF!"}},{"$f":"COUNTIFS(총괄!$B$6:$B$5127,'1.총괄현황 집계표'!$B205,총괄!$D$6:$D$5127,\"*\",총괄!#REF!,\"*\")","v":{"$error":"#REF!"}},{"$f":"COUNTIFS(총괄!$B$6:$B$5127,'1.총괄현황 집계표'!$B205,총괄!$D$6:$D$5127,\"*\",총괄!#REF!,\"*\")","v":{"$error":"#REF!"}},{"$f":"COUNTIFS(총괄!$B$6:$B$5127,'1.총괄현황 집계표'!$B205,총괄!$D$6:$D$5127,\"*\",총괄!#REF!,\"*\")","v":{"$error":"#REF!"}},0]
["전남","전남진도군",76,{"$error":"#REF!"},{"$error":"#REF!"},{"$f":"COUNTIFS(총괄!$B$6:$B$5127,'1.총괄현황 집계표'!$B206,총괄!$D$6:$D$5127,\"*\",총괄!#REF!,\"*\")","v":{"$error":"#REF!"}},{"$f":"COUNTIFS(총괄!$B$6:$B$5127,'1.총괄현황 집계표'!$B206,총괄!$D$6:$D$5127,\"*\",총괄!#REF!,\"*\")","v":{"$error":"#REF!"}},{"$f":"COUNTIFS(총괄!$B$6:$B$5127,'1.총괄현황 집계표'!$B206,총괄!$D$6:$D$5127,\"*\",총괄!#REF!,\"*\")","v":{"$error":"#REF!"}},{"$f":"COUNTIFS(총괄!$B$6:$B$5127,'1.총괄현황 집계표'!$B206,총괄!$D$6:$D$5127,\"*\",총괄!#REF!,\"*\")","v":{"$error":"#REF!"}},0]
["전남","전남신안군",53,{"$error":"#REF!"},{"$error":"#REF!"},{"$f":"COUNTIFS(총괄!$B$6:$B$5127,'1.총괄현황 집계표'!$B207,총괄!$D$6:$D$5127,\"*\",총괄!#REF!,\"*\")","v":{"$error":"#REF!"}},{"$f":"COUNTIFS(총괄!$B$6:$B$5127,'1.총괄현황 집계표'!$B207,총괄!$D$6:$D$5127,\"*\",총괄!#REF!,\"*\")","v":{"$error":"#REF!"}},{"$f":"COUNTIFS(총괄!$B$6:$B$5127,'1.총괄현황 집계표'!$B207,총괄!$D$6:$D$5127,\"*\",총괄!#REF!,\"*\")","v":{"$error":"#REF!"}},{"$f":"COUNTIFS(총괄!$B$6:$B$5127,'1.총괄현황 집계표'!$B207,총괄!$D$6:$D$5127,\"*\",총괄!#REF!,\"*\")","v":{"$error":"#REF!"}},0]
["경북","경상북도",151,{"$error":"#REF!"},{"$error":"#REF!"},{"$f":"COUNTIFS(총괄!$B$6:$B$5127,'1.총괄현황 집계표'!$B208,총괄!$D$6:$D$5127,\"*\",총괄!#REF!,\"*\")","v":{"$error":"#REF!"}},{"$f":"COUNTIFS(총괄!$B$6:$B$5127,'1.총괄현황 집계표'!$B208,총괄!$D$6:$D$5127,\"*\",총괄!#REF!,\"*\")","v":{"$error":"#REF!"}},{"$f":"COUNTIFS(총괄!$B$6:$B$5127,'1.총괄현황 집계표'!$B208,총괄!$D$6:$D$5127,\"*\",총괄!#REF!,\"*\")","v":{"$error":"#REF!"}},{"$f":"COUNTIFS(총괄!$B$6:$B$5127,'1.총괄현황 집계표'!$B208,총괄!$D$6:$D$5127,\"*\",총괄!#REF!,\"*\")","v":{"$error":"#REF!"}},0]
["경북","경북포항시",109,{"$error":"#REF!"},{"$error":"#REF!"},{"$f":"COUNTIFS(총괄!$B$6:$B$5127,'1.총괄현황 집계표'!$B209,총괄!$D$6:$D$5127,\"*\",총괄!#REF!,\"*\")","v":{"$error":"#REF!"}},{"$f":"COUNTIFS(총괄!$B$6:$B$5127,'1.총괄현황 집계표'!$B209,총괄!$D$6:$D$5127,\"*\",총괄!#REF!,\"*\")","v":{"$error":"#REF!"}},{"$f":"COUNTIFS(총괄!$B$6:$B$5127,'1.총괄현황 집계표'!$B209,총괄!$D$6:$D$5127,\"*\",총괄!#REF!,\"*\")","v":{"$error":"#REF!"}},{"$f":"COUNTIFS(총괄!$B$6:$B$5127,'1.총괄현황 집계표'!$B209,총괄!$D$6:$D$5127,\"*\",총괄!#REF!,\"*\")","v":{"$error":"#REF!"}},0]
["경북","경북경주시",97,{"$error":"#REF!"},{"$error":"#REF!"},{"$f":"COUNTIFS(총괄!$B$6:$B$5127,'1.총괄현황 집계표'!$B210,총괄!$D$6:$D$5127,\"*\",총괄!#REF!,\"*\")","v":{"$error":"#REF!"}},{"$f":"COUNTIFS(총괄!$B$6:$B$5127,'1.총괄현황 집계표'!$B210,총괄!$D$6:$D$5127,\"*\",총괄!#REF!,\"*\")","v":{"$error":"#REF!"}},{"$f":"COUNTIFS(총괄!$B$6:$B$5127,'1.총괄현황 집계표'!$B210,총괄!$D$6:$D$5127,\"*\",총괄!#REF!,\"*\")","v":{"$error":"#REF!"}},{"$f":"COUNTIFS(총괄!$B$6:$B$5127,'1.총괄현황 집계표'!$B210,총괄!$D$6:$D$5127,\"*\",총괄!#REF!,\"*\")","v":{"$error":"#REF!"}},0]
["경북","경북김천시",86,{"$error":"#REF!"},{"$error":"#REF!"},{"$f":"COUNTIFS(총괄!$B$6:$B$5127,'1.총괄현황 집계표'!$B211,총괄!$D$6:$D$5127,\"*\",총괄!#REF!,\"*\")","v":{"$error":"#REF!"}},{"$f":"COUNTIFS(총괄!$B$6:$B$5127,'1.총괄현황 집계표'!$B211,총괄!$D$6:$D$5127,\"*\",총괄!#REF!,\"*\")","v":{"$error":"#REF!"}},{"$f":"COUNTIFS(총괄!$B$6:$B$5127,'1.총괄현황 집계표'!$B211,총괄!$D$6:$D$5127,\"*\",총괄!#REF!,\"*\")","v":{"$error":"#REF!"}},{"$f":"COUNTIFS(총괄!$B$6:$B$5127,'1.총괄현황 집계표'!$B211,총괄!$D$6:$D$5127,\"*\",총괄!#REF!,\"*\")","v":{"$error":"#REF!"}},0]
["경북","경북안동시",118,{"$error":"#REF!"},{"$error":"#REF!"},{"$f":"COUNTIFS(총괄!$B$6:$B$5127,'1.총괄현황 집계표'!$B212,총괄!$D$6:$D$5127,\"*\",총괄!#REF!,\"*\")","v":{"$error":"#REF!"}},{"$f":"COUNTIFS(총괄!$B$6:$B$5127,'1.총괄현황 집계표'!$B212,총괄!$D$6:$D$5127,\"*\",총괄!#REF!,\"*\")","v":{"$error":"#REF!"}},{"$f":"COUNTIFS(총괄!$B$6:$B$5127,'1.총괄현황 집계표'!$B212,총괄!$D$6:$D$5127,\"*\",총괄!#REF!,\"*\")","v":{"$error":"#REF!"}},{"$f":"COUNTIFS(총괄!$B$6:$B$5127,'1.총괄현황 집계표'!$B212,총괄!$D$6:$D$5127,\"*\",총괄!#REF!,\"*\")","v":{"$error":"#REF!"}},0]
["경북","경북구미시",129,{"$error":"#REF!"},{"$error":"#REF!"},{"$f":"COUNTIFS(총괄!$B$6:$B$5127,'1.총괄현황 집계표'!$B213,총괄!$D$6:$D$5127,\"*\",총괄!#REF!,\"*\")","v":{"$error":"#REF!"}},{"$f":"COUNTIFS(총괄!$B$6:$B$5127,'1.총괄현황 집계표'!$B213,총괄!$D$6:$D$5127,\"*\",총괄!#REF!,\"*\")","v":{"$error":"#REF!"}},{"$f":"COUNTIFS(총괄!$B$6:$B$5127,'1.총괄현황 집계표'!$B213,총괄!$D$6:$D$5127,\"*\",총괄!#REF!,\"*\")","v":{"$error":"#REF!"}},{"$f":"COUNTIFS(총괄!$B$6:$B$5127,'1.총괄현황 집계표'!$B213,총괄!$D$6:$D$5127,\"*\",총괄!#REF!,\"*\")","v":{"$error":"#REF!"}},0]
["경북","경북영주시",117,{"$error":"#REF!"},{"$error":"#REF!"},{"$f":"COUNTIFS(총괄!$B$6:$B$5127,'1.총괄현황 집계표'!$B214,총괄!$D$6:$D$5127,\"*\",총괄!#REF!,\"*\")","v":{"$error":"#REF!"}},{"$f":"COUNTIFS(총괄!$B$6:$B$5127,'1.총괄현황 집계표'!$B214,총괄!$D$6:$D$5127,\"*\",총괄!#REF!,\"*\")","v":{"$error":"#REF!"}},{"$f":"COUNTIFS(총괄!$B$6:$B$5127,'1.총괄현황 집계표'!$B214,총괄!$D$6:$D$5127,\"*\",총괄!#REF!,\"*\")","v":{"$error":"#REF!"}},{"$f":"COUNTIFS(총괄!$B$6:$B$5127,'1.총괄현황 집계표'!$B214,총괄!$D$6:$D$5127,\"*\",총괄!#REF!,\"*\")","v":{"$error":"#REF!"}},0]
["경북","경북영천시",73,{"$error":"#REF!"},{"$error":"#REF!"},{"$f":"COUNTIFS(총괄!$B$6:$B$5127,'1.총괄현황 집계표'!$B215,총괄!$D$6:$D$5127,\"*\",총괄!#REF!,\"*\")","v":{"$error":"#REF!"}},{"$f":"COUNTIFS(총괄!$B$6:$B$5127,'1.총괄현황 집계표'!$B215,총괄!$D$6:$D$5127,\"*\",총괄!#REF!,\"*\")","v":{"$error":"#REF!"}},{"$f":"COUNTIFS(총괄!$B$6:$B$5127,'1.총괄현황 집계표'!$B215,총괄!$D$6:$D$5127,\"*\",총괄!#REF!,\"*\")","v":{"$error":"#REF!"}},{"$f":"COUNTIFS(총괄!$B$6:$B$5127,'1.총괄현황 집계표'!$B215,총괄!$D$6:$D$5127,\"*\",총괄!#REF!,\"*\")","v":{"$error":"#REF!"}},0]
["경북","경북상주시",70,{"$error":"#REF!"},{"$error":"#REF!"},{"$f":"COUNTIFS(총괄!$B$6:$B$5127,'1.총괄현황 집계표'!$B216,총괄!$D$6:$D$5127,\"*\",총괄!#REF!,\"*\")","v":{"$error":"#REF!"}},{"$f":"COUNTIFS(총괄!$B$6:$B$5127,'1.총괄현황 집계표'!$B216,총괄!$D$6:$D$5127,\"*\",총괄!#REF!,\"*\")","v":{"$error":"#REF!"}},{"$f":"COUNTIFS(총괄!$B$6:$B$5127,'1.총괄현황 집계표'!$B216,총괄!$D$6:$D$5127,\"*\",총괄!#REF!,\"*\")","v":{"$error":"#REF!"}},{"$f":"COUNTIFS(총괄!$B$6:$B$5127,'1.총괄현황 집계표'!$B216,총괄!$D$6:$D$5127,\"*\",총괄!#REF!,\"*\")","v":{"$error":"#REF!"}},0]
["경북","경북문경시",92,{"$error":"#REF!"},{"$error":"#REF!"},{"$f":"COUNTIFS(총괄!$B$6:$B$5127,'1.총괄현황 집계표'!$B217,총괄!$D$6:$D$5127,\"*\",총괄!#REF!,\"*\")","v":{"$error":"#REF!"}},{"$f":"COUNTIFS(총괄!$B$6:$B$5127,'1.총괄현황 집계표'!$B217,총괄!$D$6:$D$5127,\"*\",총괄!#REF!,\"*\")","v":{"$error":"#REF!"}},{"$f":"COUNTIFS(총괄!$B$6:$B$5127,'1.총괄현황 집계표'!$B217,총괄!$D$6:$D$5127,\"*\",총괄!#REF!,\"*\")","v":{"$error":"#REF!"}},{"$f":"COUNTIFS(총괄!$B$6:$B$5127,'1.총괄현황 집계표'!$B217,총괄!$D$6:$D$5127,\"*\",총괄!#REF!,\"*\")","v":{"$error":"#REF!"}},0]
["경북","경북경산시",90,{"$error":"#REF!"},{"$error":"#REF!"},{"$f":"COUNTIFS(총괄!$B$6:$B$5127,'1.총괄현황 집계표'!$B218,총괄!$D$6:$D$5127,\"*\",총괄!#REF!,\"*\")","v":{"$error":"#REF!"}},{"$f":"COUNTIFS(총괄!$B$6:$B$5127,'1.총괄현황 집계표'!$B218,총괄!$D$6:$D$5127,\"*\",총괄!#REF!,\"*\")","v":{"$error":"#REF!"}},{"$f":"COUNTIFS(총괄!$B$6:$B$5127,'1.총괄현황 집계표'!$B218,총괄!$D$6:$D$5127,\"*\",총괄!#REF!,\"*\")","v":{"$error":"#REF!"}},{"$f":"COUNTIFS(총괄!$B$6:$B$5127,'1.총괄현황 집계표'!$B218,총괄!$D$6:$D$5127,\"*\",총괄!#REF!,\"*\")","v":{"$error":"#REF!"}},0]
["경북","경북군위군",65,{"$error":"#REF!"},{"$error":"#REF!"},{"$f":"COUNTIFS(총괄!$B$6:$B$5127,'1.총괄현황 집계표'!$B219,총괄!$D$6:$D$5127,\"*\",총괄!#REF!,\"*\")","v":{"$error":"#REF!"}},{"$f":"COUNTIFS(총괄!$B$6:$B$5127,'1.총괄현황 집계표'!$B219,총괄!$D$6:$D$5127,\"*\",총괄!#REF!,\"*\")","v":{"$error":"#REF!"}},{"$f":"COUNTIFS(총괄!$B$6:$B$5127,'1.총괄현황 집계표'!$B219,총괄!$D$6:$D$5127,\"*\",총괄!#REF!,\"*\")","v":{"$error":"#REF!"}},{"$f":"COUNTIFS(총괄!$B$6:$B$5127,'1.총괄현황 집계표'!$B219,총괄!$D$6:$D$5127,\"*\",총괄!#REF!,\"*\")","v":{"$error":"#REF!"}},0]
["경북","경북의성군",90,{"$error":"#REF!"},{"$error":"#REF!"},{"$f":"COUNTIFS(총괄!$B$6:$B$5127,'1.총괄현황 집계표'!$B220,총괄!$D$6:$D$5127,\"*\",총괄!#REF!,\"*\")","v":{"$error":"#REF!"}},{"$f":"COUNTIFS(총괄!$B$6:$B$5127,'1.총괄현황 집계표'!$B220,총괄!$D$6:$D$5127,\"*\",총괄!#REF!,\"*\")","v":{"$error":"#REF!"}},{"$f":"COUNTIFS(총괄!$B$6:$B$5127,'1.총괄현황 집계표'!$B220,총괄!$D$6:$D$5127,\"*\",총괄!#REF!,\"*\")","v":{"$error":"#REF!"}},{"$f":"COUNTIFS(총괄!$B$6:$B$5127,'1.총괄현황 집계표'!$B220,총괄!$D$6:$D$5127,\"*\",총괄!#REF!,\"*\")","v":{"$error":"#REF!"}},0]
["경북","경북청송군",71,{"$error":"#REF!"},{"$error":"#REF!"},{"$f":"COUNTIFS(총괄!$B$6:$B$5127,'1.총괄현황 집계표'!$B221,총괄!$D$6:$D$5127,\"*\",총괄!#REF!,\"*\")","v":{"$error":"#REF!"}},{"$f":"COUNTIFS(총괄!$B$6:$B$5127,'1.총괄현황 집계표'!$B221,총괄!$D$6:$D$5127,\"*\",총괄!#REF!,\"*\")","v":{"$error":"#REF!"}},{"$f":"COUNTIFS(총괄!$B$6:$B$5127,'1.총괄현황 집계표'!$B221,총괄!$D$6:$D$5127,\"*\",총괄!#REF!,\"*\")","v":{"$error":"#REF!"}},{"$f":"COUNTIFS(총괄!$B$6:$B$5127,'1.총괄현황 집계표'!$B221,총괄!$D$6:$D$5127,\"*\",총괄!#REF!,\"*\")","v":{"$error":"#REF!"}},0]
["경북","경북영양군",73,{"$error":"#REF!"},{"$error":"#REF!"},{"$f":"COUNTIFS(총괄!$B$6:$B$5127,'1.총괄현황 집계표'!$B222,총괄!$D$6:$D$5127,\"*\",총괄!#REF!,\"*\")","v":{"$error":"#REF!"}},{"$f":"COUNTIFS(총괄!$B$6:$B$5127,'1.총괄현황 집계표'!$B222,총괄!$D$6:$D$5127,\"*\",총괄!#REF!,\"*\")","v":{"$error":"#REF!"}},{"$f":"COUNTIFS(총괄!$B$6:$B$5127,'1.총괄현황 집계표'!$B222,총괄!$D$6:$D$5127,\"*\",총괄!#REF!,\"*\")","v":{"$error":"#REF!"}},{"$f":"COUNTIFS(총괄!$B$6:$B$5127,'1.총괄현황 집계표'!$B222,총괄!$D$6:$D$5127,\"*\",총괄!#REF!,\"*\")","v":{"$error":"#REF!"}},0]
["경북","경북영덕군",65,{"$error":"#REF!"},{"$error":"#REF!"},{"$f":"COUNTIFS(총괄!$B$6:$B$5127,'1.총괄현황 집계표'!$B223,총괄!$D$6:$D$5127,\"*\",총괄!#REF!,\"*\")","v":{"$error":"#REF!"}},{"$f":"COUNTIFS(총괄!$B$6:$B$5127,'1.총괄현황 집계표'!$B223,총괄!$D$6:$D$5127,\"*\",총괄!#REF!,\"*\")","v":{"$error":"#REF!"}},{"$f":"COUNTIFS(총괄!$B$6:$B$5127,'1.총괄현황 집계표'!$B223,총괄!$D$6:$D$5127,\"*\",총괄!#REF!,\"*\")","v":{"$error":"#REF!"}},{"$f":"COUNTIFS(총괄!$B$6:$B$5127,'1.총괄현황 집계표'!$B223,총괄!$D$6:$D$5127,\"*\",총괄!#REF!,\"*\")","v":{"$error":"#REF!"}},0]
["경북","경북청도군",87,{"$error":"#REF!"},{"$error":"#REF!"},{"$f":"COUNTIFS(총괄!$B$6:$B$5127,'1.총괄현황 집계표'!$B224,총괄!$D$6:$D$5127,\"*\",총괄!#REF!,\"*\")","v":{"$error":"#REF!"}},{"$f":"COUNTIFS(총괄!$B$6:$B$5127,'1.총괄현황 집계표'!$B224,총괄!$D$6:$D$5127,\"*\",총괄!#REF!,\"*\")","v":{"$error":"#REF!"}},{"$f":"COUNTIFS(총괄!$B$6:$B$5127,'1.총괄현황 집계표'!$B224,총괄!$D$6:$D$5127,\"*\",총괄!#REF!,\"*\")","v":{"$error":"#REF!"}},{"$f":"COUNTIFS(총괄!$B$6:$B$5127,'1.총괄현황 집계표'!$B224,총괄!$D$6:$D$5127,\"*\",총괄!#REF!,\"*\")","v":{"$error":"#REF!"}},0]
["경북","경북고령군",80,{"$error":"#REF!"},{"$error":"#REF!"},{"$f":"COUNTIFS(총괄!$B$6:$B$5127,'1.총괄현황 집계표'!$B225,총괄!$D$6:$D$5127,\"*\",총괄!#REF!,\"*\")","v":{"$error":"#REF!"}},{"$f":"COUNTIFS(총괄!$B$6:$B$5127,'1.총괄현황 집계표'!$B225,총괄!$D$6:$D$5127,\"*\",총괄!#REF!,\"*\")","v":{"$error":"#REF!"}},{"$f":"COUNTIFS(총괄!$B$6:$B$5127,'1.총괄현황 집계표'!$B225,총괄!$D$6:$D$5127,\"*\",총괄!#REF!,\"*\")","v":{"$error":"#REF!"}},{"$f":"COUNTIFS(총괄!$B$6:$B$5127,'1.총괄현황 집계표'!$B225,총괄!$D$6:$D$5127,\"*\",총괄!#REF!,\"*\")","v":{"$error":"#REF!"}},0]
["경북","경북성주군",73,{"$error":"#REF!"},{"$error":"#REF!"},{"$f":"COUNTIFS(총괄!$B$6:$B$5127,'1.총괄현황 집계표'!$B226,총괄!$D$6:$D$5127,\"*\",총괄!#REF!,\"*\")","v":{"$error":"#REF!"}},{"$f":"COUNTIFS(총괄!$B$6:$B$5127,'1.총괄현황 집계표'!$B226,총괄!$D$6:$D$5127,\"*\",총괄!#REF!,\"*\")","v":{"$error":"#REF!"}},{"$f":"COUNTIFS(총괄!$B$6:$B$5127,'1.총괄현황 집계표'!$B226,총괄!$D$6:$D$5127,\"*\",총괄!#REF!,\"*\")","v":{"$error":"#REF!"}},{"$f":"COUNTIFS(총괄!$B$6:$B$5127,'1.총괄현황 집계표'!$B226,총괄!$D$6:$D$5127,\"*\",총괄!#REF!,\"*\")","v":{"$error":"#REF!"}},0]
["경북","경북칠곡군",91,{"$error":"#REF!"},{"$error":"#REF!"},{"$f":"COUNTIFS(총괄!$B$6:$B$5127,'1.총괄현황 집계표'!$B227,총괄!$D$6:$D$5127,\"*\",총괄!#REF!,\"*\")","v":{"$error":"#REF!"}},{"$f":"COUNTIFS(총괄!$B$6:$B$5127,'1.총괄현황 집계표'!$B227,총괄!$D$6:$D$5127,\"*\",총괄!#REF!,\"*\")","v":{"$error":"#REF!"}},{"$f":"COUNTIFS(총괄!$B$6:$B$5127,'1.총괄현황 집계표'!$B227,총괄!$D$6:$D$5127,\"*\",총괄!#REF!,\"*\")","v":{"$error":"#REF!"}},{"$f":"COUNTIFS(총괄!$B$6:$B$5127,'1.총괄현황 집계표'!$B227,총괄!$D$6:$D$5127,\"*\",총괄!#REF!,\"*\")","v":{"$error":"#REF!"}},0]
["경북","경북예천군",73,{"$error":"#REF!"},{"$error":"#REF!"},{"$f":"COUNTIFS(총괄!$B$6:$B$5127,'1.총괄현황 집계표'!$B228,총괄!$D$6:$D$5127,\"*\",총괄!#REF!,\"*\")","v":{"$error":"#REF!"}},{"$f":"COUNTIFS(총괄!$B$6:$B$5127,'1.총괄현황 집계표'!$B228,총괄!$D$6:$D$5127,\"*\",총괄!#REF!,\"*\")","v":{"$error":"#REF!"}},{"$f":"COUNTIFS(총괄!$B$6:$B$5127,'1.총괄현황 집계표'!$B228,총괄!$D$6:$D$5127,\"*\",총괄!#REF!,\"*\")","v":{"$error":"#REF!"}},{"$f":"COUNTIFS(총괄!$B$6:$B$5127,'1.총괄현황 집계표'!$B228,총괄!$D$6:$D$5127,\"*\",총괄!#REF!,\"*\")","v":{"$error":"#REF!"}},0]
["경북","경북봉화군",88,{"$error":"#REF!"},{"$error":"#REF!"},{"$f":"COUNTIFS(총괄!$B$6:$B$5127,'1.총괄현황 집계표'!$B229,총괄!$D$6:$D$5127,\"*\",총괄!#REF!,\"*\")","v":{"$error":"#REF!"}},{"$f":"COUNTIFS(총괄!$B$6:$B$5127,'1.총괄현황 집계표'!$B229,총괄!$D$6:$D$5127,\"*\",총괄!#REF!,\"*\")","v":{"$error":"#REF!"}},{"$f":"COUNTIFS(총괄!$B$6:$B$5127,'1.총괄현황 집계표'!$B229,총괄!$D$6:$D$5127,\"*\",총괄!#REF!,\"*\")","v":{"$error":"#REF!"}},{"$f":"COUNTIFS(총괄!$B$6:$B$5127,'1.총괄현황 집계표'!$B229,총괄!$D$6:$D$5127,\"*\",총괄!#REF!,\"*\")","v":{"$error":"#REF!"}},0]
["경북","경북울진군",80,{"$error":"#REF!"},{"$error":"#REF!"},{"$f":"COUNTIFS(총괄!$B$6:$B$5127,'1.총괄현황 집계표'!$B230,총괄!$D$6:$D$5127,\"*\",총괄!#REF!,\"*\")","v":{"$error":"#REF!"}},{"$f":"COUNTIFS(총괄!$B$6:$B$5127,'1.총괄현황 집계표'!$B230,총괄!$D$6:$D$5127,\"*\",총괄!#REF!,\"*\")","v":{"$error":"#REF!"}},{"$f":"COUNTIFS(총괄!$B$6:$B$5127,'1.총괄현황 집계표'!$B230,총괄!$D$6:$D$5127,\"*\",총괄!#REF!,\"*\")","v":{"$error":"#REF!"}},{"$f":"COUNTIFS(총괄!$B$6:$B$5127,'1.총괄현황 집계표'!$B230,총괄!$D$6:$D$5127,\"*\",총괄!#REF!,\"*\")","v":{"$error":"#REF!"}},0]
["경북","경북울릉군",58,{"$error":"#REF!"},{"$error":"#REF!"},{"$f":"COUNTIFS(총괄!$B$6:$B$5127,'1.총괄현황 집계표'!$B231,총괄!$D$6:$D$5127,\"*\",총괄!#REF!,\"*\")","v":{"$error":"#REF!"}},{"$f":"COUNTIFS(총괄!$B$6:$B$5127,'1.총괄현황 집계표'!$B231,총괄!$D$6:$D$5127,\"*\",총괄!#REF!,\"*\")","v":{"$error":"#REF!"}},{"$f":"COUNTIFS(총괄!$B$6:$B$5127,'1.총괄현황 집계표'!$B231,총괄!$D$6:$D$5127,\"*\",총괄!#REF!,\"*\")","v":{"$error":"#REF!"}},{"$f":"COUNTIFS(총괄!$B$6:$B$5127,'1.총괄현황 집계표'!$B231,총괄!$D$6:$D$5127,\"*\",총괄!#REF!,\"*\")","v":{"$error":"#REF!"}},0]
["경남","경상남도",152,{"$error":"#REF!"},{"$error":"#REF!"},{"$f":"COUNTIFS(총괄!$B$6:$B$5127,'1.총괄현황 집계표'!$B232,총괄!$D$6:$D$5127,\"*\",총괄!#REF!,\"*\")","v":{"$error":"#REF!"}},{"$f":"COUNTIFS(총괄!$B$6:$B$5127,'1.총괄현황 집계표'!$B232,총괄!$D$6:$D$5127,\"*\",총괄!#REF!,\"*\")","v":{"$error":"#REF!"}},{"$f":"COUNTIFS(총괄!$B$6:$B$5127,'1.총괄현황 집계표'!$B232,총괄!$D$6:$D$5127,\"*\",총괄!#REF!,\"*\")","v":{"$error":"#REF!"}},{"$f":"COUNTIFS(총괄!$B$6:$B$5127,'1.총괄현황 집계표'!$B232,총괄!$D$6:$D$5127,\"*\",총괄!#REF!,\"*\")","v":{"$error":"#REF!"}},0]
["경남","경남창원시",168,{"$error":"#REF!"},{"$error":"#REF!"},{"$f":"COUNTIFS(총괄!$B$6:$B$5127,'1.총괄현황 집계표'!$B233,총괄!$D$6:$D$5127,\"*\",총괄!#REF!,\"*\")","v":{"$error":"#REF!"}},{"$f":"COUNTIFS(총괄!$B$6:$B$5127,'1.총괄현황 집계표'!$B233,총괄!$D$6:$D$5127,\"*\",총괄!#REF!,\"*\")","v":{"$error":"#REF!"}},{"$f":"COUNTIFS(총괄!$B$6:$B$5127,'1.총괄현황 집계표'!$B233,총괄!$D$6:$D$5127,\"*\",총괄!#REF!,\"*\")","v":{"$error":"#REF!"}},{"$f":"COUNTIFS(총괄!$B$6:$B$5127,'1.총괄현황 집계표'!$B233,총괄!$D$6:$D$5127,\"*\",총괄!#REF!,\"*\")","v":{"$error":"#REF!"}},0]
["경남","경남진주시",95,{"$error":"#REF!"},{"$error":"#REF!"},{"$f":"COUNTIFS(총괄!$B$6:$B$5127,'1.총괄현황 집계표'!$B234,총괄!$D$6:$D$5127,\"*\",총괄!#REF!,\"*\")","v":{"$error":"#REF!"}},{"$f":"COUNTIFS(총괄!$B$6:$B$5127,'1.총괄현황 집계표'!$B234,총괄!$D$6:$D$5127,\"*\",총괄!#REF!,\"*\")","v":{"$error":"#REF!"}},{"$f":"COUNTIFS(총괄!$B$6:$B$5127,'1.총괄현황 집계표'!$B234,총괄!$D$6:$D$5127,\"*\",총괄!#REF!,\"*\")","v":{"$error":"#REF!"}},{"$f":"COUNTIFS(총괄!$B$6:$B$5127,'1.총괄현황 집계표'!$B234,총괄!$D$6:$D$5127,\"*\",총괄!#REF!,\"*\")","v":{"$error":"#REF!"}},0]
["경남","경남통영시",97,{"$error":"#REF!"},{"$error":"#REF!"},{"$f":"COUNTIFS(총괄!$B$6:$B$5127,'1.총괄현황 집계표'!$B235,총괄!$D$6:$D$5127,\"*\",총괄!#REF!,\"*\")","v":{"$error":"#REF!"}},{"$f":"COUNTIFS(총괄!$B$6:$B$5127,'1.총괄현황 집계표'!$B235,총괄!$D$6:$D$5127,\"*\",총괄!#REF!,\"*\")","v":{"$error":"#REF!"}},{"$f":"COUNTIFS(총괄!$B$6:$B$5127,'1.총괄현황 집계표'!$B235,총괄!$D$6:$D$5127,\"*\",총괄!#REF!,\"*\")","v":{"$error":"#REF!"}},{"$f":"COUNTIFS(총괄!$B$6:$B$5127,'1.총괄현황 집계표'!$B235,총괄!$D$6:$D$5127,\"*\",총괄!#REF!,\"*\")","v":{"$error":"#REF!"}},0]
["경남","경남사천시",87,{"$error":"#REF!"},{"$error":"#REF!"},{"$f":"COUNTIFS(총괄!$B$6:$B$5127,'1.총괄현황 집계표'!$B236,총괄!$D$6:$D$5127,\"*\",총괄!#REF!,\"*\")","v":{"$error":"#REF!"}},{"$f":"COUNTIFS(총괄!$B$6:$B$5127,'1.총괄현황 집계표'!$B236,총괄!$D$6:$D$5127,\"*\",총괄!#REF!,\"*\")","v":{"$error":"#REF!"}},{"$f":"COUNTIFS(총괄!$B$6:$B$5127,'1.총괄현황 집계표'!$B236,총괄!$D$6:$D$5127,\"*\",총괄!#REF!,\"*\")","v":{"$error":"#REF!"}},{"$f":"COUNTIFS(총괄!$B$6:$B$5127,'1.총괄현황 집계표'!$B236,총괄!$D$6:$D$5127,\"*\",총괄!#REF!,\"*\")","v":{"$error":"#REF!"}},0]
["경남","경남김해시",108,{"$error":"#REF!"},{"$error":"#REF!"},{"$f":"COUNTIFS(총괄!$B$6:$B$5127,'1.총괄현황 집계표'!$B237,총괄!$D$6:$D$5127,\"*\",총괄!#REF!,\"*\")","v":{"$error":"#REF!"}},{"$f":"COUNTIFS(총괄!$B$6:$B$5127,'1.총괄현황 집계표'!$B237,총괄!$D$6:$D$5127,\"*\",총괄!#REF!,\"*\")","v":{"$error":"#REF!"}},{"$f":"COUNTIFS(총괄!$B$6:$B$5127,'1.총괄현황 집계표'!$B237,총괄!$D$6:$D$5127,\"*\",총괄!#REF!,\"*\")","v":{"$error":"#REF!"}},{"$f":"COUNTIFS(총괄!$B$6:$B$5127,'1.총괄현황 집계표'!$B237,총괄!$D$6:$D$5127,\"*\",총괄!#REF!,\"*\")","v":{"$error":"#REF!"}},0]
["경남","경남밀양시",102,{"$error":"#REF!"},{"$error":"#REF!"},{"$f":"COUNTIFS(총괄!$B$6:$B$5127,'1.총괄현황 집계표'!$B238,총괄!$D$6:$D$5127,\"*\",총괄!#REF!,\"*\")","v":{"$error":"#REF!"}},{"$f":"COUNTIFS(총괄!$B$6:$B$5127,'1.총괄현황 집계표'!$B238,총괄!$D$6:$D$5127,\"*\",총괄!#REF!,\"*\")","v":{"$error":"#REF!"}},{"$f":"COUNTIFS(총괄!$B$6:$B$5127,'1.총괄현황 집계표'!$B238,총괄!$D$6:$D$5127,\"*\",총괄!#REF!,\"*\")","v":{"$error":"#REF!"}},{"$f":"COUNTIFS(총괄!$B$6:$B$5127,'1.총괄현황 집계표'!$B238,총괄!$D$6:$D$5127,\"*\",총괄!#REF!,\"*\")","v":{"$error":"#REF!"}},0]
["경남","경남거제시",106,{"$error":"#REF!"},{"$error":"#REF!"},{"$f":"COUNTIFS(총괄!$B$6:$B$5127,'1.총괄현황 집계표'!$B239,총괄!$D$6:$D$5127,\"*\",총괄!#REF!,\"*\")","v":{"$error":"#REF!"}},{"$f":"COUNTIFS(총괄!$B$6:$B$5127,'1.총괄현황 집계표'!$B239,총괄!$D$6:$D$5127,\"*\",총괄!#REF!,\"*\")","v":{"$error":"#REF!"}},{"$f":"COUNTIFS(총괄!$B$6:$B$5127,'1.총괄현황 집계표'!$B239,총괄!$D$6:$D$5127,\"*\",총괄!#REF!,\"*\")","v":{"$error":"#REF!"}},{"$f":"COUNTIFS(총괄!$B$6:$B$5127,'1.총괄현황 집계표'!$B239,총괄!$D$6:$D$5127,\"*\",총괄!#REF!,\"*\")","v":{"$error":"#REF!"}},0]
["경남","경남양산시",109,{"$error":"#REF!"},{"$error":"#REF!"},{"$f":"COUNTIFS(총괄!$B$6:$B$5127,'1.총괄현황 집계표'!$B240,총괄!$D$6:$D$5127,\"*\",총괄!#REF!,\"*\")","v":{"$error":"#REF!"}},{"$f":"COUNTIFS(총괄!$B$6:$B$5127,'1.총괄현황 집계표'!$B240,총괄!$D$6:$D$5127,\"*\",총괄!#REF!,\"*\")","v":{"$error":"#REF!"}},{"$f":"COUNTIFS(총괄!$B$6:$B$5127,'1.총괄현황 집계표'!$B240,총괄!$D$6:$D$5127,\"*\",총괄!#REF!,\"*\")","v":{"$error":"#REF!"}},{"$f":"COUNTIFS(총괄!$B$6:$B$5127,'1.총괄현황 집계표'!$B240,총괄!$D$6:$D$5127,\"*\",총괄!#REF!,\"*\")","v":{"$error":"#REF!"}},0]
["경남","경남의령군",83,{"$error":"#REF!"},{"$error":"#REF!"},{"$f":"COUNTIFS(총괄!$B$6:$B$5127,'1.총괄현황 집계표'!$B241,총괄!$D$6:$D$5127,\"*\",총괄!#REF!,\"*\")","v":{"$error":"#REF!"}},{"$f":"COUNTIFS(총괄!$B$6:$B$5127,'1.총괄현황 집계표'!$B241,총괄!$D$6:$D$5127,\"*\",총괄!#REF!,\"*\")","v":{"$error":"#REF!"}},{"$f":"COUNTIFS(총괄!$B$6:$B$5127,'1.총괄현황 집계표'!$B241,총괄!$D$6:$D$5127,\"*\",총괄!#REF!,\"*\")","v":{"$error":"#REF!"}},{"$f":"COUNTIFS(총괄!$B$6:$B$5127,'1.총괄현황 집계표'!$B241,총괄!$D$6:$D$5127,\"*\",총괄!#REF!,\"*\")","v":{"$error":"#REF!"}},0]
["경남","경남함안군",104,{"$error":"#REF!"},{"$error":"#REF!"},{"$f":"COUNTIFS(총괄!$B$6:$B$5127,'1.총괄현황 집계표'!$B242,총괄!$D$6:$D$5127,\"*\",총괄!#REF!,\"*\")","v":{"$error":"#REF!"}},{"$f":"COUNTIFS(총괄!$B$6:$B$5127,'1.총괄현황 집계표'!$B242,총괄!$D$6:$D$5127,\"*\",총괄!#REF!,\"*\")","v":{"$error":"#REF!"}},{"$f":"COUNTIFS(총괄!$B$6:$B$5127,'1.총괄현황 집계표'!$B242,총괄!$D$6:$D$5127,\"*\",총괄!#REF!,\"*\")","v":{"$error":"#REF!"}},{"$f":"COUNTIFS(총괄!$B$6:$B$5127,'1.총괄현황 집계표'!$B242,총괄!$D$6:$D$5127,\"*\",총괄!#REF!,\"*\")","v":{"$error":"#REF!"}},0]
["경남","경남창녕군",77,{"$error":"#REF!"},{"$error":"#REF!"},{"$f":"COUNTIFS(총괄!$B$6:$B$5127,'1.총괄현황 집계표'!$B243,총괄!$D$6:$D$5127,\"*\",총괄!#REF!,\"*\")","v":{"$error":"#REF!"}},{"$f":"COUNTIFS(총괄!$B$6:$B$5127,'1.총괄현황 집계표'!$B243,총괄!$D$6:$D$5127,\"*\",총괄!#REF!,\"*\")","v":{"$error":"#REF!"}},{"$f":"COUNTIFS(총괄!$B$6:$B$5127,'1.총괄현황 집계표'!$B243,총괄!$D$6:$D$5127,\"*\",총괄!#REF!,\"*\")","v":{"$error":"#REF!"}},{"$f":"COUNTIFS(총괄!$B$6:$B$5127,'1.총괄현황 집계표'!$B243,총괄!$D$6:$D$5127,\"*\",총괄!#REF!,\"*\")","v":{"$error":"#REF!"}},0]
["경남","경남고성군",82,{"$error":"#REF!"},{"$error":"#REF!"},{"$f":"COUNTIFS(총괄!$B$6:$B$5127,'1.총괄현황 집계표'!$B244,총괄!$D$6:$D$5127,\"*\",총괄!#REF!,\"*\")","v":{"$error":"#REF!"}},{"$f":"COUNTIFS(총괄!$B$6:$B$5127,'1.총괄현황 집계표'!$B244,총괄!$D$6:$D$5127,\"*\",총괄!#REF!,\"*\")","v":{"$error":"#REF!"}},{"$f":"COUNTIFS(총괄!$B$6:$B$5127,'1.총괄현황 집계표'!$B244,총괄!$D$6:$D$5127,\"*\",총괄!#REF!,\"*\")","v":{"$error":"#REF!"}},{"$f":"COUNTIFS(총괄!$B$6:$B$5127,'1.총괄현황 집계표'!$B244,총괄!$D$6:$D$5127,\"*\",총괄!#REF!,\"*\")","v":{"$error":"#REF!"}},0]
["경남","경남남해군",86,{"$error":"#REF!"},{"$error":"#REF!"},{"$f":"COUNTIFS(총괄!$B$6:$B$5127,'1.총괄현황 집계표'!$B245,총괄!$D$6:$D$5127,\"*\",총괄!#REF!,\"*\")","v":{"$error":"#REF!"}},{"$f":"COUNTIFS(총괄!$B$6:$B$5127,'1.총괄현황 집계표'!$B245,총괄!$D$6:$D$5127,\"*\",총괄!#REF!,\"*\")","v":{"$error":"#REF!"}},{"$f":"COUNTIFS(총괄!$B$6:$B$5127,'1.총괄현황 집계표'!$B245,총괄!$D$6:$D$5127,\"*\",총괄!#REF!,\"*\")","v":{"$error":"#REF!"}},{"$f":"COUNTIFS(총괄!$B$6:$B$5127,'1.총괄현황 집계표'!$B245,총괄!$D$6:$D$5127,\"*\",총괄!#REF!,\"*\")","v":{"$error":"#REF!"}},0]
["경남","경남하동군",68,{"$error":"#REF!"},{"$error":"#REF!"},{"$f":"COUNTIFS(총괄!$B$6:$B$5127,'1.총괄현황 집계표'!$B246,총괄!$D$6:$D$5127,\"*\",총괄!#REF!,\"*\")","v":{"$error":"#REF!"}},{"$f":"COUNTIFS(총괄!$B$6:$B$5127,'1.총괄현황 집계표'!$B246,총괄!$D$6:$D$5127,\"*\",총괄!#REF!,\"*\")","v":{"$error":"#REF!"}},{"$f":"COUNTIFS(총괄!$B$6:$B$5127,'1.총괄현황 집계표'!$B246,총괄!$D$6:$D$5127,\"*\",총괄!#REF!,\"*\")","v":{"$error":"#REF!"}},{"$f":"COUNTIFS(총괄!$B$6:$B$5127,'1.총괄현황 집계표'!$B246,총괄!$D$6:$D$5127,\"*\",총괄!#REF!,\"*\")","v":{"$error":"#REF!"}},0]
["경남","경남산청군",75,{"$error":"#REF!"},{"$error":"#REF!"},{"$f":"COUNTIFS(총괄!$B$6:$B$5127,'1.총괄현황 집계표'!$B247,총괄!$D$6:$D$5127,\"*\",총괄!#REF!,\"*\")","v":{"$error":"#REF!"}},{"$f":"COUNTIFS(총괄!$B$6:$B$5127,'1.총괄현황 집계표'!$B247,총괄!$D$6:$D$5127,\"*\",총괄!#REF!,\"*\")","v":{"$error":"#REF!"}},{"$f":"COUNTIFS(총괄!$B$6:$B$5127,'1.총괄현황 집계표'!$B247,총괄!$D$6:$D$5127,\"*\",총괄!#REF!,\"*\")","v":{"$error":"#REF!"}},{"$f":"COUNTIFS(총괄!$B$6:$B$5127,'1.총괄현황 집계표'!$B247,총괄!$D$6:$D$5127,\"*\",총괄!#REF!,\"*\")","v":{"$error":"#REF!"}},0]
["경남","경남함양군",81,{"$error":"#REF!"},{"$error":"#REF!"},{"$f":"COUNTIFS(총괄!$B$6:$B$5127,'1.총괄현황 집계표'!$B248,총괄!$D$6:$D$5127,\"*\",총괄!#REF!,\"*\")","v":{"$error":"#REF!"}},{"$f":"COUNTIFS(총괄!$B$6:$B$5127,'1.총괄현황 집계표'!$B248,총괄!$D$6:$D$5127,\"*\",총괄!#REF!,\"*\")","v":{"$error":"#REF!"}},{"$f":"COUNTIFS(총괄!$B$6:$B$5127,'1.총괄현황 집계표'!$B248,총괄!$D$6:$D$5127,\"*\",총괄!#REF!,\"*\")","v":{"$error":"#REF!"}},{"$f":"COUNTIFS(총괄!$B$6:$B$5127,'1.총괄현황 집계표'!$B248,총괄!$D$6:$D$5127,\"*\",총괄!#REF!,\"*\")","v":{"$error":"#REF!"}},0]
["경남","경남거창군",98,{"$error":"#REF!"},{"$error":"#REF!"},{"$f":"COUNTIFS(총괄!$B$6:$B$5127,'1.총괄현황 집계표'!$B249,총괄!$D$6:$D$5127,\"*\",총괄!#REF!,\"*\")","v":{"$error":"#REF!"}},{"$f":"COUNTIFS(총괄!$B$6:$B$5127,'1.총괄현황 집계표'!$B249,총괄!$D$6:$D$5127,\"*\",총괄!#REF!,\"*\")","v":{"$error":"#REF!"}},{"$f":"COUNTIFS(총괄!$B$6:$B$5127,'1.총괄현황 집계표'!$B249,총괄!$D$6:$D$5127,\"*\",총괄!#REF!,\"*\")","v":{"$error":"#REF!"}},{"$f":"COUNTIFS(총괄!$B$6:$B$5127,'1.총괄현황 집계표'!$B249,총괄!$D$6:$D$5127,\"*\",총괄!#REF!,\"*\")","v":{"$error":"#REF!"}},0]
["경남","경남합천군",106,{"$error":"#REF!"},{"$error":"#REF!"},{"$f":"COUNTIFS(총괄!$B$6:$B$5127,'1.총괄현황 집계표'!$B250,총괄!$D$6:$D$5127,\"*\",총괄!#REF!,\"*\")","v":{"$error":"#REF!"}},{"$f":"COUNTIFS(총괄!$B$6:$B$5127,'1.총괄현황 집계표'!$B250,총괄!$D$6:$D$5127,\"*\",총괄!#REF!,\"*\")","v":{"$error":"#REF!"}},{"$f":"COUNTIFS(총괄!$B$6:$B$5127,'1.총괄현황 집계표'!$B250,총괄!$D$6:$D$5127,\"*\",총괄!#REF!,\"*\")","v":{"$error":"#REF!"}},{"$f":"COUNTIFS(총괄!$B$6:$B$5127,'1.총괄현황 집계표'!$B250,총괄!$D$6:$D$5127,\"*\",총괄!#REF!,\"*\")","v":{"$error":"#REF!"}},0]
["제주","제주특별자치도",237,{"$error":"#REF!"},{"$error":"#REF!"},{"$f":"COUNTIFS(총괄!$B$6:$B$5127,'1.총괄현황 집계표'!$B251,총괄!$D$6:$D$5127,\"*\",총괄!#REF!,\"*\")","v":{"$error":"#REF!"}},{"$f":"COUNTIFS(총괄!$B$6:$B$5127,'1.총괄현황 집계표'!$B251,총괄!$D$6:$D$5127,\"*\",총괄!#REF!,\"*\")","v":{"$error":"#REF!"}},{"$f":"COUNTIFS(총괄!$B$6:$B$5127,'1.총괄현황 집계표'!$B251,총괄!$D$6:$D$5127,\"*\",총괄!#REF!,\"*\")","v":{"$error":"#REF!"}},{"$f":"COUNTIFS(총괄!$B$6:$B$5127,'1.총괄현황 집계표'!$B251,총괄!$D$6:$D$5127,\"*\",총괄!#REF!,\"*\")","v":{"$error":"#REF!"}},0]

{"sheet":"총괄","index":1,"n_rows":142,"n_cols":22,"rows_kept":142,"merged":[[0,0,0,21],[1,0,2,1],[1,2,3,2],[1,3,3,3],[1,4,1,5],[1,6,1,21],[2,4,3,4],[2,5,3,5],[2,6,2,8],[2,9,2,12],[2,13,2,20],[2,21,3,21],[4,0,4,1]]}
["2018년 여수시 각종 위원회 운영현황 ('18. 12. 31일 기준)"]
["자치단체명",null,"소관부서","위원회명",null,null,"구성형태(D)"]
[{"$nulls":4},"최상위 근거 법규명","하위 근거 법규명","총 위원수(명)",null,null,"위원 중 여성 위원수(명)",{"$nulls":3},"위원 직업구성(명)    * 총위원수와 반드시 일치",{"$nulls":7},"위원\n임기(년)"]
["광역","기초",{"$nulls":4},"계","당연직","위촉직","계","당연직","위촉직","비율","계","여수시\n공무원","타기관\n공무원","시의원","기관장","전문가\n(교수 등)","민간인","기타"]
[{"$nulls":3},{"$f":"SUBTOTAL(3,D6:D4500)","v":137},null,null,{"$f":"SUM(G6:G142)","v":{"v":1834,"d":"1,834"}},477,{"v":1357,"d":"1,357"},420,53,367,null,{"$f":"SUM(N6:N142)","v":{"v":1834,"d":"1,834"}},428,85,142,145,489,446,99]
["전라남도","여수시","감사담당관실","공직자윤리위원회","공직자윤리법제9조","여수시 공직자윤리위원회 구성과 운영에 관한 조례",{"$f":"H6+I6","v":5},2,3,{"$f":"K6+L6","v":2},null,2,{"$f":"IFERROR(L6/I6,\"해당없음\")","v":{"v":0.6666666666666666,"d":"66.7%"}},{"$f":"SUM(O6:U6)","v":5},1,null,1,null,2,1,null,2]
["전라남도","여수시","감사담당관실","면책심의위원회",null,null,7,7,null,0,null,null,{"$f":"IFERROR(L7/I7,\"해당없음\")","v":"해당없음"},7,7,{"$nulls":6},"재직기간"]
["전라남도","여수시","총무과","북한이탈주민\n지원협의회","북한이탈주민 보호 및 정착지원에 관한 법률 시행령","여수시 북한이탈주민과 이북도민 지원에 관한 조례",13,5,8,3,0,3,{"v":0.375,"d":"37.5%"},13,3,3,0,0,1,1,5,2]
["전라남도","여수시","총무과","인사위원회","지방공무원법 제7조",null,18,1,17,4,null,4,{"v":0.23529411764705882,"d":"23.5%"},18,7,{"$nulls":3},6,5,null,3]
["전라남도","여수시","총무과","후생복지운영협의회","여수시 공무원 후생복지에 관한 조례 12조",null,11,4,7,4,null,4,{"v":0.5714285714285714,"d":"57.1%"},11,9,null,2,{"$nulls":4},"2년"]
["전라남도","여수시","총무과","공무국외여행심사위원회","여수시 공무국외여행규정",null,8,8,null,0,null,null,"해당없음",8,8,{"$nulls":6},"재직기간"]
["전라남도","여수시","총무과","공적심의위원회","여수시 포상조례",null,11,11,null,0,0,0,"해당없음",11,11,{"$nulls":6},"재직기간"]
["전라남도","여수시","총무과","기록물평가심의회","공공기록물 관리에 관한 법률",null,0,0,0,0,null,null,"해당없음",0,{"$nulls":7},2]
["전라남도","여수시","회계과","공유재산심의회","공유재산 및 물품관리법 제16조","여수시 공유재산 관리조례 제3조",10,3,7,0,0,0,{"v":0,"d":"0.0%"},10,3,{"$nulls":4},7]
["전라남도","여수시","회계과","계약심의위원회","지방계약법","여수시 계약심의위원회 설치 및 주민참여감독제 운영에 관한 조례",7,1,6,0,0,0,{"v":0,"d":"0.0%"},7,1,{"$nulls":3},6]
["전라남도","여수시","체육지원과","문화예술\n체육진흥기금\n운용심의위원회","지방자치단체 기금관리법 제13조","여수시 문화예술체육진흥기금 관리 조례 제8조",8,8,0,0,0,0,"해당없음",8,5,0,0,0,0,3,0,"재직기간"]
["전라남도","여수시","체육지원과","스포츠전지훈련 유치위원회",null,"여수시 스포츠전지훈련 유치 및 지원 조례 제5조",8,4,4,0,0,0,{"v":0,"d":"0.0%"},8,3,0,2,1,2,0,0,"2년"]
["전라남도","여수시","세정과","지방세심의위원회","지방세기본법",null,19,4,15,2,1,1,{"v":0.06666666666666667,"d":"6.7%"},19,4,{"$nulls":3},14,1,null,2]
["전라남도","여수시","징수과","기부심사위원회","기부금품의 모집 및 사용에 관한 법률시행령 제12조","여수시 기부자 예우에 관한 조례 제6조",10,4,6,3,null,3,{"v":0.5,"d":"50.0%"},10,4,null,2,null,4]
["전라남도","여수시","민원지적과","행정서비스헌장\n심의위원회","행정서비스헌장제정지침\n(대통령 훈령제70호)","여수시행정서비스헌장\n제정및 운영규정\n제13조(행정서비스\n헌장 규정 제12조)",0,0,0,0,0,0,"해당없음",0]
["전라남도","여수시","민원지적과","정보공개\n심의위원회","공공기관의 정보공개에\n관한 법률","여수시 행정정보공개\n조례제8조(공공기관\n의 정보공개에관한\n법률 제12조)",7,3,4,3,0,3,{"v":0.75,"d":"75.0%"},7,3,null,2,null,null,2,null,2]
["전라남도","여수시","민원지적과","민원조정위원회","민원 처리에 관한 법률\n제34조","여수시 민원조정위원\n회 운영 규칙 제2조",9,4,5,2,0,2,{"v":0.4,"d":"40.0%"},9,4,{"$nulls":4},5]
["전라남도","여수시","민원지적과","도로명주소위원회","도로명주소법 제22조의2","여수시 도로명주소에 관한 조례 제24조",12,6,6,1,0,1,{"v":0.16666666666666666,"d":"16.7%"},12,6,null,1,null,null,5]
["전라남도","여수시","민원지적과","공유토지분할위원회","공유토지 분할에 관한 특례법","공유토지에관한특례법 제9조",9,5,4,0,0,0,{"v":0,"d":"0.0%"},9,3,2,"O","O",2,2,"O","재직\n기간"]
["전라남도","여수시","민원지적과","부동산가격공시위원회","부동산가격공시에 관한 법률 제25조","여수시부동산가격공시위원회 운영조례 제2조",15,6,9,3,0,3,{"v":0.3333333333333333,"d":"33.3%"},15,5,1,1,null,3,5,null,3]
["전라남도","여수시","민원지적과","지적재조사위원회","지적재조사에 관한 특별법","여수시 지적재조사위원회 및 경계결정위원회 구성과 운영에 관한 조례",10,5,5,1,0,1,{"v":0.2,"d":"20.0%"},10,5,null,1,1,3,null,null,2]
["전라남도","여수시","민원지적과","경계결정위원회","지적재조사에 관한 특별법","여수시 지적재조사위원회 및 경계결정위원회 구성과 운영에 관한 조례",11,6,5,1,0,1,{"v":0.2,"d":"20.0%"},11,5,null,1,null,3,1,1,2]
["전라남도","여수시","기획예산과","조례규칙심의위원회","지방자치법 시행령 제28조","여수시 조례규칙심의회 운영 규칙",12,12,0,0,null,null,"해당없음",12,12,{"$nulls":6},"재직기간"]
["전라남도","여수시","기획예산과","규제개혁위원회","행정규제기본법 제23조","여수시규제개혁위원회 설치및운영조례",20,6,14,3,null,3,{"v":0.21428571428571427,"d":"21.4%"},20,6,3,1,null,2,8,null,2]
["전라남도","여수시","기획예산과","예산성과금\n심사위원회","지방재정법 제48조","여수시 예산성과금 운영 등에 관한 규칙 제6조",10,6,4,0,null,null,{"v":0,"d":"0.0%"},10,6,null,1,null,2,1]
["전라남도","여수시","기획예산과","지방재정계획심의위원회","지방재정법 제33조","여수시  지방재정계획심의위원회 운영 조례",15,3,12,3,null,3,{"v":0.25,"d":"25.0%"},15,3,{"$nulls":3},5,7]
["전라남도","여수시","기획예산과","주민참여예산위원회","지방재정법 제39조","여수시  주민참여예산제 운영 조례 시행규칙 제4조",60,null,60,11,null,11,{"v":0.18333333333333332,"d":"18.3%"},60,{"$nulls":5},60]
["전라남도","여수시","기획예산과","지방보조금 \n심의위원회","지방재정법 제32의3","여수시  지방보조금 관리 조례 제6조",15,3,12,2,null,2,{"v":0.16666666666666666,"d":"16.7%"},15,3,{"$nulls":4},12]
["전라남도","여수시","기획예산과","시정평가위원회","정부업무평가 기본법 제18조","여수시 주요업무등의 평가에 관한 규칙",15,1,14,4,null,4,{"v":0.2857142857142857,"d":"28.6%"},15,1,null,1,null,3,10,null,2]
["전라남도","여수시","기획예산과","시정조정위원회","여수시 시정조정위원회조례 제1조, 제3조","여수시 시정조정위원회 조례 시행규칙 제1조, 제3조",11,11,0,0,null,null,"해당없음",11,11,{"$nulls":6},"재직기간"]
["전라남도","여수시","기획예산과","미래발전위원회","지방자치법 제116조의2"," 지방자치법 시행령 제80조",36,3,33,9,0,9,{"v":0.2727272727272727,"d":"27.3%"},36,3,0,3,0,30,0,0,2]
["전라남도","여수시","기획예산과","용역과제심의위원회","여수시 용역업무 관리 조례",null,15,4,11,4,null,4,{"v":0.36363636363636365,"d":"36.4%"},15,4,null,1,null,3,7,null,2]
["전라남도","여수시","지역경제과","지역경제협의회","여수시 지역경제협의회 운영에 관한 조례","-",19,2,17,4,0,4,{"v":0.23529411764705882,"d":"23.5%"},19,2,0,1,14,2,0,0,2]
["전라남도","여수시","지역경제과","소비자정책심의위원회","여수시 소비자보호 조례","-",16,4,12,2,0,2,{"v":0.16666666666666666,"d":"16.7%"},16,4,0,2,8,2,0,0,2]
["전라남도","여수시","지역경제과","유통분쟁조정위원회","유통산업발전법","여수시 유통분쟁조정위원회 설치 및 운영에 관한 조례",11,3,8,2,0,2,{"v":0.25,"d":"25.0%"},11,3,0,1,6,1,0,0,2]
["전라남도","여수시","지역경제과","유통업상생발전협의회","유통산업발전법","여수시 유통업 상생발전 및 전통상업보존구역 지정 등에 관한 조례",9,2,7,1,0,1,{"v":0.14285714285714285,"d":"14.3%"},9,2,0,0,6,1,0,0,2]
["전라남도","여수시","지역경제과","에너지위원회","여수시 에너지 기본 조례 제7조","여수시 에너지 기본 조례 제7조",12,3,9,4,0,4,{"v":0.4444444444444444,"d":"44.4%"},12,3,null,1,1,1,6,null,2]
["전라남도","여수시","지역경제과","중소기업발전기금운용위원회","여수시 중소기업 발전기금 설치 및 운용조례 제3조","여수시 중소기업 발전기금 설치 및 운용조례 제3조",11,2,9,3,0,3,{"v":0.3333333333333333,"d":"33.3%"},11,2,null,4,null,5,null,null,2]
["전라남도","여수시","지역경제과","기업지원\n대책위원회","여수시 기업사랑 및 기업활동 지원에 관한 조례 제16조","여수시 기업사랑 및 기업활동 지원에 관한 조례 제16조",10,2,8,1,0,1,{"v":0.125,"d":"12.5%"},10,2,{"$nulls":3},2,null,6,2]
["전라남도","여수시","산단지원과","노사민정협의회","노사관계발전지원에관한법률제3조","여수시노사민정협의회설치및운영조례",15,3,12,2,1,1,{"v":0.08333333333333333,"d":"8.3%"},15,2,1,1,6,4,1,null,2]
["전라남도","여수시","투자박람회과","투자유치위원회","여수시 투자유치촉진을 \n위한 지원조례 제3조",null,15,2,13,2,null,2,{"v":0.15384615384615385,"d":"15.4%"},15,2,1,2,null,6,4,null,2]
["전라남도","여수시","투자박람회과","마이스산업지원위원회","여수시 마이스산업 육성에 \n관한 조례 제8조",null,15,2,13,2,null,2,{"v":0.15384615384615385,"d":"15.4%"},15,2,null,2,null,10,null,1,2]
["전라남도","여수시","인구일자리과","생활임금위원회","여수시 생활임금 조례",null,8,2,6,0,null,null,{"v":0,"d":"0.0%"},8,2,null,1,null,1,4,null,2]
["전라남도","여수시","인구일자리과","사회적경제육성위원회",null,"여수시 사회적경제 육성과 \n지원에 관한 조례 ",14,5,9,5,0,5,{"v":0.5555555555555556,"d":"55.6%"},14,5,0,1,1,null,7,null,2]
["전라남도","여수시","인구일자리과","청년정책 위원회",null,"여수시 청년발전 기본조례 제8조",22,6,16,2,0,2,{"v":0.125,"d":"12.5%"},22,6,0,2,null,1,13,null,2]
["전라남도","여수시","인구일자리과","공유촉진위원회",null,"여수시 공유촉진 조례",11,7,4,2,0,2,{"v":0.5,"d":"50.0%"},11,6,0,1,0,1,3,0,2]
["전라남도","여수시","인구일자리과","인구정책위원회",null,"여수시 청년발전 기본조례 제8조",20,2,18,8,0,8,{"v":0.4444444444444444,"d":"44.4%"},20,2,4,2,5,1,1,5,2]
["전라남도","여수시","정보통신과","지역정보화협의회","국가정보화 기본법 제6조","지역정보화 조례 제6조",12,2,10,0,null,null,{"v":0,"d":"0.0%"},12,2,null,2,1,4,null,3,2]
["전라남도","여수시","관광과","축제운영위원회","여수시축제위원회 설치 및 운영조례 3조",null,13,2,11,3,0,3,{"v":0.2727272727272727,"d":"27.3%"},13,2,null,2,null,1,8,null,2]
["전라남도","여수시","문화예술과","시립합창단운영위원회",null,"여수시립예술단 설치 조례",11,4,7,3,0,3,{"v":0.42857142857142855,"d":"42.9%"},11,3,null,2,null,4,2,null,2]
["전라남도","여수시","문화예술과","시립국악단운영위원회",null,"여수시립예술단 설치 조례",10,3,7,3,0,3,{"v":0.42857142857142855,"d":"42.9%"},10,3,null,2,null,3,2,null,2]
["전라남도","여수시","문화예술과","문화유산위원회","문화재보호법","여수시문화유산보호관리조례",11,1,10,0,0,0,{"v":0,"d":"0.0%"},11,1,null,2,null,3,5,null,2]
["전라남도","여수시","문화예술과","문화예술위원회","문화예술진흥법","여수시 문화예술 진흥 조례",20,2,18,5,0,5,{"v":0.2777777777777778,"d":"27.8%"},20,2,null,2,null,13,3,null,2]
["전라남도","여수시","교육지원과","교육경비보조금심의위원회","여수시교육경비보조에관한조례",null,15,5,10,4,0,4,{"v":0.4,"d":"40.0%"},15,5,2,3,null,null,5,null,2]
["전라남도","여수시","교육지원과","교육발전협의회","여수시 교육발전협의회 구성 및 운영 조례",null,29,2,27,29,25,4,{"v":0.14814814814814814,"d":"14.8%"},29,1,1,3,8,6,8,2,2]
["전라남도","여수시","교육지원과","평생교육협의회","평생교육법","여수시 평생학습조례",10,2,8,3,0,3,{"v":0.375,"d":"37.5%"},10,1,2,1,3,3,null,0,2]
["전라남도","여수시","교육지원과","행복교육지원센터 운영위원회",null,"여수시창의인성교육 활성화 및 지원에 관한 조례",5,2,3,1,0,1,{"v":0.3333333333333333,"d":"33.3%"},5,1,1,1,0,1,1,0,2]
["전라남도","여수시","교육지원과","(미래발전위)교육혁신위원회",null,"여수시 미래발전위원회의 등 설치 및 운영조례",10,1,9,4,null,4,{"v":0.4444444444444444,"d":"44.4%"},10,1,2,1,null,2,4,null,2]
["전라남도","여수시","시립도서관","시립도서관\n운영위원회","도서관법 제30조","여수시립도서관 운영조계 제27조(구성)",13,1,12,8,1,7,{"v":0.5833333333333334,"d":"58.3%"},13,1,3,null,null,4,5,null,2]
["전라남도","여수시","사회복지과","지역사회\n보장협의체","사회보장급여의 이용 제공 및 수급권자 발굴에 관한 법률 제41조","여수시지역사회보장협의체 설치 및 운영 조례",30,7,23,6,2,4,{"v":0.17391304347826086,"d":"17.4%"},30,3,3,2,3,8,3,8,2]
["전라남도","여수시","사회복지과","긴급지원\n심의위원회","긴급지원법 제12조","여수시 긴급복지 지원에 관한 조례 제4조",8,3,5,8,5,3,{"v":0.6,"d":"60.0%"},8,3,null,1,1,2,1,null,2]
["전라남도","여수시","사회복지과","의료급여\n심의위원회","의료급여법 제6조",null,5,3,2,2,0,2,{"v":1,"d":"100.0%"},5,3,{"$nulls":3},2,null,null,3]
["전라남도","여수시","사회복지과","생활\n보장위원회","국민기초생활보장법 제20조",null,15,5,10,4,0,4,{"v":0.4,"d":"40.0%"},15,5,null,2,5,3,null,null,2]
["전라남도","여수시","사회복지과","자원봉사\n발전위원회","자원봉사활동기본법 시행령 제3조","여수시자원봉사활동지원조례 제5조",10,2,8,6,0,6,{"v":0.75,"d":"75.0%"},10,2,null,1,null,2,5,null,2]
["전라남도","여수시","사회복지과","노숙인 입·퇴소심사위원회","노숙인등의 복지 및 자립지원에관한법률 제17조",null,6,3,3,1,0,1,{"v":0.3333333333333333,"d":"33.3%"},{"$f":"SUM(O70:U70)","v":6},2,null,null,1,3,null,null,2]
["전라남도","여수시","노인장애인과","장애인복지위원회","장애인복지법 제13조","여수시 장애인복지위위원회 설치 및 운영 조례",0,null,null,0,null,null,{"$f":"IFERROR(L71/I71,\"해당없음\")","v":"해당없음"},0]
["전라남도","여수시","노인장애인과","장애인활동지원\n수급자격심의위원회","장애인활동 지원에 관한 법률 제8조",null,9,1,8,2,0,2,{"v":0.25,"d":"25.0%"},9,1,null,null,3,5,null,null,3]
["전라남도","여수시","노인장애인과","노인사회활동 \n지원위원회","노인일자리및사회활동지원사업지침",null,7,2,5,1,0,1,{"v":0.2,"d":"20.0%"},7,2,null,null,4,1,null,null,2]
["전라남도","여수시","여성가족과","양성평등위원회","여수시 양성평등 기본조례  제23조",null,15,2,13,7,null,7,{"v":0.5384615384615384,"d":"53.8%"},15,2,null,2,4,5,1,1,2]
["전라남도","여수시","여성가족과","여성친화도시조성 위원회","여수시 여성친화도시 조성에 관한 기본조례 제25조",null,{"$f":"H75+I75","v":20},3,17,{"$f":"K75+L75","v":13},null,13,{"v":0.7647058823529411,"d":"76.5%"},20,3,null,2,5,1,9,null,2]
["전라남도","여수시","여성가족과","아동 여성안전 지역연대 운영위원회","여수시 아동.여성안전 지역연대 운영에 관한 조례 제6조",null,19,2,17,12,0,12,{"v":0.7058823529411765,"d":"70.6%"},19,2,3,2,0,1,0,11,2]
["전라남도","여수시","여성가족과","지역아동센터위원회","여수시 지역아동센터 운영 및 지원에 관한 조례 제8조",null,10,4,6,10,4,6,{"v":1,"d":"100.0%"},10,4,null,2,1,1,2,null,2]
["전라남도","여수시","여성가족과","아동급식위원회","아동복지법 제35조","여수시 아동∙청소년육성위원회 등 구성 및 운영에 관한 조례 제16조",11,1,10,8,0,8,{"v":0.8,"d":"80.0%"},11,1,3,1,null,2,2,2,3]
["전라남도","여수시","여성가족과","아동청소년육성위원회","청소년기본법 제11조","여수시 아동∙청소년육성위원회 등 구성 및 운영에 관한 조례 제2조",9,4,5,4,0,4,{"v":0.8,"d":"80.0%"},9,2,2,1,null,4]
["전라남도","여수시","여성가족과","보육정책위원회","영유아보육법 제6조",null,15,1,14,7,0,7,{"v":0.5,"d":"50.0%"},15,1,1,null,null,6,6,1,2]
["전라남도","여수시","여성가족과","건강가정지원센터 운영위원회","건강가정지원센터운영 지침(여수시건강가정지원센터 조직 및 운영조례 시행규칙 제7조)","여수시건강가정지원센터 조직 및 운영조례 시행규칙 제7조)",10,3,7,5,1,4,{"v":0.5714285714285714,"d":"57.1%"},10,3,null,null,1,2,4,null,3]
["전라남도","여수시","여성가족과","다문화가족지원센터운영위원회","사회복지사업법 제36조",null,7,3,4,5,2,3,{"v":0.75,"d":"75.0%"},7,3,{"$nulls":3},2,2,null,3]
["전라남도","여수시","여성가족과","외국인주민 및 다문화가족지원협의회","다문화가족지원법제3조의 4","여수시 외국인주민 및 다문화가족 지원조례 제11조",14,7,7,7,1,6,{"v":0.8571428571428571,"d":"85.7%"},14,3,5,1,null,4,null,1,2]
["전라남도","여수시","여성가족과","드림스타트 운영위원회",null,"드림스타트 사업안내",11,2,9,4,null,4,{"v":0.4444444444444444,"d":"44.4%"},11,2,2,1,2,3,1,null,2]
["전라남도","여수시","여성가족과","지역사회청소년통합지원체계운영위원회","청소년복지 지원법 제10조",null,14,4,10,4,0,4,{"v":0.4,"d":"40.0%"},14,2,4,null,4,3,1,null,2]
["전라남도","여수시","여성가족과","아동복지심의위원회","아동복지법 제12조","여수시 아동복지심의위원회구성및운영에관한조례제16조",9,2,7,4,null,4,{"v":0.5714285714285714,"d":"57.1%"},9,2,3,1,null,null,3,null,2]
["전라남도","여수시","여성가족과","성별영향분석평가위원회","성별영향분석 평가법 제13조의 2","여수시 성별영향분석평가조례 제12조",14,4,10,8,4,4,{"v":0.4,"d":"40.0%"},14,4,null,2,null,8,null,null,2]
["전라남도","여수시","여성가족과","학교폭력대책지역협의회","학교폭력예방 및 대책에 관한 법률 제10조2",null,13,3,10,5,null,5,{"v":0.5,"d":"50.0%"},13,3,4,1,1,3,1,null,2]
["전라남도","여수시","기후환경과","환경위원회","환경정책기본법(제58조)","여수시 환경기본조례(제21조)",15,5,10,4,null,4,{"v":0.4,"d":"40.0%"},15,5,null,2,null,2,6,null,2]
["전라남도","여수시","기후환경과","환경보전기금운용\n심의위원회","여수시 환경보전기금 설치 및 운영 조례 제10조",null,12,4,8,4,null,4,{"v":0.5,"d":"50.0%"},12,4,null,2,3,2,1,null,2]
["전라남도","여수시","기후환경과","화학물질안전관리위원회","화학물질관리법 제7조의2","여수시 화학물질 안전관리 및 지역사회 알권리 조례 제5조(위원회 설치)",14,4,10,2,null,2,{"v":0.2,"d":"20.0%"},14,3,1,2,4,1,3,null,2]
["전라남도","여수시","도시미화과","폐기물처리시설 주변지역 주민지원기금 운용심의위원회","여수시 폐기물처리시설 설치운용 및 주변지역 지원등에 관한 조례 제21조",null,11,5,6,0,null,null,{"v":0,"d":"0.0%"},11,5,0,2,0,2,2,0,2]
["전라남도","여수시","도시미화과","도시형폐기물종합처리시설 주민지원협의체","폐기물처리시설 설치촉진 및 주변지역 지원 등에 관한 법률 제17조의2","여수시 폐기물처리시설 설치운영 및 주변지역 지원등에 관한 조례 제29조",11,0,11,0,null,null,{"v":0,"d":"0.0%"},11,0,0,1,0,2,8,0,2]
["전라남도","여수시","도시미화과","생활폐기물 수집 운반 대행업체 평가위원회",null,null,0,null,null,0,null,null,"해당없음",0]
["전라남도","여수시","수산경영과","수산조정위원회","수산업법 제88조",null,15,2,13,0,0,0,{"v":0,"d":"0.0%"},15,2,2,0,10,0,1,0,4]
["전라남도","여수시","수산경영과","청정농수산물등록상표사용심의위원회","여수시청정농수산물등록상표 사용관리 조례 제1조","여수시청정농수산물등록상표 사용관리 조례 시행규칙 제1조",12,3,9,2,0,2,{"v":0.2222222222222222,"d":"22.2%"},12,3,3,0,0,2,4,0,2]
["전라남도","여수시","어업생산과","적조대책위원회","해수부 훈령 2017-369호",null,14,3,11,1,0,1,{"v":0.09090909090909091,"d":"9.1%"},14,3,3,1,null,1,3,3,3]
["전라남도","여수시","해양항만레저과","마리나자문위원회",null,null,14,2,12,0,0,0,{"v":0,"d":"0.0%"},14,2,0,1,0,6,5]
["전라남도","여수시","산림과","도시림 등의 조성관리 심의위원회","산림자원의조성및관리에관한법률 제20조의2","여수시 도시림등의 조성및관리에 관한 조례 제18조",12,5,7,4,0,4,{"v":0.5714285714285714,"d":"57.1%"},12,5,null,2,null,5,null,null,2]
["전라남도","여수시","산림과","산사태취약지역지정위원회","산림보호법 45조의 9","여수시 산사태취약지역지정위원회의 구성 및 운영에 관한 조례 제4조",8,3,5,0,null,null,{"v":0,"d":"0.0%"},8,3,null,2,null,3,null,null,2]
["전라남도","여수시","도시계획과","지명위원회","공간정보의 구축 및 관리 \n등에 관한 법률(제91조,\n시행령 제88조)               ","여수시 지명위원회 조례 제2조",6,1,5,1,null,1,{"v":0.2,"d":"20.0%"},6,1,null,1,null,1,3]
["전라남도","여수시","도시계획과","지역건설산업활성화위원회","여수시 지역건설산업\n 활성화 촉진에 관한 \n조례 제11조","여수시 지역건설산업 활성화 \n촉진에 관한 조례 제9조",10,4,6,0,null,null,{"v":0,"d":"0.0%"},10,4,null,2,null,null,4]
["전라남도","여수시","도시계획과","도시계획위원회","국토의 계획 및 이용에 관한 법률","여수시 도시계획조례",25,null,25,1,null,1,{"v":0.04,"d":"4.0%"},25,4,null,1,null,18,null,2,2]
["전라남도","여수시","도시계획과","경관위원회","경관법 제29조","여수시 경관 조례 제23조",19,4,15,3,0,3,{"v":0.2,"d":"20.0%"},19,4,null,2,null,5,8,null,2]
["전라남도","여수시","건설과","소하천\n관리위원회","소하천정비법 제26조",null,10,2,8,0,null,null,{"v":0,"d":"0.0%"},10,2,null,1,null,4,3,null,3]
["전라남도","여수시","건설과","기술자문위원회 ","건설기술진흥법 제6조","여수시기술자문위원회운영 조례 제2조",99,2,97,6,null,6,{"v":0.061855670103092786,"d":"6.2%"},99,5,null,2,null,92,null,null,2]
["전라남도","여수시","재난안전과","통합방위협의회","통합방위법 제5조","통합방위법 시행령,여수시  통합방위협의회 구성 및 운영 등에 관한 조례(제3조)",25,13,12,0,0,0,{"v":0,"d":"0.0%"},25,1,null,1,16,null,7]
["전라남도","여수시","재난안전과","안전관리위원회","재난 및 안전관리기본법","여수시 안전관리위원회 운영 조례",18,18,null,1,1,null,"해당없음",18,3,7,{"$nulls":4},8,2]
["전라남도","여수시","재난안전과","안전문화운동추진여수시협의회","재난 및 안전관리기본법","재난 및 안전관리기본법 시행령",0,0,0,0,0,0,"해당없음",0]
["전라남도","여수시","재난안전과","사전\n재해영향성\n검토위원회","자연재해대책법","여수시 사전재해영향성검토위원회 구성 및 운영 조례 제1조",20,5,15,1,null,1,{"v":0.06666666666666667,"d":"6.7%"},20,5,null,2,null,13]
["전라남도","여수시","재난안전과","재난관리기금운용심의위원회","재난 및 안전관리기본법","여수시재난관리기금운용관리조례",9,5,4,1,null,1,{"v":0.25,"d":"25.0%"},9,5,null,1,null,3,null,null,2]
["전라남도","여수시","교통과","교통안전정책 심의위원회 ","교통안전법 제13조","여수시 교통안전정책심의위원회 구성 및 운영에 관한 조례",20,7,13,0,0,0,{"v":0,"d":"0.0%"},20,7,2,1,null,7,3,null,3]
["전라남도","여수시","교통과","교통약자이동편의증진위원회","교통약자의 이동편의 증진법 제16조","여수시 교통약자의 이동편의 증진 조례 제4조",18,7,11,5,0,5,{"v":0.45454545454545453,"d":"45.5%"},18,7,null,1,null,2,8,null,2]
["전라남도","여수시","교통과","택시자문위원회","여수시 택시자문위원회 운영 규정",null,13,1,12,1,0,1,{"v":0.08333333333333333,"d":"8.3%"},13,1,2,1,null,1,8,null,2]
["전라남도","여수시","교통과","택시감차위원회","택시운송사업의 발전에관한 법률 제11조","택시운송사업의 발전에관한 법률 시행령 제11조",9,2,7,1,0,1,{"v":0.14285714285714285,"d":"14.3%"},9,2,null,1,null,1,5,null,2]
["전라남도","여수시","교통과","교통정책\n발전위원회","지방자치법제22조","여수시 교통정책발전위원회 구성 및 운영 조례",15,5,10,3,0,3,{"v":0.3,"d":"30.0%"},15,4,1,2,null,6,2,null,2]
["전라남도","여수시","허가민원과","건축위원회","건축법 제4조","여수시건축조례 제5조",25,3,22,3,0,3,{"v":0.13636363636363635,"d":"13.6%"},25,2,1,0,0,8,0,14,3]
["전라남도","여수시","허가민원과","공동주택\n지원심의위원회","여수시공동주택조례 제7조",null,9,2,7,2,0,2,{"v":0.2857142857142857,"d":"28.6%"},9,2,null,2,null,5,null,null,2]
["전라남도","여수시","허가민원과","분양가심사\n위원회","주택법 제59조",null,0,null,null,0,null,null,"해당없음",0,{"$nulls":7},2]
["전라남도","여수시","허가민원과","공동주택\n(관리)분쟁조정위원회","공동주택관리법 제71조",null,0,null,null,0,null,null,"해당없음",0,{"$nulls":7},2]
["전라남도","여수시","보건행정과","보건의료심의위원회","지역보건법 제6조","여수시 보건의료심의위원회 설치 및 운영조례 제3조",12,2,10,5,0,5,{"v":0.5,"d":"50.0%"},12,2,null,2,null,8,null,null,2]
["전라남도","여수시","보건행정과","(미래발전위)의료혁신위원회","여수시 미래발전위원회 등 설치 및 운영 조례",null,11,1,10,3,0,3,{"v":0.3,"d":"30.0%"},11,1,null,1,null,9,null,null,2]
["전라남도","여수시","식품위생과","식품진흥기금심의위원회","식품위생법 제89조제1항","여수시 식품진흥기금운용조례 제3호",6,2,4,1,null,1,{"v":0.25,"d":"25.0%"},6,2,null,1,1,null,null,2,3]
["전라남도","여수시","식품위생과","위생업소 \n지원 심의위원회","식품위생법 제47조, 공중위생법 제14조","여수시 위생업소 지원등에 관한 조례 제7조",11,3,8,3,null,3,{"v":0.375,"d":"37.5%"},11,2,null,1,null,1,null,7,2]
["전라남도","여수시","식품위생과","관광숙박업 등의 등록심의위원회","관광진흥법 제17조",null,6,6,null,0,null,null,"해당없음",6,6]
["전라남도","여수시","건강증진과","건강생활\n실천 협의회","국민건강증진법 제10조","여수시 건강생활실천협의회 설치 등에 관한 조례",12,3,9,7,1,6,{"v":0.6666666666666666,"d":"66.7%"},12,3,null,2,null,3,4]
["전라남도","여수시","농업정책과","농업·농촌 및 식품산업정책심의회","농업농촌및식품산업기본법제15조, 시행령제15조",null,28,3,25,5,null,5,{"v":0.2,"d":"20.0%"},28,2,null,null,9,1,16,null,2]
["전라남도","여수시","농업정책과","친환경무상급식지원심의위원회","여수시 친환경무상급식 지원에 관한 조례 제8조",null,17,2,15,10,null,10,{"v":0.6666666666666666,"d":"66.7%"},17,null,4,2,null,null,11]
["전라남도","여수시","농촌진흥과","귀농어업인\n지원위원회","귀농어·귀촌 활성화 및 지원예 관한 법률","여수시 귀농어업인 지원 조례 제6조",16,5,11,4,1,3,{"v":0.2727272727272727,"d":"27.3%"},16,5,null,2,null,2,7,null,2]
["전라남도","여수시","농촌진흥과","농업산학\n협동심의회","농업산학협동심의회 규정\n(대통령령 제25179호) 제2조",null,20,1,19,7,0,7,{"v":0.3684210526315789,"d":"36.8%"},20,2,1,1,4,2,10,null,2]
["전라남도","여수시","농촌진흥과","농기계 임대사업 및 \n농업인대학 운영위원회","여수시농업인대학설치 및 운영조례 제4조","여수시농기계 임대사업 운영조례 제14조",9,6,3,2,1,1,{"v":0.3333333333333333,"d":"33.3%"},9,2,null,1,null,null,6,null,2]
["전라남도","여수시","특산품육성과","농산물공동상표\n사용심의위원회","여수시 농산물 공동상표 사용에 관한 조례",null,9,4,5,4,1,3,{"v":0.6,"d":"60.0%"},9,3,1,0,0,0,5,0,2]
["전라남도","여수시","특산품육성과","종자심의위원회","여수시 종자산업육성 및 직무육성품종 지원 등에 관한 조례 제3조",null,11,3,8,5,1,4,{"v":0.5,"d":"50.0%"},11,3,0,2,0,0,6,0,2]
["전라남도","여수시","도시재생과","옥외광고심의위원회","옥외광고물 등의 관리와 옥외광고산업\n 진흥에 관한 법률 제7조제1항","여수시 옥외광고물 등 관리 조례 제12조",10,3,7,3,null,3,{"v":0.42857142857142855,"d":"42.9%"},{"$f":"SUM(O134:U134)","v":10},3,null,1,null,1,null,5,2]
["전라남도","여수시","도시재생과","도시재생위원회","도시재생 활성화 및 지원에 관한 특별법(제8조)\n 및 동법 시행령 10조","여수시 도시재생 활성화 및 지원에 관한 조례 제5조",19,4,15,2,0,2,{"$f":"IFERROR(L135/I135,\"해당없음\")","v":{"v":0.13333333333333333,"d":"13.3%"}},19,4,0,1,2,7,5,null,2]
["전라남도","여수시","도로시설관리과","도로관리심의회","도로법 시행령 63조","여수시 각종 위원회 구성 및 운영조례 제6조4항",22,11,11,6,null,6,{"v":0.5454545454545454,"d":"54.5%"},22,11,1,1,null,1,7,1,"2년"]
["전라남도","여수시","공원과","도시공원위원회","도시공원 및 녹지 등에 관한법률 제50조","여수시 도시공원 및 녹지 등에 관한 조례 제48조",12,5,7,0,null,null,{"v":0,"d":"0.0%"},12,5,null,2,null,5]
["전라남도","여수시","상수도과","수돗물평가위원회","수도법 제30조","여수시수돗물평가위원회 운영 조례제3조",13,1,12,6,null,6,{"v":0.5,"d":"50.0%"},13,2,null,1,null,2,null,8,2]
["전라남도","여수시","하수도과","공공하수 처리시설 관리대행 성과평가위원회","하수도법 제15조의3",null,{"$f":"H139+I139","v":5},null,5,{"$f":"K139+L139","v":0},null,null,{"v":0,"d":"0.0%"},5,{"$nulls":4},5,null,null,"2년"]
["전라남도","여수시","하수도과","2005년 BTL사업\n성과평가위원회","하수관거 정비 BTL시행지침","2005년 여수시 하수관거정비 BTL사업』실시협약",9,2,7,0,null,null,{"v":0,"d":"0.0%"},9,2,{"$nulls":3},2,4,1,"무기"]
["전라남도","여수시","하수도과","2008년 BTL사업\n성과평가위원회","하수관거 정비 BTL시행지침","2008년 여수시 하수관거정비 BTL사업』실시협약",8,2,6,0,null,null,{"v":0,"d":"0.0%"},8,2,{"$nulls":3},2,3,1,"무기"]
["전라남도","여수시","생활자원사업소","만흥위생매립장 주변마을 주민지원 협의체","폐기물처리시설 설치촉진 및 주변지역지원 등에 관한 법률","여수시 폐기물처리시설 설치·운영 및 주변지역 지원등에 관한 조례",15,null,15,0,0,0,{"v":0,"d":"0.0%"},15,null,null,1,null,2,12,null,2]