{"text_format":"3","workbook":"xlsx","n_sheets":3,"sheets":["1.총괄현황 집계표","1. 실태조사(위원회별)","2. 작성방법"],"not_rendered":{"defined_names":4,"comments":1},"read":"whole","date_system":"1900"}

{"sheet":"1.총괄현황 집계표","index":0,"n_rows":251,"n_cols":22,"rows_kept":251,"hidden":true,"merged":[[0,0,0,21],[4,0,4,1],[4,2,4,8],[4,9,4,15],[4,16,4,17],[4,18,6,18],[4,19,6,19],[4,20,4,21],[5,0,6,0],[5,1,6,1],[5,2,6,2],[5,3,6,3],[5,4,5,8],[5,9,6,9],[5,10,5,11],[5,12,6,12],[5,13,6,13],[5,14,6,14],[5,15,6,15],[5,16,6,16],[5,17,6,17],[5,20,6,20],[5,21,6,21]]}
["<서식1> 2018년 위원회 총괄 현황(지자체별)"]
["<작성방법> -서식변경금지 / 기준일 : '18.12.31"]
["1. <2.실태조사(위원회별)> 시트 작성후 본 시트 작성!"]
["2. 노란색 셀은 별도로 작성 금지(<2.실태조사(위원회별)> 시트 입력시 자동계산)"]
["자치단체명",null,"위원회 수 (시기별, 증감사유별)",{"$nulls":6},"위원회 수 (설치근거별)   *18년말 기준",{"$nulls":6},"위원 수",null,"1년간 평균\n회의개최 횟수\n(1개 위원회 기준)","1년간 미개최\n위원회 수","운영경비 (단위: 천원)"]
["광역","기초","17년말 기준\n(A)","18년말 기준\n(B)","증감 ('18.1~'18.12)      ※ B-A = a-b-c+d",{"$nulls":4},"계","법령",null,"조례","규칙","기타 규정","법적근거\n없는 경우","총 위원수","여성위원 수",null,null,"예산기준","결산기준"]
[{"$nulls":4},"소계 (B-A)","신설 (a)","폐지 (b)","통합 (c)","누락(d)",null,"강행","임의"]
[null,"계",{"$f":"SUBTOTAL(9,C9:C251)","v":{"v":2043,"d":"2,043"}},{"$f":"SUBTOTAL(9,D9:D251)","v":{"$error":"#REF!"}},{"$f":"SUBTOTAL(9,E9:E251)","v":{"$error":"#REF!"}},{"$error":"#REF!"},{"$error":"#REF!"},{"$error":"#REF!"},{"$error":"#REF!"},{"$f":"SUBTOTAL(9,J9:J251)","v":0},{"$f":"SUBTOTAL(9,K9:K251)","v":0},0,0,0,0,0,0,0,{"$f":"SUBTOTAL(1,S9:S251)","v":{"$error":"#DIV/0!"}},{"$f":"SUBTOTAL(9,T9:T251)","v":0},{"$f":"SUBTOTAL(9,U9:U251)","v":0},0]
["서울","서울특별시",194,{"$f":"C9+F9-G9-H9","v":{"$error":"#REF!"}},{"$f":"F9-G9-H9+I9","v":{"$error":"#REF!"}},{"$f":"COUNTIFS('1. 실태조사(위원회별)'!#REF!,'1.총괄현황 집계표'!$B9,'1. 실태조사(위원회별)'!$C$8:$C$5152,\"*\",'1. 실태조사(위원회별)'!#REF!,\"*\")","v":{"$error":"#REF!"}},{"$f":"COUNTIFS('1. 실태조사(위원회별)'!#REF!,'1.총괄현황 집계표'!$B9,'1. 실태조사(위원회별)'!$C$8:$C$5152,\"*\",'1. 실태조사(위원회별)'!#REF!,\"*\")","v":{"$error":"#REF!"}},{"$f":"COUNTIFS('1. 실태조사(위원회별)'!#REF!,'1.총괄현황 집계표'!$B9,'1. 실태조사(위원회별)'!$C$8:$C$5152,\"*\",'1. 실태조사(위원회별)'!#REF!,\"*\")","v":{"$error":"#REF!"}},{"$f":"COUNTIFS('1. 실태조사(위원회별)'!#REF!,'1.총괄현황 집계표'!$B9,'1. 실태조사(위원회별)'!$C$8:$C$5152,\"*\",'1. 실태조사(위원회별)'!#REF!,\"*\")","v":{"$error":"#REF!"}},{"$f":"SUM(K9:P9)","v":0}]
["서울","서울종로구",92,{"$f":"C10+F10-G10-H10","v":{"$error":"#REF!"}},{"$f":"F10-G10-H10+I10","v":{"$error":"#REF!"}},{"$f":"COUNTIFS('1. 실태조사(위원회별)'!#REF!,'1.총괄현황 집계표'!$B10,'1. 실태조사(위원회별)'!$C$8:$C$5152,\"*\",'1. 실태조사(위원회별)'!#REF!,\"*\")","v":{"$error":"#REF!"}},{"$f":"COUNTIFS('1. 실태조사(위원회별)'!#REF!,'1.총괄현황 집계표'!$B10,'1. 실태조사(위원회별)'!$C$8:$C$5152,\"*\",'1. 실태조사(위원회별)'!#REF!,\"*\")","v":{"$error":"#REF!"}},{"$f":"COUNTIFS('1. 실태조사(위원회별)'!#REF!,'1.총괄현황 집계표'!$B10,'1. 실태조사(위원회별)'!$C$8:$C$5152,\"*\",'1. 실태조사(위원회별)'!#REF!,\"*\")","v":{"$error":"#REF!"}},{"$f":"COUNTIFS('1. 실태조사(위원회별)'!#REF!,'1.총괄현황 집계표'!$B10,'1. 실태조사(위원회별)'!$C$8:$C$5152,\"*\",'1. 실태조사(위원회별)'!#REF!,\"*\")","v":{"$error":"#REF!"}},{"$f":"SUM(K10:P10)","v":0}]
["서울","서울중구",93,{"$error":"#REF!"},{"$error":"#REF!"},{"$f":"COUNTIFS('1. 실태조사(위원회별)'!#REF!,'1.총괄현황 집계표'!$B11,'1. 실태조사(위원회별)'!$C$8:$C$5152,\"*\",'1. 실태조사(위원회별)'!#REF!,\"*\")","v":{"$error":"#REF!"}},{"$f":"COUNTIFS('1. 실태조사(위원회별)'!#REF!,'1.총괄현황 집계표'!$B11,'1. 실태조사(위원회별)'!$C$8:$C$5152,\"*\",'1. 실태조사(위원회별)'!#REF!,\"*\")","v":{"$error":"#REF!"}},{"$f":"COUNTIFS('1. 실태조사(위원회별)'!#REF!,'1.총괄현황 집계표'!$B11,'1. 실태조사(위원회별)'!$C$8:$C$5152,\"*\",'1. 실태조사(위원회별)'!#REF!,\"*\")","v":{"$error":"#REF!"}},{"$f":"COUNTIFS('1. 실태조사(위원회별)'!#REF!,'1.총괄현황 집계표'!$B11,'1. 실태조사(위원회별)'!$C$8:$C$5152,\"*\",'1. 실태조사(위원회별)'!#REF!,\"*\")","v":{"$error":"#REF!"}},0]
["서울","서울용산구",79,{"$error":"#REF!"},{"$error":"#REF!"},{"$f":"COUNTIFS('1. 실태조사(위원회별)'!#REF!,'1.총괄현황 집계표'!$B12,'1. 실태조사(위원회별)'!$C$8:$C$5152,\"*\",'1. 실태조사(위원회별)'!#REF!,\"*\")","v":{"$error":"#REF!"}},{"$f":"COUNTIFS('1. 실태조사(위원회별)'!#REF!,'1.총괄현황 집계표'!$B12,'1. 실태조사(위원회별)'!$C$8:$C$5152,\"*\",'1. 실태조사(위원회별)'!#REF!,\"*\")","v":{"$error":"#REF!"}},{"$f":"COUNTIFS('1. 실태조사(위원회별)'!#REF!,'1.총괄현황 집계표'!$B12,'1. 실태조사(위원회별)'!$C$8:$C$5152,\"*\",'1. 실태조사(위원회별)'!#REF!,\"*\")","v":{"$error":"#REF!"}},{"$f":"COUNTIFS('1. 실태조사(위원회별)'!#REF!,'1.총괄현황 집계표'!$B12,'1. 실태조사(위원회별)'!$C$8:$C$5152,\"*\",'1. 실태조사(위원회별)'!#REF!,\"*\")","v":{"$error":"#REF!"}},0]
["서울","서울성동구",84,{"$error":"#REF!"},{"$error":"#REF!"},{"$f":"COUNTIFS('1. 실태조사(위원회별)'!#REF!,'1.총괄현황 집계표'!$B13,'1. 실태조사(위원회별)'!$C$8:$C$5152,\"*\",'1. 실태조사(위원회별)'!#REF!,\"*\")","v":{"$error":"#REF!"}},{"$f":"COUNTIFS('1. 실태조사(위원회별)'!#REF!,'1.총괄현황 집계표'!$B13,'1. 실태조사(위원회별)'!$C$8:$C$5152,\"*\",'1. 실태조사(위원회별)'!#REF!,\"*\")","v":{"$error":"#REF!"}},{"$f":"COUNTIFS('1. 실태조사(위원회별)'!#REF!,'1.총괄현황 집계표'!$B13,'1. 실태조사(위원회별)'!$C$8:$C$5152,\"*\",'1. 실태조사(위원회별)'!#REF!,\"*\")","v":{"$error":"#REF!"}},{"$f":"COUNTIFS('1. 실태조사(위원회별)'!#REF!,'1.총괄현황 집계표'!$B13,'1. 실태조사(위원회별)'!$C$8:$C$5152,\"*\",'1. 실태조사(위원회별)'!#REF!,\"*\")","v":{"$error":"#REF!"}},0]
["서울","서울광진구",81,{"$error":"#REF!"},{"$error":"#REF!"},{"$f":"COUNTIFS('1. 실태조사(위원회별)'!#REF!,'1.총괄현황 집계표'!$B14,'1. 실태조사(위원회별)'!$C$8:$C$5152,\"*\",'1. 실태조사(위원회별)'!#REF!,\"*\")","v":{"$error":"#REF!"}},{"$f":"COUNTIFS('1. 실태조사(위원회별)'!#REF!,'1.총괄현황 집계표'!$B14,'1. 실태조사(위원회별)'!$C$8:$C$5152,\"*\",'1. 실태조사(위원회별)'!#REF!,\"*\")","v":{"$error":"#REF!"}},{"$f":"COUNTIFS('1. 실태조사(위원회별)'!#REF!,'1.총괄현황 집계표'!$B14,'1. 실태조사(위원회별)'!$C$8:$C$5152,\"*\",'1. 실태조사(위원회별)'!#REF!,\"*\")","v":{"$error":"#REF!"}},{"$f":"COUNTIFS('1. 실태조사(위원회별)'!#REF!,'1.총괄현황 집계표'!$B14,'1. 실태조사(위원회별)'!$C$8:$C$5152,\"*\",'1. 실태조사(위원회별)'!#REF!,\"*\")","v":{"$error":"#REF!"}},0]
["서울","서울동대문구",96,{"$error":"#REF!"},{"$error":"#REF!"},{"$f":"COUNTIFS('1. 실태조사(위원회별)'!#REF!,'1.총괄현황 집계표'!$B15,'1. 실태조사(위원회별)'!$C$8:$C$5152,\"*\",'1. 실태조사(위원회별)'!#REF!,\"*\")","v":{"$error":"#REF!"}},{"$f":"COUNTIFS('1. 실태조사(위원회별)'!#REF!,'1.총괄현황 집계표'!$B15,'1. 실태조사(위원회별)'!$C$8:$C$5152,\"*\",'1. 실태조사(위원회별)'!#REF!,\"*\")","v":{"$error":"#REF!"}},{"$f":"COUNTIFS('1. 실태조사(위원회별)'!#REF!,'1.총괄현황 집계표'!$B15,'1. 실태조사(위원회별)'!$C$8:$C$5152,\"*\",'1. 실태조사(위원회별)'!#REF!,\"*\")","v":{"$error":"#REF!"}},{"$f":"COUNTIFS('1. 실태조사(위원회별)'!#REF!,'1.총괄현황 집계표'!$B15,'1. 실태조사(위원회별)'!$C$8:$C$5152,\"*\",'1. 실태조사(위원회별)'!#REF!,\"*\")","v":{"$error":"#REF!"}},0]
["서울","서울중랑구",90,{"$error":"#REF!"},{"$error":"#REF!"},{"$f":"COUNTIFS('1. 실태조사(위원회별)'!#REF!,'1.총괄현황 집계표'!$B16,'1. 실태조사(위원회별)'!$C$8:$C$5152,\"*\",'1. 실태조사(위원회별)'!#REF!,\"*\")","v":{"$error":"#REF!"}},{"$f":"COUNTIFS('1. 실태조사(위원회별)'!#REF!,'1.총괄현황 집계표'!$B16,'1. 실태조사(위원회별)'!$C$8:$C$5152,\"*\",'1. 실태조사(위원회별)'!#REF!,\"*\")","v":{"$error":"#REF!"}},{"$f":"COUNTIFS('1. 실태조사(위원회별)'!#REF!,'1.총괄현황 집계표'!$B16,'1. 실태조사(위원회별)'!$C$8:$C$5152,\"*\",'1. 실태조사(위원회별)'!#REF!,\"*\")","v":{"$error":"#REF!"}},{"$f":"COUNTIFS('1. 실태조사(위원회별)'!#REF!,'1.총괄현황 집계표'!$B16,'1. 실태조사(위원회별)'!$C$8:$C$5152,\"*\",'1. 실태조사(위원회별)'!#REF!,\"*\")","v":{"$error":"#REF!"}},0]
["서울","서울성북구",131,{"$error":"#REF!"},{"$error":"#REF!"},{"$f":"COUNTIFS('1. 실태조사(위원회별)'!#REF!,'1.총괄현황 집계표'!$B17,'1. 실태조사(위원회별)'!$C$8:$C$5152,\"*\",'1. 실태조사(위원회별)'!#REF!,\"*\")","v":{"$error":"#REF!"}},{"$f":"COUNTIFS('1. 실태조사(위원회별)'!#REF!,'1.총괄현황 집계표'!$B17,'1. 실태조사(위원회별)'!$C$8:$C$5152,\"*\",'1. 실태조사(위원회별)'!#REF!,\"*\")","v":{"$error":"#REF!"}},{"$f":"COUNTIFS('1. 실태조사(위원회별)'!#REF!,'1.총괄현황 집계표'!$B17,'1. 실태조사(위원회별)'!$C$8:$C$5152,\"*\",'1. 실태조사(위원회별)'!#REF!,\"*\")","v":{"$error":"#REF!"}},{"$f":"COUNTIFS('1. 실태조사(위원회별)'!#REF!,'1.총괄현황 집계표'!$B17,'1. 실태조사(위원회별)'!$C$8:$C$5152,\"*\",'1. 실태조사(위원회별)'!#REF!,\"*\")","v":{"$error":"#REF!"}},0]
["서울","서울강북구",118,{"$error":"#REF!"},{"$error":"#REF!"},{"$f":"COUNTIFS('1. 실태조사(위원회별)'!#REF!,'1.총괄현황 집계표'!$B18,'1. 실태조사(위원회별)'!$C$8:$C$5152,\"*\",'1. 실태조사(위원회별)'!#REF!,\"*\")","v":{"$error":"#REF!"}},{"$f":"COUNTIFS('1. 실태조사(위원회별)'!#REF!,'1.총괄현황 집계표'!$B18,'1. 실태조사(위원회별)'!$C$8:$C$5152,\"*\",'1. 실태조사(위원회별)'!#REF!,\"*\")","v":{"$error":"#REF!"}},{"$f":"COUNTIFS('1. 실태조사(위원회별)'!#REF!,'1.총괄현황 집계표'!$B18,'1. 실태조사(위원회별)'!$C$8:$C$5152,\"*\",'1. 실태조사(위원회별)'!#REF!,\"*\")","v":{"$error":"#REF!"}},{"$f":"COUNTIFS('1. 실태조사(위원회별)'!#REF!,'1.총괄현황 집계표'!$B18,'1. 실태조사(위원회별)'!$C$8:$C$5152,\"*\",'1. 실태조사(위원회별)'!#REF!,\"*\")","v":{"$error":"#REF!"}},0]
["서울","서울도봉구",98,{"$error":"#REF!"},{"$error":"#REF!"},{"$f":"COUNTIFS('1. 실태조사(위원회별)'!#REF!,'1.총괄현황 집계표'!$B19,'1. 실태조사(위원회별)'!$C$8:$C$5152,\"*\",'1. 실태조사(위원회별)'!#REF!,\"*\")","v":{"$error":"#REF!"}},{"$f":"COUNTIFS('1. 실태조사(위원회별)'!#REF!,'1.총괄현황 집계표'!$B19,'1. 실태조사(위원회별)'!$C$8:$C$5152,\"*\",'1. 실태조사(위원회별)'!#REF!,\"*\")","v":{"$error":"#REF!"}},{"$f":"COUNTIFS('1. 실태조사(위원회별)'!#REF!,'1.총괄현황 집계표'!$B19,'1. 실태조사(위원회별)'!$C$8:$C$5152,\"*\",'1. 실태조사(위원회별)'!#REF!,\"*\")","v":{"$error":"#REF!"}},{"$f":"COUNTIFS('1. 실태조사(위원회별)'!#REF!,'1.총괄현황 집계표'!$B19,'1. 실태조사(위원회별)'!$C$8:$C$5152,\"*\",'1. 실태조사(위원회별)'!#REF!,\"*\")","v":{"$error":"#REF!"}},0]
["서울","서울노원구",107,{"$error":"#REF!"},{"$error":"#REF!"},{"$f":"COUNTIFS('1. 실태조사(위원회별)'!#REF!,'1.총괄현황 집계표'!$B20,'1. 실태조사(위원회별)'!$C$8:$C$5152,\"*\",'1. 실태조사(위원회별)'!#REF!,\"*\")","v":{"$error":"#REF!"}},{"$f":"COUNTIFS('1. 실태조사(위원회별)'!#REF!,'1.총괄현황 집계표'!$B20,'1. 실태조사(위원회별)'!$C$8:$C$5152,\"*\",'1. 실태조사(위원회별)'!#REF!,\"*\")","v":{"$error":"#REF!"}},{"$f":"COUNTIFS('1. 실태조사(위원회별)'!#REF!,'1.총괄현황 집계표'!$B20,'1. 실태조사(위원회별)'!$C$8:$C$5152,\"*\",'1. 실태조사(위원회별)'!#REF!,\"*\")","v":{"$error":"#REF!"}},{"$f":"COUNTIFS('1. 실태조사(위원회별)'!#REF!,'1.총괄현황 집계표'!$B20,'1. 실태조사(위원회별)'!$C$8:$C$5152,\"*\",'1. 실태조사(위원회별)'!#REF!,\"*\")","v":{"$error":"#REF!"}},0]
["서울","서울은평구",106,{"$error":"#REF!"},{"$error":"#REF!"},{"$f":"COUNTIFS('1. 실태조사(위원회별)'!#REF!,'1.총괄현황 집계표'!$B21,'1. 실태조사(위원회별)'!$C$8:$C$5152,\"*\",'1. 실태조사(위원회별)'!#REF!,\"*\")","v":{"$error":"#REF!"}},{"$f":"COUNTIFS('1. 실태조사(위원회별)'!#REF!,'1.총괄현황 집계표'!$B21,'1. 실태조사(위원회별)'!$C$8:$C$5152,\"*\",'1. 실태조사(위원회별)'!#REF!,\"*\")","v":{"$error":"#REF!"}},{"$f":"COUNTIFS('1. 실태조사(위원회별)'!#REF!,'1.총괄현황 집계표'!$B21,'1. 실태조사(위원회별)'!$C$8:$C$5152,\"*\",'1. 실태조사(위원회별)'!#REF!,\"*\")","v":{"$error":"#REF!"}},{"$f":"COUNTIFS('1. 실태조사(위원회별)'!#REF!,'1.총괄현황 집계표'!$B21,'1. 실태조사(위원회별)'!$C$8:$C$5152,\"*\",'1. 실태조사(위원회별)'!#REF!,\"*\")","v":{"$error":"#REF!"}},0]
["서울","서울서대문구",84,{"$error":"#REF!"},{"$error":"#REF!"},{"$f":"COUNTIFS('1. 실태조사(위원회별)'!#REF!,'1.총괄현황 집계표'!$B22,'1. 실태조사(위원회별)'!$C$8:$C$5152,\"*\",'1. 실태조사(위원회별)'!#REF!,\"*\")","v":{"$error":"#REF!"}},{"$f":"COUNTIFS('1. 실태조사(위원회별)'!#REF!,'1.총괄현황 집계표'!$B22,'1. 실태조사(위원회별)'!$C$8:$C$5152,\"*\",'1. 실태조사(위원회별)'!#REF!,\"*\")","v":{"$error":"#REF!"}},{"$f":"COUNTIFS('1. 실태조사(위원회별)'!#REF!,'1.총괄현황 집계표'!$B22,'1. 실태조사(위원회별)'!$C$8:$C$5152,\"*\",'1. 실태조사(위원회별)'!#REF!,\"*\")","v":{"$error":"#REF!"}},{"$f":"COUNTIFS('1. 실태조사(위원회별)'!#REF!,'1.총괄현황 집계표'!$B22,'1. 실태조사(위원회별)'!$C$8:$C$5152,\"*\",'1. 실태조사(위원회별)'!#REF!,\"*\")","v":{"$error":"#REF!"}},0]
["서울","서울마포구",107,{"$error":"#REF!"},{"$error":"#REF!"},{"$f":"COUNTIFS('1. 실태조사(위원회별)'!#REF!,'1.총괄현황 집계표'!$B23,'1. 실태조사(위원회별)'!$C$8:$C$5152,\"*\",'1. 실태조사(위원회별)'!#REF!,\"*\")","v":{"$error":"#REF!"}},{"$f":"COUNTIFS('1. 실태조사(위원회별)'!#REF!,'1.총괄현황 집계표'!$B23,'1. 실태조사(위원회별)'!$C$8:$C$5152,\"*\",'1. 실태조사(위원회별)'!#REF!,\"*\")","v":{"$error":"#REF!"}},{"$f":"COUNTIFS('1. 실태조사(위원회별)'!#REF!,'1.총괄현황 집계표'!$B23,'1. 실태조사(위원회별)'!$C$8:$C$5152,\"*\",'1. 실태조사(위원회별)'!#REF!,\"*\")","v":{"$error":"#REF!"}},{"$f":"COUNTIFS('1. 실태조사(위원회별)'!#REF!,'1.총괄현황 집계표'!$B23,'1. 실태조사(위원회별)'!$C$8:$C$5152,\"*\",'1. 실태조사(위원회별)'!#REF!,\"*\")","v":{"$error":"#REF!"}},0]
["서울","서울양천구",104,{"$error":"#REF!"},{"$error":"#REF!"},{"$f":"COUNTIFS('1. 실태조사(위원회별)'!#REF!,'1.총괄현황 집계표'!$B24,'1. 실태조사(위원회별)'!$C$8:$C$5152,\"*\",'1. 실태조사(위원회별)'!#REF!,\"*\")","v":{"$error":"#REF!"}},{"$f":"COUNTIFS('1. 실태조사(위원회별)'!#REF!,'1.총괄현황 집계표'!$B24,'1. 실태조사(위원회별)'!$C$8:$C$5152,\"*\",'1. 실태조사(위원회별)'!#REF!,\"*\")","v":{"$error":"#REF!"}},{"$f":"COUNTIFS('1. 실태조사(위원회별)'!#REF!,'1.총괄현황 집계표'!$B24,'1. 실태조사(위원회별)'!$C$8:$C$5152,\"*\",'1. 실태조사(위원회별)'!#REF!,\"*\")","v":{"$error":"#REF!"}},{"$f":"COUNTIFS('1. 실태조사(위원회별)'!#REF!,'1.총괄현황 집계표'!$B24,'1. 실태조사(위원회별)'!$C$8:$C$5152,\"*\",'1. 실태조사(위원회별)'!#REF!,\"*\")","v":{"$error":"#REF!"}},0]
["서울","서울강서구",97,{"$error":"#REF!"},{"$error":"#REF!"},{"$f":"COUNTIFS('1. 실태조사(위원회별)'!#REF!,'1.총괄현황 집계표'!$B25,'1. 실태조사(위원회별)'!$C$8:$C$5152,\"*\",'1. 실태조사(위원회별)'!#REF!,\"*\")","v":{"$error":"#REF!"}},{"$f":"COUNTIFS('1. 실태조사(위원회별)'!#REF!,'1.총괄현황 집계표'!$B25,'1. 실태조사(위원회별)'!$C$8:$C$5152,\"*\",'1. 실태조사(위원회별)'!#REF!,\"*\")","v":{"$error":"#REF!"}},{"$f":"COUNTIFS('1. 실태조사(위원회별)'!#REF!,'1.총괄현황 집계표'!$B25,'1. 실태조사(위원회별)'!$C$8:$C$5152,\"*\",'1. 실태조사(위원회별)'!#REF!,\"*\")","v":{"$error":"#REF!"}},{"$f":"COUNTIFS('1. 실태조사(위원회별)'!#REF!,'1.총괄현황 집계표'!$B25,'1. 실태조사(위원회별)'!$C$8:$C$5152,\"*\",'1. 실태조사(위원회별)'!#REF!,\"*\")","v":{"$error":"#REF!"}},0]
["서울","서울구로구",98,{"$error":"#REF!"},{"$error":"#REF!"},{"$f":"COUNTIFS('1. 실태조사(위원회별)'!#REF!,'1.총괄현황 집계표'!$B26,'1. 실태조사(위원회별)'!$C$8:$C$5152,\"*\",'1. 실태조사(위원회별)'!#REF!,\"*\")","v":{"$error":"#REF!"}},{"$f":"COUNTIFS('1. 실태조사(위원회별)'!#REF!,'1.총괄현황 집계표'!$B26,'1. 실태조사(위원회별)'!$C$8:$C$5152,\"*\",'1. 실태조사(위원회별)'!#REF!,\"*\")","v":{"$error":"#REF!"}},{"$f":"COUNTIFS('1. 실태조사(위원회별)'!#REF!,'1.총괄현황 집계표'!$B26,'1. 실태조사(위원회별)'!$C$8:$C$5152,\"*\",'1. 실태조사(위원회별)'!#REF!,\"*\")","v":{"$error":"#REF!"}},{"$f":"COUNTIFS('1. 실태조사(위원회별)'!#REF!,'1.총괄현황 집계표'!$B26,'1. 실태조사(위원회별)'!$C$8:$C$5152,\"*\",'1. 실태조사(위원회별)'!#REF!,\"*\")","v":{"$error":"#REF!"}},0]
["서울","서울금천구",87,{"$error":"#REF!"},{"$error":"#REF!"},{"$f":"COUNTIFS('1. 실태조사(위원회별)'!#REF!,'1.총괄현황 집계표'!$B27,'1. 실태조사(위원회별)'!$C$8:$C$5152,\"*\",'1. 실태조사(위원회별)'!#REF!,\"*\")","v":{"$error":"#REF!"}},{"$f":"COUNTIFS('1. 실태조사(위원회별)'!#REF!,'1.총괄현황 집계표'!$B27,'1. 실태조사(위원회별)'!$C$8:$C$5152,\"*\",'1. 실태조사(위원회별)'!#REF!,\"*\")","v":{"$error":"#REF!"}},{"$f":"COUNTIFS('1. 실태조사(위원회별)'!#REF!,'1.총괄현황 집계표'!$B27,'1. 실태조사(위원회별)'!$C$8:$C$5152,\"*\",'1. 실태조사(위원회별)'!#REF!,\"*\")","v":{"$error":"#REF!"}},{"$f":"COUNTIFS('1. 실태조사(위원회별)'!#REF!,'1.총괄현황 집계표'!$B27,'1. 실태조사(위원회별)'!$C$8:$C$5152,\"*\",'1. 실태조사(위원회별)'!#REF!,\"*\")","v":{"$error":"#REF!"}},0]
["서울","서울영등포구",93,{"$error":"#REF!"},{"$error":"#REF!"},{"$f":"COUNTIFS('1. 실태조사(위원회별)'!#REF!,'1.총괄현황 집계표'!$B28,'1. 실태조사(위원회별)'!$C$8:$C$5152,\"*\",'1. 실태조사(위원회별)'!#REF!,\"*\")","v":{"$error":"#REF!"}},{"$f":"COUNTIFS('1. 실태조사(위원회별)'!#REF!,'1.총괄현황 집계표'!$B28,'1. 실태조사(위원회별)'!$C$8:$C$5152,\"*\",'1. 실태조사(위원회별)'!#REF!,\"*\")","v":{"$error":"#REF!"}},{"$f":"COUNTIFS('1. 실태조사(위원회별)'!#REF!,'1.총괄현황 집계표'!$B28,'1. 실태조사(위원회별)'!$C$8:$C$5152,\"*\",'1. 실태조사(위원회별)'!#REF!,\"*\")","v":{"$error":"#REF!"}},{"$f":"COUNTIFS('1. 실태조사(위원회별)'!#REF!,'1.총괄현황 집계표'!$B28,'1. 실태조사(위원회별)'!$C$8:$C$5152,\"*\",'1. 실태조사(위원회별)'!#REF!,\"*\")","v":{"$error":"#REF!"}},0]
["서울","서울동작구",97,{"$error":"#REF!"},{"$error":"#REF!"},{"$f":"COUNTIFS('1. 실태조사(위원회별)'!#REF!,'1.총괄현황 집계표'!$B29,'1. 실태조사(위원회별)'!$C$8:$C$5152,\"*\",'1. 실태조사(위원회별)'!#REF!,\"*\")","v":{"$error":"#REF!"}},{"$f":"COUNTIFS('1. 실태조사(위원회별)'!#REF!,'1.총괄현황 집계표'!$B29,'1. 실태조사(위원회별)'!$C$8:$C$5152,\"*\",'1. 실태조사(위원회별)'!#REF!,\"*\")","v":{"$error":"#REF!"}},{"$f":"COUNTIFS('1. 실태조사(위원회별)'!#REF!,'1.총괄현황 집계표'!$B29,'1. 실태조사(위원회별)'!$C$8:$C$5152,\"*\",'1. 실태조사(위원회별)'!#REF!,\"*\")","v":{"$error":"#REF!"}},{"$f":"COUNTIFS('1. 실태조사(위원회별)'!#REF!,'1.총괄현황 집계표'!$B29,'1. 실태조사(위원회별)'!$C$8:$C$5152,\"*\",'1. 실태조사(위원회별)'!#REF!,\"*\")","v":{"$error":"#REF!"}},0]
["서울","서울관악구",108,{"$error":"#REF!"},{"$error":"#REF!"},{"$f":"COUNTIFS('1. 실태조사(위원회별)'!#REF!,'1.총괄현황 집계표'!$B30,'1. 실태조사(위원회별)'!$C$8:$C$5152,\"*\",'1. 실태조사(위원회별)'!#REF!,\"*\")","v":{"$error":"#REF!"}},{"$f":"COUNTIFS('1. 실태조사(위원회별)'!#REF!,'1.총괄현황 집계표'!$B30,'1. 실태조사(위원회별)'!$C$8:$C$5152,\"*\",'1. 실태조사(위원회별)'!#REF!,\"*\")","v":{"$error":"#REF!"}},{"$f":"COUNTIFS('1. 실태조사(위원회별)'!#REF!,'1.총괄현황 집계표'!$B30,'1. 실태조사(위원회별)'!$C$8:$C$5152,\"*\",'1. 실태조사(위원회별)'!#REF!,\"*\")","v":{"$error":"#REF!"}},{"$f":"COUNTIFS('1. 실태조사(위원회별)'!#REF!,'1.총괄현황 집계표'!$B30,'1. 실태조사(위원회별)'!$C$8:$C$5152,\"*\",'1. 실태조사(위원회별)'!#REF!,\"*\")","v":{"$error":"#REF!"}},0]
["서울","서울서초구",98,{"$error":"#REF!"},{"$error":"#REF!"},{"$f":"COUNTIFS('1. 실태조사(위원회별)'!#REF!,'1.총괄현황 집계표'!$B31,'1. 실태조사(위원회별)'!$C$8:$C$5152,\"*\",'1. 실태조사(위원회별)'!#REF!,\"*\")","v":{"$error":"#REF!"}},{"$f":"COUNTIFS('1. 실태조사(위원회별)'!#REF!,'1.총괄현황 집계표'!$B31,'1. 실태조사(위원회별)'!$C$8:$C$5152,\"*\",'1. 실태조사(위원회별)'!#REF!,\"*\")","v":{"$error":"#REF!"}},{"$f":"COUNTIFS('1. 실태조사(위원회별)'!#REF!,'1.총괄현황 집계표'!$B31,'1. 실태조사(위원회별)'!$C$8:$C$5152,\"*\",'1. 실태조사(위원회별)'!#REF!,\"*\")","v":{"$error":"#REF!"}},{"$f":"COUNTIFS('1. 실태조사(위원회별)'!#REF!,'1.총괄현황 집계표'!$B31,'1. 실태조사(위원회별)'!$C$8:$C$5152,\"*\",'1. 실태조사(위원회별)'!#REF!,\"*\")","v":{"$error":"#REF!"}},0]
["서울","서울강남구",104,{"$error":"#REF!"},{"$error":"#REF!"},{"$f":"COUNTIFS('1. 실태조사(위원회별)'!#REF!,'1.총괄현황 집계표'!$B32,'1. 실태조사(위원회별)'!$C$8:$C$5152,\"*\",'1. 실태조사(위원회별)'!#REF!,\"*\")","v":{"$error":"#REF!"}},{"$f":"COUNTIFS('1. 실태조사(위원회별)'!#REF!,'1.총괄현황 집계표'!$B32,'1. 실태조사(위원회별)'!$C$8:$C$5152,\"*\",'1. 실태조사(위원회별)'!#REF!,\"*\")","v":{"$error":"#REF!"}},{"$f":"COUNTIFS('1. 실태조사(위원회별)'!#REF!,'1.총괄현황 집계표'!$B32,'1. 실태조사(위원회별)'!$C$8:$C$5152,\"*\",'1. 실태조사(위원회별)'!#REF!,\"*\")","v":{"$error":"#REF!"}},{"$f":"COUNTIFS('1. 실태조사(위원회별)'!#REF!,'1.총괄현황 집계표'!$B32,'1. 실태조사(위원회별)'!$C$8:$C$5152,\"*\",'1. 실태조사(위원회별)'!#REF!,\"*\")","v":{"$error":"#REF!"}},0]
["서울","서울송파구",83,{"$error":"#REF!"},{"$error":"#REF!"},{"$f":"COUNTIFS('1. 실태조사(위원회별)'!#REF!,'1.총괄현황 집계표'!$B33,'1. 실태조사(위원회별)'!$C$8:$C$5152,\"*\",'1. 실태조사(위원회별)'!#REF!,\"*\")","v":{"$error":"#REF!"}},{"$f":"COUNTIFS('1. 실태조사(위원회별)'!#REF!,'1.총괄현황 집계표'!$B33,'1. 실태조사(위원회별)'!$C$8:$C$5152,\"*\",'1. 실태조사(위원회별)'!#REF!,\"*\")","v":{"$error":"#REF!"}},{"$f":"COUNTIFS('1. 실태조사(위원회별)'!#REF!,'1.총괄현황 집계표'!$B33,'1. 실태조사(위원회별)'!$C$8:$C$5152,\"*\",'1. 실태조사(위원회별)'!#REF!,\"*\")","v":{"$error":"#REF!"}},{"$f":"COUNTIFS('1. 실태조사(위원회별)'!#REF!,'1.총괄현황 집계표'!$B33,'1. 실태조사(위원회별)'!$C$8:$C$5152,\"*\",'1. 실태조사(위원회별)'!#REF!,\"*\")","v":{"$error":"#REF!"}},0]
["서울","서울강동구",113,{"$error":"#REF!"},{"$error":"#REF!"},{"$f":"COUNTIFS('1. 실태조사(위원회별)'!#REF!,'1.총괄현황 집계표'!$B34,'1. 실태조사(위원회별)'!$C$8:$C$5152,\"*\",'1. 실태조사(위원회별)'!#REF!,\"*\")","v":{"$error":"#REF!"}},{"$f":"COUNTIFS('1. 실태조사(위원회별)'!#REF!,'1.총괄현황 집계표'!$B34,'1. 실태조사(위원회별)'!$C$8:$C$5152,\"*\",'1. 실태조사(위원회별)'!#REF!,\"*\")","v":{"$error":"#REF!"}},{"$f":"COUNTIFS('1. 실태조사(위원회별)'!#REF!,'1.총괄현황 집계표'!$B34,'1. 실태조사(위원회별)'!$C$8:$C$5152,\"*\",'1. 실태조사(위원회별)'!#REF!,\"*\")","v":{"$error":"#REF!"}},{"$f":"COUNTIFS('1. 실태조사(위원회별)'!#REF!,'1.총괄현황 집계표'!$B34,'1. 실태조사(위원회별)'!$C$8:$C$5152,\"*\",'1. 실태조사(위원회별)'!#REF!,\"*\")","v":{"$error":"#REF!"}},0]
["부산","부산광역시",186,{"$error":"#REF!"},{"$error":"#REF!"},{"$f":"COUNTIFS('1. 실태조사(위원회별)'!#REF!,'1.총괄현황 집계표'!$B35,'1. 실태조사(위원회별)'!$C$8:$C$5152,\"*\",'1. 실태조사(위원회별)'!#REF!,\"*\")","v":{"$error":"#REF!"}},{"$f":"COUNTIFS('1. 실태조사(위원회별)'!#REF!,'1.총괄현황 집계표'!$B35,'1. 실태조사(위원회별)'!$C$8:$C$5152,\"*\",'1. 실태조사(위원회별)'!#REF!,\"*\")","v":{"$error":"#REF!"}},{"$f":"COUNTIFS('1. 실태조사(위원회별)'!#REF!,'1.총괄현황 집계표'!$B35,'1. 실태조사(위원회별)'!$C$8:$C$5152,\"*\",'1. 실태조사(위원회별)'!#REF!,\"*\")","v":{"$error":"#REF!"}},{"$f":"COUNTIFS('1. 실태조사(위원회별)'!#REF!,'1.총괄현황 집계표'!$B35,'1. 실태조사(위원회별)'!$C$8:$C$5152,\"*\",'1. 실태조사(위원회별)'!#REF!,\"*\")","v":{"$error":"#REF!"}},0]
["부산","부산중구",72,{"$error":"#REF!"},{"$error":"#REF!"},{"$f":"COUNTIFS('1. 실태조사(위원회별)'!#REF!,'1.총괄현황 집계표'!$B36,'1. 실태조사(위원회별)'!$C$8:$C$5152,\"*\",'1. 실태조사(위원회별)'!#REF!,\"*\")","v":{"$error":"#REF!"}},{"$f":"COUNTIFS('1. 실태조사(위원회별)'!#REF!,'1.총괄현황 집계표'!$B36,'1. 실태조사(위원회별)'!$C$8:$C$5152,\"*\",'1. 실태조사(위원회별)'!#REF!,\"*\")","v":{"$error":"#REF!"}},{"$f":"COUNTIFS('1. 실태조사(위원회별)'!#REF!,'1.총괄현황 집계표'!$B36,'1. 실태조사(위원회별)'!$C$8:$C$5152,\"*\",'1. 실태조사(위원회별)'!#REF!,\"*\")","v":{"$error":"#REF!"}},{"$f":"COUNTIFS('1. 실태조사(위원회별)'!#REF!,'1.총괄현황 집계표'!$B36,'1. 실태조사(위원회별)'!$C$8:$C$5152,\"*\",'1. 실태조사(위원회별)'!#REF!,\"*\")","v":{"$error":"#REF!"}},0]
["부산","부산서구",69,{"$error":"#REF!"},{"$error":"#REF!"},{"$f":"COUNTIFS('1. 실태조사(위원회별)'!#REF!,'1.총괄현황 집계표'!$B37,'1. 실태조사(위원회별)'!$C$8:$C$5152,\"*\",'1. 실태조사(위원회별)'!#REF!,\"*\")","v":{"$error":"#REF!"}},{"$f":"COUNTIFS('1. 실태조사(위원회별)'!#REF!,'1.총괄현황 집계표'!$B37,'1. 실태조사(위원회별)'!$C$8:$C$5152,\"*\",'1. 실태조사(위원회별)'!#REF!,\"*\")","v":{"$error":"#REF!"}},{"$f":"COUNTIFS('1. 실태조사(위원회별)'!#REF!,'1.총괄현황 집계표'!$B37,'1. 실태조사(위원회별)'!$C$8:$C$5152,\"*\",'1. 실태조사(위원회별)'!#REF!,\"*\")","v":{"$error":"#REF!"}},{"$f":"COUNTIFS('1. 실태조사(위원회별)'!#REF!,'1.총괄현황 집계표'!$B37,'1. 실태조사(위원회별)'!$C$8:$C$5152,\"*\",'1. 실태조사(위원회별)'!#REF!,\"*\")","v":{"$error":"#REF!"}},0]
["부산","부산동구",65,{"$error":"#REF!"},{"$error":"#REF!"},{"$f":"COUNTIFS('1. 실태조사(위원회별)'!#REF!,'1.총괄현황 집계표'!$B38,'1. 실태조사(위원회별)'!$C$8:$C$5152,\"*\",'1. 실태조사(위원회별)'!#REF!,\"*\")","v":{"$error":"#REF!"}},{"$f":"COUNTIFS('1. 실태조사(위원회별)'!#REF!,'1.총괄현황 집계표'!$B38,'1. 실태조사(위원회별)'!$C$8:$C$5152,\"*\",'1. 실태조사(위원회별)'!#REF!,\"*\")","v":{"$error":"#REF!"}},{"$f":"COUNTIFS('1. 실태조사(위원회별)'!#REF!,'1.총괄현황 집계표'!$B38,'1. 실태조사(위원회별)'!$C$8:$C$5152,\"*\",'1. 실태조사(위원회별)'!#REF!,\"*\")","v":{"$error":"#REF!"}},{"$f":"COUNTIFS('1. 실태조사(위원회별)'!#REF!,'1.총괄현황 집계표'!$B38,'1. 실태조사(위원회별)'!$C$8:$C$5152,\"*\",'1. 실태조사(위원회별)'!#REF!,\"*\")","v":{"$error":"#REF!"}},0]
["부산","부산영도구",68,{"$error":"#REF!"},{"$error":"#REF!"},{"$f":"COUNTIFS('1. 실태조사(위원회별)'!#REF!,'1.총괄현황 집계표'!$B39,'1. 실태조사(위원회별)'!$C$8:$C$5152,\"*\",'1. 실태조사(위원회별)'!#REF!,\"*\")","v":{"$error":"#REF!"}},{"$f":"COUNTIFS('1. 실태조사(위원회별)'!#REF!,'1.총괄현황 집계표'!$B39,'1. 실태조사(위원회별)'!$C$8:$C$5152,\"*\",'1. 실태조사(위원회별)'!#REF!,\"*\")","v":{"$error":"#REF!"}},{"$f":"COUNTIFS('1. 실태조사(위원회별)'!#REF!,'1.총괄현황 집계표'!$B39,'1. 실태조사(위원회별)'!$C$8:$C$5152,\"*\",'1. 실태조사(위원회별)'!#REF!,\"*\")","v":{"$error":"#REF!"}},{"$f":"COUNTIFS('1. 실태조사(위원회별)'!#REF!,'1.총괄현황 집계표'!$B39,'1. 실태조사(위원회별)'!$C$8:$C$5152,\"*\",'1. 실태조사(위원회별)'!#REF!,\"*\")","v":{"$error":"#REF!"}},0]
["부산","부산부산진구",73,{"$error":"#REF!"},{"$error":"#REF!"},{"$f":"COUNTIFS('1. 실태조사(위원회별)'!#REF!,'1.총괄현황 집계표'!$B40,'1. 실태조사(위원회별)'!$C$8:$C$5152,\"*\",'1. 실태조사(위원회별)'!#REF!,\"*\")","v":{"$error":"#REF!"}},{"$f":"COUNTIFS('1. 실태조사(위원회별)'!#REF!,'1.총괄현황 집계표'!$B40,'1. 실태조사(위원회별)'!$C$8:$C$5152,\"*\",'1. 실태조사(위원회별)'!#REF!,\"*\")","v":{"$error":"#REF!"}},{"$f":"COUNTIFS('1. 실태조사(위원회별)'!#REF!,'1.총괄현황 집계표'!$B40,'1. 실태조사(위원회별)'!$C$8:$C$5152,\"*\",'1. 실태조사(위원회별)'!#REF!,\"*\")","v":{"$error":"#REF!"}},{"$f":"COUNTIFS('1. 실태조사(위원회별)'!#REF!,'1.총괄현황 집계표'!$B40,'1. 실태조사(위원회별)'!$C$8:$C$5152,\"*\",'1. 실태조사(위원회별)'!#REF!,\"*\")","v":{"$error":"#REF!"}},0]
["부산","부산동래구",77,{"$error":"#REF!"},{"$error":"#REF!"},{"$f":"COUNTIFS('1. 실태조사(위원회별)'!#REF!,'1.총괄현황 집계표'!$B41,'1. 실태조사(위원회별)'!$C$8:$C$5152,\"*\",'1. 실태조사(위원회별)'!#REF!,\"*\")","v":{"$error":"#REF!"}},{"$f":"COUNTIFS('1. 실태조사(위원회별)'!#REF!,'1.총괄현황 집계표'!$B41,'1. 실태조사(위원회별)'!$C$8:$C$5152,\"*\",'1. 실태조사(위원회별)'!#REF!,\"*\")","v":{"$error":"#REF!"}},{"$f":"COUNTIFS('1. 실태조사(위원회별)'!#REF!,'1.총괄현황 집계표'!$B41,'1. 실태조사(위원회별)'!$C$8:$C$5152,\"*\",'1. 실태조사(위원회별)'!#REF!,\"*\")","v":{"$error":"#REF!"}},{"$f":"COUNTIFS('1. 실태조사(위원회별)'!#REF!,'1.총괄현황 집계표'!$B41,'1. 실태조사(위원회별)'!$C$8:$C$5152,\"*\",'1. 실태조사(위원회별)'!#REF!,\"*\")","v":{"$error":"#REF!"}},0]
["부산","부산남구",84,{"$error":"#REF!"},{"$error":"#REF!"},{"$f":"COUNTIFS('1. 실태조사(위원회별)'!#REF!,'1.총괄현황 집계표'!$B42,'1. 실태조사(위원회별)'!$C$8:$C$5152,\"*\",'1. 실태조사(위원회별)'!#REF!,\"*\")","v":{"$error":"#REF!"}},{"$f":"COUNTIFS('1. 실태조사(위원회별)'!#REF!,'1.총괄현황 집계표'!$B42,'1. 실태조사(위원회별)'!$C$8:$C$5152,\"*\",'1. 실태조사(위원회별)'!#REF!,\"*\")","v":{"$error":"#REF!"}},{"$f":"COUNTIFS('1. 실태조사(위원회별)'!#REF!,'1.총괄현황 집계표'!$B42,'1. 실태조사(위원회별)'!$C$8:$C$5152,\"*\",'1. 실태조사(위원회별)'!#REF!,\"*\")","v":{"$error":"#REF!"}},{"$f":"COUNTIFS('1. 실태조사(위원회별)'!#REF!,'1.총괄현황 집계표'!$B42,'1. 실태조사(위원회별)'!$C$8:$C$5152,\"*\",'1. 실태조사(위원회별)'!#REF!,\"*\")","v":{"$error":"#REF!"}},0]
["부산","부산북구",84,{"$error":"#REF!"},{"$error":"#REF!"},{"$f":"COUNTIFS('1. 실태조사(위원회별)'!#REF!,'1.총괄현황 집계표'!$B43,'1. 실태조사(위원회별)'!$C$8:$C$5152,\"*\",'1. 실태조사(위원회별)'!#REF!,\"*\")","v":{"$error":"#REF!"}},{"$f":"COUNTIFS('1. 실태조사(위원회별)'!#REF!,'1.총괄현황 집계표'!$B43,'1. 실태조사(위원회별)'!$C$8:$C$5152,\"*\",'1. 실태조사(위원회별)'!#REF!,\"*\")","v":{"$error":"#REF!"}},{"$f":"COUNTIFS('1. 실태조사(위원회별)'!#REF!,'1.총괄현황 집계표'!$B43,'1. 실태조사(위원회별)'!$C$8:$C$5152,\"*\",'1. 실태조사(위원회별)'!#REF!,\"*\")","v":{"$error":"#REF!"}},{"$f":"COUNTIFS('1. 실태조사(위원회별)'!#REF!,'1.총괄현황 집계표'!$B43,'1. 실태조사(위원회별)'!$C$8:$C$5152,\"*\",'1. 실태조사(위원회별)'!#REF!,\"*\")","v":{"$error":"#REF!"}},0]
["부산","부산해운대구",94,{"$error":"#REF!"},{"$error":"#REF!"},{"$f":"COUNTIFS('1. 실태조사(위원회별)'!#REF!,'1.총괄현황 집계표'!$B44,'1. 실태조사(위원회별)'!$C$8:$C$5152,\"*\",'1. 실태조사(위원회별)'!#REF!,\"*\")","v":{"$error":"#REF!"}},{"$f":"COUNTIFS('1. 실태조사(위원회별)'!#REF!,'1.총괄현황 집계표'!$B44,'1. 실태조사(위원회별)'!$C$8:$C$5152,\"*\",'1. 실태조사(위원회별)'!#REF!,\"*\")","v":{"$error":"#REF!"}},{"$f":"COUNTIFS('1. 실태조사(위원회별)'!#REF!,'1.총괄현황 집계표'!$B44,'1. 실태조사(위원회별)'!$C$8:$C$5152,\"*\",'1. 실태조사(위원회별)'!#REF!,\"*\")","v":{"$error":"#REF!"}},{"$f":"COUNTIFS('1. 실태조사(위원회별)'!#REF!,'1.총괄현황 집계표'!$B44,'1. 실태조사(위원회별)'!$C$8:$C$5152,\"*\",'1. 실태조사(위원회별)'!#REF!,\"*\")","v":{"$error":"#REF!"}},0]
["부산","부산사하구",89,{"$error":"#REF!"},{"$error":"#REF!"},{"$f":"COUNTIFS('1. 실태조사(위원회별)'!#REF!,'1.총괄현황 집계표'!$B45,'1. 실태조사(위원회별)'!$C$8:$C$5152,\"*\",'1. 실태조사(위원회별)'!#REF!,\"*\")","v":{"$error":"#REF!"}},{"$f":"COUNTIFS('1. 실태조사(위원회별)'!#REF!,'1.총괄현황 집계표'!$B45,'1. 실태조사(위원회별)'!$C$8:$C$5152,\"*\",'1. 실태조사(위원회별)'!#REF!,\"*\")","v":{"$error":"#REF!"}},{"$f":"COUNTIFS('1. 실태조사(위원회별)'!#REF!,'1.총괄현황 집계표'!$B45,'1. 실태조사(위원회별)'!$C$8:$C$5152,\"*\",'1. 실태조사(위원회별)'!#REF!,\"*\")","v":{"$error":"#REF!"}},{"$f":"COUNTIFS('1. 실태조사(위원회별)'!#REF!,'1.총괄현황 집계표'!$B45,'1. 실태조사(위원회별)'!$C$8:$C$5152,\"*\",'1. 실태조사(위원회별)'!#REF!,\"*\")","v":{"$error":"#REF!"}},0]
["부산","부산금정구",81,{"$error":"#REF!"},{"$error":"#REF!"},{"$f":"COUNTIFS('1. 실태조사(위원회별)'!#REF!,'1.총괄현황 집계표'!$B46,'1. 실태조사(위원회별)'!$C$8:$C$5152,\"*\",'1. 실태조사(위원회별)'!#REF!,\"*\")","v":{"$error":"#REF!"}},{"$f":"COUNTIFS('1. 실태조사(위원회별)'!#REF!,'1.총괄현황 집계표'!$B46,'1. 실태조사(위원회별)'!$C$8:$C$5152,\"*\",'1. 실태조사(위원회별)'!#REF!,\"*\")","v":{"$error":"#REF!"}},{"$f":"COUNTIFS('1. 실태조사(위원회별)'!#REF!,'1.총괄현황 집계표'!$B46,'1. 실태조사(위원회별)'!$C$8:$C$5152,\"*\",'1. 실태조사(위원회별)'!#REF!,\"*\")","v":{"$error":"#REF!"}},{"$f":"COUNTIFS('1. 실태조사(위원회별)'!#REF!,'1.총괄현황 집계표'!$B46,'1. 실태조사(위원회별)'!$C$8:$C$5152,\"*\",'1. 실태조사(위원회별)'!#REF!,\"*\")","v":{"$error":"#REF!"}},0]
["부산","부산강서구",62,{"$error":"#REF!"},{"$error":"#REF!"},{"$f":"COUNTIFS('1. 실태조사(위원회별)'!#REF!,'1.총괄현황 집계표'!$B47,'1. 실태조사(위원회별)'!$C$8:$C$5152,\"*\",'1. 실태조사(위원회별)'!#REF!,\"*\")","v":{"$error":"#REF!"}},{"$f":"COUNTIFS('1. 실태조사(위원회별)'!#REF!,'1.총괄현황 집계표'!$B47,'1. 실태조사(위원회별)'!$C$8:$C$5152,\"*\",'1. 실태조사(위원회별)'!#REF!,\"*\")","v":{"$error":"#REF!"}},{"$f":"COUNTIFS('1. 실태조사(위원회별)'!#REF!,'1.총괄현황 집계표'!$B47,'1. 실태조사(위원회별)'!$C$8:$C$5152,\"*\",'1. 실태조사(위원회별)'!#REF!,\"*\")","v":{"$error":"#REF!"}},{"$f":"COUNTIFS('1. 실태조사(위원회별)'!#REF!,'1.총괄현황 집계표'!$B47,'1. 실태조사(위원회별)'!$C$8:$C$5152,\"*\",'1. 실태조사(위원회별)'!#REF!,\"*\")","v":{"$error":"#REF!"}},0]
["부산","부산연제구",90,{"$error":"#REF!"},{"$error":"#REF!"},{"$f":"COUNTIFS('1. 실태조사(위원회별)'!#REF!,'1.총괄현황 집계표'!$B48,'1. 실태조사(위원회별)'!$C$8:$C$5152,\"*\",'1. 실태조사(위원회별)'!#REF!,\"*\")","v":{"$error":"#REF!"}},{"$f":"COUNTIFS('1. 실태조사(위원회별)'!#REF!,'1.총괄현황 집계표'!$B48,'1. 실태조사(위원회별)'!$C$8:$C$5152,\"*\",'1. 실태조사(위원회별)'!#REF!,\"*\")","v":{"$error":"#REF!"}},{"$f":"COUNTIFS('1. 실태조사(위원회별)'!#REF!,'1.총괄현황 집계표'!$B48,'1. 실태조사(위원회별)'!$C$8:$C$5152,\"*\",'1. 실태조사(위원회별)'!#REF!,\"*\")","v":{"$error":"#REF!"}},{"$f":"COUNTIFS('1. 실태조사(위원회별)'!#REF!,'1.총괄현황 집계표'!$B48,'1. 실태조사(위원회별)'!$C$8:$C$5152,\"*\",'1. 실태조사(위원회별)'!#REF!,\"*\")","v":{"$error":"#REF!"}},0]
["부산","부산수영구",93,{"$error":"#REF!"},{"$error":"#REF!"},{"$f":"COUNTIFS('1. 실태조사(위원회별)'!#REF!,'1.총괄현황 집계표'!$B49,'1. 실태조사(위원회별)'!$C$8:$C$5152,\"*\",'1. 실태조사(위원회별)'!#REF!,\"*\")","v":{"$error":"#REF!"}},{"$f":"COUNTIFS('1. 실태조사(위원회별)'!#REF!,'1.총괄현황 집계표'!$B49,'1. 실태조사(위원회별)'!$C$8:$C$5152,\"*\",'1. 실태조사(위원회별)'!#REF!,\"*\")","v":{"$error":"#REF!"}},{"$f":"COUNTIFS('1. 실태조사(위원회별)'!#REF!,'1.총괄현황 집계표'!$B49,'1. 실태조사(위원회별)'!$C$8:$C$5152,\"*\",'1. 실태조사(위원회별)'!#REF!,\"*\")","v":{"$error":"#REF!"}},{"$f":"COUNTIFS('1. 실태조사(위원회별)'!#REF!,'1.총괄현황 집계표'!$B49,'1. 실태조사(위원회별)'!$C$8:$C$5152,\"*\",'1. 실태조사(위원회별)'!#REF!,\"*\")","v":{"$error":"#REF!"}},0]
["부산","부산사상구",73,{"$error":"#REF!"},{"$error":"#REF!"},{"$f":"COUNTIFS('1. 실태조사(위원회별)'!#REF!,'1.총괄현황 집계표'!$B50,'1. 실태조사(위원회별)'!$C$8:$C$5152,\"*\",'1. 실태조사(위원회별)'!#REF!,\"*\")","v":{"$error":"#REF!"}},{"$f":"COUNTIFS('1. 실태조사(위원회별)'!#REF!,'1.총괄현황 집계표'!$B50,'1. 실태조사(위원회별)'!$C$8:$C$5152,\"*\",'1. 실태조사(위원회별)'!#REF!,\"*\")","v":{"$error":"#REF!"}},{"$f":"COUNTIFS('1. 실태조사(위원회별)'!#REF!,'1.총괄현황 집계표'!$B50,'1. 실태조사(위원회별)'!$C$8:$C$5152,\"*\",'1. 실태조사(위원회별)'!#REF!,\"*\")","v":{"$error":"#REF!"}},{"$f":"COUNTIFS('1. 실태조사(위원회별)'!#REF!,'1.총괄현황 집계표'!$B50,'1. 실태조사(위원회별)'!$C$8:$C$5152,\"*\",'1. 실태조사(위원회별)'!#REF!,\"*\")","v":{"$error":"#REF!"}},0]
["부산","부산기장군",87,{"$error":"#REF!"},{"$error":"#REF!"},{"$f":"COUNTIFS('1. 실태조사(위원회별)'!#REF!,'1.총괄현황 집계표'!$B51,'1. 실태조사(위원회별)'!$C$8:$C$5152,\"*\",'1. 실태조사(위원회별)'!#REF!,\"*\")","v":{"$error":"#REF!"}},{"$f":"COUNTIFS('1. 실태조사(위원회별)'!#REF!,'1.총괄현황 집계표'!$B51,'1. 실태조사(위원회별)'!$C$8:$C$5152,\"*\",'1. 실태조사(위원회별)'!#REF!,\"*\")","v":{"$error":"#REF!"}},{"$f":"COUNTIFS('1. 실태조사(위원회별)'!#REF!,'1.총괄현황 집계표'!$B51,'1. 실태조사(위원회별)'!$C$8:$C$5152,\"*\",'1. 실태조사(위원회별)'!#REF!,\"*\")","v":{"$error":"#REF!"}},{"$f":"COUNTIFS('1. 실태조사(위원회별)'!#REF!,'1.총괄현황 집계표'!$B51,'1. 실태조사(위원회별)'!$C$8:$C$5152,\"*\",'1. 실태조사(위원회별)'!#REF!,\"*\")","v":{"$error":"#REF!"}},0]
["대구","대구광역시",162,{"$error":"#REF!"},{"$error":"#REF!"},{"$f":"COUNTIFS('1. 실태조사(위원회별)'!#REF!,'1.총괄현황 집계표'!$B52,'1. 실태조사(위원회별)'!$C$8:$C$5152,\"*\",'1. 실태조사(위원회별)'!#REF!,\"*\")","v":{"$error":"#REF!"}},{"$f":"COUNTIFS('1. 실태조사(위원회별)'!#REF!,'1.총괄현황 집계표'!$B52,'1. 실태조사(위원회별)'!$C$8:$C$5152,\"*\",'1. 실태조사(위원회별)'!#REF!,\"*\")","v":{"$error":"#REF!"}},{"$f":"COUNTIFS('1. 실태조사(위원회별)'!#REF!,'1.총괄현황 집계표'!$B52,'1. 실태조사(위원회별)'!$C$8:$C$5152,\"*\",'1. 실태조사(위원회별)'!#REF!,\"*\")","v":{"$error":"#REF!"}},{"$f":"COUNTIFS('1. 실태조사(위원회별)'!#REF!,'1.총괄현황 집계표'!$B52,'1. 실태조사(위원회별)'!$C$8:$C$5152,\"*\",'1. 실태조사(위원회별)'!#REF!,\"*\")","v":{"$error":"#REF!"}},0]
["대구","대구중구",67,{"$error":"#REF!"},{"$error":"#REF!"},{"$f":"COUNTIFS('1. 실태조사(위원회별)'!#REF!,'1.총괄현황 집계표'!$B53,'1. 실태조사(위원회별)'!$C$8:$C$5152,\"*\",'1. 실태조사(위원회별)'!#REF!,\"*\")","v":{"$error":"#REF!"}},{"$f":"COUNTIFS('1. 실태조사(위원회별)'!#REF!,'1.총괄현황 집계표'!$B53,'1. 실태조사(위원회별)'!$C$8:$C$5152,\"*\",'1. 실태조사(위원회별)'!#REF!,\"*\")","v":{"$error":"#REF!"}},{"$f":"COUNTIFS('1. 실태조사(위원회별)'!#REF!,'1.총괄현황 집계표'!$B53,'1. 실태조사(위원회별)'!$C$8:$C$5152,\"*\",'1. 실태조사(위원회별)'!#REF!,\"*\")","v":{"$error":"#REF!"}},{"$f":"COUNTIFS('1. 실태조사(위원회별)'!#REF!,'1.총괄현황 집계표'!$B53,'1. 실태조사(위원회별)'!$C$8:$C$5152,\"*\",'1. 실태조사(위원회별)'!#REF!,\"*\")","v":{"$error":"#REF!"}},0]
["대구","대구동구",76,{"$error":"#REF!"},{"$error":"#REF!"},{"$f":"COUNTIFS('1. 실태조사(위원회별)'!#REF!,'1.총괄현황 집계표'!$B54,'1. 실태조사(위원회별)'!$C$8:$C$5152,\"*\",'1. 실태조사(위원회별)'!#REF!,\"*\")","v":{"$error":"#REF!"}},{"$f":"COUNTIFS('1. 실태조사(위원회별)'!#REF!,'1.총괄현황 집계표'!$B54,'1. 실태조사(위원회별)'!$C$8:$C$5152,\"*\",'1. 실태조사(위원회별)'!#REF!,\"*\")","v":{"$error":"#REF!"}},{"$f":"COUNTIFS('1. 실태조사(위원회별)'!#REF!,'1.총괄현황 집계표'!$B54,'1. 실태조사(위원회별)'!$C$8:$C$5152,\"*\",'1. 실태조사(위원회별)'!#REF!,\"*\")","v":{"$error":"#REF!"}},{"$f":"COUNTIFS('1. 실태조사(위원회별)'!#REF!,'1.총괄현황 집계표'!$B54,'1. 실태조사(위원회별)'!$C$8:$C$5152,\"*\",'1. 실태조사(위원회별)'!#REF!,\"*\")","v":{"$error":"#REF!"}},0]
["대구","대구서구",75,{"$error":"#REF!"},{"$error":"#REF!"},{"$f":"COUNTIFS('1. 실태조사(위원회별)'!#REF!,'1.총괄현황 집계표'!$B55,'1. 실태조사(위원회별)'!$C$8:$C$5152,\"*\",'1. 실태조사(위원회별)'!#REF!,\"*\")","v":{"$error":"#REF!"}},{"$f":"COUNTIFS('1. 실태조사(위원회별)'!#REF!,'1.총괄현황 집계표'!$B55,'1. 실태조사(위원회별)'!$C$8:$C$5152,\"*\",'1. 실태조사(위원회별)'!#REF!,\"*\")","v":{"$error":"#REF!"}},{"$f":"COUNTIFS('1. 실태조사(위원회별)'!#REF!,'1.총괄현황 집계표'!$B55,'1. 실태조사(위원회별)'!$C$8:$C$5152,\"*\",'1. 실태조사(위원회별)'!#REF!,\"*\")","v":{"$error":"#REF!"}},{"$f":"COUNTIFS('1. 실태조사(위원회별)'!#REF!,'1.총괄현황 집계표'!$B55,'1. 실태조사(위원회별)'!$C$8:$C$5152,\"*\",'1. 실태조사(위원회별)'!#REF!,\"*\")","v":{"$error":"#REF!"}},0]
["대구","대구남구",80,{"$error":"#REF!"},{"$error":"#REF!"},{"$f":"COUNTIFS('1. 실태조사(위원회별)'!#REF!,'1.총괄현황 집계표'!$B56,'1. 실태조사(위원회별)'!$C$8:$C$5152,\"*\",'1. 실태조사(위원회별)'!#REF!,\"*\")","v":{"$error":"#REF!"}},{"$f":"COUNTIFS('1. 실태조사(위원회별)'!#REF!,'1.총괄현황 집계표'!$B56,'1. 실태조사(위원회별)'!$C$8:$C$5152,\"*\",'1. 실태조사(위원회별)'!#REF!,\"*\")","v":{"$error":"#REF!"}},{"$f":"COUNTIFS('1. 실태조사(위원회별)'!#REF!,'1.총괄현황 집계표'!$B56,'1. 실태조사(위원회별)'!$C$8:$C$5152,\"*\",'1. 실태조사(위원회별)'!#REF!,\"*\")","v":{"$error":"#REF!"}},{"$f":"COUNTIFS('1. 실태조사(위원회별)'!#REF!,'1.총괄현황 집계표'!$B56,'1. 실태조사(위원회별)'!$C$8:$C$5152,\"*\",'1. 실태조사(위원회별)'!#REF!,\"*\")","v":{"$error":"#REF!"}},0]
["대구","대구북구",84,{"$error":"#REF!"},{"$error":"#REF!"},{"$f":"COUNTIFS('1. 실태조사(위원회별)'!#REF!,'1.총괄현황 집계표'!$B57,'1. 실태조사(위원회별)'!$C$8:$C$5152,\"*\",'1. 실태조사(위원회별)'!#REF!,\"*\")","v":{"$error":"#REF!"}},{"$f":"COUNTIFS('1. 실태조사(위원회별)'!#REF!,'1.총괄현황 집계표'!$B57,'1. 실태조사(위원회별)'!$C$8:$C$5152,\"*\",'1. 실태조사(위원회별)'!#REF!,\"*\")","v":{"$error":"#REF!"}},{"$f":"COUNTIFS('1. 실태조사(위원회별)'!#REF!,'1.총괄현황 집계표'!$B57,'1. 실태조사(위원회별)'!$C$8:$C$5152,\"*\",'1. 실태조사(위원회별)'!#REF!,\"*\")","v":{"$error":"#REF!"}},{"$f":"COUNTIFS('1. 실태조사(위원회별)'!#REF!,'1.총괄현황 집계표'!$B57,'1. 실태조사(위원회별)'!$C$8:$C$5152,\"*\",'1. 실태조사(위원회별)'!#REF!,\"*\")","v":{"$error":"#REF!"}},0]
["대구","대구수성구",84,{"$error":"#REF!"},{"$error":"#REF!"},{"$f":"COUNTIFS('1. 실태조사(위원회별)'!#REF!,'1.총괄현황 집계표'!$B58,'1. 실태조사(위원회별)'!$C$8:$C$5152,\"*\",'1. 실태조사(위원회별)'!#REF!,\"*\")","v":{"$error":"#REF!"}},{"$f":"COUNTIFS('1. 실태조사(위원회별)'!#REF!,'1.총괄현황 집계표'!$B58,'1. 실태조사(위원회별)'!$C$8:$C$5152,\"*\",'1. 실태조사(위원회별)'!#REF!,\"*\")","v":{"$error":"#REF!"}},{"$f":"COUNTIFS('1. 실태조사(위원회별)'!#REF!,'1.총괄현황 집계표'!$B58,'1. 실태조사(위원회별)'!$C$8:$C$5152,\"*\",'1. 실태조사(위원회별)'!#REF!,\"*\")","v":{"$error":"#REF!"}},{"$f":"COUNTIFS('1. 실태조사(위원회별)'!#REF!,'1.총괄현황 집계표'!$B58,'1. 실태조사(위원회별)'!$C$8:$C$5152,\"*\",'1. 실태조사(위원회별)'!#REF!,\"*\")","v":{"$error":"#REF!"}},0]
["대구","대구달서구",86,{"$error":"#REF!"},{"$error":"#REF!"},{"$f":"COUNTIFS('1. 실태조사(위원회별)'!#REF!,'1.총괄현황 집계표'!$B59,'1. 실태조사(위원회별)'!$C$8:$C$5152,\"*\",'1. 실태조사(위원회별)'!#REF!,\"*\")","v":{"$error":"#REF!"}},{"$f":"COUNTIFS('1. 실태조사(위원회별)'!#REF!,'1.총괄현황 집계표'!$B59,'1. 실태조사(위원회별)'!$C$8:$C$5152,\"*\",'1. 실태조사(위원회별)'!#REF!,\"*\")","v":{"$error":"#REF!"}},{"$f":"COUNTIFS('1. 실태조사(위원회별)'!#REF!,'1.총괄현황 집계표'!$B59,'1. 실태조사(위원회별)'!$C$8:$C$5152,\"*\",'1. 실태조사(위원회별)'!#REF!,\"*\")","v":{"$error":"#REF!"}},{"$f":"COUNTIFS('1. 실태조사(위원회별)'!#REF!,'1.총괄현황 집계표'!$B59,'1. 실태조사(위원회별)'!$C$8:$C$5152,\"*\",'1. 실태조사(위원회별)'!#REF!,\"*\")","v":{"$error":"#REF!"}},0]
["대구","대구달성군",70,{"$error":"#REF!"},{"$error":"#REF!"},{"$f":"COUNTIFS('1. 실태조사(위원회별)'!#REF!,'1.총괄현황 집계표'!$B60,'1. 실태조사(위원회별)'!$C$8:$C$5152,\"*\",'1. 실태조사(위원회별)'!#REF!,\"*\")","v":{"$error":"#REF!"}},{"$f":"COUNTIFS('1. 실태조사(위원회별)'!#REF!,'1.총괄현황 집계표'!$B60,'1. 실태조사(위원회별)'!$C$8:$C$5152,\"*\",'1. 실태조사(위원회별)'!#REF!,\"*\")","v":{"$error":"#REF!"}},{"$f":"COUNTIFS('1. 실태조사(위원회별)'!#REF!,'1.총괄현황 집계표'!$B60,'1. 실태조사(위원회별)'!$C$8:$C$5152,\"*\",'1. 실태조사(위원회별)'!#REF!,\"*\")","v":{"$error":"#REF!"}},{"$f":"COUNTIFS('1. 실태조사(위원회별)'!#REF!,'1.총괄현황 집계표'!$B60,'1. 실태조사(위원회별)'!$C$8:$C$5152,\"*\",'1. 실태조사(위원회별)'!#REF!,\"*\")","v":{"$error":"#REF!"}},0]
["인천","인천광역시",197,{"$error":"#REF!"},{"$error":"#REF!"},{"$f":"COUNTIFS('1. 실태조사(위원회별)'!#REF!,'1.총괄현황 집계표'!$B61,'1. 실태조사(위원회별)'!$C$8:$C$5152,\"*\",'1. 실태조사(위원회별)'!#REF!,\"*\")","v":{"$error":"#REF!"}},{"$f":"COUNTIFS('1. 실태조사(위원회별)'!#REF!,'1.총괄현황 집계표'!$B61,'1. 실태조사(위원회별)'!$C$8:$C$5152,\"*\",'1. 실태조사(위원회별)'!#REF!,\"*\")","v":{"$error":"#REF!"}},{"$f":"COUNTIFS('1. 실태조사(위원회별)'!#REF!,'1.총괄현황 집계표'!$B61,'1. 실태조사(위원회별)'!$C$8:$C$5152,\"*\",'1. 실태조사(위원회별)'!#REF!,\"*\")","v":{"$error":"#REF!"}},{"$f":"COUNTIFS('1. 실태조사(위원회별)'!#REF!,'1.총괄현황 집계표'!$B61,'1. 실태조사(위원회별)'!$C$8:$C$5152,\"*\",'1. 실태조사(위원회별)'!#REF!,\"*\")","v":{"$error":"#REF!"}},0]
["인천","인천중구",91,{"$error":"#REF!"},{"$error":"#REF!"},{"$f":"COUNTIFS('1. 실태조사(위원회별)'!#REF!,'1.총괄현황 집계표'!$B62,'1. 실태조사(위원회별)'!$C$8:$C$5152,\"*\",'1. 실태조사(위원회별)'!#REF!,\"*\")","v":{"$error":"#REF!"}},{"$f":"COUNTIFS('1. 실태조사(위원회별)'!#REF!,'1.총괄현황 집계표'!$B62,'1. 실태조사(위원회별)'!$C$8:$C$5152,\"*\",'1. 실태조사(위원회별)'!#REF!,\"*\")","v":{"$error":"#REF!"}},{"$f":"COUNTIFS('1. 실태조사(위원회별)'!#REF!,'1.총괄현황 집계표'!$B62,'1. 실태조사(위원회별)'!$C$8:$C$5152,\"*\",'1. 실태조사(위원회별)'!#REF!,\"*\")","v":{"$error":"#REF!"}},{"$f":"COUNTIFS('1. 실태조사(위원회별)'!#REF!,'1.총괄현황 집계표'!$B62,'1. 실태조사(위원회별)'!$C$8:$C$5152,\"*\",'1. 실태조사(위원회별)'!#REF!,\"*\")","v":{"$error":"#REF!"}},0]
["인천","인천동구",76,{"$error":"#REF!"},{"$error":"#REF!"},{"$f":"COUNTIFS('1. 실태조사(위원회별)'!#REF!,'1.총괄현황 집계표'!$B63,'1. 실태조사(위원회별)'!$C$8:$C$5152,\"*\",'1. 실태조사(위원회별)'!#REF!,\"*\")","v":{"$error":"#REF!"}},{"$f":"COUNTIFS('1. 실태조사(위원회별)'!#REF!,'1.총괄현황 집계표'!$B63,'1. 실태조사(위원회별)'!$C$8:$C$5152,\"*\",'1. 실태조사(위원회별)'!#REF!,\"*\")","v":{"$error":"#REF!"}},{"$f":"COUNTIFS('1. 실태조사(위원회별)'!#REF!,'1.총괄현황 집계표'!$B63,'1. 실태조사(위원회별)'!$C$8:$C$5152,\"*\",'1. 실태조사(위원회별)'!#REF!,\"*\")","v":{"$error":"#REF!"}},{"$f":"COUNTIFS('1. 실태조사(위원회별)'!#REF!,'1.총괄현황 집계표'!$B63,'1. 실태조사(위원회별)'!$C$8:$C$5152,\"*\",'1. 실태조사(위원회별)'!#REF!,\"*\")","v":{"$error":"#REF!"}},0]
["인천","인천미추홀구",91,{"$error":"#REF!"},{"$error":"#REF!"},{"$f":"COUNTIFS('1. 실태조사(위원회별)'!#REF!,'1.총괄현황 집계표'!$B64,'1. 실태조사(위원회별)'!$C$8:$C$5152,\"*\",'1. 실태조사(위원회별)'!#REF!,\"*\")","v":{"$error":"#REF!"}},{"$f":"COUNTIFS('1. 실태조사(위원회별)'!#REF!,'1.총괄현황 집계표'!$B64,'1. 실태조사(위원회별)'!$C$8:$C$5152,\"*\",'1. 실태조사(위원회별)'!#REF!,\"*\")","v":{"$error":"#REF!"}},{"$f":"COUNTIFS('1. 실태조사(위원회별)'!#REF!,'1.총괄현황 집계표'!$B64,'1. 실태조사(위원회별)'!$C$8:$C$5152,\"*\",'1. 실태조사(위원회별)'!#REF!,\"*\")","v":{"$error":"#REF!"}},{"$f":"COUNTIFS('1. 실태조사(위원회별)'!#REF!,'1.총괄현황 집계표'!$B64,'1. 실태조사(위원회별)'!$C$8:$C$5152,\"*\",'1. 실태조사(위원회별)'!#REF!,\"*\")","v":{"$error":"#REF!"}},0]
["인천","인천연수구",81,{"$error":"#REF!"},{"$error":"#REF!"},{"$f":"COUNTIFS('1. 실태조사(위원회별)'!#REF!,'1.총괄현황 집계표'!$B65,'1. 실태조사(위원회별)'!$C$8:$C$5152,\"*\",'1. 실태조사(위원회별)'!#REF!,\"*\")","v":{"$error":"#REF!"}},{"$f":"COUNTIFS('1. 실태조사(위원회별)'!#REF!,'1.총괄현황 집계표'!$B65,'1. 실태조사(위원회별)'!$C$8:$C$5152,\"*\",'1. 실태조사(위원회별)'!#REF!,\"*\")","v":{"$error":"#REF!"}},{"$f":"COUNTIFS('1. 실태조사(위원회별)'!#REF!,'1.총괄현황 집계표'!$B65,'1. 실태조사(위원회별)'!$C$8:$C$5152,\"*\",'1. 실태조사(위원회별)'!#REF!,\"*\")","v":{"$error":"#REF!"}},{"$f":"COUNTIFS('1. 실태조사(위원회별)'!#REF!,'1.총괄현황 집계표'!$B65,'1. 실태조사(위원회별)'!$C$8:$C$5152,\"*\",'1. 실태조사(위원회별)'!#REF!,\"*\")","v":{"$error":"#REF!"}},0]
["인천","인천남동구",95,{"$error":"#REF!"},{"$error":"#REF!"},{"$f":"COUNTIFS('1. 실태조사(위원회별)'!#REF!,'1.총괄현황 집계표'!$B66,'1. 실태조사(위원회별)'!$C$8:$C$5152,\"*\",'1. 실태조사(위원회별)'!#REF!,\"*\")","v":{"$error":"#REF!"}},{"$f":"COUNTIFS('1. 실태조사(위원회별)'!#REF!,'1.총괄현황 집계표'!$B66,'1. 실태조사(위원회별)'!$C$8:$C$5152,\"*\",'1. 실태조사(위원회별)'!#REF!,\"*\")","v":{"$error":"#REF!"}},{"$f":"COUNTIFS('1. 실태조사(위원회별)'!#REF!,'1.총괄현황 집계표'!$B66,'1. 실태조사(위원회별)'!$C$8:$C$5152,\"*\",'1. 실태조사(위원회별)'!#REF!,\"*\")","v":{"$error":"#REF!"}},{"$f":"COUNTIFS('1. 실태조사(위원회별)'!#REF!,'1.총괄현황 집계표'!$B66,'1. 실태조사(위원회별)'!$C$8:$C$5152,\"*\",'1. 실태조사(위원회별)'!#REF!,\"*\")","v":{"$error":"#REF!"}},0]
["인천","인천부평구",104,{"$error":"#REF!"},{"$error":"#REF!"},{"$f":"COUNTIFS('1. 실태조사(위원회별)'!#REF!,'1.총괄현황 집계표'!$B67,'1. 실태조사(위원회별)'!$C$8:$C$5152,\"*\",'1. 실태조사(위원회별)'!#REF!,\"*\")","v":{"$error":"#REF!"}},{"$f":"COUNTIFS('1. 실태조사(위원회별)'!#REF!,'1.총괄현황 집계표'!$B67,'1. 실태조사(위원회별)'!$C$8:$C$5152,\"*\",'1. 실태조사(위원회별)'!#REF!,\"*\")","v":{"$error":"#REF!"}},{"$f":"COUNTIFS('1. 실태조사(위원회별)'!#REF!,'1.총괄현황 집계표'!$B67,'1. 실태조사(위원회별)'!$C$8:$C$5152,\"*\",'1. 실태조사(위원회별)'!#REF!,\"*\")","v":{"$error":"#REF!"}},{"$f":"COUNTIFS('1. 실태조사(위원회별)'!#REF!,'1.총괄현황 집계표'!$B67,'1. 실태조사(위원회별)'!$C$8:$C$5152,\"*\",'1. 실태조사(위원회별)'!#REF!,\"*\")","v":{"$error":"#REF!"}},0]
["인천","인천계양구",95,{"$error":"#REF!"},{"$error":"#REF!"},{"$f":"COUNTIFS('1. 실태조사(위원회별)'!#REF!,'1.총괄현황 집계표'!$B68,'1. 실태조사(위원회별)'!$C$8:$C$5152,\"*\",'1. 실태조사(위원회별)'!#REF!,\"*\")","v":{"$error":"#REF!"}},{"$f":"COUNTIFS('1. 실태조사(위원회별)'!#REF!,'1.총괄현황 집계표'!$B68,'1. 실태조사(위원회별)'!$C$8:$C$5152,\"*\",'1. 실태조사(위원회별)'!#REF!,\"*\")","v":{"$error":"#REF!"}},{"$f":"COUNTIFS('1. 실태조사(위원회별)'!#REF!,'1.총괄현황 집계표'!$B68,'1. 실태조사(위원회별)'!$C$8:$C$5152,\"*\",'1. 실태조사(위원회별)'!#REF!,\"*\")","v":{"$error":"#REF!"}},{"$f":"COUNTIFS('1. 실태조사(위원회별)'!#REF!,'1.총괄현황 집계표'!$B68,'1. 실태조사(위원회별)'!$C$8:$C$5152,\"*\",'1. 실태조사(위원회별)'!#REF!,\"*\")","v":{"$error":"#REF!"}},0]
["인천","인천서구",114,{"$error":"#REF!"},{"$error":"#REF!"},{"$f":"COUNTIFS('1. 실태조사(위원회별)'!#REF!,'1.총괄현황 집계표'!$B69,'1. 실태조사(위원회별)'!$C$8:$C$5152,\"*\",'1. 실태조사(위원회별)'!#REF!,\"*\")","v":{"$error":"#REF!"}},{"$f":"COUNTIFS('1. 실태조사(위원회별)'!#REF!,'1.총괄현황 집계표'!$B69,'1. 실태조사(위원회별)'!$C$8:$C$5152,\"*\",'1. 실태조사(위원회별)'!#REF!,\"*\")","v":{"$error":"#REF!"}},{"$f":"COUNTIFS('1. 실태조사(위원회별)'!#REF!,'1.총괄현황 집계표'!$B69,'1. 실태조사(위원회별)'!$C$8:$C$5152,\"*\",'1. 실태조사(위원회별)'!#REF!,\"*\")","v":{"$error":"#REF!"}},{"$f":"COUNTIFS('1. 실태조사(위원회별)'!#REF!,'1.총괄현황 집계표'!$B69,'1. 실태조사(위원회별)'!$C$8:$C$5152,\"*\",'1. 실태조사(위원회별)'!#REF!,\"*\")","v":{"$error":"#REF!"}},0]
["인천","인천강화군",76,{"$error":"#REF!"},{"$error":"#REF!"},{"$f":"COUNTIFS('1. 실태조사(위원회별)'!#REF!,'1.총괄현황 집계표'!$B70,'1. 실태조사(위원회별)'!$C$8:$C$5152,\"*\",'1. 실태조사(위원회별)'!#REF!,\"*\")","v":{"$error":"#REF!"}},{"$f":"COUNTIFS('1. 실태조사(위원회별)'!#REF!,'1.총괄현황 집계표'!$B70,'1. 실태조사(위원회별)'!$C$8:$C$5152,\"*\",'1. 실태조사(위원회별)'!#REF!,\"*\")","v":{"$error":"#REF!"}},{"$f":"COUNTIFS('1. 실태조사(위원회별)'!#REF!,'1.총괄현황 집계표'!$B70,'1. 실태조사(위원회별)'!$C$8:$C$5152,\"*\",'1. 실태조사(위원회별)'!#REF!,\"*\")","v":{"$error":"#REF!"}},{"$f":"COUNTIFS('1. 실태조사(위원회별)'!#REF!,'1.총괄현황 집계표'!$B70,'1. 실태조사(위원회별)'!$C$8:$C$5152,\"*\",'1. 실태조사(위원회별)'!#REF!,\"*\")","v":{"$error":"#REF!"}},0]
["인천","인천옹진군",72,{"$error":"#REF!"},{"$error":"#REF!"},{"$f":"COUNTIFS('1. 실태조사(위원회별)'!#REF!,'1.총괄현황 집계표'!$B71,'1. 실태조사(위원회별)'!$C$8:$C$5152,\"*\",'1. 실태조사(위원회별)'!#REF!,\"*\")","v":{"$error":"#REF!"}},{"$f":"COUNTIFS('1. 실태조사(위원회별)'!#REF!,'1.총괄현황 집계표'!$B71,'1. 실태조사(위원회별)'!$C$8:$C$5152,\"*\",'1. 실태조사(위원회별)'!#REF!,\"*\")","v":{"$error":"#REF!"}},{"$f":"COUNTIFS('1. 실태조사(위원회별)'!#REF!,'1.총괄현황 집계표'!$B71,'1. 실태조사(위원회별)'!$C$8:$C$5152,\"*\",'1. 실태조사(위원회별)'!#REF!,\"*\")","v":{"$error":"#REF!"}},{"$f":"COUNTIFS('1. 실태조사(위원회별)'!#REF!,'1.총괄현황 집계표'!$B71,'1. 실태조사(위원회별)'!$C$8:$C$5152,\"*\",'1. 실태조사(위원회별)'!#REF!,\"*\")","v":{"$error":"#REF!"}},0]
["광주","광주광역시",162,{"$error":"#REF!"},{"$error":"#REF!"},{"$f":"COUNTIFS('1. 실태조사(위원회별)'!#REF!,'1.총괄현황 집계표'!$B72,'1. 실태조사(위원회별)'!$C$8:$C$5152,\"*\",'1. 실태조사(위원회별)'!#REF!,\"*\")","v":{"$error":"#REF!"}},{"$f":"COUNTIFS('1. 실태조사(위원회별)'!#REF!,'1.총괄현황 집계표'!$B72,'1. 실태조사(위원회별)'!$C$8:$C$5152,\"*\",'1. 실태조사(위원회별)'!#REF!,\"*\")","v":{"$error":"#REF!"}},{"$f":"COUNTIFS('1. 실태조사(위원회별)'!#REF!,'1.총괄현황 집계표'!$B72,'1. 실태조사(위원회별)'!$C$8:$C$5152,\"*\",'1. 실태조사(위원회별)'!#REF!,\"*\")","v":{"$error":"#REF!"}},{"$f":"COUNTIFS('1. 실태조사(위원회별)'!#REF!,'1.총괄현황 집계표'!$B72,'1. 실태조사(위원회별)'!$C$8:$C$5152,\"*\",'1. 실태조사(위원회별)'!#REF!,\"*\")","v":{"$error":"#REF!"}},0]
["광주","광주동구",82,{"$error":"#REF!"},{"$error":"#REF!"},{"$f":"COUNTIFS('1. 실태조사(위원회별)'!#REF!,'1.총괄현황 집계표'!$B73,'1. 실태조사(위원회별)'!$C$8:$C$5152,\"*\",'1. 실태조사(위원회별)'!#REF!,\"*\")","v":{"$error":"#REF!"}},{"$f":"COUNTIFS('1. 실태조사(위원회별)'!#REF!,'1.총괄현황 집계표'!$B73,'1. 실태조사(위원회별)'!$C$8:$C$5152,\"*\",'1. 실태조사(위원회별)'!#REF!,\"*\")","v":{"$error":"#REF!"}},{"$f":"COUNTIFS('1. 실태조사(위원회별)'!#REF!,'1.총괄현황 집계표'!$B73,'1. 실태조사(위원회별)'!$C$8:$C$5152,\"*\",'1. 실태조사(위원회별)'!#REF!,\"*\")","v":{"$error":"#REF!"}},{"$f":"COUNTIFS('1. 실태조사(위원회별)'!#REF!,'1.총괄현황 집계표'!$B73,'1. 실태조사(위원회별)'!$C$8:$C$5152,\"*\",'1. 실태조사(위원회별)'!#REF!,\"*\")","v":{"$error":"#REF!"}},0]
["광주","광주서구",93,{"$f":"C74+F74-G74-H74","v":{"$error":"#REF!"}},{"$f":"F74-G74-H74+I74","v":{"$error":"#REF!"}},{"$f":"COUNTIFS('1. 실태조사(위원회별)'!#REF!,'1.총괄현황 집계표'!$B74,'1. 실태조사(위원회별)'!$C$8:$C$5152,\"*\",'1. 실태조사(위원회별)'!#REF!,\"*\")","v":{"$error":"#REF!"}},{"$f":"COUNTIFS('1. 실태조사(위원회별)'!#REF!,'1.총괄현황 집계표'!$B74,'1. 실태조사(위원회별)'!$C$8:$C$5152,\"*\",'1. 실태조사(위원회별)'!#REF!,\"*\")","v":{"$error":"#REF!"}},{"$f":"COUNTIFS('1. 실태조사(위원회별)'!#REF!,'1.총괄현황 집계표'!$B74,'1. 실태조사(위원회별)'!$C$8:$C$5152,\"*\",'1. 실태조사(위원회별)'!#REF!,\"*\")","v":{"$error":"#REF!"}},{"$f":"COUNTIFS('1. 실태조사(위원회별)'!#REF!,'1.총괄현황 집계표'!$B74,'1. 실태조사(위원회별)'!$C$8:$C$5152,\"*\",'1. 실태조사(위원회별)'!#REF!,\"*\")","v":{"$error":"#REF!"}},{"$f":"SUM(K74:P74)","v":0}]
["광주","광주남구",92,{"$error":"#REF!"},{"$error":"#REF!"},{"$f":"COUNTIFS('1. 실태조사(위원회별)'!#REF!,'1.총괄현황 집계표'!$B75,'1. 실태조사(위원회별)'!$C$8:$C$5152,\"*\",'1. 실태조사(위원회별)'!#REF!,\"*\")","v":{"$error":"#REF!"}},{"$f":"COUNTIFS('1. 실태조사(위원회별)'!#REF!,'1.총괄현황 집계표'!$B75,'1. 실태조사(위원회별)'!$C$8:$C$5152,\"*\",'1. 실태조사(위원회별)'!#REF!,\"*\")","v":{"$error":"#REF!"}},{"$f":"COUNTIFS('1. 실태조사(위원회별)'!#REF!,'1.총괄현황 집계표'!$B75,'1. 실태조사(위원회별)'!$C$8:$C$5152,\"*\",'1. 실태조사(위원회별)'!#REF!,\"*\")","v":{"$error":"#REF!"}},{"$f":"COUNTIFS('1. 실태조사(위원회별)'!#REF!,'1.총괄현황 집계표'!$B75,'1. 실태조사(위원회별)'!$C$8:$C$5152,\"*\",'1. 실태조사(위원회별)'!#REF!,\"*\")","v":{"$error":"#REF!"}},0]
["광주","광주북구",91,{"$error":"#REF!"},{"$error":"#REF!"},{"$f":"COUNTIFS('1. 실태조사(위원회별)'!#REF!,'1.총괄현황 집계표'!$B76,'1. 실태조사(위원회별)'!$C$8:$C$5152,\"*\",'1. 실태조사(위원회별)'!#REF!,\"*\")","v":{"$error":"#REF!"}},{"$f":"COUNTIFS('1. 실태조사(위원회별)'!#REF!,'1.총괄현황 집계표'!$B76,'1. 실태조사(위원회별)'!$C$8:$C$5152,\"*\",'1. 실태조사(위원회별)'!#REF!,\"*\")","v":{"$error":"#REF!"}},{"$f":"COUNTIFS('1. 실태조사(위원회별)'!#REF!,'1.총괄현황 집계표'!$B76,'1. 실태조사(위원회별)'!$C$8:$C$5152,\"*\",'1. 실태조사(위원회별)'!#REF!,\"*\")","v":{"$error":"#REF!"}},{"$f":"COUNTIFS('1. 실태조사(위원회별)'!#REF!,'1.총괄현황 집계표'!$B76,'1. 실태조사(위원회별)'!$C$8:$C$5152,\"*\",'1. 실태조사(위원회별)'!#REF!,\"*\")","v":{"$error":"#REF!"}},0]
["광주","광주광산구",89,{"$error":"#REF!"},{"$error":"#REF!"},{"$f":"COUNTIFS('1. 실태조사(위원회별)'!#REF!,'1.총괄현황 집계표'!$B77,'1. 실태조사(위원회별)'!$C$8:$C$5152,\"*\",'1. 실태조사(위원회별)'!#REF!,\"*\")","v":{"$error":"#REF!"}},{"$f":"COUNTIFS('1. 실태조사(위원회별)'!#REF!,'1.총괄현황 집계표'!$B77,'1. 실태조사(위원회별)'!$C$8:$C$5152,\"*\",'1. 실태조사(위원회별)'!#REF!,\"*\")","v":{"$error":"#REF!"}},{"$f":"COUNTIFS('1. 실태조사(위원회별)'!#REF!,'1.총괄현황 집계표'!$B77,'1. 실태조사(위원회별)'!$C$8:$C$5152,\"*\",'1. 실태조사(위원회별)'!#REF!,\"*\")","v":{"$error":"#REF!"}},{"$f":"COUNTIFS('1. 실태조사(위원회별)'!#REF!,'1.총괄현황 집계표'!$B77,'1. 실태조사(위원회별)'!$C$8:$C$5152,\"*\",'1. 실태조사(위원회별)'!#REF!,\"*\")","v":{"$error":"#REF!"}},0]
["대전","대전광역시",137,{"$error":"#REF!"},{"$error":"#REF!"},{"$f":"COUNTIFS('1. 실태조사(위원회별)'!#REF!,'1.총괄현황 집계표'!$B78,'1. 실태조사(위원회별)'!$C$8:$C$5152,\"*\",'1. 실태조사(위원회별)'!#REF!,\"*\")","v":{"$error":"#REF!"}},{"$f":"COUNTIFS('1. 실태조사(위원회별)'!#REF!,'1.총괄현황 집계표'!$B78,'1. 실태조사(위원회별)'!$C$8:$C$5152,\"*\",'1. 실태조사(위원회별)'!#REF!,\"*\")","v":{"$error":"#REF!"}},{"$f":"COUNTIFS('1. 실태조사(위원회별)'!#REF!,'1.총괄현황 집계표'!$B78,'1. 실태조사(위원회별)'!$C$8:$C$5152,\"*\",'1. 실태조사(위원회별)'!#REF!,\"*\")","v":{"$error":"#REF!"}},{"$f":"COUNTIFS('1. 실태조사(위원회별)'!#REF!,'1.총괄현황 집계표'!$B78,'1. 실태조사(위원회별)'!$C$8:$C$5152,\"*\",'1. 실태조사(위원회별)'!#REF!,\"*\")","v":{"$error":"#REF!"}},0]
["대전","대전동구",67,{"$error":"#REF!"},{"$error":"#REF!"},{"$f":"COUNTIFS('1. 실태조사(위원회별)'!#REF!,'1.총괄현황 집계표'!$B79,'1. 실태조사(위원회별)'!$C$8:$C$5152,\"*\",'1. 실태조사(위원회별)'!#REF!,\"*\")","v":{"$error":"#REF!"}},{"$f":"COUNTIFS('1. 실태조사(위원회별)'!#REF!,'1.총괄현황 집계표'!$B79,'1. 실태조사(위원회별)'!$C$8:$C$5152,\"*\",'1. 실태조사(위원회별)'!#REF!,\"*\")","v":{"$error":"#REF!"}},{"$f":"COUNTIFS('1. 실태조사(위원회별)'!#REF!,'1.총괄현황 집계표'!$B79,'1. 실태조사(위원회별)'!$C$8:$C$5152,\"*\",'1. 실태조사(위원회별)'!#REF!,\"*\")","v":{"$error":"#REF!"}},{"$f":"COUNTIFS('1. 실태조사(위원회별)'!#REF!,'1.총괄현황 집계표'!$B79,'1. 실태조사(위원회별)'!$C$8:$C$5152,\"*\",'1. 실태조사(위원회별)'!#REF!,\"*\")","v":{"$error":"#REF!"}},0]
["대전","대전중구",82,{"$error":"#REF!"},{"$error":"#REF!"},{"$f":"COUNTIFS('1. 실태조사(위원회별)'!#REF!,'1.총괄현황 집계표'!$B80,'1. 실태조사(위원회별)'!$C$8:$C$5152,\"*\",'1. 실태조사(위원회별)'!#REF!,\"*\")","v":{"$error":"#REF!"}},{"$f":"COUNTIFS('1. 실태조사(위원회별)'!#REF!,'1.총괄현황 집계표'!$B80,'1. 실태조사(위원회별)'!$C$8:$C$5152,\"*\",'1. 실태조사(위원회별)'!#REF!,\"*\")","v":{"$error":"#REF!"}},{"$f":"COUNTIFS('1. 실태조사(위원회별)'!#REF!,'1.총괄현황 집계표'!$B80,'1. 실태조사(위원회별)'!$C$8:$C$5152,\"*\",'1. 실태조사(위원회별)'!#REF!,\"*\")","v":{"$error":"#REF!"}},{"$f":"COUNTIFS('1. 실태조사(위원회별)'!#REF!,'1.총괄현황 집계표'!$B80,'1. 실태조사(위원회별)'!$C$8:$C$5152,\"*\",'1. 실태조사(위원회별)'!#REF!,\"*\")","v":{"$error":"#REF!"}},0]
["대전","대전서구",98,{"$error":"#REF!"},{"$error":"#REF!"},{"$f":"COUNTIFS('1. 실태조사(위원회별)'!#REF!,'1.총괄현황 집계표'!$B81,'1. 실태조사(위원회별)'!$C$8:$C$5152,\"*\",'1. 실태조사(위원회별)'!#REF!,\"*\")","v":{"$error":"#REF!"}},{"$f":"COUNTIFS('1. 실태조사(위원회별)'!#REF!,'1.총괄현황 집계표'!$B81,'1. 실태조사(위원회별)'!$C$8:$C$5152,\"*\",'1. 실태조사(위원회별)'!#REF!,\"*\")","v":{"$error":"#REF!"}},{"$f":"COUNTIFS('1. 실태조사(위원회별)'!#REF!,'1.총괄현황 집계표'!$B81,'1. 실태조사(위원회별)'!$C$8:$C$5152,\"*\",'1. 실태조사(위원회별)'!#REF!,\"*\")","v":{"$error":"#REF!"}},{"$f":"COUNTIFS('1. 실태조사(위원회별)'!#REF!,'1.총괄현황 집계표'!$B81,'1. 실태조사(위원회별)'!$C$8:$C$5152,\"*\",'1. 실태조사(위원회별)'!#REF!,\"*\")","v":{"$error":"#REF!"}},0]
["대전","대전유성구",102,{"$error":"#REF!"},{"$error":"#REF!"},{"$f":"COUNTIFS('1. 실태조사(위원회별)'!#REF!,'1.총괄현황 집계표'!$B82,'1. 실태조사(위원회별)'!$C$8:$C$5152,\"*\",'1. 실태조사(위원회별)'!#REF!,\"*\")","v":{"$error":"#REF!"}},{"$f":"COUNTIFS('1. 실태조사(위원회별)'!#REF!,'1.총괄현황 집계표'!$B82,'1. 실태조사(위원회별)'!$C$8:$C$5152,\"*\",'1. 실태조사(위원회별)'!#REF!,\"*\")","v":{"$error":"#REF!"}},{"$f":"COUNTIFS('1. 실태조사(위원회별)'!#REF!,'1.총괄현황 집계표'!$B82,'1. 실태조사(위원회별)'!$C$8:$C$5152,\"*\",'1. 실태조사(위원회별)'!#REF!,\"*\")","v":{"$error":"#REF!"}},{"$f":"COUNTIFS('1. 실태조사(위원회별)'!#REF!,'1.총괄현황 집계표'!$B82,'1. 실태조사(위원회별)'!$C$8:$C$5152,\"*\",'1. 실태조사(위원회별)'!#REF!,\"*\")","v":{"$error":"#REF!"}},0]
["대전","대전대덕구",87,{"$error":"#REF!"},{"$error":"#REF!"},{"$f":"COUNTIFS('1. 실태조사(위원회별)'!#REF!,'1.총괄현황 집계표'!$B83,'1. 실태조사(위원회별)'!$C$8:$C$5152,\"*\",'1. 실태조사(위원회별)'!#REF!,\"*\")","v":{"$error":"#REF!"}},{"$f":"COUNTIFS('1. 실태조사(위원회별)'!#REF!,'1.총괄현황 집계표'!$B83,'1. 실태조사(위원회별)'!$C$8:$C$5152,\"*\",'1. 실태조사(위원회별)'!#REF!,\"*\")","v":{"$error":"#REF!"}},{"$f":"COUNTIFS('1. 실태조사(위원회별)'!#REF!,'1.총괄현황 집계표'!$B83,'1. 실태조사(위원회별)'!$C$8:$C$5152,\"*\",'1. 실태조사(위원회별)'!#REF!,\"*\")","v":{"$error":"#REF!"}},{"$f":"COUNTIFS('1. 실태조사(위원회별)'!#REF!,'1.총괄현황 집계표'!$B83,'1. 실태조사(위원회별)'!$C$8:$C$5152,\"*\",'1. 실태조사(위원회별)'!#REF!,\"*\")","v":{"$error":"#REF!"}},0]
["울산","울산광역시",136,{"$error":"#REF!"},{"$error":"#REF!"},{"$f":"COUNTIFS('1. 실태조사(위원회별)'!#REF!,'1.총괄현황 집계표'!$B84,'1. 실태조사(위원회별)'!$C$8:$C$5152,\"*\",'1. 실태조사(위원회별)'!#REF!,\"*\")","v":{"$error":"#REF!"}},{"$f":"COUNTIFS('1. 실태조사(위원회별)'!#REF!,'1.총괄현황 집계표'!$B84,'1. 실태조사(위원회별)'!$C$8:$C$5152,\"*\",'1. 실태조사(위원회별)'!#REF!,\"*\")","v":{"$error":"#REF!"}},{"$f":"COUNTIFS('1. 실태조사(위원회별)'!#REF!,'1.총괄현황 집계표'!$B84,'1. 실태조사(위원회별)'!$C$8:$C$5152,\"*\",'1. 실태조사(위원회별)'!#REF!,\"*\")","v":{"$error":"#REF!"}},{"$f":"COUNTIFS('1. 실태조사(위원회별)'!#REF!,'1.총괄현황 집계표'!$B84,'1. 실태조사(위원회별)'!$C$8:$C$5152,\"*\",'1. 실태조사(위원회별)'!#REF!,\"*\")","v":{"$error":"#REF!"}},0]
["울산","울산중구",79,{"$error":"#REF!"},{"$error":"#REF!"},{"$f":"COUNTIFS('1. 실태조사(위원회별)'!#REF!,'1.총괄현황 집계표'!$B85,'1. 실태조사(위원회별)'!$C$8:$C$5152,\"*\",'1. 실태조사(위원회별)'!#REF!,\"*\")","v":{"$error":"#REF!"}},{"$f":"COUNTIFS('1. 실태조사(위원회별)'!#REF!,'1.총괄현황 집계표'!$B85,'1. 실태조사(위원회별)'!$C$8:$C$5152,\"*\",'1. 실태조사(위원회별)'!#REF!,\"*\")","v":{"$error":"#REF!"}},{"$f":"COUNTIFS('1. 실태조사(위원회별)'!#REF!,'1.총괄현황 집계표'!$B85,'1. 실태조사(위원회별)'!$C$8:$C$5152,\"*\",'1. 실태조사(위원회별)'!#REF!,\"*\")","v":{"$error":"#REF!"}},{"$f":"COUNTIFS('1. 실태조사(위원회별)'!#REF!,'1.총괄현황 집계표'!$B85,'1. 실태조사(위원회별)'!$C$8:$C$5152,\"*\",'1. 실태조사(위원회별)'!#REF!,\"*\")","v":{"$error":"#REF!"}},0]
["울산","울산남구",88,{"$error":"#REF!"},{"$error":"#REF!"},{"$f":"COUNTIFS('1. 실태조사(위원회별)'!#REF!,'1.총괄현황 집계표'!$B86,'1. 실태조사(위원회별)'!$C$8:$C$5152,\"*\",'1. 실태조사(위원회별)'!#REF!,\"*\")","v":{"$error":"#REF!"}},{"$f":"COUNTIFS('1. 실태조사(위원회별)'!#REF!,'1.총괄현황 집계표'!$B86,'1. 실태조사(위원회별)'!$C$8:$C$5152,\"*\",'1. 실태조사(위원회별)'!#REF!,\"*\")","v":{"$error":"#REF!"}},{"$f":"COUNTIFS('1. 실태조사(위원회별)'!#REF!,'1.총괄현황 집계표'!$B86,'1. 실태조사(위원회별)'!$C$8:$C$5152,\"*\",'1. 실태조사(위원회별)'!#REF!,\"*\")","v":{"$error":"#REF!"}},{"$f":"COUNTIFS('1. 실태조사(위원회별)'!#REF!,'1.총괄현황 집계표'!$B86,'1. 실태조사(위원회별)'!$C$8:$C$5152,\"*\",'1. 실태조사(위원회별)'!#REF!,\"*\")","v":{"$error":"#REF!"}},0]
["울산","울산동구",88,{"$error":"#REF!"},{"$error":"#REF!"},{"$f":"COUNTIFS('1. 실태조사(위원회별)'!#REF!,'1.총괄현황 집계표'!$B87,'1. 실태조사(위원회별)'!$C$8:$C$5152,\"*\",'1. 실태조사(위원회별)'!#REF!,\"*\")","v":{"$error":"#REF!"}},{"$f":"COUNTIFS('1. 실태조사(위원회별)'!#REF!,'1.총괄현황 집계표'!$B87,'1. 실태조사(위원회별)'!$C$8:$C$5152,\"*\",'1. 실태조사(위원회별)'!#REF!,\"*\")","v":{"$error":"#REF!"}},{"$f":"COUNTIFS('1. 실태조사(위원회별)'!#REF!,'1.총괄현황 집계표'!$B87,'1. 실태조사(위원회별)'!$C$8:$C$5152,\"*\",'1. 실태조사(위원회별)'!#REF!,\"*\")","v":{"$error":"#REF!"}},{"$f":"COUNTIFS('1. 실태조사(위원회별)'!#REF!,'1.총괄현황 집계표'!$B87,'1. 실태조사(위원회별)'!$C$8:$C$5152,\"*\",'1. 실태조사(위원회별)'!#REF!,\"*\")","v":{"$error":"#REF!"}},0]
["울산","울산북구",90,{"$error":"#REF!"},{"$error":"#REF!"},{"$f":"COUNTIFS('1. 실태조사(위원회별)'!#REF!,'1.총괄현황 집계표'!$B88,'1. 실태조사(위원회별)'!$C$8:$C$5152,\"*\",'1. 실태조사(위원회별)'!#REF!,\"*\")","v":{"$error":"#REF!"}},{"$f":"COUNTIFS('1. 실태조사(위원회별)'!#REF!,'1.총괄현황 집계표'!$B88,'1. 실태조사(위원회별)'!$C$8:$C$5152,\"*\",'1. 실태조사(위원회별)'!#REF!,\"*\")","v":{"$error":"#REF!"}},{"$f":"COUNTIFS('1. 실태조사(위원회별)'!#REF!,'1.총괄현황 집계표'!$B88,'1. 실태조사(위원회별)'!$C$8:$C$5152,\"*\",'1. 실태조사(위원회별)'!#REF!,\"*\")","v":{"$error":"#REF!"}},{"$f":"COUNTIFS('1. 실태조사(위원회별)'!#REF!,'1.총괄현황 집계표'!$B88,'1. 실태조사(위원회별)'!$C$8:$C$5152,\"*\",'1. 실태조사(위원회별)'!#REF!,\"*\")","v":{"$error":"#REF!"}},0]
["울산","울산울주군",94,{"$error":"#REF!"},{"$error":"#REF!"},{"$f":"COUNTIFS('1. 실태조사(위원회별)'!#REF!,'1.총괄현황 집계표'!$B89,'1. 실태조사(위원회별)'!$C$8:$C$5152,\"*\",'1. 실태조사(위원회별)'!#REF!,\"*\")","v":{"$error":"#REF!"}},{"$f":"COUNTIFS('1. 실태조사(위원회별)'!#REF!,'1.총괄현황 집계표'!$B89,'1. 실태조사(위원회별)'!$C$8:$C$5152,\"*\",'1. 실태조사(위원회별)'!#REF!,\"*\")","v":{"$error":"#REF!"}},{"$f":"COUNTIFS('1. 실태조사(위원회별)'!#REF!,'1.총괄현황 집계표'!$B89,'1. 실태조사(위원회별)'!$C$8:$C$5152,\"*\",'1. 실태조사(위원회별)'!#REF!,\"*\")","v":{"$error":"#REF!"}},{"$f":"COUNTIFS('1. 실태조사(위원회별)'!#REF!,'1.총괄현황 집계표'!$B89,'1. 실태조사(위원회별)'!$C$8:$C$5152,\"*\",'1. 실태조사(위원회별)'!#REF!,\"*\")","v":{"$error":"#REF!"}},0]
["세종","세종특별자치시",158,{"$error":"#REF!"},{"$error":"#REF!"},{"$f":"COUNTIFS('1. 실태조사(위원회별)'!#REF!,'1.총괄현황 집계표'!$B90,'1. 실태조사(위원회별)'!$C$8:$C$5152,\"*\",'1. 실태조사(위원회별)'!#REF!,\"*\")","v":{"$error":"#REF!"}},{"$f":"COUNTIFS('1. 실태조사(위원회별)'!#REF!,'1.총괄현황 집계표'!$B90,'1. 실태조사(위원회별)'!$C$8:$C$5152,\"*\",'1. 실태조사(위원회별)'!#REF!,\"*\")","v":{"$error":"#REF!"}},{"$f":"COUNTIFS('1. 실태조사(위원회별)'!#REF!,'1.총괄현황 집계표'!$B90,'1. 실태조사(위원회별)'!$C$8:$C$5152,\"*\",'1. 실태조사(위원회별)'!#REF!,\"*\")","v":{"$error":"#REF!"}},{"$f":"COUNTIFS('1. 실태조사(위원회별)'!#REF!,'1.총괄현황 집계표'!$B90,'1. 실태조사(위원회별)'!$C$8:$C$5152,\"*\",'1. 실태조사(위원회별)'!#REF!,\"*\")","v":{"$error":"#REF!"}},0]
["경기","경기도",196,{"$error":"#REF!"},{"$error":"#REF!"},{"$f":"COUNTIFS('1. 실태조사(위원회별)'!#REF!,'1.총괄현황 집계표'!$B91,'1. 실태조사(위원회별)'!$C$8:$C$5152,\"*\",'1. 실태조사(위원회별)'!#REF!,\"*\")","v":{"$error":"#REF!"}},{"$f":"COUNTIFS('1. 실태조사(위원회별)'!#REF!,'1.총괄현황 집계표'!$B91,'1. 실태조사(위원회별)'!$C$8:$C$5152,\"*\",'1. 실태조사(위원회별)'!#REF!,\"*\")","v":{"$error":"#REF!"}},{"$f":"COUNTIFS('1. 실태조사(위원회별)'!#REF!,'1.총괄현황 집계표'!$B91,'1. 실태조사(위원회별)'!$C$8:$C$5152,\"*\",'1. 실태조사(위원회별)'!#REF!,\"*\")","v":{"$error":"#REF!"}},{"$f":"COUNTIFS('1. 실태조사(위원회별)'!#REF!,'1.총괄현황 집계표'!$B91,'1. 실태조사(위원회별)'!$C$8:$C$5152,\"*\",'1. 실태조사(위원회별)'!#REF!,\"*\")","v":{"$error":"#REF!"}},0]
["경기","경기수원시",165,{"$error":"#REF!"},{"$error":"#REF!"},{"$f":"COUNTIFS('1. 실태조사(위원회별)'!#REF!,'1.총괄현황 집계표'!$B92,'1. 실태조사(위원회별)'!$C$8:$C$5152,\"*\",'1. 실태조사(위원회별)'!#REF!,\"*\")","v":{"$error":"#REF!"}},{"$f":"COUNTIFS('1. 실태조사(위원회별)'!#REF!,'1.총괄현황 집계표'!$B92,'1. 실태조사(위원회별)'!$C$8:$C$5152,\"*\",'1. 실태조사(위원회별)'!#REF!,\"*\")","v":{"$error":"#REF!"}},{"$f":"COUNTIFS('1. 실태조사(위원회별)'!#REF!,'1.총괄현황 집계표'!$B92,'1. 실태조사(위원회별)'!$C$8:$C$5152,\"*\",'1. 실태조사(위원회별)'!#REF!,\"*\")","v":{"$error":"#REF!"}},{"$f":"COUNTIFS('1. 실태조사(위원회별)'!#REF!,'1.총괄현황 집계표'!$B92,'1. 실태조사(위원회별)'!$C$8:$C$5152,\"*\",'1. 실태조사(위원회별)'!#REF!,\"*\")","v":{"$error":"#REF!"}},0]
["경기","경기성남시",157,{"$error":"#REF!"},{"$error":"#REF!"},{"$f":"COUNTIFS('1. 실태조사(위원회별)'!#REF!,'1.총괄현황 집계표'!$B93,'1. 실태조사(위원회별)'!$C$8:$C$5152,\"*\",'1. 실태조사(위원회별)'!#REF!,\"*\")","v":{"$error":"#REF!"}},{"$f":"COUNTIFS('1. 실태조사(위원회별)'!#REF!,'1.총괄현황 집계표'!$B93,'1. 실태조사(위원회별)'!$C$8:$C$5152,\"*\",'1. 실태조사(위원회별)'!#REF!,\"*\")","v":{"$error":"#REF!"}},{"$f":"COUNTIFS('1. 실태조사(위원회별)'!#REF!,'1.총괄현황 집계표'!$B93,'1. 실태조사(위원회별)'!$C$8:$C$5152,\"*\",'1. 실태조사(위원회별)'!#REF!,\"*\")","v":{"$error":"#REF!"}},{"$f":"COUNTIFS('1. 실태조사(위원회별)'!#REF!,'1.총괄현황 집계표'!$B93,'1. 실태조사(위원회별)'!$C$8:$C$5152,\"*\",'1. 실태조사(위원회별)'!#REF!,\"*\")","v":{"$error":"#REF!"}},0]
["경기","경기의정부시",115,{"$error":"#REF!"},{"$error":"#REF!"},{"$f":"COUNTIFS('1. 실태조사(위원회별)'!#REF!,'1.총괄현황 집계표'!$B94,'1. 실태조사(위원회별)'!$C$8:$C$5152,\"*\",'1. 실태조사(위원회별)'!#REF!,\"*\")","v":{"$error":"#REF!"}},{"$f":"COUNTIFS('1. 실태조사(위원회별)'!#REF!,'1.총괄현황 집계표'!$B94,'1. 실태조사(위원회별)'!$C$8:$C$5152,\"*\",'1. 실태조사(위원회별)'!#REF!,\"*\")","v":{"$error":"#REF!"}},{"$f":"COUNTIFS('1. 실태조사(위원회별)'!#REF!,'1.총괄현황 집계표'!$B94,'1. 실태조사(위원회별)'!$C$8:$C$5152,\"*\",'1. 실태조사(위원회별)'!#REF!,\"*\")","v":{"$error":"#REF!"}},{"$f":"COUNTIFS('1. 실태조사(위원회별)'!#REF!,'1.총괄현황 집계표'!$B94,'1. 실태조사(위원회별)'!$C$8:$C$5152,\"*\",'1. 실태조사(위원회별)'!#REF!,\"*\")","v":{"$error":"#REF!"}},0]
["경기","경기안양시",140,{"$error":"#REF!"},{"$error":"#REF!"},{"$f":"COUNTIFS('1. 실태조사(위원회별)'!#REF!,'1.총괄현황 집계표'!$B95,'1. 실태조사(위원회별)'!$C$8:$C$5152,\"*\",'1. 실태조사(위원회별)'!#REF!,\"*\")","v":{"$error":"#REF!"}},{"$f":"COUNTIFS('1. 실태조사(위원회별)'!#REF!,'1.총괄현황 집계표'!$B95,'1. 실태조사(위원회별)'!$C$8:$C$5152,\"*\",'1. 실태조사(위원회별)'!#REF!,\"*\")","v":{"$error":"#REF!"}},{"$f":"COUNTIFS('1. 실태조사(위원회별)'!#REF!,'1.총괄현황 집계표'!$B95,'1. 실태조사(위원회별)'!$C$8:$C$5152,\"*\",'1. 실태조사(위원회별)'!#REF!,\"*\")","v":{"$error":"#REF!"}},{"$f":"COUNTIFS('1. 실태조사(위원회별)'!#REF!,'1.총괄현황 집계표'!$B95,'1. 실태조사(위원회별)'!$C$8:$C$5152,\"*\",'1. 실태조사(위원회별)'!#REF!,\"*\")","v":{"$error":"#REF!"}},0]
["경기","경기부천시",130,{"$error":"#REF!"},{"$error":"#REF!"},{"$f":"COUNTIFS('1. 실태조사(위원회별)'!#REF!,'1.총괄현황 집계표'!$B96,'1. 실태조사(위원회별)'!$C$8:$C$5152,\"*\",'1. 실태조사(위원회별)'!#REF!,\"*\")","v":{"$error":"#REF!"}},{"$f":"COUNTIFS('1. 실태조사(위원회별)'!#REF!,'1.총괄현황 집계표'!$B96,'1. 실태조사(위원회별)'!$C$8:$C$5152,\"*\",'1. 실태조사(위원회별)'!#REF!,\"*\")","v":{"$error":"#REF!"}},{"$f":"COUNTIFS('1. 실태조사(위원회별)'!#REF!,'1.총괄현황 집계표'!$B96,'1. 실태조사(위원회별)'!$C$8:$C$5152,\"*\",'1. 실태조사(위원회별)'!#REF!,\"*\")","v":{"$error":"#REF!"}},{"$f":"COUNTIFS('1. 실태조사(위원회별)'!#REF!,'1.총괄현황 집계표'!$B96,'1. 실태조사(위원회별)'!$C$8:$C$5152,\"*\",'1. 실태조사(위원회별)'!#REF!,\"*\")","v":{"$error":"#REF!"}},0]
["경기","경기광명시",110,{"$error":"#REF!"},{"$error":"#REF!"},{"$f":"COUNTIFS('1. 실태조사(위원회별)'!#REF!,'1.총괄현황 집계표'!$B97,'1. 실태조사(위원회별)'!$C$8:$C$5152,\"*\",'1. 실태조사(위원회별)'!#REF!,\"*\")","v":{"$error":"#REF!"}},{"$f":"COUNTIFS('1. 실태조사(위원회별)'!#REF!,'1.총괄현황 집계표'!$B97,'1. 실태조사(위원회별)'!$C$8:$C$5152,\"*\",'1. 실태조사(위원회별)'!#REF!,\"*\")","v":{"$error":"#REF!"}},{"$f":"COUNTIFS('1. 실태조사(위원회별)'!#REF!,'1.총괄현황 집계표'!$B97,'1. 실태조사(위원회별)'!$C$8:$C$5152,\"*\",'1. 실태조사(위원회별)'!#REF!,\"*\")","v":{"$error":"#REF!"}},{"$f":"COUNTIFS('1. 실태조사(위원회별)'!#REF!,'1.총괄현황 집계표'!$B97,'1. 실태조사(위원회별)'!$C$8:$C$5152,\"*\",'1. 실태조사(위원회별)'!#REF!,\"*\")","v":{"$error":"#REF!"}},0]
["경기","경기평택시",118,{"$error":"#REF!"},{"$error":"#REF!"},{"$f":"COUNTIFS('1. 실태조사(위원회별)'!#REF!,'1.총괄현황 집계표'!$B98,'1. 실태조사(위원회별)'!$C$8:$C$5152,\"*\",'1. 실태조사(위원회별)'!#REF!,\"*\")","v":{"$error":"#REF!"}},{"$f":"COUNTIFS('1. 실태조사(위원회별)'!#REF!,'1.총괄현황 집계표'!$B98,'1. 실태조사(위원회별)'!$C$8:$C$5152,\"*\",'1. 실태조사(위원회별)'!#REF!,\"*\")","v":{"$error":"#REF!"}},{"$f":"COUNTIFS('1. 실태조사(위원회별)'!#REF!,'1.총괄현황 집계표'!$B98,'1. 실태조사(위원회별)'!$C$8:$C$5152,\"*\",'1. 실태조사(위원회별)'!#REF!,\"*\")","v":{"$error":"#REF!"}},{"$f":"COUNTIFS('1. 실태조사(위원회별)'!#REF!,'1.총괄현황 집계표'!$B98,'1. 실태조사(위원회별)'!$C$8:$C$5152,\"*\",'1. 실태조사(위원회별)'!#REF!,\"*\")","v":{"$error":"#REF!"}},0]
["경기","경기동두천시",99,{"$error":"#REF!"},{"$error":"#REF!"},{"$f":"COUNTIFS('1. 실태조사(위원회별)'!#REF!,'1.총괄현황 집계표'!$B99,'1. 실태조사(위원회별)'!$C$8:$C$5152,\"*\",'1. 실태조사(위원회별)'!#REF!,\"*\")","v":{"$error":"#REF!"}},{"$f":"COUNTIFS('1. 실태조사(위원회별)'!#REF!,'1.총괄현황 집계표'!$B99,'1. 실태조사(위원회별)'!$C$8:$C$5152,\"*\",'1. 실태조사(위원회별)'!#REF!,\"*\")","v":{"$error":"#REF!"}},{"$f":"COUNTIFS('1. 실태조사(위원회별)'!#REF!,'1.총괄현황 집계표'!$B99,'1. 실태조사(위원회별)'!$C$8:$C$5152,\"*\",'1. 실태조사(위원회별)'!#REF!,\"*\")","v":{"$error":"#REF!"}},{"$f":"COUNTIFS('1. 실태조사(위원회별)'!#REF!,'1.총괄현황 집계표'!$B99,'1. 실태조사(위원회별)'!$C$8:$C$5152,\"*\",'1. 실태조사(위원회별)'!#REF!,\"*\")","v":{"$error":"#REF!"}},0]
["경기","경기안산시",139,{"$error":"#REF!"},{"$error":"#REF!"},{"$f":"COUNTIFS('1. 실태조사(위원회별)'!#REF!,'1.총괄현황 집계표'!$B100,'1. 실태조사(위원회별)'!$C$8:$C$5152,\"*\",'1. 실태조사(위원회별)'!#REF!,\"*\")","v":{"$error":"#REF!"}},{"$f":"COUNTIFS('1. 실태조사(위원회별)'!#REF!,'1.총괄현황 집계표'!$B100,'1. 실태조사(위원회별)'!$C$8:$C$5152,\"*\",'1. 실태조사(위원회별)'!#REF!,\"*\")","v":{"$error":"#REF!"}},{"$f":"COUNTIFS('1. 실태조사(위원회별)'!#REF!,'1.총괄현황 집계표'!$B100,'1. 실태조사(위원회별)'!$C$8:$C$5152,\"*\",'1. 실태조사(위원회별)'!#REF!,\"*\")","v":{"$error":"#REF!"}},{"$f":"COUNTIFS('1. 실태조사(위원회별)'!#REF!,'1.총괄현황 집계표'!$B100,'1. 실태조사(위원회별)'!$C$8:$C$5152,\"*\",'1. 실태조사(위원회별)'!#REF!,\"*\")","v":{"$error":"#REF!"}},0]
["경기","경기고양시",128,{"$error":"#REF!"},{"$error":"#REF!"},{"$f":"COUNTIFS('1. 실태조사(위원회별)'!#REF!,'1.총괄현황 집계표'!$B101,'1. 실태조사(위원회별)'!$C$8:$C$5152,\"*\",'1. 실태조사(위원회별)'!#REF!,\"*\")","v":{"$error":"#REF!"}},{"$f":"COUNTIFS('1. 실태조사(위원회별)'!#REF!,'1.총괄현황 집계표'!$B101,'1. 실태조사(위원회별)'!$C$8:$C$5152,\"*\",'1. 실태조사(위원회별)'!#REF!,\"*\")","v":{"$error":"#REF!"}},{"$f":"COUNTIFS('1. 실태조사(위원회별)'!#REF!,'1.총괄현황 집계표'!$B101,'1. 실태조사(위원회별)'!$C$8:$C$5152,\"*\",'1. 실태조사(위원회별)'!#REF!,\"*\")","v":{"$error":"#REF!"}},{"$f":"COUNTIFS('1. 실태조사(위원회별)'!#REF!,'1.총괄현황 집계표'!$B101,'1. 실태조사(위원회별)'!$C$8:$C$5152,\"*\",'1. 실태조사(위원회별)'!#REF!,\"*\")","v":{"$error":"#REF!"}},0]
["경기","경기과천시",110,{"$error":"#REF!"},{"$error":"#REF!"},{"$f":"COUNTIFS('1. 실태조사(위원회별)'!#REF!,'1.총괄현황 집계표'!$B102,'1. 실태조사(위원회별)'!$C$8:$C$5152,\"*\",'1. 실태조사(위원회별)'!#REF!,\"*\")","v":{"$error":"#REF!"}},{"$f":"COUNTIFS('1. 실태조사(위원회별)'!#REF!,'1.총괄현황 집계표'!$B102,'1. 실태조사(위원회별)'!$C$8:$C$5152,\"*\",'1. 실태조사(위원회별)'!#REF!,\"*\")","v":{"$error":"#REF!"}},{"$f":"COUNTIFS('1. 실태조사(위원회별)'!#REF!,'1.총괄현황 집계표'!$B102,'1. 실태조사(위원회별)'!$C$8:$C$5152,\"*\",'1. 실태조사(위원회별)'!#REF!,\"*\")","v":{"$error":"#REF!"}},{"$f":"COUNTIFS('1. 실태조사(위원회별)'!#REF!,'1.총괄현황 집계표'!$B102,'1. 실태조사(위원회별)'!$C$8:$C$5152,\"*\",'1. 실태조사(위원회별)'!#REF!,\"*\")","v":{"$error":"#REF!"}},0]
["경기","경기구리시",97,{"$error":"#REF!"},{"$error":"#REF!"},{"$f":"COUNTIFS('1. 실태조사(위원회별)'!#REF!,'1.총괄현황 집계표'!$B103,'1. 실태조사(위원회별)'!$C$8:$C$5152,\"*\",'1. 실태조사(위원회별)'!#REF!,\"*\")","v":{"$error":"#REF!"}},{"$f":"COUNTIFS('1. 실태조사(위원회별)'!#REF!,'1.총괄현황 집계표'!$B103,'1. 실태조사(위원회별)'!$C$8:$C$5152,\"*\",'1. 실태조사(위원회별)'!#REF!,\"*\")","v":{"$error":"#REF!"}},{"$f":"COUNTIFS('1. 실태조사(위원회별)'!#REF!,'1.총괄현황 집계표'!$B103,'1. 실태조사(위원회별)'!$C$8:$C$5152,\"*\",'1. 실태조사(위원회별)'!#REF!,\"*\")","v":{"$error":"#REF!"}},{"$f":"COUNTIFS('1. 실태조사(위원회별)'!#REF!,'1.총괄현황 집계표'!$B103,'1. 실태조사(위원회별)'!$C$8:$C$5152,\"*\",'1. 실태조사(위원회별)'!#REF!,\"*\")","v":{"$error":"#REF!"}},0]
["경기","경기남양주시",111,{"$error":"#REF!"},{"$error":"#REF!"},{"$f":"COUNTIFS('1. 실태조사(위원회별)'!#REF!,'1.총괄현황 집계표'!$B104,'1. 실태조사(위원회별)'!$C$8:$C$5152,\"*\",'1. 실태조사(위원회별)'!#REF!,\"*\")","v":{"$error":"#REF!"}},{"$f":"COUNTIFS('1. 실태조사(위원회별)'!#REF!,'1.총괄현황 집계표'!$B104,'1. 실태조사(위원회별)'!$C$8:$C$5152,\"*\",'1. 실태조사(위원회별)'!#REF!,\"*\")","v":{"$error":"#REF!"}},{"$f":"COUNTIFS('1. 실태조사(위원회별)'!#REF!,'1.총괄현황 집계표'!$B104,'1. 실태조사(위원회별)'!$C$8:$C$5152,\"*\",'1. 실태조사(위원회별)'!#REF!,\"*\")","v":{"$error":"#REF!"}},{"$f":"COUNTIFS('1. 실태조사(위원회별)'!#REF!,'1.총괄현황 집계표'!$B104,'1. 실태조사(위원회별)'!$C$8:$C$5152,\"*\",'1. 실태조사(위원회별)'!#REF!,\"*\")","v":{"$error":"#REF!"}},0]
["경기","경기오산시",97,{"$error":"#REF!"},{"$error":"#REF!"},{"$f":"COUNTIFS('1. 실태조사(위원회별)'!#REF!,'1.총괄현황 집계표'!$B105,'1. 실태조사(위원회별)'!$C$8:$C$5152,\"*\",'1. 실태조사(위원회별)'!#REF!,\"*\")","v":{"$error":"#REF!"}},{"$f":"COUNTIFS('1. 실태조사(위원회별)'!#REF!,'1.총괄현황 집계표'!$B105,'1. 실태조사(위원회별)'!$C$8:$C$5152,\"*\",'1. 실태조사(위원회별)'!#REF!,\"*\")","v":{"$error":"#REF!"}},{"$f":"COUNTIFS('1. 실태조사(위원회별)'!#REF!,'1.총괄현황 집계표'!$B105,'1. 실태조사(위원회별)'!$C$8:$C$5152,\"*\",'1. 실태조사(위원회별)'!#REF!,\"*\")","v":{"$error":"#REF!"}},{"$f":"COUNTIFS('1. 실태조사(위원회별)'!#REF!,'1.총괄현황 집계표'!$B105,'1. 실태조사(위원회별)'!$C$8:$C$5152,\"*\",'1. 실태조사(위원회별)'!#REF!,\"*\")","v":{"$error":"#REF!"}},0]
["경기","경기시흥시",87,{"$error":"#REF!"},{"$error":"#REF!"},{"$f":"COUNTIFS('1. 실태조사(위원회별)'!#REF!,'1.총괄현황 집계표'!$B106,'1. 실태조사(위원회별)'!$C$8:$C$5152,\"*\",'1. 실태조사(위원회별)'!#REF!,\"*\")","v":{"$error":"#REF!"}},{"$f":"COUNTIFS('1. 실태조사(위원회별)'!#REF!,'1.총괄현황 집계표'!$B106,'1. 실태조사(위원회별)'!$C$8:$C$5152,\"*\",'1. 실태조사(위원회별)'!#REF!,\"*\")","v":{"$error":"#REF!"}},{"$f":"COUNTIFS('1. 실태조사(위원회별)'!#REF!,'1.총괄현황 집계표'!$B106,'1. 실태조사(위원회별)'!$C$8:$C$5152,\"*\",'1. 실태조사(위원회별)'!#REF!,\"*\")","v":{"$error":"#REF!"}},{"$f":"COUNTIFS('1. 실태조사(위원회별)'!#REF!,'1.총괄현황 집계표'!$B106,'1. 실태조사(위원회별)'!$C$8:$C$5152,\"*\",'1. 실태조사(위원회별)'!#REF!,\"*\")","v":{"$error":"#REF!"}},0]
["경기","경기군포시",88,{"$error":"#REF!"},{"$error":"#REF!"},{"$f":"COUNTIFS('1. 실태조사(위원회별)'!#REF!,'1.총괄현황 집계표'!$B107,'1. 실태조사(위원회별)'!$C$8:$C$5152,\"*\",'1. 실태조사(위원회별)'!#REF!,\"*\")","v":{"$error":"#REF!"}},{"$f":"COUNTIFS('1. 실태조사(위원회별)'!#REF!,'1.총괄현황 집계표'!$B107,'1. 실태조사(위원회별)'!$C$8:$C$5152,\"*\",'1. 실태조사(위원회별)'!#REF!,\"*\")","v":{"$error":"#REF!"}},{"$f":"COUNTIFS('1. 실태조사(위원회별)'!#REF!,'1.총괄현황 집계표'!$B107,'1. 실태조사(위원회별)'!$C$8:$C$5152,\"*\",'1. 실태조사(위원회별)'!#REF!,\"*\")","v":{"$error":"#REF!"}},{"$f":"COUNTIFS('1. 실태조사(위원회별)'!#REF!,'1.총괄현황 집계표'!$B107,'1. 실태조사(위원회별)'!$C$8:$C$5152,\"*\",'1. 실태조사(위원회별)'!#REF!,\"*\")","v":{"$error":"#REF!"}},0]
["경기","경기의왕시",104,{"$error":"#REF!"},{"$error":"#REF!"},{"$f":"COUNTIFS('1. 실태조사(위원회별)'!#REF!,'1.총괄현황 집계표'!$B108,'1. 실태조사(위원회별)'!$C$8:$C$5152,\"*\",'1. 실태조사(위원회별)'!#REF!,\"*\")","v":{"$error":"#REF!"}},{"$f":"COUNTIFS('1. 실태조사(위원회별)'!#REF!,'1.총괄현황 집계표'!$B108,'1. 실태조사(위원회별)'!$C$8:$C$5152,\"*\",'1. 실태조사(위원회별)'!#REF!,\"*\")","v":{"$error":"#REF!"}},{"$f":"COUNTIFS('1. 실태조사(위원회별)'!#REF!,'1.총괄현황 집계표'!$B108,'1. 실태조사(위원회별)'!$C$8:$C$5152,\"*\",'1. 실태조사(위원회별)'!#REF!,\"*\")","v":{"$error":"#REF!"}},{"$f":"COUNTIFS('1. 실태조사(위원회별)'!#REF!,'1.총괄현황 집계표'!$B108,'1. 실태조사(위원회별)'!$C$8:$C$5152,\"*\",'1. 실태조사(위원회별)'!#REF!,\"*\")","v":{"$error":"#REF!"}},0]
["경기","경기하남시",90,{"$error":"#REF!"},{"$error":"#REF!"},{"$f":"COUNTIFS('1. 실태조사(위원회별)'!#REF!,'1.총괄현황 집계표'!$B109,'1. 실태조사(위원회별)'!$C$8:$C$5152,\"*\",'1. 실태조사(위원회별)'!#REF!,\"*\")","v":{"$error":"#REF!"}},{"$f":"COUNTIFS('1. 실태조사(위원회별)'!#REF!,'1.총괄현황 집계표'!$B109,'1. 실태조사(위원회별)'!$C$8:$C$5152,\"*\",'1. 실태조사(위원회별)'!#REF!,\"*\")","v":{"$error":"#REF!"}},{"$f":"COUNTIFS('1. 실태조사(위원회별)'!#REF!,'1.총괄현황 집계표'!$B109,'1. 실태조사(위원회별)'!$C$8:$C$5152,\"*\",'1. 실태조사(위원회별)'!#REF!,\"*\")","v":{"$error":"#REF!"}},{"$f":"COUNTIFS('1. 실태조사(위원회별)'!#REF!,'1.총괄현황 집계표'!$B109,'1. 실태조사(위원회별)'!$C$8:$C$5152,\"*\",'1. 실태조사(위원회별)'!#REF!,\"*\")","v":{"$error":"#REF!"}},0]
["경기","경기용인시",163,{"$error":"#REF!"},{"$error":"#REF!"},{"$f":"COUNTIFS('1. 실태조사(위원회별)'!#REF!,'1.총괄현황 집계표'!$B110,'1. 실태조사(위원회별)'!$C$8:$C$5152,\"*\",'1. 실태조사(위원회별)'!#REF!,\"*\")","v":{"$error":"#REF!"}},{"$f":"COUNTIFS('1. 실태조사(위원회별)'!#REF!,'1.총괄현황 집계표'!$B110,'1. 실태조사(위원회별)'!$C$8:$C$5152,\"*\",'1. 실태조사(위원회별)'!#REF!,\"*\")","v":{"$error":"#REF!"}},{"$f":"COUNTIFS('1. 실태조사(위원회별)'!#REF!,'1.총괄현황 집계표'!$B110,'1. 실태조사(위원회별)'!$C$8:$C$5152,\"*\",'1. 실태조사(위원회별)'!#REF!,\"*\")","v":{"$error":"#REF!"}},{"$f":"COUNTIFS('1. 실태조사(위원회별)'!#REF!,'1.총괄현황 집계표'!$B110,'1. 실태조사(위원회별)'!$C$8:$C$5152,\"*\",'1. 실태조사(위원회별)'!#REF!,\"*\")","v":{"$error":"#REF!"}},0]
["경기","경기파주시",73,{"$error":"#REF!"},{"$error":"#REF!"},{"$f":"COUNTIFS('1. 실태조사(위원회별)'!#REF!,'1.총괄현황 집계표'!$B111,'1. 실태조사(위원회별)'!$C$8:$C$5152,\"*\",'1. 실태조사(위원회별)'!#REF!,\"*\")","v":{"$error":"#REF!"}},{"$f":"COUNTIFS('1. 실태조사(위원회별)'!#REF!,'1.총괄현황 집계표'!$B111,'1. 실태조사(위원회별)'!$C$8:$C$5152,\"*\",'1. 실태조사(위원회별)'!#REF!,\"*\")","v":{"$error":"#REF!"}},{"$f":"COUNTIFS('1. 실태조사(위원회별)'!#REF!,'1.총괄현황 집계표'!$B111,'1. 실태조사(위원회별)'!$C$8:$C$5152,\"*\",'1. 실태조사(위원회별)'!#REF!,\"*\")","v":{"$error":"#REF!"}},{"$f":"COUNTIFS('1. 실태조사(위원회별)'!#REF!,'1.총괄현황 집계표'!$B111,'1. 실태조사(위원회별)'!$C$8:$C$5152,\"*\",'1. 실태조사(위원회별)'!#REF!,\"*\")","v":{"$error":"#REF!"}},0]
["경기","경기이천시",120,{"$error":"#REF!"},{"$error":"#REF!"},{"$f":"COUNTIFS('1. 실태조사(위원회별)'!#REF!,'1.총괄현황 집계표'!$B112,'1. 실태조사(위원회별)'!$C$8:$C$5152,\"*\",'1. 실태조사(위원회별)'!#REF!,\"*\")","v":{"$error":"#REF!"}},{"$f":"COUNTIFS('1. 실태조사(위원회별)'!#REF!,'1.총괄현황 집계표'!$B112,'1. 실태조사(위원회별)'!$C$8:$C$5152,\"*\",'1. 실태조사(위원회별)'!#REF!,\"*\")","v":{"$error":"#REF!"}},{"$f":"COUNTIFS('1. 실태조사(위원회별)'!#REF!,'1.총괄현황 집계표'!$B112,'1. 실태조사(위원회별)'!$C$8:$C$5152,\"*\",'1. 실태조사(위원회별)'!#REF!,\"*\")","v":{"$error":"#REF!"}},{"$f":"COUNTIFS('1. 실태조사(위원회별)'!#REF!,'1.총괄현황 집계표'!$B112,'1. 실태조사(위원회별)'!$C$8:$C$5152,\"*\",'1. 실태조사(위원회별)'!#REF!,\"*\")","v":{"$error":"#REF!"}},0]
["경기","경기안성시",116,{"$error":"#REF!"},{"$error":"#REF!"},{"$f":"COUNTIFS('1. 실태조사(위원회별)'!#REF!,'1.총괄현황 집계표'!$B113,'1. 실태조사(위원회별)'!$C$8:$C$5152,\"*\",'1. 실태조사(위원회별)'!#REF!,\"*\")","v":{"$error":"#REF!"}},{"$f":"COUNTIFS('1. 실태조사(위원회별)'!#REF!,'1.총괄현황 집계표'!$B113,'1. 실태조사(위원회별)'!$C$8:$C$5152,\"*\",'1. 실태조사(위원회별)'!#REF!,\"*\")","v":{"$error":"#REF!"}},{"$f":"COUNTIFS('1. 실태조사(위원회별)'!#REF!,'1.총괄현황 집계표'!$B113,'1. 실태조사(위원회별)'!$C$8:$C$5152,\"*\",'1. 실태조사(위원회별)'!#REF!,\"*\")","v":{"$error":"#REF!"}},{"$f":"COUNTIFS('1. 실태조사(위원회별)'!#REF!,'1.총괄현황 집계표'!$B113,'1. 실태조사(위원회별)'!$C$8:$C$5152,\"*\",'1. 실태조사(위원회별)'!#REF!,\"*\")","v":{"$error":"#REF!"}},0]
["경기","경기김포시",108,{"$error":"#REF!"},{"$error":"#REF!"},{"$f":"COUNTIFS('1. 실태조사(위원회별)'!#REF!,'1.총괄현황 집계표'!$B114,'1. 실태조사(위원회별)'!$C$8:$C$5152,\"*\",'1. 실태조사(위원회별)'!#REF!,\"*\")","v":{"$error":"#REF!"}},{"$f":"COUNTIFS('1. 실태조사(위원회별)'!#REF!,'1.총괄현황 집계표'!$B114,'1. 실태조사(위원회별)'!$C$8:$C$5152,\"*\",'1. 실태조사(위원회별)'!#REF!,\"*\")","v":{"$error":"#REF!"}},{"$f":"COUNTIFS('1. 실태조사(위원회별)'!#REF!,'1.총괄현황 집계표'!$B114,'1. 실태조사(위원회별)'!$C$8:$C$5152,\"*\",'1. 실태조사(위원회별)'!#REF!,\"*\")","v":{"$error":"#REF!"}},{"$f":"COUNTIFS('1. 실태조사(위원회별)'!#REF!,'1.총괄현황 집계표'!$B114,'1. 실태조사(위원회별)'!$C$8:$C$5152,\"*\",'1. 실태조사(위원회별)'!#REF!,\"*\")","v":{"$error":"#REF!"}},0]
["경기","경기화성시",109,{"$error":"#REF!"},{"$error":"#REF!"},{"$f":"COUNTIFS('1. 실태조사(위원회별)'!#REF!,'1.총괄현황 집계표'!$B115,'1. 실태조사(위원회별)'!$C$8:$C$5152,\"*\",'1. 실태조사(위원회별)'!#REF!,\"*\")","v":{"$error":"#REF!"}},{"$f":"COUNTIFS('1. 실태조사(위원회별)'!#REF!,'1.총괄현황 집계표'!$B115,'1. 실태조사(위원회별)'!$C$8:$C$5152,\"*\",'1. 실태조사(위원회별)'!#REF!,\"*\")","v":{"$error":"#REF!"}},{"$f":"COUNTIFS('1. 실태조사(위원회별)'!#REF!,'1.총괄현황 집계표'!$B115,'1. 실태조사(위원회별)'!$C$8:$C$5152,\"*\",'1. 실태조사(위원회별)'!#REF!,\"*\")","v":{"$error":"#REF!"}},{"$f":"COUNTIFS('1. 실태조사(위원회별)'!#REF!,'1.총괄현황 집계표'!$B115,'1. 실태조사(위원회별)'!$C$8:$C$5152,\"*\",'1. 실태조사(위원회별)'!#REF!,\"*\")","v":{"$error":"#REF!"}},0]
["경기","경기광주시",83,{"$error":"#REF!"},{"$error":"#REF!"},{"$f":"COUNTIFS('1. 실태조사(위원회별)'!#REF!,'1.총괄현황 집계표'!$B116,'1. 실태조사(위원회별)'!$C$8:$C$5152,\"*\",'1. 실태조사(위원회별)'!#REF!,\"*\")","v":{"$error":"#REF!"}},{"$f":"COUNTIFS('1. 실태조사(위원회별)'!#REF!,'1.총괄현황 집계표'!$B116,'1. 실태조사(위원회별)'!$C$8:$C$5152,\"*\",'1. 실태조사(위원회별)'!#REF!,\"*\")","v":{"$error":"#REF!"}},{"$f":"COUNTIFS('1. 실태조사(위원회별)'!#REF!,'1.총괄현황 집계표'!$B116,'1. 실태조사(위원회별)'!$C$8:$C$5152,\"*\",'1. 실태조사(위원회별)'!#REF!,\"*\")","v":{"$error":"#REF!"}},{"$f":"COUNTIFS('1. 실태조사(위원회별)'!#REF!,'1.총괄현황 집계표'!$B116,'1. 실태조사(위원회별)'!$C$8:$C$5152,\"*\",'1. 실태조사(위원회별)'!#REF!,\"*\")","v":{"$error":"#REF!"}},0]
["경기","경기양주시",60,{"$error":"#REF!"},{"$error":"#REF!"},{"$f":"COUNTIFS('1. 실태조사(위원회별)'!#REF!,'1.총괄현황 집계표'!$B117,'1. 실태조사(위원회별)'!$C$8:$C$5152,\"*\",'1. 실태조사(위원회별)'!#REF!,\"*\")","v":{"$error":"#REF!"}},{"$f":"COUNTIFS('1. 실태조사(위원회별)'!#REF!,'1.총괄현황 집계표'!$B117,'1. 실태조사(위원회별)'!$C$8:$C$5152,\"*\",'1. 실태조사(위원회별)'!#REF!,\"*\")","v":{"$error":"#REF!"}},{"$f":"COUNTIFS('1. 실태조사(위원회별)'!#REF!,'1.총괄현황 집계표'!$B117,'1. 실태조사(위원회별)'!$C$8:$C$5152,\"*\",'1. 실태조사(위원회별)'!#REF!,\"*\")","v":{"$error":"#REF!"}},{"$f":"COUNTIFS('1. 실태조사(위원회별)'!#REF!,'1.총괄현황 집계표'!$B117,'1. 실태조사(위원회별)'!$C$8:$C$5152,\"*\",'1. 실태조사(위원회별)'!#REF!,\"*\")","v":{"$error":"#REF!"}},0]
["경기","경기포천시",89,{"$error":"#REF!"},{"$error":"#REF!"},{"$f":"COUNTIFS('1. 실태조사(위원회별)'!#REF!,'1.총괄현황 집계표'!$B118,'1. 실태조사(위원회별)'!$C$8:$C$5152,\"*\",'1. 실태조사(위원회별)'!#REF!,\"*\")","v":{"$error":"#REF!"}},{"$f":"COUNTIFS('1. 실태조사(위원회별)'!#REF!,'1.총괄현황 집계표'!$B118,'1. 실태조사(위원회별)'!$C$8:$C$5152,\"*\",'1. 실태조사(위원회별)'!#REF!,\"*\")","v":{"$error":"#REF!"}},{"$f":"COUNTIFS('1. 실태조사(위원회별)'!#REF!,'1.총괄현황 집계표'!$B118,'1. 실태조사(위원회별)'!$C$8:$C$5152,\"*\",'1. 실태조사(위원회별)'!#REF!,\"*\")","v":{"$error":"#REF!"}},{"$f":"COUNTIFS('1. 실태조사(위원회별)'!#REF!,'1.총괄현황 집계표'!$B118,'1. 실태조사(위원회별)'!$C$8:$C$5152,\"*\",'1. 실태조사(위원회별)'!#REF!,\"*\")","v":{"$error":"#REF!"}},0]
["경기","경기여주시",112,{"$error":"#REF!"},{"$error":"#REF!"},{"$f":"COUNTIFS('1. 실태조사(위원회별)'!#REF!,'1.총괄현황 집계표'!$B119,'1. 실태조사(위원회별)'!$C$8:$C$5152,\"*\",'1. 실태조사(위원회별)'!#REF!,\"*\")","v":{"$error":"#REF!"}},{"$f":"COUNTIFS('1. 실태조사(위원회별)'!#REF!,'1.총괄현황 집계표'!$B119,'1. 실태조사(위원회별)'!$C$8:$C$5152,\"*\",'1. 실태조사(위원회별)'!#REF!,\"*\")","v":{"$error":"#REF!"}},{"$f":"COUNTIFS('1. 실태조사(위원회별)'!#REF!,'1.총괄현황 집계표'!$B119,'1. 실태조사(위원회별)'!$C$8:$C$5152,\"*\",'1. 실태조사(위원회별)'!#REF!,\"*\")","v":{"$error":"#REF!"}},{"$f":"COUNTIFS('1. 실태조사(위원회별)'!#REF!,'1.총괄현황 집계표'!$B119,'1. 실태조사(위원회별)'!$C$8:$C$5152,\"*\",'1. 실태조사(위원회별)'!#REF!,\"*\")","v":{"$error":"#REF!"}},0]
["경기","경기연천군",77,{"$error":"#REF!"},{"$error":"#REF!"},{"$f":"COUNTIFS('1. 실태조사(위원회별)'!#REF!,'1.총괄현황 집계표'!$B120,'1. 실태조사(위원회별)'!$C$8:$C$5152,\"*\",'1. 실태조사(위원회별)'!#REF!,\"*\")","v":{"$error":"#REF!"}},{"$f":"COUNTIFS('1. 실태조사(위원회별)'!#REF!,'1.총괄현황 집계표'!$B120,'1. 실태조사(위원회별)'!$C$8:$C$5152,\"*\",'1. 실태조사(위원회별)'!#REF!,\"*\")","v":{"$error":"#REF!"}},{"$f":"COUNTIFS('1. 실태조사(위원회별)'!#REF!,'1.총괄현황 집계표'!$B120,'1. 실태조사(위원회별)'!$C$8:$C$5152,\"*\",'1. 실태조사(위원회별)'!#REF!,\"*\")","v":{"$error":"#REF!"}},{"$f":"COUNTIFS('1. 실태조사(위원회별)'!#REF!,'1.총괄현황 집계표'!$B120,'1. 실태조사(위원회별)'!$C$8:$C$5152,\"*\",'1. 실태조사(위원회별)'!#REF!,\"*\")","v":{"$error":"#REF!"}},0]
["경기","경기가평군",76,{"$error":"#REF!"},{"$error":"#REF!"},{"$f":"COUNTIFS('1. 실태조사(위원회별)'!#REF!,'1.총괄현황 집계표'!$B121,'1. 실태조사(위원회별)'!$C$8:$C$5152,\"*\",'1. 실태조사(위원회별)'!#REF!,\"*\")","v":{"$error":"#REF!"}},{"$f":"COUNTIFS('1. 실태조사(위원회별)'!#REF!,'1.총괄현황 집계표'!$B121,'1. 실태조사(위원회별)'!$C$8:$C$5152,\"*\",'1. 실태조사(위원회별)'!#REF!,\"*\")","v":{"$error":"#REF!"}},{"$f":"COUNTIFS('1. 실태조사(위원회별)'!#REF!,'1.총괄현황 집계표'!$B121,'1. 실태조사(위원회별)'!$C$8:$C$5152,\"*\",'1. 실태조사(위원회별)'!#REF!,\"*\")","v":{"$error":"#REF!"}},{"$f":"COUNTIFS('1. 실태조사(위원회별)'!#REF!,'1.총괄현황 집계표'!$B121,'1. 실태조사(위원회별)'!$C$8:$C$5152,\"*\",'1. 실태조사(위원회별)'!#REF!,\"*\")","v":{"$error":"#REF!"}},0]
["경기","경기양평군",67,{"$error":"#REF!"},{"$error":"#REF!"},{"$f":"COUNTIFS('1. 실태조사(위원회별)'!#REF!,'1.총괄현황 집계표'!$B122,'1. 실태조사(위원회별)'!$C$8:$C$5152,\"*\",'1. 실태조사(위원회별)'!#REF!,\"*\")","v":{"$error":"#REF!"}},{"$f":"COUNTIFS('1. 실태조사(위원회별)'!#REF!,'1.총괄현황 집계표'!$B122,'1. 실태조사(위원회별)'!$C$8:$C$5152,\"*\",'1. 실태조사(위원회별)'!#REF!,\"*\")","v":{"$error":"#REF!"}},{"$f":"COUNTIFS('1. 실태조사(위원회별)'!#REF!,'1.총괄현황 집계표'!$B122,'1. 실태조사(위원회별)'!$C$8:$C$5152,\"*\",'1. 실태조사(위원회별)'!#REF!,\"*\")","v":{"$error":"#REF!"}},{"$f":"COUNTIFS('1. 실태조사(위원회별)'!#REF!,'1.총괄현황 집계표'!$B122,'1. 실태조사(위원회별)'!$C$8:$C$5152,\"*\",'1. 실태조사(위원회별)'!#REF!,\"*\")","v":{"$error":"#REF!"}},0]
["강원","강원도",163,{"$error":"#REF!"},{"$error":"#REF!"},{"$f":"COUNTIFS('1. 실태조사(위원회별)'!#REF!,'1.총괄현황 집계표'!$B123,'1. 실태조사(위원회별)'!$C$8:$C$5152,\"*\",'1. 실태조사(위원회별)'!#REF!,\"*\")","v":{"$error":"#REF!"}},{"$f":"COUNTIFS('1. 실태조사(위원회별)'!#REF!,'1.총괄현황 집계표'!$B123,'1. 실태조사(위원회별)'!$C$8:$C$5152,\"*\",'1. 실태조사(위원회별)'!#REF!,\"*\")","v":{"$error":"#REF!"}},{"$f":"COUNTIFS('1. 실태조사(위원회별)'!#REF!,'1.총괄현황 집계표'!$B123,'1. 실태조사(위원회별)'!$C$8:$C$5152,\"*\",'1. 실태조사(위원회별)'!#REF!,\"*\")","v":{"$error":"#REF!"}},{"$f":"COUNTIFS('1. 실태조사(위원회별)'!#REF!,'1.총괄현황 집계표'!$B123,'1. 실태조사(위원회별)'!$C$8:$C$5152,\"*\",'1. 실태조사(위원회별)'!#REF!,\"*\")","v":{"$error":"#REF!"}},0]
["강원","강원춘천시",104,{"$error":"#REF!"},{"$error":"#REF!"},{"$f":"COUNTIFS('1. 실태조사(위원회별)'!#REF!,'1.총괄현황 집계표'!$B124,'1. 실태조사(위원회별)'!$C$8:$C$5152,\"*\",'1. 실태조사(위원회별)'!#REF!,\"*\")","v":{"$error":"#REF!"}},{"$f":"COUNTIFS('1. 실태조사(위원회별)'!#REF!,'1.총괄현황 집계표'!$B124,'1. 실태조사(위원회별)'!$C$8:$C$5152,\"*\",'1. 실태조사(위원회별)'!#REF!,\"*\")","v":{"$error":"#REF!"}},{"$f":"COUNTIFS('1. 실태조사(위원회별)'!#REF!,'1.총괄현황 집계표'!$B124,'1. 실태조사(위원회별)'!$C$8:$C$5152,\"*\",'1. 실태조사(위원회별)'!#REF!,\"*\")","v":{"$error":"#REF!"}},{"$f":"COUNTIFS('1. 실태조사(위원회별)'!#REF!,'1.총괄현황 집계표'!$B124,'1. 실태조사(위원회별)'!$C$8:$C$5152,\"*\",'1. 실태조사(위원회별)'!#REF!,\"*\")","v":{"$error":"#REF!"}},0]
["강원","강원원주시",137,{"$error":"#REF!"},{"$error":"#REF!"},{"$f":"COUNTIFS('1. 실태조사(위원회별)'!#REF!,'1.총괄현황 집계표'!$B125,'1. 실태조사(위원회별)'!$C$8:$C$5152,\"*\",'1. 실태조사(위원회별)'!#REF!,\"*\")","v":{"$error":"#REF!"}},{"$f":"COUNTIFS('1. 실태조사(위원회별)'!#REF!,'1.총괄현황 집계표'!$B125,'1. 실태조사(위원회별)'!$C$8:$C$5152,\"*\",'1. 실태조사(위원회별)'!#REF!,\"*\")","v":{"$error":"#REF!"}},{"$f":"COUNTIFS('1. 실태조사(위원회별)'!#REF!,'1.총괄현황 집계표'!$B125,'1. 실태조사(위원회별)'!$C$8:$C$5152,\"*\",'1. 실태조사(위원회별)'!#REF!,\"*\")","v":{"$error":"#REF!"}},{"$f":"COUNTIFS('1. 실태조사(위원회별)'!#REF!,'1.총괄현황 집계표'!$B125,'1. 실태조사(위원회별)'!$C$8:$C$5152,\"*\",'1. 실태조사(위원회별)'!#REF!,\"*\")","v":{"$error":"#REF!"}},0]
["강원","강원강릉시",112,{"$error":"#REF!"},{"$error":"#REF!"},{"$f":"COUNTIFS('1. 실태조사(위원회별)'!#REF!,'1.총괄현황 집계표'!$B126,'1. 실태조사(위원회별)'!$C$8:$C$5152,\"*\",'1. 실태조사(위원회별)'!#REF!,\"*\")","v":{"$error":"#REF!"}},{"$f":"COUNTIFS('1. 실태조사(위원회별)'!#REF!,'1.총괄현황 집계표'!$B126,'1. 실태조사(위원회별)'!$C$8:$C$5152,\"*\",'1. 실태조사(위원회별)'!#REF!,\"*\")","v":{"$error":"#REF!"}},{"$f":"COUNTIFS('1. 실태조사(위원회별)'!#REF!,'1.총괄현황 집계표'!$B126,'1. 실태조사(위원회별)'!$C$8:$C$5152,\"*\",'1. 실태조사(위원회별)'!#REF!,\"*\")","v":{"$error":"#REF!"}},{"$f":"COUNTIFS('1. 실태조사(위원회별)'!#REF!,'1.총괄현황 집계표'!$B126,'1. 실태조사(위원회별)'!$C$8:$C$5152,\"*\",'1. 실태조사(위원회별)'!#REF!,\"*\")","v":{"$error":"#REF!"}},0]
["강원","강원동해시",89,{"$error":"#REF!"},{"$error":"#REF!"},{"$f":"COUNTIFS('1. 실태조사(위원회별)'!#REF!,'1.총괄현황 집계표'!$B127,'1. 실태조사(위원회별)'!$C$8:$C$5152,\"*\",'1. 실태조사(위원회별)'!#REF!,\"*\")","v":{"$error":"#REF!"}},{"$f":"COUNTIFS('1. 실태조사(위원회별)'!#REF!,'1.총괄현황 집계표'!$B127,'1. 실태조사(위원회별)'!$C$8:$C$5152,\"*\",'1. 실태조사(위원회별)'!#REF!,\"*\")","v":{"$error":"#REF!"}},{"$f":"COUNTIFS('1. 실태조사(위원회별)'!#REF!,'1.총괄현황 집계표'!$B127,'1. 실태조사(위원회별)'!$C$8:$C$5152,\"*\",'1. 실태조사(위원회별)'!#REF!,\"*\")","v":{"$error":"#REF!"}},{"$f":"COUNTIFS('1. 실태조사(위원회별)'!#REF!,'1.총괄현황 집계표'!$B127,'1. 실태조사(위원회별)'!$C$8:$C$5152,\"*\",'1. 실태조사(위원회별)'!#REF!,\"*\")","v":{"$error":"#REF!"}},0]
["강원","강원태백시",82,{"$error":"#REF!"},{"$error":"#REF!"},{"$f":"COUNTIFS('1. 실태조사(위원회별)'!#REF!,'1.총괄현황 집계표'!$B128,'1. 실태조사(위원회별)'!$C$8:$C$5152,\"*\",'1. 실태조사(위원회별)'!#REF!,\"*\")","v":{"$error":"#REF!"}},{"$f":"COUNTIFS('1. 실태조사(위원회별)'!#REF!,'1.총괄현황 집계표'!$B128,'1. 실태조사(위원회별)'!$C$8:$C$5152,\"*\",'1. 실태조사(위원회별)'!#REF!,\"*\")","v":{"$error":"#REF!"}},{"$f":"COUNTIFS('1. 실태조사(위원회별)'!#REF!,'1.총괄현황 집계표'!$B128,'1. 실태조사(위원회별)'!$C$8:$C$5152,\"*\",'1. 실태조사(위원회별)'!#REF!,\"*\")","v":{"$error":"#REF!"}},{"$f":"COUNTIFS('1. 실태조사(위원회별)'!#REF!,'1.총괄현황 집계표'!$B128,'1. 실태조사(위원회별)'!$C$8:$C$5152,\"*\",'1. 실태조사(위원회별)'!#REF!,\"*\")","v":{"$error":"#REF!"}},0]
["강원","강원속초시",115,{"$error":"#REF!"},{"$error":"#REF!"},{"$f":"COUNTIFS('1. 실태조사(위원회별)'!#REF!,'1.총괄현황 집계표'!$B129,'1. 실태조사(위원회별)'!$C$8:$C$5152,\"*\",'1. 실태조사(위원회별)'!#REF!,\"*\")","v":{"$error":"#REF!"}},{"$f":"COUNTIFS('1. 실태조사(위원회별)'!#REF!,'1.총괄현황 집계표'!$B129,'1. 실태조사(위원회별)'!$C$8:$C$5152,\"*\",'1. 실태조사(위원회별)'!#REF!,\"*\")","v":{"$error":"#REF!"}},{"$f":"COUNTIFS('1. 실태조사(위원회별)'!#REF!,'1.총괄현황 집계표'!$B129,'1. 실태조사(위원회별)'!$C$8:$C$5152,\"*\",'1. 실태조사(위원회별)'!#REF!,\"*\")","v":{"$error":"#REF!"}},{"$f":"COUNTIFS('1. 실태조사(위원회별)'!#REF!,'1.총괄현황 집계표'!$B129,'1. 실태조사(위원회별)'!$C$8:$C$5152,\"*\",'1. 실태조사(위원회별)'!#REF!,\"*\")","v":{"$error":"#REF!"}},0]
["강원","강원삼척시",91,{"$error":"#REF!"},{"$error":"#REF!"},{"$f":"COUNTIFS('1. 실태조사(위원회별)'!#REF!,'1.총괄현황 집계표'!$B130,'1. 실태조사(위원회별)'!$C$8:$C$5152,\"*\",'1. 실태조사(위원회별)'!#REF!,\"*\")","v":{"$error":"#REF!"}},{"$f":"COUNTIFS('1. 실태조사(위원회별)'!#REF!,'1.총괄현황 집계표'!$B130,'1. 실태조사(위원회별)'!$C$8:$C$5152,\"*\",'1. 실태조사(위원회별)'!#REF!,\"*\")","v":{"$error":"#REF!"}},{"$f":"COUNTIFS('1. 실태조사(위원회별)'!#REF!,'1.총괄현황 집계표'!$B130,'1. 실태조사(위원회별)'!$C$8:$C$5152,\"*\",'1. 실태조사(위원회별)'!#REF!,\"*\")","v":{"$error":"#REF!"}},{"$f":"COUNTIFS('1. 실태조사(위원회별)'!#REF!,'1.총괄현황 집계표'!$B130,'1. 실태조사(위원회별)'!$C$8:$C$5152,\"*\",'1. 실태조사(위원회별)'!#REF!,\"*\")","v":{"$error":"#REF!"}},0]
["강원","강원홍천군",112,{"$error":"#REF!"},{"$error":"#REF!"},{"$f":"COUNTIFS('1. 실태조사(위원회별)'!#REF!,'1.총괄현황 집계표'!$B131,'1. 실태조사(위원회별)'!$C$8:$C$5152,\"*\",'1. 실태조사(위원회별)'!#REF!,\"*\")","v":{"$error":"#REF!"}},{"$f":"COUNTIFS('1. 실태조사(위원회별)'!#REF!,'1.총괄현황 집계표'!$B131,'1. 실태조사(위원회별)'!$C$8:$C$5152,\"*\",'1. 실태조사(위원회별)'!#REF!,\"*\")","v":{"$error":"#REF!"}},{"$f":"COUNTIFS('1. 실태조사(위원회별)'!#REF!,'1.총괄현황 집계표'!$B131,'1. 실태조사(위원회별)'!$C$8:$C$5152,\"*\",'1. 실태조사(위원회별)'!#REF!,\"*\")","v":{"$error":"#REF!"}},{"$f":"COUNTIFS('1. 실태조사(위원회별)'!#REF!,'1.총괄현황 집계표'!$B131,'1. 실태조사(위원회별)'!$C$8:$C$5152,\"*\",'1. 실태조사(위원회별)'!#REF!,\"*\")","v":{"$error":"#REF!"}},0]
["강원","강원횡성군",114,{"$error":"#REF!"},{"$error":"#REF!"},{"$f":"COUNTIFS('1. 실태조사(위원회별)'!#REF!,'1.총괄현황 집계표'!$B132,'1. 실태조사(위원회별)'!$C$8:$C$5152,\"*\",'1. 실태조사(위원회별)'!#REF!,\"*\")","v":{"$error":"#REF!"}},{"$f":"COUNTIFS('1. 실태조사(위원회별)'!#REF!,'1.총괄현황 집계표'!$B132,'1. 실태조사(위원회별)'!$C$8:$C$5152,\"*\",'1. 실태조사(위원회별)'!#REF!,\"*\")","v":{"$error":"#REF!"}},{"$f":"COUNTIFS('1. 실태조사(위원회별)'!#REF!,'1.총괄현황 집계표'!$B132,'1. 실태조사(위원회별)'!$C$8:$C$5152,\"*\",'1. 실태조사(위원회별)'!#REF!,\"*\")","v":{"$error":"#REF!"}},{"$f":"COUNTIFS('1. 실태조사(위원회별)'!#REF!,'1.총괄현황 집계표'!$B132,'1. 실태조사(위원회별)'!$C$8:$C$5152,\"*\",'1. 실태조사(위원회별)'!#REF!,\"*\")","v":{"$error":"#REF!"}},0]
["강원","강원영월군",85,{"$error":"#REF!"},{"$error":"#REF!"},{"$f":"COUNTIFS('1. 실태조사(위원회별)'!#REF!,'1.총괄현황 집계표'!$B133,'1. 실태조사(위원회별)'!$C$8:$C$5152,\"*\",'1. 실태조사(위원회별)'!#REF!,\"*\")","v":{"$error":"#REF!"}},{"$f":"COUNTIFS('1. 실태조사(위원회별)'!#REF!,'1.총괄현황 집계표'!$B133,'1. 실태조사(위원회별)'!$C$8:$C$5152,\"*\",'1. 실태조사(위원회별)'!#REF!,\"*\")","v":{"$error":"#REF!"}},{"$f":"COUNTIFS('1. 실태조사(위원회별)'!#REF!,'1.총괄현황 집계표'!$B133,'1. 실태조사(위원회별)'!$C$8:$C$5152,\"*\",'1. 실태조사(위원회별)'!#REF!,\"*\")","v":{"$error":"#REF!"}},{"$f":"COUNTIFS('1. 실태조사(위원회별)'!#REF!,'1.총괄현황 집계표'!$B133,'1. 실태조사(위원회별)'!$C$8:$C$5152,\"*\",'1. 실태조사(위원회별)'!#REF!,\"*\")","v":{"$error":"#REF!"}},0]
["강원","강원평창군",69,{"$error":"#REF!"},{"$error":"#REF!"},{"$f":"COUNTIFS('1. 실태조사(위원회별)'!#REF!,'1.총괄현황 집계표'!$B134,'1. 실태조사(위원회별)'!$C$8:$C$5152,\"*\",'1. 실태조사(위원회별)'!#REF!,\"*\")","v":{"$error":"#REF!"}},{"$f":"COUNTIFS('1. 실태조사(위원회별)'!#REF!,'1.총괄현황 집계표'!$B134,'1. 실태조사(위원회별)'!$C$8:$C$5152,\"*\",'1. 실태조사(위원회별)'!#REF!,\"*\")","v":{"$error":"#REF!"}},{"$f":"COUNTIFS('1. 실태조사(위원회별)'!#REF!,'1.총괄현황 집계표'!$B134,'1. 실태조사(위원회별)'!$C$8:$C$5152,\"*\",'1. 실태조사(위원회별)'!#REF!,\"*\")","v":{"$error":"#REF!"}},{"$f":"COUNTIFS('1. 실태조사(위원회별)'!#REF!,'1.총괄현황 집계표'!$B134,'1. 실태조사(위원회별)'!$C$8:$C$5152,\"*\",'1. 실태조사(위원회별)'!#REF!,\"*\")","v":{"$error":"#REF!"}},0]
["강원","강원정선군",74,{"$error":"#REF!"},{"$error":"#REF!"},{"$f":"COUNTIFS('1. 실태조사(위원회별)'!#REF!,'1.총괄현황 집계표'!$B135,'1. 실태조사(위원회별)'!$C$8:$C$5152,\"*\",'1. 실태조사(위원회별)'!#REF!,\"*\")","v":{"$error":"#REF!"}},{"$f":"COUNTIFS('1. 실태조사(위원회별)'!#REF!,'1.총괄현황 집계표'!$B135,'1. 실태조사(위원회별)'!$C$8:$C$5152,\"*\",'1. 실태조사(위원회별)'!#REF!,\"*\")","v":{"$error":"#REF!"}},{"$f":"COUNTIFS('1. 실태조사(위원회별)'!#REF!,'1.총괄현황 집계표'!$B135,'1. 실태조사(위원회별)'!$C$8:$C$5152,\"*\",'1. 실태조사(위원회별)'!#REF!,\"*\")","v":{"$error":"#REF!"}},{"$f":"COUNTIFS('1. 실태조사(위원회별)'!#REF!,'1.총괄현황 집계표'!$B135,'1. 실태조사(위원회별)'!$C$8:$C$5152,\"*\",'1. 실태조사(위원회별)'!#REF!,\"*\")","v":{"$error":"#REF!"}},0]
["강원","강원철원군",76,{"$error":"#REF!"},{"$error":"#REF!"},{"$f":"COUNTIFS('1. 실태조사(위원회별)'!#REF!,'1.총괄현황 집계표'!$B136,'1. 실태조사(위원회별)'!$C$8:$C$5152,\"*\",'1. 실태조사(위원회별)'!#REF!,\"*\")","v":{"$error":"#REF!"}},{"$f":"COUNTIFS('1. 실태조사(위원회별)'!#REF!,'1.총괄현황 집계표'!$B136,'1. 실태조사(위원회별)'!$C$8:$C$5152,\"*\",'1. 실태조사(위원회별)'!#REF!,\"*\")","v":{"$error":"#REF!"}},{"$f":"COUNTIFS('1. 실태조사(위원회별)'!#REF!,'1.총괄현황 집계표'!$B136,'1. 실태조사(위원회별)'!$C$8:$C$5152,\"*\",'1. 실태조사(위원회별)'!#REF!,\"*\")","v":{"$error":"#REF!"}},{"$f":"COUNTIFS('1. 실태조사(위원회별)'!#REF!,'1.총괄현황 집계표'!$B136,'1. 실태조사(위원회별)'!$C$8:$C$5152,\"*\",'1. 실태조사(위원회별)'!#REF!,\"*\")","v":{"$error":"#REF!"}},0]
["강원","강원화천군",64,{"$error":"#REF!"},{"$error":"#REF!"},{"$f":"COUNTIFS('1. 실태조사(위원회별)'!#REF!,'1.총괄현황 집계표'!$B137,'1. 실태조사(위원회별)'!$C$8:$C$5152,\"*\",'1. 실태조사(위원회별)'!#REF!,\"*\")","v":{"$error":"#REF!"}},{"$f":"COUNTIFS('1. 실태조사(위원회별)'!#REF!,'1.총괄현황 집계표'!$B137,'1. 실태조사(위원회별)'!$C$8:$C$5152,\"*\",'1. 실태조사(위원회별)'!#REF!,\"*\")","v":{"$error":"#REF!"}},{"$f":"COUNTIFS('1. 실태조사(위원회별)'!#REF!,'1.총괄현황 집계표'!$B137,'1. 실태조사(위원회별)'!$C$8:$C$5152,\"*\",'1. 실태조사(위원회별)'!#REF!,\"*\")","v":{"$error":"#REF!"}},{"$f":"COUNTIFS('1. 실태조사(위원회별)'!#REF!,'1.총괄현황 집계표'!$B137,'1. 실태조사(위원회별)'!$C$8:$C$5152,\"*\",'1. 실태조사(위원회별)'!#REF!,\"*\")","v":{"$error":"#REF!"}},0]
["강원","강원양구군",79,{"$f":"C138+F138-G138-H138","v":{"$error":"#REF!"}},{"$f":"F138-G138-H138+I138","v":{"$error":"#REF!"}},{"$f":"COUNTIFS('1. 실태조사(위원회별)'!#REF!,'1.총괄현황 집계표'!$B138,'1. 실태조사(위원회별)'!$C$8:$C$5152,\"*\",'1. 실태조사(위원회별)'!#REF!,\"*\")","v":{"$error":"#REF!"}},{"$f":"COUNTIFS('1. 실태조사(위원회별)'!#REF!,'1.총괄현황 집계표'!$B138,'1. 실태조사(위원회별)'!$C$8:$C$5152,\"*\",'1. 실태조사(위원회별)'!#REF!,\"*\")","v":{"$error":"#REF!"}},{"$f":"COUNTIFS('1. 실태조사(위원회별)'!#REF!,'1.총괄현황 집계표'!$B138,'1. 실태조사(위원회별)'!$C$8:$C$5152,\"*\",'1. 실태조사(위원회별)'!#REF!,\"*\")","v":{"$error":"#REF!"}},{"$f":"COUNTIFS('1. 실태조사(위원회별)'!#REF!,'1.총괄현황 집계표'!$B138,'1. 실태조사(위원회별)'!$C$8:$C$5152,\"*\",'1. 실태조사(위원회별)'!#REF!,\"*\")","v":{"$error":"#REF!"}},{"$f":"SUM(K138:P138)","v":0}]
["강원","강원인제군",97,{"$error":"#REF!"},{"$error":"#REF!"},{"$f":"COUNTIFS('1. 실태조사(위원회별)'!#REF!,'1.총괄현황 집계표'!$B139,'1. 실태조사(위원회별)'!$C$8:$C$5152,\"*\",'1. 실태조사(위원회별)'!#REF!,\"*\")","v":{"$error":"#REF!"}},{"$f":"COUNTIFS('1. 실태조사(위원회별)'!#REF!,'1.총괄현황 집계표'!$B139,'1. 실태조사(위원회별)'!$C$8:$C$5152,\"*\",'1. 실태조사(위원회별)'!#REF!,\"*\")","v":{"$error":"#REF!"}},{"$f":"COUNTIFS('1. 실태조사(위원회별)'!#REF!,'1.총괄현황 집계표'!$B139,'1. 실태조사(위원회별)'!$C$8:$C$5152,\"*\",'1. 실태조사(위원회별)'!#REF!,\"*\")","v":{"$error":"#REF!"}},{"$f":"COUNTIFS('1. 실태조사(위원회별)'!#REF!,'1.총괄현황 집계표'!$B139,'1. 실태조사(위원회별)'!$C$8:$C$5152,\"*\",'1. 실태조사(위원회별)'!#REF!,\"*\")","v":{"$error":"#REF!"}},0]
["강원","강원고성군",69,{"$error":"#REF!"},{"$error":"#REF!"},{"$f":"COUNTIFS('1. 실태조사(위원회별)'!#REF!,'1.총괄현황 집계표'!$B140,'1. 실태조사(위원회별)'!$C$8:$C$5152,\"*\",'1. 실태조사(위원회별)'!#REF!,\"*\")","v":{"$error":"#REF!"}},{"$f":"COUNTIFS('1. 실태조사(위원회별)'!#REF!,'1.총괄현황 집계표'!$B140,'1. 실태조사(위원회별)'!$C$8:$C$5152,\"*\",'1. 실태조사(위원회별)'!#REF!,\"*\")","v":{"$error":"#REF!"}},{"$f":"COUNTIFS('1. 실태조사(위원회별)'!#REF!,'1.총괄현황 집계표'!$B140,'1. 실태조사(위원회별)'!$C$8:$C$5152,\"*\",'1. 실태조사(위원회별)'!#REF!,\"*\")","v":{"$error":"#REF!"}},{"$f":"COUNTIFS('1. 실태조사(위원회별)'!#REF!,'1.총괄현황 집계표'!$B140,'1. 실태조사(위원회별)'!$C$8:$C$5152,\"*\",'1. 실태조사(위원회별)'!#REF!,\"*\")","v":{"$error":"#REF!"}},0]
["강원","강원양양군",72,{"$error":"#REF!"},{"$error":"#REF!"},{"$f":"COUNTIFS('1. 실태조사(위원회별)'!#REF!,'1.총괄현황 집계표'!$B141,'1. 실태조사(위원회별)'!$C$8:$C$5152,\"*\",'1. 실태조사(위원회별)'!#REF!,\"*\")","v":{"$error":"#REF!"}},{"$f":"COUNTIFS('1. 실태조사(위원회별)'!#REF!,'1.총괄현황 집계표'!$B141,'1. 실태조사(위원회별)'!$C$8:$C$5152,\"*\",'1. 실태조사(위원회별)'!#REF!,\"*\")","v":{"$error":"#REF!"}},{"$f":"COUNTIFS('1. 실태조사(위원회별)'!#REF!,'1.총괄현황 집계표'!$B141,'1. 실태조사(위원회별)'!$C$8:$C$5152,\"*\",'1. 실태조사(위원회별)'!#REF!,\"*\")","v":{"$error":"#REF!"}},{"$f":"COUNTIFS('1. 실태조사(위원회별)'!#REF!,'1.총괄현황 집계표'!$B141,'1. 실태조사(위원회별)'!$C$8:$C$5152,\"*\",'1. 실태조사(위원회별)'!#REF!,\"*\")","v":{"$error":"#REF!"}},0]
["충북","충청북도",124,{"$error":"#REF!"},{"$error":"#REF!"},{"$f":"COUNTIFS('1. 실태조사(위원회별)'!#REF!,'1.총괄현황 집계표'!$B142,'1. 실태조사(위원회별)'!$C$8:$C$5152,\"*\",'1. 실태조사(위원회별)'!#REF!,\"*\")","v":{"$error":"#REF!"}},{"$f":"COUNTIFS('1. 실태조사(위원회별)'!#REF!,'1.총괄현황 집계표'!$B142,'1. 실태조사(위원회별)'!$C$8:$C$5152,\"*\",'1. 실태조사(위원회별)'!#REF!,\"*\")","v":{"$error":"#REF!"}},{"$f":"COUNTIFS('1. 실태조사(위원회별)'!#REF!,'1.총괄현황 집계표'!$B142,'1. 실태조사(위원회별)'!$C$8:$C$5152,\"*\",'1. 실태조사(위원회별)'!#REF!,\"*\")","v":{"$error":"#REF!"}},{"$f":"COUNTIFS('1. 실태조사(위원회별)'!#REF!,'1.총괄현황 집계표'!$B142,'1. 실태조사(위원회별)'!$C$8:$C$5152,\"*\",'1. 실태조사(위원회별)'!#REF!,\"*\")","v":{"$error":"#REF!"}},0]
["충북","충북청주시",140,{"$error":"#REF!"},{"$error":"#REF!"},{"$f":"COUNTIFS('1. 실태조사(위원회별)'!#REF!,'1.총괄현황 집계표'!$B143,'1. 실태조사(위원회별)'!$C$8:$C$5152,\"*\",'1. 실태조사(위원회별)'!#REF!,\"*\")","v":{"$error":"#REF!"}},{"$f":"COUNTIFS('1. 실태조사(위원회별)'!#REF!,'1.총괄현황 집계표'!$B143,'1. 실태조사(위원회별)'!$C$8:$C$5152,\"*\",'1. 실태조사(위원회별)'!#REF!,\"*\")","v":{"$error":"#REF!"}},{"$f":"COUNTIFS('1. 실태조사(위원회별)'!#REF!,'1.총괄현황 집계표'!$B143,'1. 실태조사(위원회별)'!$C$8:$C$5152,\"*\",'1. 실태조사(위원회별)'!#REF!,\"*\")","v":{"$error":"#REF!"}},{"$f":"COUNTIFS('1. 실태조사(위원회별)'!#REF!,'1.총괄현황 집계표'!$B143,'1. 실태조사(위원회별)'!$C$8:$C$5152,\"*\",'1. 실태조사(위원회별)'!#REF!,\"*\")","v":{"$error":"#REF!"}},0]
["충북","충북충주시",112,{"$error":"#REF!"},{"$error":"#REF!"},{"$f":"COUNTIFS('1. 실태조사(위원회별)'!#REF!,'1.총괄현황 집계표'!$B144,'1. 실태조사(위원회별)'!$C$8:$C$5152,\"*\",'1. 실태조사(위원회별)'!#REF!,\"*\")","v":{"$error":"#REF!"}},{"$f":"COUNTIFS('1. 실태조사(위원회별)'!#REF!,'1.총괄현황 집계표'!$B144,'1. 실태조사(위원회별)'!$C$8:$C$5152,\"*\",'1. 실태조사(위원회별)'!#REF!,\"*\")","v":{"$error":"#REF!"}},{"$f":"COUNTIFS('1. 실태조사(위원회별)'!#REF!,'1.총괄현황 집계표'!$B144,'1. 실태조사(위원회별)'!$C$8:$C$5152,\"*\",'1. 실태조사(위원회별)'!#REF!,\"*\")","v":{"$error":"#REF!"}},{"$f":"COUNTIFS('1. 실태조사(위원회별)'!#REF!,'1.총괄현황 집계표'!$B144,'1. 실태조사(위원회별)'!$C$8:$C$5152,\"*\",'1. 실태조사(위원회별)'!#REF!,\"*\")","v":{"$error":"#REF!"}},0]
["충북","충북제천시",113,{"$error":"#REF!"},{"$error":"#REF!"},{"$f":"COUNTIFS('1. 실태조사(위원회별)'!#REF!,'1.총괄현황 집계표'!$B145,'1. 실태조사(위원회별)'!$C$8:$C$5152,\"*\",'1. 실태조사(위원회별)'!#REF!,\"*\")","v":{"$error":"#REF!"}},{"$f":"COUNTIFS('1. 실태조사(위원회별)'!#REF!,'1.총괄현황 집계표'!$B145,'1. 실태조사(위원회별)'!$C$8:$C$5152,\"*\",'1. 실태조사(위원회별)'!#REF!,\"*\")","v":{"$error":"#REF!"}},{"$f":"COUNTIFS('1. 실태조사(위원회별)'!#REF!,'1.총괄현황 집계표'!$B145,'1. 실태조사(위원회별)'!$C$8:$C$5152,\"*\",'1. 실태조사(위원회별)'!#REF!,\"*\")","v":{"$error":"#REF!"}},{"$f":"COUNTIFS('1. 실태조사(위원회별)'!#REF!,'1.총괄현황 집계표'!$B145,'1. 실태조사(위원회별)'!$C$8:$C$5152,\"*\",'1. 실태조사(위원회별)'!#REF!,\"*\")","v":{"$error":"#REF!"}},0]
["충북","충북보은군",84,{"$error":"#REF!"},{"$error":"#REF!"},{"$f":"COUNTIFS('1. 실태조사(위원회별)'!#REF!,'1.총괄현황 집계표'!$B146,'1. 실태조사(위원회별)'!$C$8:$C$5152,\"*\",'1. 실태조사(위원회별)'!#REF!,\"*\")","v":{"$error":"#REF!"}},{"$f":"COUNTIFS('1. 실태조사(위원회별)'!#REF!,'1.총괄현황 집계표'!$B146,'1. 실태조사(위원회별)'!$C$8:$C$5152,\"*\",'1. 실태조사(위원회별)'!#REF!,\"*\")","v":{"$error":"#REF!"}},{"$f":"COUNTIFS('1. 실태조사(위원회별)'!#REF!,'1.총괄현황 집계표'!$B146,'1. 실태조사(위원회별)'!$C$8:$C$5152,\"*\",'1. 실태조사(위원회별)'!#REF!,\"*\")","v":{"$error":"#REF!"}},{"$f":"COUNTIFS('1. 실태조사(위원회별)'!#REF!,'1.총괄현황 집계표'!$B146,'1. 실태조사(위원회별)'!$C$8:$C$5152,\"*\",'1. 실태조사(위원회별)'!#REF!,\"*\")","v":{"$error":"#REF!"}},0]
["충북","충북옥천군",80,{"$error":"#REF!"},{"$error":"#REF!"},{"$f":"COUNTIFS('1. 실태조사(위원회별)'!#REF!,'1.총괄현황 집계표'!$B147,'1. 실태조사(위원회별)'!$C$8:$C$5152,\"*\",'1. 실태조사(위원회별)'!#REF!,\"*\")","v":{"$error":"#REF!"}},{"$f":"COUNTIFS('1. 실태조사(위원회별)'!#REF!,'1.총괄현황 집계표'!$B147,'1. 실태조사(위원회별)'!$C$8:$C$5152,\"*\",'1. 실태조사(위원회별)'!#REF!,\"*\")","v":{"$error":"#REF!"}},{"$f":"COUNTIFS('1. 실태조사(위원회별)'!#REF!,'1.총괄현황 집계표'!$B147,'1. 실태조사(위원회별)'!$C$8:$C$5152,\"*\",'1. 실태조사(위원회별)'!#REF!,\"*\")","v":{"$error":"#REF!"}},{"$f":"COUNTIFS('1. 실태조사(위원회별)'!#REF!,'1.총괄현황 집계표'!$B147,'1. 실태조사(위원회별)'!$C$8:$C$5152,\"*\",'1. 실태조사(위원회별)'!#REF!,\"*\")","v":{"$error":"#REF!"}},0]
["충북","충북영동군",93,{"$error":"#REF!"},{"$error":"#REF!"},{"$f":"COUNTIFS('1. 실태조사(위원회별)'!#REF!,'1.총괄현황 집계표'!$B148,'1. 실태조사(위원회별)'!$C$8:$C$5152,\"*\",'1. 실태조사(위원회별)'!#REF!,\"*\")","v":{"$error":"#REF!"}},{"$f":"COUNTIFS('1. 실태조사(위원회별)'!#REF!,'1.총괄현황 집계표'!$B148,'1. 실태조사(위원회별)'!$C$8:$C$5152,\"*\",'1. 실태조사(위원회별)'!#REF!,\"*\")","v":{"$error":"#REF!"}},{"$f":"COUNTIFS('1. 실태조사(위원회별)'!#REF!,'1.총괄현황 집계표'!$B148,'1. 실태조사(위원회별)'!$C$8:$C$5152,\"*\",'1. 실태조사(위원회별)'!#REF!,\"*\")","v":{"$error":"#REF!"}},{"$f":"COUNTIFS('1. 실태조사(위원회별)'!#REF!,'1.총괄현황 집계표'!$B148,'1. 실태조사(위원회별)'!$C$8:$C$5152,\"*\",'1. 실태조사(위원회별)'!#REF!,\"*\")","v":{"$error":"#REF!"}},0]
["충북","충북증평군",108,{"$error":"#REF!"},{"$error":"#REF!"},{"$f":"COUNTIFS('1. 실태조사(위원회별)'!#REF!,'1.총괄현황 집계표'!$B149,'1. 실태조사(위원회별)'!$C$8:$C$5152,\"*\",'1. 실태조사(위원회별)'!#REF!,\"*\")","v":{"$error":"#REF!"}},{"$f":"COUNTIFS('1. 실태조사(위원회별)'!#REF!,'1.총괄현황 집계표'!$B149,'1. 실태조사(위원회별)'!$C$8:$C$5152,\"*\",'1. 실태조사(위원회별)'!#REF!,\"*\")","v":{"$error":"#REF!"}},{"$f":"COUNTIFS('1. 실태조사(위원회별)'!#REF!,'1.총괄현황 집계표'!$B149,'1. 실태조사(위원회별)'!$C$8:$C$5152,\"*\",'1. 실태조사(위원회별)'!#REF!,\"*\")","v":{"$error":"#REF!"}},{"$f":"COUNTIFS('1. 실태조사(위원회별)'!#REF!,'1.총괄현황 집계표'!$B149,'1. 실태조사(위원회별)'!$C$8:$C$5152,\"*\",'1. 실태조사(위원회별)'!#REF!,\"*\")","v":{"$error":"#REF!"}},0]
["충북","충북진천군",88,{"$error":"#REF!"},{"$error":"#REF!"},{"$f":"COUNTIFS('1. 실태조사(위원회별)'!#REF!,'1.총괄현황 집계표'!$B150,'1. 실태조사(위원회별)'!$C$8:$C$5152,\"*\",'1. 실태조사(위원회별)'!#REF!,\"*\")","v":{"$error":"#REF!"}},{"$f":"COUNTIFS('1. 실태조사(위원회별)'!#REF!,'1.총괄현황 집계표'!$B150,'1. 실태조사(위원회별)'!$C$8:$C$5152,\"*\",'1. 실태조사(위원회별)'!#REF!,\"*\")","v":{"$error":"#REF!"}},{"$f":"COUNTIFS('1. 실태조사(위원회별)'!#REF!,'1.총괄현황 집계표'!$B150,'1. 실태조사(위원회별)'!$C$8:$C$5152,\"*\",'1. 실태조사(위원회별)'!#REF!,\"*\")","v":{"$error":"#REF!"}},{"$f":"COUNTIFS('1. 실태조사(위원회별)'!#REF!,'1.총괄현황 집계표'!$B150,'1. 실태조사(위원회별)'!$C$8:$C$5152,\"*\",'1. 실태조사(위원회별)'!#REF!,\"*\")","v":{"$error":"#REF!"}},0]
["충북","충북괴산군",74,{"$error":"#REF!"},{"$error":"#REF!"},{"$f":"COUNTIFS('1. 실태조사(위원회별)'!#REF!,'1.총괄현황 집계표'!$B151,'1. 실태조사(위원회별)'!$C$8:$C$5152,\"*\",'1. 실태조사(위원회별)'!#REF!,\"*\")","v":{"$error":"#REF!"}},{"$f":"COUNTIFS('1. 실태조사(위원회별)'!#REF!,'1.총괄현황 집계표'!$B151,'1. 실태조사(위원회별)'!$C$8:$C$5152,\"*\",'1. 실태조사(위원회별)'!#REF!,\"*\")","v":{"$error":"#REF!"}},{"$f":"COUNTIFS('1. 실태조사(위원회별)'!#REF!,'1.총괄현황 집계표'!$B151,'1. 실태조사(위원회별)'!$C$8:$C$5152,\"*\",'1. 실태조사(위원회별)'!#REF!,\"*\")","v":{"$error":"#REF!"}},{"$f":"COUNTIFS('1. 실태조사(위원회별)'!#REF!,'1.총괄현황 집계표'!$B151,'1. 실태조사(위원회별)'!$C$8:$C$5152,\"*\",'1. 실태조사(위원회별)'!#REF!,\"*\")","v":{"$error":"#REF!"}},0]
["충북","충북음성군",92,{"$error":"#REF!"},{"$error":"#REF!"},{"$f":"COUNTIFS('1. 실태조사(위원회별)'!#REF!,'1.총괄현황 집계표'!$B152,'1. 실태조사(위원회별)'!$C$8:$C$5152,\"*\",'1. 실태조사(위원회별)'!#REF!,\"*\")","v":{"$error":"#REF!"}},{"$f":"COUNTIFS('1. 실태조사(위원회별)'!#REF!,'1.총괄현황 집계표'!$B152,'1. 실태조사(위원회별)'!$C$8:$C$5152,\"*\",'1. 실태조사(위원회별)'!#REF!,\"*\")","v":{"$error":"#REF!"}},{"$f":"COUNTIFS('1. 실태조사(위원회별)'!#REF!,'1.총괄현황 집계표'!$B152,'1. 실태조사(위원회별)'!$C$8:$C$5152,\"*\",'1. 실태조사(위원회별)'!#REF!,\"*\")","v":{"$error":"#REF!"}},{"$f":"COUNTIFS('1. 실태조사(위원회별)'!#REF!,'1.총괄현황 집계표'!$B152,'1. 실태조사(위원회별)'!$C$8:$C$5152,\"*\",'1. 실태조사(위원회별)'!#REF!,\"*\")","v":{"$error":"#REF!"}},0]
["충북","충북단양군",82,{"$error":"#REF!"},{"$error":"#REF!"},{"$f":"COUNTIFS('1. 실태조사(위원회별)'!#REF!,'1.총괄현황 집계표'!$B153,'1. 실태조사(위원회별)'!$C$8:$C$5152,\"*\",'1. 실태조사(위원회별)'!#REF!,\"*\")","v":{"$error":"#REF!"}},{"$f":"COUNTIFS('1. 실태조사(위원회별)'!#REF!,'1.총괄현황 집계표'!$B153,'1. 실태조사(위원회별)'!$C$8:$C$5152,\"*\",'1. 실태조사(위원회별)'!#REF!,\"*\")","v":{"$error":"#REF!"}},{"$f":"COUNTIFS('1. 실태조사(위원회별)'!#REF!,'1.총괄현황 집계표'!$B153,'1. 실태조사(위원회별)'!$C$8:$C$5152,\"*\",'1. 실태조사(위원회별)'!#REF!,\"*\")","v":{"$error":"#REF!"}},{"$f":"COUNTIFS('1. 실태조사(위원회별)'!#REF!,'1.총괄현황 집계표'!$B153,'1. 실태조사(위원회별)'!$C$8:$C$5152,\"*\",'1. 실태조사(위원회별)'!#REF!,\"*\")","v":{"$error":"#REF!"}},0]
["충남","충청남도",119,{"$error":"#REF!"},{"$error":"#REF!"},{"$f":"COUNTIFS('1. 실태조사(위원회별)'!#REF!,'1.총괄현황 집계표'!$B154,'1. 실태조사(위원회별)'!$C$8:$C$5152,\"*\",'1. 실태조사(위원회별)'!#REF!,\"*\")","v":{"$error":"#REF!"}},{"$f":"COUNTIFS('1. 실태조사(위원회별)'!#REF!,'1.총괄현황 집계표'!$B154,'1. 실태조사(위원회별)'!$C$8:$C$5152,\"*\",'1. 실태조사(위원회별)'!#REF!,\"*\")","v":{"$error":"#REF!"}},{"$f":"COUNTIFS('1. 실태조사(위원회별)'!#REF!,'1.총괄현황 집계표'!$B154,'1. 실태조사(위원회별)'!$C$8:$C$5152,\"*\",'1. 실태조사(위원회별)'!#REF!,\"*\")","v":{"$error":"#REF!"}},{"$f":"COUNTIFS('1. 실태조사(위원회별)'!#REF!,'1.총괄현황 집계표'!$B154,'1. 실태조사(위원회별)'!$C$8:$C$5152,\"*\",'1. 실태조사(위원회별)'!#REF!,\"*\")","v":{"$error":"#REF!"}},0]
["충남","충남천안시",135,{"$error":"#REF!"},{"$error":"#REF!"},{"$f":"COUNTIFS('1. 실태조사(위원회별)'!#REF!,'1.총괄현황 집계표'!$B155,'1. 실태조사(위원회별)'!$C$8:$C$5152,\"*\",'1. 실태조사(위원회별)'!#REF!,\"*\")","v":{"$error":"#REF!"}},{"$f":"COUNTIFS('1. 실태조사(위원회별)'!#REF!,'1.총괄현황 집계표'!$B155,'1. 실태조사(위원회별)'!$C$8:$C$5152,\"*\",'1. 실태조사(위원회별)'!#REF!,\"*\")","v":{"$error":"#REF!"}},{"$f":"COUNTIFS('1. 실태조사(위원회별)'!#REF!,'1.총괄현황 집계표'!$B155,'1. 실태조사(위원회별)'!$C$8:$C$5152,\"*\",'1. 실태조사(위원회별)'!#REF!,\"*\")","v":{"$error":"#REF!"}},{"$f":"COUNTIFS('1. 실태조사(위원회별)'!#REF!,'1.총괄현황 집계표'!$B155,'1. 실태조사(위원회별)'!$C$8:$C$5152,\"*\",'1. 실태조사(위원회별)'!#REF!,\"*\")","v":{"$error":"#REF!"}},0]
["충남","충남공주시",91,{"$error":"#REF!"},{"$error":"#REF!"},{"$f":"COUNTIFS('1. 실태조사(위원회별)'!#REF!,'1.총괄현황 집계표'!$B156,'1. 실태조사(위원회별)'!$C$8:$C$5152,\"*\",'1. 실태조사(위원회별)'!#REF!,\"*\")","v":{"$error":"#REF!"}},{"$f":"COUNTIFS('1. 실태조사(위원회별)'!#REF!,'1.총괄현황 집계표'!$B156,'1. 실태조사(위원회별)'!$C$8:$C$5152,\"*\",'1. 실태조사(위원회별)'!#REF!,\"*\")","v":{"$error":"#REF!"}},{"$f":"COUNTIFS('1. 실태조사(위원회별)'!#REF!,'1.총괄현황 집계표'!$B156,'1. 실태조사(위원회별)'!$C$8:$C$5152,\"*\",'1. 실태조사(위원회별)'!#REF!,\"*\")","v":{"$error":"#REF!"}},{"$f":"COUNTIFS('1. 실태조사(위원회별)'!#REF!,'1.총괄현황 집계표'!$B156,'1. 실태조사(위원회별)'!$C$8:$C$5152,\"*\",'1. 실태조사(위원회별)'!#REF!,\"*\")","v":{"$error":"#REF!"}},0]
["충남","충남보령시",116,{"$error":"#REF!"},{"$error":"#REF!"},{"$f":"COUNTIFS('1. 실태조사(위원회별)'!#REF!,'1.총괄현황 집계표'!$B157,'1. 실태조사(위원회별)'!$C$8:$C$5152,\"*\",'1. 실태조사(위원회별)'!#REF!,\"*\")","v":{"$error":"#REF!"}},{"$f":"COUNTIFS('1. 실태조사(위원회별)'!#REF!,'1.총괄현황 집계표'!$B157,'1. 실태조사(위원회별)'!$C$8:$C$5152,\"*\",'1. 실태조사(위원회별)'!#REF!,\"*\")","v":{"$error":"#REF!"}},{"$f":"COUNTIFS('1. 실태조사(위원회별)'!#REF!,'1.총괄현황 집계표'!$B157,'1. 실태조사(위원회별)'!$C$8:$C$5152,\"*\",'1. 실태조사(위원회별)'!#REF!,\"*\")","v":{"$error":"#REF!"}},{"$f":"COUNTIFS('1. 실태조사(위원회별)'!#REF!,'1.총괄현황 집계표'!$B157,'1. 실태조사(위원회별)'!$C$8:$C$5152,\"*\",'1. 실태조사(위원회별)'!#REF!,\"*\")","v":{"$error":"#REF!"}},0]
["충남","충남아산시",74,{"$error":"#REF!"},{"$error":"#REF!"},{"$f":"COUNTIFS('1. 실태조사(위원회별)'!#REF!,'1.총괄현황 집계표'!$B158,'1. 실태조사(위원회별)'!$C$8:$C$5152,\"*\",'1. 실태조사(위원회별)'!#REF!,\"*\")","v":{"$error":"#REF!"}},{"$f":"COUNTIFS('1. 실태조사(위원회별)'!#REF!,'1.총괄현황 집계표'!$B158,'1. 실태조사(위원회별)'!$C$8:$C$5152,\"*\",'1. 실태조사(위원회별)'!#REF!,\"*\")","v":{"$error":"#REF!"}},{"$f":"COUNTIFS('1. 실태조사(위원회별)'!#REF!,'1.총괄현황 집계표'!$B158,'1. 실태조사(위원회별)'!$C$8:$C$5152,\"*\",'1. 실태조사(위원회별)'!#REF!,\"*\")","v":{"$error":"#REF!"}},{"$f":"COUNTIFS('1. 실태조사(위원회별)'!#REF!,'1.총괄현황 집계표'!$B158,'1. 실태조사(위원회별)'!$C$8:$C$5152,\"*\",'1. 실태조사(위원회별)'!#REF!,\"*\")","v":{"$error":"#REF!"}},0]
["충남","충남서산시",101,{"$error":"#REF!"},{"$error":"#REF!"},{"$f":"COUNTIFS('1. 실태조사(위원회별)'!#REF!,'1.총괄현황 집계표'!$B159,'1. 실태조사(위원회별)'!$C$8:$C$5152,\"*\",'1. 실태조사(위원회별)'!#REF!,\"*\")","v":{"$error":"#REF!"}},{"$f":"COUNTIFS('1. 실태조사(위원회별)'!#REF!,'1.총괄현황 집계표'!$B159,'1. 실태조사(위원회별)'!$C$8:$C$5152,\"*\",'1. 실태조사(위원회별)'!#REF!,\"*\")","v":{"$error":"#REF!"}},{"$f":"COUNTIFS('1. 실태조사(위원회별)'!#REF!,'1.총괄현황 집계표'!$B159,'1. 실태조사(위원회별)'!$C$8:$C$5152,\"*\",'1. 실태조사(위원회별)'!#REF!,\"*\")","v":{"$error":"#REF!"}},{"$f":"COUNTIFS('1. 실태조사(위원회별)'!#REF!,'1.총괄현황 집계표'!$B159,'1. 실태조사(위원회별)'!$C$8:$C$5152,\"*\",'1. 실태조사(위원회별)'!#REF!,\"*\")","v":{"$error":"#REF!"}},0]
["충남","충남논산시",103,{"$error":"#REF!"},{"$error":"#REF!"},{"$f":"COUNTIFS('1. 실태조사(위원회별)'!#REF!,'1.총괄현황 집계표'!$B160,'1. 실태조사(위원회별)'!$C$8:$C$5152,\"*\",'1. 실태조사(위원회별)'!#REF!,\"*\")","v":{"$error":"#REF!"}},{"$f":"COUNTIFS('1. 실태조사(위원회별)'!#REF!,'1.총괄현황 집계표'!$B160,'1. 실태조사(위원회별)'!$C$8:$C$5152,\"*\",'1. 실태조사(위원회별)'!#REF!,\"*\")","v":{"$error":"#REF!"}},{"$f":"COUNTIFS('1. 실태조사(위원회별)'!#REF!,'1.총괄현황 집계표'!$B160,'1. 실태조사(위원회별)'!$C$8:$C$5152,\"*\",'1. 실태조사(위원회별)'!#REF!,\"*\")","v":{"$error":"#REF!"}},{"$f":"COUNTIFS('1. 실태조사(위원회별)'!#REF!,'1.총괄현황 집계표'!$B160,'1. 실태조사(위원회별)'!$C$8:$C$5152,\"*\",'1. 실태조사(위원회별)'!#REF!,\"*\")","v":{"$error":"#REF!"}},0]
["충남","충남계룡시",76,{"$error":"#REF!"},{"$error":"#REF!"},{"$f":"COUNTIFS('1. 실태조사(위원회별)'!#REF!,'1.총괄현황 집계표'!$B161,'1. 실태조사(위원회별)'!$C$8:$C$5152,\"*\",'1. 실태조사(위원회별)'!#REF!,\"*\")","v":{"$error":"#REF!"}},{"$f":"COUNTIFS('1. 실태조사(위원회별)'!#REF!,'1.총괄현황 집계표'!$B161,'1. 실태조사(위원회별)'!$C$8:$C$5152,\"*\",'1. 실태조사(위원회별)'!#REF!,\"*\")","v":{"$error":"#REF!"}},{"$f":"COUNTIFS('1. 실태조사(위원회별)'!#REF!,'1.총괄현황 집계표'!$B161,'1. 실태조사(위원회별)'!$C$8:$C$5152,\"*\",'1. 실태조사(위원회별)'!#REF!,\"*\")","v":{"$error":"#REF!"}},{"$f":"COUNTIFS('1. 실태조사(위원회별)'!#REF!,'1.총괄현황 집계표'!$B161,'1. 실태조사(위원회별)'!$C$8:$C$5152,\"*\",'1. 실태조사(위원회별)'!#REF!,\"*\")","v":{"$error":"#REF!"}},0]
["충남","충남당진시",96,{"$error":"#REF!"},{"$error":"#REF!"},{"$f":"COUNTIFS('1. 실태조사(위원회별)'!#REF!,'1.총괄현황 집계표'!$B162,'1. 실태조사(위원회별)'!$C$8:$C$5152,\"*\",'1. 실태조사(위원회별)'!#REF!,\"*\")","v":{"$error":"#REF!"}},{"$f":"COUNTIFS('1. 실태조사(위원회별)'!#REF!,'1.총괄현황 집계표'!$B162,'1. 실태조사(위원회별)'!$C$8:$C$5152,\"*\",'1. 실태조사(위원회별)'!#REF!,\"*\")","v":{"$error":"#REF!"}},{"$f":"COUNTIFS('1. 실태조사(위원회별)'!#REF!,'1.총괄현황 집계표'!$B162,'1. 실태조사(위원회별)'!$C$8:$C$5152,\"*\",'1. 실태조사(위원회별)'!#REF!,\"*\")","v":{"$error":"#REF!"}},{"$f":"COUNTIFS('1. 실태조사(위원회별)'!#REF!,'1.총괄현황 집계표'!$B162,'1. 실태조사(위원회별)'!$C$8:$C$5152,\"*\",'1. 실태조사(위원회별)'!#REF!,\"*\")","v":{"$error":"#REF!"}},0]
["충남","충남금산군",87,{"$error":"#REF!"},{"$error":"#REF!"},{"$f":"COUNTIFS('1. 실태조사(위원회별)'!#REF!,'1.총괄현황 집계표'!$B163,'1. 실태조사(위원회별)'!$C$8:$C$5152,\"*\",'1. 실태조사(위원회별)'!#REF!,\"*\")","v":{"$error":"#REF!"}},{"$f":"COUNTIFS('1. 실태조사(위원회별)'!#REF!,'1.총괄현황 집계표'!$B163,'1. 실태조사(위원회별)'!$C$8:$C$5152,\"*\",'1. 실태조사(위원회별)'!#REF!,\"*\")","v":{"$error":"#REF!"}},{"$f":"COUNTIFS('1. 실태조사(위원회별)'!#REF!,'1.총괄현황 집계표'!$B163,'1. 실태조사(위원회별)'!$C$8:$C$5152,\"*\",'1. 실태조사(위원회별)'!#REF!,\"*\")","v":{"$error":"#REF!"}},{"$f":"COUNTIFS('1. 실태조사(위원회별)'!#REF!,'1.총괄현황 집계표'!$B163,'1. 실태조사(위원회별)'!$C$8:$C$5152,\"*\",'1. 실태조사(위원회별)'!#REF!,\"*\")","v":{"$error":"#REF!"}},0]
["충남","충남부여군",76,{"$error":"#REF!"},{"$error":"#REF!"},{"$f":"COUNTIFS('1. 실태조사(위원회별)'!#REF!,'1.총괄현황 집계표'!$B164,'1. 실태조사(위원회별)'!$C$8:$C$5152,\"*\",'1. 실태조사(위원회별)'!#REF!,\"*\")","v":{"$error":"#REF!"}},{"$f":"COUNTIFS('1. 실태조사(위원회별)'!#REF!,'1.총괄현황 집계표'!$B164,'1. 실태조사(위원회별)'!$C$8:$C$5152,\"*\",'1. 실태조사(위원회별)'!#REF!,\"*\")","v":{"$error":"#REF!"}},{"$f":"COUNTIFS('1. 실태조사(위원회별)'!#REF!,'1.총괄현황 집계표'!$B164,'1. 실태조사(위원회별)'!$C$8:$C$5152,\"*\",'1. 실태조사(위원회별)'!#REF!,\"*\")","v":{"$error":"#REF!"}},{"$f":"COUNTIFS('1. 실태조사(위원회별)'!#REF!,'1.총괄현황 집계표'!$B164,'1. 실태조사(위원회별)'!$C$8:$C$5152,\"*\",'1. 실태조사(위원회별)'!#REF!,\"*\")","v":{"$error":"#REF!"}},0]
["충남","충남서천군",86,{"$error":"#REF!"},{"$error":"#REF!"},{"$f":"COUNTIFS('1. 실태조사(위원회별)'!#REF!,'1.총괄현황 집계표'!$B165,'1. 실태조사(위원회별)'!$C$8:$C$5152,\"*\",'1. 실태조사(위원회별)'!#REF!,\"*\")","v":{"$error":"#REF!"}},{"$f":"COUNTIFS('1. 실태조사(위원회별)'!#REF!,'1.총괄현황 집계표'!$B165,'1. 실태조사(위원회별)'!$C$8:$C$5152,\"*\",'1. 실태조사(위원회별)'!#REF!,\"*\")","v":{"$error":"#REF!"}},{"$f":"COUNTIFS('1. 실태조사(위원회별)'!#REF!,'1.총괄현황 집계표'!$B165,'1. 실태조사(위원회별)'!$C$8:$C$5152,\"*\",'1. 실태조사(위원회별)'!#REF!,\"*\")","v":{"$error":"#REF!"}},{"$f":"COUNTIFS('1. 실태조사(위원회별)'!#REF!,'1.총괄현황 집계표'!$B165,'1. 실태조사(위원회별)'!$C$8:$C$5152,\"*\",'1. 실태조사(위원회별)'!#REF!,\"*\")","v":{"$error":"#REF!"}},0]
["충남","충남청양군",70,{"$error":"#REF!"},{"$error":"#REF!"},{"$f":"COUNTIFS('1. 실태조사(위원회별)'!#REF!,'1.총괄현황 집계표'!$B166,'1. 실태조사(위원회별)'!$C$8:$C$5152,\"*\",'1. 실태조사(위원회별)'!#REF!,\"*\")","v":{"$error":"#REF!"}},{"$f":"COUNTIFS('1. 실태조사(위원회별)'!#REF!,'1.총괄현황 집계표'!$B166,'1. 실태조사(위원회별)'!$C$8:$C$5152,\"*\",'1. 실태조사(위원회별)'!#REF!,\"*\")","v":{"$error":"#REF!"}},{"$f":"COUNTIFS('1. 실태조사(위원회별)'!#REF!,'1.총괄현황 집계표'!$B166,'1. 실태조사(위원회별)'!$C$8:$C$5152,\"*\",'1. 실태조사(위원회별)'!#REF!,\"*\")","v":{"$error":"#REF!"}},{"$f":"COUNTIFS('1. 실태조사(위원회별)'!#REF!,'1.총괄현황 집계표'!$B166,'1. 실태조사(위원회별)'!$C$8:$C$5152,\"*\",'1. 실태조사(위원회별)'!#REF!,\"*\")","v":{"$error":"#REF!"}},0]
["충남","충남홍성군",86,{"$error":"#REF!"},{"$error":"#REF!"},{"$f":"COUNTIFS('1. 실태조사(위원회별)'!#REF!,'1.총괄현황 집계표'!$B167,'1. 실태조사(위원회별)'!$C$8:$C$5152,\"*\",'1. 실태조사(위원회별)'!#REF!,\"*\")","v":{"$error":"#REF!"}},{"$f":"COUNTIFS('1. 실태조사(위원회별)'!#REF!,'1.총괄현황 집계표'!$B167,'1. 실태조사(위원회별)'!$C$8:$C$5152,\"*\",'1. 실태조사(위원회별)'!#REF!,\"*\")","v":{"$error":"#REF!"}},{"$f":"COUNTIFS('1. 실태조사(위원회별)'!#REF!,'1.총괄현황 집계표'!$B167,'1. 실태조사(위원회별)'!$C$8:$C$5152,\"*\",'1. 실태조사(위원회별)'!#REF!,\"*\")","v":{"$error":"#REF!"}},{"$f":"COUNTIFS('1. 실태조사(위원회별)'!#REF!,'1.총괄현황 집계표'!$B167,'1. 실태조사(위원회별)'!$C$8:$C$5152,\"*\",'1. 실태조사(위원회별)'!#REF!,\"*\")","v":{"$error":"#REF!"}},0]
["충남","충남예산군",75,{"$error":"#REF!"},{"$error":"#REF!"},{"$f":"COUNTIFS('1. 실태조사(위원회별)'!#REF!,'1.총괄현황 집계표'!$B168,'1. 실태조사(위원회별)'!$C$8:$C$5152,\"*\",'1. 실태조사(위원회별)'!#REF!,\"*\")","v":{"$error":"#REF!"}},{"$f":"COUNTIFS('1. 실태조사(위원회별)'!#REF!,'1.총괄현황 집계표'!$B168,'1. 실태조사(위원회별)'!$C$8:$C$5152,\"*\",'1. 실태조사(위원회별)'!#REF!,\"*\")","v":{"$error":"#REF!"}},{"$f":"COUNTIFS('1. 실태조사(위원회별)'!#REF!,'1.총괄현황 집계표'!$B168,'1. 실태조사(위원회별)'!$C$8:$C$5152,\"*\",'1. 실태조사(위원회별)'!#REF!,\"*\")","v":{"$error":"#REF!"}},{"$f":"COUNTIFS('1. 실태조사(위원회별)'!#REF!,'1.총괄현황 집계표'!$B168,'1. 실태조사(위원회별)'!$C$8:$C$5152,\"*\",'1. 실태조사(위원회별)'!#REF!,\"*\")","v":{"$error":"#REF!"}},0]
["충남","충남태안군",65,{"$error":"#REF!"},{"$error":"#REF!"},{"$f":"COUNTIFS('1. 실태조사(위원회별)'!#REF!,'1.총괄현황 집계표'!$B169,'1. 실태조사(위원회별)'!$C$8:$C$5152,\"*\",'1. 실태조사(위원회별)'!#REF!,\"*\")","v":{"$error":"#REF!"}},{"$f":"COUNTIFS('1. 실태조사(위원회별)'!#REF!,'1.총괄현황 집계표'!$B169,'1. 실태조사(위원회별)'!$C$8:$C$5152,\"*\",'1. 실태조사(위원회별)'!#REF!,\"*\")","v":{"$error":"#REF!"}},{"$f":"COUNTIFS('1. 실태조사(위원회별)'!#REF!,'1.총괄현황 집계표'!$B169,'1. 실태조사(위원회별)'!$C$8:$C$5152,\"*\",'1. 실태조사(위원회별)'!#REF!,\"*\")","v":{"$error":"#REF!"}},{"$f":"COUNTIFS('1. 실태조사(위원회별)'!#REF!,'1.총괄현황 집계표'!$B169,'1. 실태조사(위원회별)'!$C$8:$C$5152,\"*\",'1. 실태조사(위원회별)'!#REF!,\"*\")","v":{"$error":"#REF!"}},0]
["전북","전라북도",129,{"$error":"#REF!"},{"$error":"#REF!"},{"$f":"COUNTIFS('1. 실태조사(위원회별)'!#REF!,'1.총괄현황 집계표'!$B170,'1. 실태조사(위원회별)'!$C$8:$C$5152,\"*\",'1. 실태조사(위원회별)'!#REF!,\"*\")","v":{"$error":"#REF!"}},{"$f":"COUNTIFS('1. 실태조사(위원회별)'!#REF!,'1.총괄현황 집계표'!$B170,'1. 실태조사(위원회별)'!$C$8:$C$5152,\"*\",'1. 실태조사(위원회별)'!#REF!,\"*\")","v":{"$error":"#REF!"}},{"$f":"COUNTIFS('1. 실태조사(위원회별)'!#REF!,'1.총괄현황 집계표'!$B170,'1. 실태조사(위원회별)'!$C$8:$C$5152,\"*\",'1. 실태조사(위원회별)'!#REF!,\"*\")","v":{"$error":"#REF!"}},{"$f":"COUNTIFS('1. 실태조사(위원회별)'!#REF!,'1.총괄현황 집계표'!$B170,'1. 실태조사(위원회별)'!$C$8:$C$5152,\"*\",'1. 실태조사(위원회별)'!#REF!,\"*\")","v":{"$error":"#REF!"}},0]
["전북","전북전주시",123,{"$error":"#REF!"},{"$error":"#REF!"},{"$f":"COUNTIFS('1. 실태조사(위원회별)'!#REF!,'1.총괄현황 집계표'!$B171,'1. 실태조사(위원회별)'!$C$8:$C$5152,\"*\",'1. 실태조사(위원회별)'!#REF!,\"*\")","v":{"$error":"#REF!"}},{"$f":"COUNTIFS('1. 실태조사(위원회별)'!#REF!,'1.총괄현황 집계표'!$B171,'1. 실태조사(위원회별)'!$C$8:$C$5152,\"*\",'1. 실태조사(위원회별)'!#REF!,\"*\")","v":{"$error":"#REF!"}},{"$f":"COUNTIFS('1. 실태조사(위원회별)'!#REF!,'1.총괄현황 집계표'!$B171,'1. 실태조사(위원회별)'!$C$8:$C$5152,\"*\",'1. 실태조사(위원회별)'!#REF!,\"*\")","v":{"$error":"#REF!"}},{"$f":"COUNTIFS('1. 실태조사(위원회별)'!#REF!,'1.총괄현황 집계표'!$B171,'1. 실태조사(위원회별)'!$C$8:$C$5152,\"*\",'1. 실태조사(위원회별)'!#REF!,\"*\")","v":{"$error":"#REF!"}},0]
["전북","전북군산시",116,{"$error":"#REF!"},{"$error":"#REF!"},{"$f":"COUNTIFS('1. 실태조사(위원회별)'!#REF!,'1.총괄현황 집계표'!$B172,'1. 실태조사(위원회별)'!$C$8:$C$5152,\"*\",'1. 실태조사(위원회별)'!#REF!,\"*\")","v":{"$error":"#REF!"}},{"$f":"COUNTIFS('1. 실태조사(위원회별)'!#REF!,'1.총괄현황 집계표'!$B172,'1. 실태조사(위원회별)'!$C$8:$C$5152,\"*\",'1. 실태조사(위원회별)'!#REF!,\"*\")","v":{"$error":"#REF!"}},{"$f":"COUNTIFS('1. 실태조사(위원회별)'!#REF!,'1.총괄현황 집계표'!$B172,'1. 실태조사(위원회별)'!$C$8:$C$5152,\"*\",'1. 실태조사(위원회별)'!#REF!,\"*\")","v":{"$error":"#REF!"}},{"$f":"COUNTIFS('1. 실태조사(위원회별)'!#REF!,'1.총괄현황 집계표'!$B172,'1. 실태조사(위원회별)'!$C$8:$C$5152,\"*\",'1. 실태조사(위원회별)'!#REF!,\"*\")","v":{"$error":"#REF!"}},0]
["전북","전북익산시",98,{"$error":"#REF!"},{"$error":"#REF!"},{"$f":"COUNTIFS('1. 실태조사(위원회별)'!#REF!,'1.총괄현황 집계표'!$B173,'1. 실태조사(위원회별)'!$C$8:$C$5152,\"*\",'1. 실태조사(위원회별)'!#REF!,\"*\")","v":{"$error":"#REF!"}},{"$f":"COUNTIFS('1. 실태조사(위원회별)'!#REF!,'1.총괄현황 집계표'!$B173,'1. 실태조사(위원회별)'!$C$8:$C$5152,\"*\",'1. 실태조사(위원회별)'!#REF!,\"*\")","v":{"$error":"#REF!"}},{"$f":"COUNTIFS('1. 실태조사(위원회별)'!#REF!,'1.총괄현황 집계표'!$B173,'1. 실태조사(위원회별)'!$C$8:$C$5152,\"*\",'1. 실태조사(위원회별)'!#REF!,\"*\")","v":{"$error":"#REF!"}},{"$f":"COUNTIFS('1. 실태조사(위원회별)'!#REF!,'1.총괄현황 집계표'!$B173,'1. 실태조사(위원회별)'!$C$8:$C$5152,\"*\",'1. 실태조사(위원회별)'!#REF!,\"*\")","v":{"$error":"#REF!"}},0]
["전북","전북정읍시",111,{"$error":"#REF!"},{"$error":"#REF!"},{"$f":"COUNTIFS('1. 실태조사(위원회별)'!#REF!,'1.총괄현황 집계표'!$B174,'1. 실태조사(위원회별)'!$C$8:$C$5152,\"*\",'1. 실태조사(위원회별)'!#REF!,\"*\")","v":{"$error":"#REF!"}},{"$f":"COUNTIFS('1. 실태조사(위원회별)'!#REF!,'1.총괄현황 집계표'!$B174,'1. 실태조사(위원회별)'!$C$8:$C$5152,\"*\",'1. 실태조사(위원회별)'!#REF!,\"*\")","v":{"$error":"#REF!"}},{"$f":"COUNTIFS('1. 실태조사(위원회별)'!#REF!,'1.총괄현황 집계표'!$B174,'1. 실태조사(위원회별)'!$C$8:$C$5152,\"*\",'1. 실태조사(위원회별)'!#REF!,\"*\")","v":{"$error":"#REF!"}},{"$f":"COUNTIFS('1. 실태조사(위원회별)'!#REF!,'1.총괄현황 집계표'!$B174,'1. 실태조사(위원회별)'!$C$8:$C$5152,\"*\",'1. 실태조사(위원회별)'!#REF!,\"*\")","v":{"$error":"#REF!"}},0]
["전북","전북남원시",88,{"$error":"#REF!"},{"$error":"#REF!"},{"$f":"COUNTIFS('1. 실태조사(위원회별)'!#REF!,'1.총괄현황 집계표'!$B175,'1. 실태조사(위원회별)'!$C$8:$C$5152,\"*\",'1. 실태조사(위원회별)'!#REF!,\"*\")","v":{"$error":"#REF!"}},{"$f":"COUNTIFS('1. 실태조사(위원회별)'!#REF!,'1.총괄현황 집계표'!$B175,'1. 실태조사(위원회별)'!$C$8:$C$5152,\"*\",'1. 실태조사(위원회별)'!#REF!,\"*\")","v":{"$error":"#REF!"}},{"$f":"COUNTIFS('1. 실태조사(위원회별)'!#REF!,'1.총괄현황 집계표'!$B175,'1. 실태조사(위원회별)'!$C$8:$C$5152,\"*\",'1. 실태조사(위원회별)'!#REF!,\"*\")","v":{"$error":"#REF!"}},{"$f":"COUNTIFS('1. 실태조사(위원회별)'!#REF!,'1.총괄현황 집계표'!$B175,'1. 실태조사(위원회별)'!$C$8:$C$5152,\"*\",'1. 실태조사(위원회별)'!#REF!,\"*\")","v":{"$error":"#REF!"}},0]
["전북","전북김제시",103,{"$error":"#REF!"},{"$error":"#REF!"},{"$f":"COUNTIFS('1. 실태조사(위원회별)'!#REF!,'1.총괄현황 집계표'!$B176,'1. 실태조사(위원회별)'!$C$8:$C$5152,\"*\",'1. 실태조사(위원회별)'!#REF!,\"*\")","v":{"$error":"#REF!"}},{"$f":"COUNTIFS('1. 실태조사(위원회별)'!#REF!,'1.총괄현황 집계표'!$B176,'1. 실태조사(위원회별)'!$C$8:$C$5152,\"*\",'1. 실태조사(위원회별)'!#REF!,\"*\")","v":{"$error":"#REF!"}},{"$f":"COUNTIFS('1. 실태조사(위원회별)'!#REF!,'1.총괄현황 집계표'!$B176,'1. 실태조사(위원회별)'!$C$8:$C$5152,\"*\",'1. 실태조사(위원회별)'!#REF!,\"*\")","v":{"$error":"#REF!"}},{"$f":"COUNTIFS('1. 실태조사(위원회별)'!#REF!,'1.총괄현황 집계표'!$B176,'1. 실태조사(위원회별)'!$C$8:$C$5152,\"*\",'1. 실태조사(위원회별)'!#REF!,\"*\")","v":{"$error":"#REF!"}},0]
["전북","전북완주군",63,{"$error":"#REF!"},{"$error":"#REF!"},{"$f":"COUNTIFS('1. 실태조사(위원회별)'!#REF!,'1.총괄현황 집계표'!$B177,'1. 실태조사(위원회별)'!$C$8:$C$5152,\"*\",'1. 실태조사(위원회별)'!#REF!,\"*\")","v":{"$error":"#REF!"}},{"$f":"COUNTIFS('1. 실태조사(위원회별)'!#REF!,'1.총괄현황 집계표'!$B177,'1. 실태조사(위원회별)'!$C$8:$C$5152,\"*\",'1. 실태조사(위원회별)'!#REF!,\"*\")","v":{"$error":"#REF!"}},{"$f":"COUNTIFS('1. 실태조사(위원회별)'!#REF!,'1.총괄현황 집계표'!$B177,'1. 실태조사(위원회별)'!$C$8:$C$5152,\"*\",'1. 실태조사(위원회별)'!#REF!,\"*\")","v":{"$error":"#REF!"}},{"$f":"COUNTIFS('1. 실태조사(위원회별)'!#REF!,'1.총괄현황 집계표'!$B177,'1. 실태조사(위원회별)'!$C$8:$C$5152,\"*\",'1. 실태조사(위원회별)'!#REF!,\"*\")","v":{"$error":"#REF!"}},0]
["전북","전북진안군",81,{"$error":"#REF!"},{"$error":"#REF!"},{"$f":"COUNTIFS('1. 실태조사(위원회별)'!#REF!,'1.총괄현황 집계표'!$B178,'1. 실태조사(위원회별)'!$C$8:$C$5152,\"*\",'1. 실태조사(위원회별)'!#REF!,\"*\")","v":{"$error":"#REF!"}},{"$f":"COUNTIFS('1. 실태조사(위원회별)'!#REF!,'1.총괄현황 집계표'!$B178,'1. 실태조사(위원회별)'!$C$8:$C$5152,\"*\",'1. 실태조사(위원회별)'!#REF!,\"*\")","v":{"$error":"#REF!"}},{"$f":"COUNTIFS('1. 실태조사(위원회별)'!#REF!,'1.총괄현황 집계표'!$B178,'1. 실태조사(위원회별)'!$C$8:$C$5152,\"*\",'1. 실태조사(위원회별)'!#REF!,\"*\")","v":{"$error":"#REF!"}},{"$f":"COUNTIFS('1. 실태조사(위원회별)'!#REF!,'1.총괄현황 집계표'!$B178,'1. 실태조사(위원회별)'!$C$8:$C$5152,\"*\",'1. 실태조사(위원회별)'!#REF!,\"*\")","v":{"$error":"#REF!"}},0]
["전북","전북무주군",62,{"$error":"#REF!"},{"$error":"#REF!"},{"$f":"COUNTIFS('1. 실태조사(위원회별)'!#REF!,'1.총괄현황 집계표'!$B179,'1. 실태조사(위원회별)'!$C$8:$C$5152,\"*\",'1. 실태조사(위원회별)'!#REF!,\"*\")","v":{"$error":"#REF!"}},{"$f":"COUNTIFS('1. 실태조사(위원회별)'!#REF!,'1.총괄현황 집계표'!$B179,'1. 실태조사(위원회별)'!$C$8:$C$5152,\"*\",'1. 실태조사(위원회별)'!#REF!,\"*\")","v":{"$error":"#REF!"}},{"$f":"COUNTIFS('1. 실태조사(위원회별)'!#REF!,'1.총괄현황 집계표'!$B179,'1. 실태조사(위원회별)'!$C$8:$C$5152,\"*\",'1. 실태조사(위원회별)'!#REF!,\"*\")","v":{"$error":"#REF!"}},{"$f":"COUNTIFS('1. 실태조사(위원회별)'!#REF!,'1.총괄현황 집계표'!$B179,'1. 실태조사(위원회별)'!$C$8:$C$5152,\"*\",'1. 실태조사(위원회별)'!#REF!,\"*\")","v":{"$error":"#REF!"}},0]
["전북","전북장수군",81,{"$error":"#REF!"},{"$error":"#REF!"},{"$f":"COUNTIFS('1. 실태조사(위원회별)'!#REF!,'1.총괄현황 집계표'!$B180,'1. 실태조사(위원회별)'!$C$8:$C$5152,\"*\",'1. 실태조사(위원회별)'!#REF!,\"*\")","v":{"$error":"#REF!"}},{"$f":"COUNTIFS('1. 실태조사(위원회별)'!#REF!,'1.총괄현황 집계표'!$B180,'1. 실태조사(위원회별)'!$C$8:$C$5152,\"*\",'1. 실태조사(위원회별)'!#REF!,\"*\")","v":{"$error":"#REF!"}},{"$f":"COUNTIFS('1. 실태조사(위원회별)'!#REF!,'1.총괄현황 집계표'!$B180,'1. 실태조사(위원회별)'!$C$8:$C$5152,\"*\",'1. 실태조사(위원회별)'!#REF!,\"*\")","v":{"$error":"#REF!"}},{"$f":"COUNTIFS('1. 실태조사(위원회별)'!#REF!,'1.총괄현황 집계표'!$B180,'1. 실태조사(위원회별)'!$C$8:$C$5152,\"*\",'1. 실태조사(위원회별)'!#REF!,\"*\")","v":{"$error":"#REF!"}},0]
["전북","전북임실군",55,{"$error":"#REF!"},{"$error":"#REF!"},{"$f":"COUNTIFS('1. 실태조사(위원회별)'!#REF!,'1.총괄현황 집계표'!$B181,'1. 실태조사(위원회별)'!$C$8:$C$5152,\"*\",'1. 실태조사(위원회별)'!#REF!,\"*\")","v":{"$error":"#REF!"}},{"$f":"COUNTIFS('1. 실태조사(위원회별)'!#REF!,'1.총괄현황 집계표'!$B181,'1. 실태조사(위원회별)'!$C$8:$C$5152,\"*\",'1. 실태조사(위원회별)'!#REF!,\"*\")","v":{"$error":"#REF!"}},{"$f":"COUNTIFS('1. 실태조사(위원회별)'!#REF!,'1.총괄현황 집계표'!$B181,'1. 실태조사(위원회별)'!$C$8:$C$5152,\"*\",'1. 실태조사(위원회별)'!#REF!,\"*\")","v":{"$error":"#REF!"}},{"$f":"COUNTIFS('1. 실태조사(위원회별)'!#REF!,'1.총괄현황 집계표'!$B181,'1. 실태조사(위원회별)'!$C$8:$C$5152,\"*\",'1. 실태조사(위원회별)'!#REF!,\"*\")","v":{"$error":"#REF!"}},0]
["전북","전북순창군",75,{"$error":"#REF!"},{"$error":"#REF!"},{"$f":"COUNTIFS('1. 실태조사(위원회별)'!#REF!,'1.총괄현황 집계표'!$B182,'1. 실태조사(위원회별)'!$C$8:$C$5152,\"*\",'1. 실태조사(위원회별)'!#REF!,\"*\")","v":{"$error":"#REF!"}},{"$f":"COUNTIFS('1. 실태조사(위원회별)'!#REF!,'1.총괄현황 집계표'!$B182,'1. 실태조사(위원회별)'!$C$8:$C$5152,\"*\",'1. 실태조사(위원회별)'!#REF!,\"*\")","v":{"$error":"#REF!"}},{"$f":"COUNTIFS('1. 실태조사(위원회별)'!#REF!,'1.총괄현황 집계표'!$B182,'1. 실태조사(위원회별)'!$C$8:$C$5152,\"*\",'1. 실태조사(위원회별)'!#REF!,\"*\")","v":{"$error":"#REF!"}},{"$f":"COUNTIFS('1. 실태조사(위원회별)'!#REF!,'1.총괄현황 집계표'!$B182,'1. 실태조사(위원회별)'!$C$8:$C$5152,\"*\",'1. 실태조사(위원회별)'!#REF!,\"*\")","v":{"$error":"#REF!"}},0]
["전북","전북고창군",80,{"$error":"#REF!"},{"$error":"#REF!"},{"$f":"COUNTIFS('1. 실태조사(위원회별)'!#REF!,'1.총괄현황 집계표'!$B183,'1. 실태조사(위원회별)'!$C$8:$C$5152,\"*\",'1. 실태조사(위원회별)'!#REF!,\"*\")","v":{"$error":"#REF!"}},{"$f":"COUNTIFS('1. 실태조사(위원회별)'!#REF!,'1.총괄현황 집계표'!$B183,'1. 실태조사(위원회별)'!$C$8:$C$5152,\"*\",'1. 실태조사(위원회별)'!#REF!,\"*\")","v":{"$error":"#REF!"}},{"$f":"COUNTIFS('1. 실태조사(위원회별)'!#REF!,'1.총괄현황 집계표'!$B183,'1. 실태조사(위원회별)'!$C$8:$C$5152,\"*\",'1. 실태조사(위원회별)'!#REF!,\"*\")","v":{"$error":"#REF!"}},{"$f":"COUNTIFS('1. 실태조사(위원회별)'!#REF!,'1.총괄현황 집계표'!$B183,'1. 실태조사(위원회별)'!$C$8:$C$5152,\"*\",'1. 실태조사(위원회별)'!#REF!,\"*\")","v":{"$error":"#REF!"}},0]
["전북","전북부안군",81,{"$error":"#REF!"},{"$error":"#REF!"},{"$f":"COUNTIFS('1. 실태조사(위원회별)'!#REF!,'1.총괄현황 집계표'!$B184,'1. 실태조사(위원회별)'!$C$8:$C$5152,\"*\",'1. 실태조사(위원회별)'!#REF!,\"*\")","v":{"$error":"#REF!"}},{"$f":"COUNTIFS('1. 실태조사(위원회별)'!#REF!,'1.총괄현황 집계표'!$B184,'1. 실태조사(위원회별)'!$C$8:$C$5152,\"*\",'1. 실태조사(위원회별)'!#REF!,\"*\")","v":{"$error":"#REF!"}},{"$f":"COUNTIFS('1. 실태조사(위원회별)'!#REF!,'1.총괄현황 집계표'!$B184,'1. 실태조사(위원회별)'!$C$8:$C$5152,\"*\",'1. 실태조사(위원회별)'!#REF!,\"*\")","v":{"$error":"#REF!"}},{"$f":"COUNTIFS('1. 실태조사(위원회별)'!#REF!,'1.총괄현황 집계표'!$B184,'1. 실태조사(위원회별)'!$C$8:$C$5152,\"*\",'1. 실태조사(위원회별)'!#REF!,\"*\")","v":{"$error":"#REF!"}},0]
["전남","전라남도",135,{"$error":"#REF!"},{"$error":"#REF!"},{"$f":"COUNTIFS('1. 실태조사(위원회별)'!#REF!,'1.총괄현황 집계표'!$B185,'1. 실태조사(위원회별)'!$C$8:$C$5152,\"*\",'1. 실태조사(위원회별)'!#REF!,\"*\")","v":{"$error":"#REF!"}},{"$f":"COUNTIFS('1. 실태조사(위원회별)'!#REF!,'1.총괄현황 집계표'!$B185,'1. 실태조사(위원회별)'!$C$8:$C$5152,\"*\",'1. 실태조사(위원회별)'!#REF!,\"*\")","v":{"$error":"#REF!"}},{"$f":"COUNTIFS('1. 실태조사(위원회별)'!#REF!,'1.총괄현황 집계표'!$B185,'1. 실태조사(위원회별)'!$C$8:$C$5152,\"*\",'1. 실태조사(위원회별)'!#REF!,\"*\")","v":{"$error":"#REF!"}},{"$f":"COUNTIFS('1. 실태조사(위원회별)'!#REF!,'1.총괄현황 집계표'!$B185,'1. 실태조사(위원회별)'!$C$8:$C$5152,\"*\",'1. 실태조사(위원회별)'!#REF!,\"*\")","v":{"$error":"#REF!"}},0]
["전남","전남목포시",119,{"$error":"#REF!"},{"$error":"#REF!"},{"$f":"COUNTIFS('1. 실태조사(위원회별)'!#REF!,'1.총괄현황 집계표'!$B186,'1. 실태조사(위원회별)'!$C$8:$C$5152,\"*\",'1. 실태조사(위원회별)'!#REF!,\"*\")","v":{"$error":"#REF!"}},{"$f":"COUNTIFS('1. 실태조사(위원회별)'!#REF!,'1.총괄현황 집계표'!$B186,'1. 실태조사(위원회별)'!$C$8:$C$5152,\"*\",'1. 실태조사(위원회별)'!#REF!,\"*\")","v":{"$error":"#REF!"}},{"$f":"COUNTIFS('1. 실태조사(위원회별)'!#REF!,'1.총괄현황 집계표'!$B186,'1. 실태조사(위원회별)'!$C$8:$C$5152,\"*\",'1. 실태조사(위원회별)'!#REF!,\"*\")","v":{"$error":"#REF!"}},{"$f":"COUNTIFS('1. 실태조사(위원회별)'!#REF!,'1.총괄현황 집계표'!$B186,'1. 실태조사(위원회별)'!$C$8:$C$5152,\"*\",'1. 실태조사(위원회별)'!#REF!,\"*\")","v":{"$error":"#REF!"}},0]
["전남","전남여수시",136,{"$error":"#REF!"},{"$error":"#REF!"},{"$f":"COUNTIFS('1. 실태조사(위원회별)'!#REF!,'1.총괄현황 집계표'!$B187,'1. 실태조사(위원회별)'!$C$8:$C$5152,\"*\",'1. 실태조사(위원회별)'!#REF!,\"*\")","v":{"$error":"#REF!"}},{"$f":"COUNTIFS('1. 실태조사(위원회별)'!#REF!,'1.총괄현황 집계표'!$B187,'1. 실태조사(위원회별)'!$C$8:$C$5152,\"*\",'1. 실태조사(위원회별)'!#REF!,\"*\")","v":{"$error":"#REF!"}},{"$f":"COUNTIFS('1. 실태조사(위원회별)'!#REF!,'1.총괄현황 집계표'!$B187,'1. 실태조사(위원회별)'!$C$8:$C$5152,\"*\",'1. 실태조사(위원회별)'!#REF!,\"*\")","v":{"$error":"#REF!"}},{"$f":"COUNTIFS('1. 실태조사(위원회별)'!#REF!,'1.총괄현황 집계표'!$B187,'1. 실태조사(위원회별)'!$C$8:$C$5152,\"*\",'1. 실태조사(위원회별)'!#REF!,\"*\")","v":{"$error":"#REF!"}},0]
["전남","전남순천시",136,{"$error":"#REF!"},{"$error":"#REF!"},{"$f":"COUNTIFS('1. 실태조사(위원회별)'!#REF!,'1.총괄현황 집계표'!$B188,'1. 실태조사(위원회별)'!$C$8:$C$5152,\"*\",'1. 실태조사(위원회별)'!#REF!,\"*\")","v":{"$error":"#REF!"}},{"$f":"COUNTIFS('1. 실태조사(위원회별)'!#REF!,'1.총괄현황 집계표'!$B188,'1. 실태조사(위원회별)'!$C$8:$C$5152,\"*\",'1. 실태조사(위원회별)'!#REF!,\"*\")","v":{"$error":"#REF!"}},{"$f":"COUNTIFS('1. 실태조사(위원회별)'!#REF!,'1.총괄현황 집계표'!$B188,'1. 실태조사(위원회별)'!$C$8:$C$5152,\"*\",'1. 실태조사(위원회별)'!#REF!,\"*\")","v":{"$error":"#REF!"}},{"$f":"COUNTIFS('1. 실태조사(위원회별)'!#REF!,'1.총괄현황 집계표'!$B188,'1. 실태조사(위원회별)'!$C$8:$C$5152,\"*\",'1. 실태조사(위원회별)'!#REF!,\"*\")","v":{"$error":"#REF!"}},0]
["전남","전남나주시",110,{"$error":"#REF!"},{"$error":"#REF!"},{"$f":"COUNTIFS('1. 실태조사(위원회별)'!#REF!,'1.총괄현황 집계표'!$B189,'1. 실태조사(위원회별)'!$C$8:$C$5152,\"*\",'1. 실태조사(위원회별)'!#REF!,\"*\")","v":{"$error":"#REF!"}},{"$f":"COUNTIFS('1. 실태조사(위원회별)'!#REF!,'1.총괄현황 집계표'!$B189,'1. 실태조사(위원회별)'!$C$8:$C$5152,\"*\",'1. 실태조사(위원회별)'!#REF!,\"*\")","v":{"$error":"#REF!"}},{"$f":"COUNTIFS('1. 실태조사(위원회별)'!#REF!,'1.총괄현황 집계표'!$B189,'1. 실태조사(위원회별)'!$C$8:$C$5152,\"*\",'1. 실태조사(위원회별)'!#REF!,\"*\")","v":{"$error":"#REF!"}},{"$f":"COUNTIFS('1. 실태조사(위원회별)'!#REF!,'1.총괄현황 집계표'!$B189,'1. 실태조사(위원회별)'!$C$8:$C$5152,\"*\",'1. 실태조사(위원회별)'!#REF!,\"*\")","v":{"$error":"#REF!"}},0]
["전남","전남광양시",102,{"$error":"#REF!"},{"$error":"#REF!"},{"$f":"COUNTIFS('1. 실태조사(위원회별)'!#REF!,'1.총괄현황 집계표'!$B190,'1. 실태조사(위원회별)'!$C$8:$C$5152,\"*\",'1. 실태조사(위원회별)'!#REF!,\"*\")","v":{"$error":"#REF!"}},{"$f":"COUNTIFS('1. 실태조사(위원회별)'!#REF!,'1.총괄현황 집계표'!$B190,'1. 실태조사(위원회별)'!$C$8:$C$5152,\"*\",'1. 실태조사(위원회별)'!#REF!,\"*\")","v":{"$error":"#REF!"}},{"$f":"COUNTIFS('1. 실태조사(위원회별)'!#REF!,'1.총괄현황 집계표'!$B190,'1. 실태조사(위원회별)'!$C$8:$C$5152,\"*\",'1. 실태조사(위원회별)'!#REF!,\"*\")","v":{"$error":"#REF!"}},{"$f":"COUNTIFS('1. 실태조사(위원회별)'!#REF!,'1.총괄현황 집계표'!$B190,'1. 실태조사(위원회별)'!$C$8:$C$5152,\"*\",'1. 실태조사(위원회별)'!#REF!,\"*\")","v":{"$error":"#REF!"}},0]
["전남","전남담양군",61,{"$error":"#REF!"},{"$error":"#REF!"},{"$f":"COUNTIFS('1. 실태조사(위원회별)'!#REF!,'1.총괄현황 집계표'!$B191,'1. 실태조사(위원회별)'!$C$8:$C$5152,\"*\",'1. 실태조사(위원회별)'!#REF!,\"*\")","v":{"$error":"#REF!"}},{"$f":"COUNTIFS('1. 실태조사(위원회별)'!#REF!,'1.총괄현황 집계표'!$B191,'1. 실태조사(위원회별)'!$C$8:$C$5152,\"*\",'1. 실태조사(위원회별)'!#REF!,\"*\")","v":{"$error":"#REF!"}},{"$f":"COUNTIFS('1. 실태조사(위원회별)'!#REF!,'1.총괄현황 집계표'!$B191,'1. 실태조사(위원회별)'!$C$8:$C$5152,\"*\",'1. 실태조사(위원회별)'!#REF!,\"*\")","v":{"$error":"#REF!"}},{"$f":"COUNTIFS('1. 실태조사(위원회별)'!#REF!,'1.총괄현황 집계표'!$B191,'1. 실태조사(위원회별)'!$C$8:$C$5152,\"*\",'1. 실태조사(위원회별)'!#REF!,\"*\")","v":{"$error":"#REF!"}},0]
["전남","전남곡성군",69,{"$error":"#REF!"},{"$error":"#REF!"},{"$f":"COUNTIFS('1. 실태조사(위원회별)'!#REF!,'1.총괄현황 집계표'!$B192,'1. 실태조사(위원회별)'!$C$8:$C$5152,\"*\",'1. 실태조사(위원회별)'!#REF!,\"*\")","v":{"$error":"#REF!"}},{"$f":"COUNTIFS('1. 실태조사(위원회별)'!#REF!,'1.총괄현황 집계표'!$B192,'1. 실태조사(위원회별)'!$C$8:$C$5152,\"*\",'1. 실태조사(위원회별)'!#REF!,\"*\")","v":{"$error":"#REF!"}},{"$f":"COUNTIFS('1. 실태조사(위원회별)'!#REF!,'1.총괄현황 집계표'!$B192,'1. 실태조사(위원회별)'!$C$8:$C$5152,\"*\",'1. 실태조사(위원회별)'!#REF!,\"*\")","v":{"$error":"#REF!"}},{"$f":"COUNTIFS('1. 실태조사(위원회별)'!#REF!,'1.총괄현황 집계표'!$B192,'1. 실태조사(위원회별)'!$C$8:$C$5152,\"*\",'1. 실태조사(위원회별)'!#REF!,\"*\")","v":{"$error":"#REF!"}},0]
["전남","전남구례군",89,{"$error":"#REF!"},{"$error":"#REF!"},{"$f":"COUNTIFS('1. 실태조사(위원회별)'!#REF!,'1.총괄현황 집계표'!$B193,'1. 실태조사(위원회별)'!$C$8:$C$5152,\"*\",'1. 실태조사(위원회별)'!#REF!,\"*\")","v":{"$error":"#REF!"}},{"$f":"COUNTIFS('1. 실태조사(위원회별)'!#REF!,'1.총괄현황 집계표'!$B193,'1. 실태조사(위원회별)'!$C$8:$C$5152,\"*\",'1. 실태조사(위원회별)'!#REF!,\"*\")","v":{"$error":"#REF!"}},{"$f":"COUNTIFS('1. 실태조사(위원회별)'!#REF!,'1.총괄현황 집계표'!$B193,'1. 실태조사(위원회별)'!$C$8:$C$5152,\"*\",'1. 실태조사(위원회별)'!#REF!,\"*\")","v":{"$error":"#REF!"}},{"$f":"COUNTIFS('1. 실태조사(위원회별)'!#REF!,'1.총괄현황 집계표'!$B193,'1. 실태조사(위원회별)'!$C$8:$C$5152,\"*\",'1. 실태조사(위원회별)'!#REF!,\"*\")","v":{"$error":"#REF!"}},0]
["전남","전남고흥군",75,{"$error":"#REF!"},{"$error":"#REF!"},{"$f":"COUNTIFS('1. 실태조사(위원회별)'!#REF!,'1.총괄현황 집계표'!$B194,'1. 실태조사(위원회별)'!$C$8:$C$5152,\"*\",'1. 실태조사(위원회별)'!#REF!,\"*\")","v":{"$error":"#REF!"}},{"$f":"COUNTIFS('1. 실태조사(위원회별)'!#REF!,'1.총괄현황 집계표'!$B194,'1. 실태조사(위원회별)'!$C$8:$C$5152,\"*\",'1. 실태조사(위원회별)'!#REF!,\"*\")","v":{"$error":"#REF!"}},{"$f":"COUNTIFS('1. 실태조사(위원회별)'!#REF!,'1.총괄현황 집계표'!$B194,'1. 실태조사(위원회별)'!$C$8:$C$5152,\"*\",'1. 실태조사(위원회별)'!#REF!,\"*\")","v":{"$error":"#REF!"}},{"$f":"COUNTIFS('1. 실태조사(위원회별)'!#REF!,'1.총괄현황 집계표'!$B194,'1. 실태조사(위원회별)'!$C$8:$C$5152,\"*\",'1. 실태조사(위원회별)'!#REF!,\"*\")","v":{"$error":"#REF!"}},0]
["전남","전남보성군",82,{"$error":"#REF!"},{"$error":"#REF!"},{"$f":"COUNTIFS('1. 실태조사(위원회별)'!#REF!,'1.총괄현황 집계표'!$B195,'1. 실태조사(위원회별)'!$C$8:$C$5152,\"*\",'1. 실태조사(위원회별)'!#REF!,\"*\")","v":{"$error":"#REF!"}},{"$f":"COUNTIFS('1. 실태조사(위원회별)'!#REF!,'1.총괄현황 집계표'!$B195,'1. 실태조사(위원회별)'!$C$8:$C$5152,\"*\",'1. 실태조사(위원회별)'!#REF!,\"*\")","v":{"$error":"#REF!"}},{"$f":"COUNTIFS('1. 실태조사(위원회별)'!#REF!,'1.총괄현황 집계표'!$B195,'1. 실태조사(위원회별)'!$C$8:$C$5152,\"*\",'1. 실태조사(위원회별)'!#REF!,\"*\")","v":{"$error":"#REF!"}},{"$f":"COUNTIFS('1. 실태조사(위원회별)'!#REF!,'1.총괄현황 집계표'!$B195,'1. 실태조사(위원회별)'!$C$8:$C$5152,\"*\",'1. 실태조사(위원회별)'!#REF!,\"*\")","v":{"$error":"#REF!"}},0]
["전남","전남화순군",86,{"$error":"#REF!"},{"$error":"#REF!"},{"$f":"COUNTIFS('1. 실태조사(위원회별)'!#REF!,'1.총괄현황 집계표'!$B196,'1. 실태조사(위원회별)'!$C$8:$C$5152,\"*\",'1. 실태조사(위원회별)'!#REF!,\"*\")","v":{"$error":"#REF!"}},{"$f":"COUNTIFS('1. 실태조사(위원회별)'!#REF!,'1.총괄현황 집계표'!$B196,'1. 실태조사(위원회별)'!$C$8:$C$5152,\"*\",'1. 실태조사(위원회별)'!#REF!,\"*\")","v":{"$error":"#REF!"}},{"$f":"COUNTIFS('1. 실태조사(위원회별)'!#REF!,'1.총괄현황 집계표'!$B196,'1. 실태조사(위원회별)'!$C$8:$C$5152,\"*\",'1. 실태조사(위원회별)'!#REF!,\"*\")","v":{"$error":"#REF!"}},{"$f":"COUNTIFS('1. 실태조사(위원회별)'!#REF!,'1.총괄현황 집계표'!$B196,'1. 실태조사(위원회별)'!$C$8:$C$5152,\"*\",'1. 실태조사(위원회별)'!#REF!,\"*\")","v":{"$error":"#REF!"}},0]
["전남","전남장흥군",92,{"$error":"#REF!"},{"$error":"#REF!"},{"$f":"COUNTIFS('1. 실태조사(위원회별)'!#REF!,'1.총괄현황 집계표'!$B197,'1. 실태조사(위원회별)'!$C$8:$C$5152,\"*\",'1. 실태조사(위원회별)'!#REF!,\"*\")","v":{"$error":"#REF!"}},{"$f":"COUNTIFS('1. 실태조사(위원회별)'!#REF!,'1.총괄현황 집계표'!$B197,'1. 실태조사(위원회별)'!$C$8:$C$5152,\"*\",'1. 실태조사(위원회별)'!#REF!,\"*\")","v":{"$error":"#REF!"}},{"$f":"COUNTIFS('1. 실태조사(위원회별)'!#REF!,'1.총괄현황 집계표'!$B197,'1. 실태조사(위원회별)'!$C$8:$C$5152,\"*\",'1. 실태조사(위원회별)'!#REF!,\"*\")","v":{"$error":"#REF!"}},{"$f":"COUNTIFS('1. 실태조사(위원회별)'!#REF!,'1.총괄현황 집계표'!$B197,'1. 실태조사(위원회별)'!$C$8:$C$5152,\"*\",'1. 실태조사(위원회별)'!#REF!,\"*\")","v":{"$error":"#REF!"}},0]
["전남","전남강진군",89,{"$error":"#REF!"},{"$error":"#REF!"},{"$f":"COUNTIFS('1. 실태조사(위원회별)'!#REF!,'1.총괄현황 집계표'!$B198,'1. 실태조사(위원회별)'!$C$8:$C$5152,\"*\",'1. 실태조사(위원회별)'!#REF!,\"*\")","v":{"$error":"#REF!"}},{"$f":"COUNTIFS('1. 실태조사(위원회별)'!#REF!,'1.총괄현황 집계표'!$B198,'1. 실태조사(위원회별)'!$C$8:$C$5152,\"*\",'1. 실태조사(위원회별)'!#REF!,\"*\")","v":{"$error":"#REF!"}},{"$f":"COUNTIFS('1. 실태조사(위원회별)'!#REF!,'1.총괄현황 집계표'!$B198,'1. 실태조사(위원회별)'!$C$8:$C$5152,\"*\",'1. 실태조사(위원회별)'!#REF!,\"*\")","v":{"$error":"#REF!"}},{"$f":"COUNTIFS('1. 실태조사(위원회별)'!#REF!,'1.총괄현황 집계표'!$B198,'1. 실태조사(위원회별)'!$C$8:$C$5152,\"*\",'1. 실태조사(위원회별)'!#REF!,\"*\")","v":{"$error":"#REF!"}},0]
["전남","전남해남군",94,{"$error":"#REF!"},{"$error":"#REF!"},{"$f":"COUNTIFS('1. 실태조사(위원회별)'!#REF!,'1.총괄현황 집계표'!$B199,'1. 실태조사(위원회별)'!$C$8:$C$5152,\"*\",'1. 실태조사(위원회별)'!#REF!,\"*\")","v":{"$error":"#REF!"}},{"$f":"COUNTIFS('1. 실태조사(위원회별)'!#REF!,'1.총괄현황 집계표'!$B199,'1. 실태조사(위원회별)'!$C$8:$C$5152,\"*\",'1. 실태조사(위원회별)'!#REF!,\"*\")","v":{"$error":"#REF!"}},{"$f":"COUNTIFS('1. 실태조사(위원회별)'!#REF!,'1.총괄현황 집계표'!$B199,'1. 실태조사(위원회별)'!$C$8:$C$5152,\"*\",'1. 실태조사(위원회별)'!#REF!,\"*\")","v":{"$error":"#REF!"}},{"$f":"COUNTIFS('1. 실태조사(위원회별)'!#REF!,'1.총괄현황 집계표'!$B199,'1. 실태조사(위원회별)'!$C$8:$C$5152,\"*\",'1. 실태조사(위원회별)'!#REF!,\"*\")","v":{"$error":"#REF!"}},0]
["전남","전남영암군",78,{"$error":"#REF!"},{"$error":"#REF!"},{"$f":"COUNTIFS('1. 실태조사(위원회별)'!#REF!,'1.총괄현황 집계표'!$B200,'1. 실태조사(위원회별)'!$C$8:$C$5152,\"*\",'1. 실태조사(위원회별)'!#REF!,\"*\")","v":{"$error":"#REF!"}},{"$f":"COUNTIFS('1. 실태조사(위원회별)'!#REF!,'1.총괄현황 집계표'!$B200,'1. 실태조사(위원회별)'!$C$8:$C$5152,\"*\",'1. 실태조사(위원회별)'!#REF!,\"*\")","v":{"$error":"#REF!"}},{"$f":"COUNTIFS('1. 실태조사(위원회별)'!#REF!,'1.총괄현황 집계표'!$B200,'1. 실태조사(위원회별)'!$C$8:$C$5152,\"*\",'1. 실태조사(위원회별)'!#REF!,\"*\")","v":{"$error":"#REF!"}},{"$f":"COUNTIFS('1. 실태조사(위원회별)'!#REF!,'1.총괄현황 집계표'!$B200,'1. 실태조사(위원회별)'!$C$8:$C$5152,\"*\",'1. 실태조사(위원회별)'!#REF!,\"*\")","v":{"$error":"#REF!"}},0]
["전남","전남무안군",74,{"$error":"#REF!"},{"$error":"#REF!"},{"$f":"COUNTIFS('1. 실태조사(위원회별)'!#REF!,'1.총괄현황 집계표'!$B201,'1. 실태조사(위원회별)'!$C$8:$C$5152,\"*\",'1. 실태조사(위원회별)'!#REF!,\"*\")","v":{"$error":"#REF!"}},{"$f":"COUNTIFS('1. 실태조사(위원회별)'!#REF!,'1.총괄현황 집계표'!$B201,'1. 실태조사(위원회별)'!$C$8:$C$5152,\"*\",'1. 실태조사(위원회별)'!#REF!,\"*\")","v":{"$error":"#REF!"}},{"$f":"COUNTIFS('1. 실태조사(위원회별)'!#REF!,'1.총괄현황 집계표'!$B201,'1. 실태조사(위원회별)'!$C$8:$C$5152,\"*\",'1. 실태조사(위원회별)'!#REF!,\"*\")","v":{"$error":"#REF!"}},{"$f":"COUNTIFS('1. 실태조사(위원회별)'!#REF!,'1.총괄현황 집계표'!$B201,'1. 실태조사(위원회별)'!$C$8:$C$5152,\"*\",'1. 실태조사(위원회별)'!#REF!,\"*\")","v":{"$error":"#REF!"}},0]
["전남","전남함평군",58,{"$f":"C202+F202-G202-H202","v":{"$error":"#REF!"}},{"$f":"F202-G202-H202+I202","v":{"$error":"#REF!"}},{"$f":"COUNTIFS('1. 실태조사(위원회별)'!#REF!,'1.총괄현황 집계표'!$B202,'1. 실태조사(위원회별)'!$C$8:$C$5152,\"*\",'1. 실태조사(위원회별)'!#REF!,\"*\")","v":{"$error":"#REF!"}},{"$f":"COUNTIFS('1. 실태조사(위원회별)'!#REF!,'1.총괄현황 집계표'!$B202,'1. 실태조사(위원회별)'!$C$8:$C$5152,\"*\",'1. 실태조사(위원회별)'!#REF!,\"*\")","v":{"$error":"#REF!"}},{"$f":"COUNTIFS('1. 실태조사(위원회별)'!#REF!,'1.총괄현황 집계표'!$B202,'1. 실태조사(위원회별)'!$C$8:$C$5152,\"*\",'1. 실태조사(위원회별)'!#REF!,\"*\")","v":{"$error":"#REF!"}},{"$f":"COUNTIFS('1. 실태조사(위원회별)'!#REF!,'1.총괄현황 집계표'!$B202,'1. 실태조사(위원회별)'!$C$8:$C$5152,\"*\",'1. 실태조사(위원회별)'!#REF!,\"*\")","v":{"$error":"#REF!"}},{"$f":"SUM(K202:P202)","v":0}]
["전남","전남영광군",83,{"$error":"#REF!"},{"$error":"#REF!"},{"$f":"COUNTIFS('1. 실태조사(위원회별)'!#REF!,'1.총괄현황 집계표'!$B203,'1. 실태조사(위원회별)'!$C$8:$C$5152,\"*\",'1. 실태조사(위원회별)'!#REF!,\"*\")","v":{"$error":"#REF!"}},{"$f":"COUNTIFS('1. 실태조사(위원회별)'!#REF!,'1.총괄현황 집계표'!$B203,'1. 실태조사(위원회별)'!$C$8:$C$5152,\"*\",'1. 실태조사(위원회별)'!#REF!,\"*\")","v":{"$error":"#REF!"}},{"$f":"COUNTIFS('1. 실태조사(위원회별)'!#REF!,'1.총괄현황 집계표'!$B203,'1. 실태조사(위원회별)'!$C$8:$C$5152,\"*\",'1. 실태조사(위원회별)'!#REF!,\"*\")","v":{"$error":"#REF!"}},{"$f":"COUNTIFS('1. 실태조사(위원회별)'!#REF!,'1.총괄현황 집계표'!$B203,'1. 실태조사(위원회별)'!$C$8:$C$5152,\"*\",'1. 실태조사(위원회별)'!#REF!,\"*\")","v":{"$error":"#REF!"}},0]
["전남","전남장성군",77,{"$error":"#REF!"},{"$error":"#REF!"},{"$f":"COUNTIFS('1. 실태조사(위원회별)'!#REF!,'1.총괄현황 집계표'!$B204,'1. 실태조사(위원회별)'!$C$8:$C$5152,\"*\",'1. 실태조사(위원회별)'!#REF!,\"*\")","v":{"$error":"#REF!"}},{"$f":"COUNTIFS('1. 실태조사(위원회별)'!#REF!,'1.총괄현황 집계표'!$B204,'1. 실태조사(위원회별)'!$C$8:$C$5152,\"*\",'1. 실태조사(위원회별)'!#REF!,\"*\")","v":{"$error":"#REF!"}},{"$f":"COUNTIFS('1. 실태조사(위원회별)'!#REF!,'1.총괄현황 집계표'!$B204,'1. 실태조사(위원회별)'!$C$8:$C$5152,\"*\",'1. 실태조사(위원회별)'!#REF!,\"*\")","v":{"$error":"#REF!"}},{"$f":"COUNTIFS('1. 실태조사(위원회별)'!#REF!,'1.총괄현황 집계표'!$B204,'1. 실태조사(위원회별)'!$C$8:$C$5152,\"*\",'1. 실태조사(위원회별)'!#REF!,\"*\")","v":{"$error":"#REF!"}},0]
["전남","전남완도군",69,{"$error":"#REF!"},{"$error":"#REF!"},{"$f":"COUNTIFS('1. 실태조사(위원회별)'!#REF!,'1.총괄현황 집계표'!$B205,'1. 실태조사(위원회별)'!$C$8:$C$5152,\"*\",'1. 실태조사(위원회별)'!#REF!,\"*\")","v":{"$error":"#REF!"}},{"$f":"COUNTIFS('1. 실태조사(위원회별)'!#REF!,'1.총괄현황 집계표'!$B205,'1. 실태조사(위원회별)'!$C$8:$C$5152,\"*\",'1. 실태조사(위원회별)'!#REF!,\"*\")","v":{"$error":"#REF!"}},{"$f":"COUNTIFS('1. 실태조사(위원회별)'!#REF!,'1.총괄현황 집계표'!$B205,'1. 실태조사(위원회별)'!$C$8:$C$5152,\"*\",'1. 실태조사(위원회별)'!#REF!,\"*\")","v":{"$error":"#REF!"}},{"$f":"COUNTIFS('1. 실태조사(위원회별)'!#REF!,'1.총괄현황 집계표'!$B205,'1. 실태조사(위원회별)'!$C$8:$C$5152,\"*\",'1. 실태조사(위원회별)'!#REF!,\"*\")","v":{"$error":"#REF!"}},0]
["전남","전남진도군",76,{"$error":"#REF!"},{"$error":"#REF!"},{"$f":"COUNTIFS('1. 실태조사(위원회별)'!#REF!,'1.총괄현황 집계표'!$B206,'1. 실태조사(위원회별)'!$C$8:$C$5152,\"*\",'1. 실태조사(위원회별)'!#REF!,\"*\")","v":{"$error":"#REF!"}},{"$f":"COUNTIFS('1. 실태조사(위원회별)'!#REF!,'1.총괄현황 집계표'!$B206,'1. 실태조사(위원회별)'!$C$8:$C$5152,\"*\",'1. 실태조사(위원회별)'!#REF!,\"*\")","v":{"$error":"#REF!"}},{"$f":"COUNTIFS('1. 실태조사(위원회별)'!#REF!,'1.총괄현황 집계표'!$B206,'1. 실태조사(위원회별)'!$C$8:$C$5152,\"*\",'1. 실태조사(위원회별)'!#REF!,\"*\")","v":{"$error":"#REF!"}},{"$f":"COUNTIFS('1. 실태조사(위원회별)'!#REF!,'1.총괄현황 집계표'!$B206,'1. 실태조사(위원회별)'!$C$8:$C$5152,\"*\",'1. 실태조사(위원회별)'!#REF!,\"*\")","v":{"$error":"#REF!"}},0]
["전남","전남신안군",53,{"$error":"#REF!"},{"$error":"#REF!"},{"$f":"COUNTIFS('1. 실태조사(위원회별)'!#REF!,'1.총괄현황 집계표'!$B207,'1. 실태조사(위원회별)'!$C$8:$C$5152,\"*\",'1. 실태조사(위원회별)'!#REF!,\"*\")","v":{"$error":"#REF!"}},{"$f":"COUNTIFS('1. 실태조사(위원회별)'!#REF!,'1.총괄현황 집계표'!$B207,'1. 실태조사(위원회별)'!$C$8:$C$5152,\"*\",'1. 실태조사(위원회별)'!#REF!,\"*\")","v":{"$error":"#REF!"}},{"$f":"COUNTIFS('1. 실태조사(위원회별)'!#REF!,'1.총괄현황 집계표'!$B207,'1. 실태조사(위원회별)'!$C$8:$C$5152,\"*\",'1. 실태조사(위원회별)'!#REF!,\"*\")","v":{"$error":"#REF!"}},{"$f":"COUNTIFS('1. 실태조사(위원회별)'!#REF!,'1.총괄현황 집계표'!$B207,'1. 실태조사(위원회별)'!$C$8:$C$5152,\"*\",'1. 실태조사(위원회별)'!#REF!,\"*\")","v":{"$error":"#REF!"}},0]
["경북","경상북도",151,{"$error":"#REF!"},{"$error":"#REF!"},{"$f":"COUNTIFS('1. 실태조사(위원회별)'!#REF!,'1.총괄현황 집계표'!$B208,'1. 실태조사(위원회별)'!$C$8:$C$5152,\"*\",'1. 실태조사(위원회별)'!#REF!,\"*\")","v":{"$error":"#REF!"}},{"$f":"COUNTIFS('1. 실태조사(위원회별)'!#REF!,'1.총괄현황 집계표'!$B208,'1. 실태조사(위원회별)'!$C$8:$C$5152,\"*\",'1. 실태조사(위원회별)'!#REF!,\"*\")","v":{"$error":"#REF!"}},{"$f":"COUNTIFS('1. 실태조사(위원회별)'!#REF!,'1.총괄현황 집계표'!$B208,'1. 실태조사(위원회별)'!$C$8:$C$5152,\"*\",'1. 실태조사(위원회별)'!#REF!,\"*\")","v":{"$error":"#REF!"}},{"$f":"COUNTIFS('1. 실태조사(위원회별)'!#REF!,'1.총괄현황 집계표'!$B208,'1. 실태조사(위원회별)'!$C$8:$C$5152,\"*\",'1. 실태조사(위원회별)'!#REF!,\"*\")","v":{"$error":"#REF!"}},0]
["경북","경북포항시",109,{"$error":"#REF!"},{"$error":"#REF!"},{"$f":"COUNTIFS('1. 실태조사(위원회별)'!#REF!,'1.총괄현황 집계표'!$B209,'1. 실태조사(위원회별)'!$C$8:$C$5152,\"*\",'1. 실태조사(위원회별)'!#REF!,\"*\")","v":{"$error":"#REF!"}},{"$f":"COUNTIFS('1. 실태조사(위원회별)'!#REF!,'1.총괄현황 집계표'!$B209,'1. 실태조사(위원회별)'!$C$8:$C$5152,\"*\",'1. 실태조사(위원회별)'!#REF!,\"*\")","v":{"$error":"#REF!"}},{"$f":"COUNTIFS('1. 실태조사(위원회별)'!#REF!,'1.총괄현황 집계표'!$B209,'1. 실태조사(위원회별)'!$C$8:$C$5152,\"*\",'1. 실태조사(위원회별)'!#REF!,\"*\")","v":{"$error":"#REF!"}},{"$f":"COUNTIFS('1. 실태조사(위원회별)'!#REF!,'1.총괄현황 집계표'!$B209,'1. 실태조사(위원회별)'!$C$8:$C$5152,\"*\",'1. 실태조사(위원회별)'!#REF!,\"*\")","v":{"$error":"#REF!"}},0]
["경북","경북경주시",97,{"$error":"#REF!"},{"$error":"#REF!"},{"$f":"COUNTIFS('1. 실태조사(위원회별)'!#REF!,'1.총괄현황 집계표'!$B210,'1. 실태조사(위원회별)'!$C$8:$C$5152,\"*\",'1. 실태조사(위원회별)'!#REF!,\"*\")","v":{"$error":"#REF!"}},{"$f":"COUNTIFS('1. 실태조사(위원회별)'!#REF!,'1.총괄현황 집계표'!$B210,'1. 실태조사(위원회별)'!$C$8:$C$5152,\"*\",'1. 실태조사(위원회별)'!#REF!,\"*\")","v":{"$error":"#REF!"}},{"$f":"COUNTIFS('1. 실태조사(위원회별)'!#REF!,'1.총괄현황 집계표'!$B210,'1. 실태조사(위원회별)'!$C$8:$C$5152,\"*\",'1. 실태조사(위원회별)'!#REF!,\"*\")","v":{"$error":"#REF!"}},{"$f":"COUNTIFS('1. 실태조사(위원회별)'!#REF!,'1.총괄현황 집계표'!$B210,'1. 실태조사(위원회별)'!$C$8:$C$5152,\"*\",'1. 실태조사(위원회별)'!#REF!,\"*\")","v":{"$error":"#REF!"}},0]
["경북","경북김천시",86,{"$error":"#REF!"},{"$error":"#REF!"},{"$f":"COUNTIFS('1. 실태조사(위원회별)'!#REF!,'1.총괄현황 집계표'!$B211,'1. 실태조사(위원회별)'!$C$8:$C$5152,\"*\",'1. 실태조사(위원회별)'!#REF!,\"*\")","v":{"$error":"#REF!"}},{"$f":"COUNTIFS('1. 실태조사(위원회별)'!#REF!,'1.총괄현황 집계표'!$B211,'1. 실태조사(위원회별)'!$C$8:$C$5152,\"*\",'1. 실태조사(위원회별)'!#REF!,\"*\")","v":{"$error":"#REF!"}},{"$f":"COUNTIFS('1. 실태조사(위원회별)'!#REF!,'1.총괄현황 집계표'!$B211,'1. 실태조사(위원회별)'!$C$8:$C$5152,\"*\",'1. 실태조사(위원회별)'!#REF!,\"*\")","v":{"$error":"#REF!"}},{"$f":"COUNTIFS('1. 실태조사(위원회별)'!#REF!,'1.총괄현황 집계표'!$B211,'1. 실태조사(위원회별)'!$C$8:$C$5152,\"*\",'1. 실태조사(위원회별)'!#REF!,\"*\")","v":{"$error":"#REF!"}},0]
["경북","경북안동시",118,{"$error":"#REF!"},{"$error":"#REF!"},{"$f":"COUNTIFS('1. 실태조사(위원회별)'!#REF!,'1.총괄현황 집계표'!$B212,'1. 실태조사(위원회별)'!$C$8:$C$5152,\"*\",'1. 실태조사(위원회별)'!#REF!,\"*\")","v":{"$error":"#REF!"}},{"$f":"COUNTIFS('1. 실태조사(위원회별)'!#REF!,'1.총괄현황 집계표'!$B212,'1. 실태조사(위원회별)'!$C$8:$C$5152,\"*\",'1. 실태조사(위원회별)'!#REF!,\"*\")","v":{"$error":"#REF!"}},{"$f":"COUNTIFS('1. 실태조사(위원회별)'!#REF!,'1.총괄현황 집계표'!$B212,'1. 실태조사(위원회별)'!$C$8:$C$5152,\"*\",'1. 실태조사(위원회별)'!#REF!,\"*\")","v":{"$error":"#REF!"}},{"$f":"COUNTIFS('1. 실태조사(위원회별)'!#REF!,'1.총괄현황 집계표'!$B212,'1. 실태조사(위원회별)'!$C$8:$C$5152,\"*\",'1. 실태조사(위원회별)'!#REF!,\"*\")","v":{"$error":"#REF!"}},0]
["경북","경북구미시",129,{"$error":"#REF!"},{"$error":"#REF!"},{"$f":"COUNTIFS('1. 실태조사(위원회별)'!#REF!,'1.총괄현황 집계표'!$B213,'1. 실태조사(위원회별)'!$C$8:$C$5152,\"*\",'1. 실태조사(위원회별)'!#REF!,\"*\")","v":{"$error":"#REF!"}},{"$f":"COUNTIFS('1. 실태조사(위원회별)'!#REF!,'1.총괄현황 집계표'!$B213,'1. 실태조사(위원회별)'!$C$8:$C$5152,\"*\",'1. 실태조사(위원회별)'!#REF!,\"*\")","v":{"$error":"#REF!"}},{"$f":"COUNTIFS('1. 실태조사(위원회별)'!#REF!,'1.총괄현황 집계표'!$B213,'1. 실태조사(위원회별)'!$C$8:$C$5152,\"*\",'1. 실태조사(위원회별)'!#REF!,\"*\")","v":{"$error":"#REF!"}},{"$f":"COUNTIFS('1. 실태조사(위원회별)'!#REF!,'1.총괄현황 집계표'!$B213,'1. 실태조사(위원회별)'!$C$8:$C$5152,\"*\",'1. 실태조사(위원회별)'!#REF!,\"*\")","v":{"$error":"#REF!"}},0]
["경북","경북영주시",117,{"$error":"#REF!"},{"$error":"#REF!"},{"$f":"COUNTIFS('1. 실태조사(위원회별)'!#REF!,'1.총괄현황 집계표'!$B214,'1. 실태조사(위원회별)'!$C$8:$C$5152,\"*\",'1. 실태조사(위원회별)'!#REF!,\"*\")","v":{"$error":"#REF!"}},{"$f":"COUNTIFS('1. 실태조사(위원회별)'!#REF!,'1.총괄현황 집계표'!$B214,'1. 실태조사(위원회별)'!$C$8:$C$5152,\"*\",'1. 실태조사(위원회별)'!#REF!,\"*\")","v":{"$error":"#REF!"}},{"$f":"COUNTIFS('1. 실태조사(위원회별)'!#REF!,'1.총괄현황 집계표'!$B214,'1. 실태조사(위원회별)'!$C$8:$C$5152,\"*\",'1. 실태조사(위원회별)'!#REF!,\"*\")","v":{"$error":"#REF!"}},{"$f":"COUNTIFS('1. 실태조사(위원회별)'!#REF!,'1.총괄현황 집계표'!$B214,'1. 실태조사(위원회별)'!$C$8:$C$5152,\"*\",'1. 실태조사(위원회별)'!#REF!,\"*\")","v":{"$error":"#REF!"}},0]
["경북","경북영천시",73,{"$error":"#REF!"},{"$error":"#REF!"},{"$f":"COUNTIFS('1. 실태조사(위원회별)'!#REF!,'1.총괄현황 집계표'!$B215,'1. 실태조사(위원회별)'!$C$8:$C$5152,\"*\",'1. 실태조사(위원회별)'!#REF!,\"*\")","v":{"$error":"#REF!"}},{"$f":"COUNTIFS('1. 실태조사(위원회별)'!#REF!,'1.총괄현황 집계표'!$B215,'1. 실태조사(위원회별)'!$C$8:$C$5152,\"*\",'1. 실태조사(위원회별)'!#REF!,\"*\")","v":{"$error":"#REF!"}},{"$f":"COUNTIFS('1. 실태조사(위원회별)'!#REF!,'1.총괄현황 집계표'!$B215,'1. 실태조사(위원회별)'!$C$8:$C$5152,\"*\",'1. 실태조사(위원회별)'!#REF!,\"*\")","v":{"$error":"#REF!"}},{"$f":"COUNTIFS('1. 실태조사(위원회별)'!#REF!,'1.총괄현황 집계표'!$B215,'1. 실태조사(위원회별)'!$C$8:$C$5152,\"*\",'1. 실태조사(위원회별)'!#REF!,\"*\")","v":{"$error":"#REF!"}},0]
["경북","경북상주시",70,{"$error":"#REF!"},{"$error":"#REF!"},{"$f":"COUNTIFS('1. 실태조사(위원회별)'!#REF!,'1.총괄현황 집계표'!$B216,'1. 실태조사(위원회별)'!$C$8:$C$5152,\"*\",'1. 실태조사(위원회별)'!#REF!,\"*\")","v":{"$error":"#REF!"}},{"$f":"COUNTIFS('1. 실태조사(위원회별)'!#REF!,'1.총괄현황 집계표'!$B216,'1. 실태조사(위원회별)'!$C$8:$C$5152,\"*\",'1. 실태조사(위원회별)'!#REF!,\"*\")","v":{"$error":"#REF!"}},{"$f":"COUNTIFS('1. 실태조사(위원회별)'!#REF!,'1.총괄현황 집계표'!$B216,'1. 실태조사(위원회별)'!$C$8:$C$5152,\"*\",'1. 실태조사(위원회별)'!#REF!,\"*\")","v":{"$error":"#REF!"}},{"$f":"COUNTIFS('1. 실태조사(위원회별)'!#REF!,'1.총괄현황 집계표'!$B216,'1. 실태조사(위원회별)'!$C$8:$C$5152,\"*\",'1. 실태조사(위원회별)'!#REF!,\"*\")","v":{"$error":"#REF!"}},0]
["경북","경북문경시",92,{"$error":"#REF!"},{"$error":"#REF!"},{"$f":"COUNTIFS('1. 실태조사(위원회별)'!#REF!,'1.총괄현황 집계표'!$B217,'1. 실태조사(위원회별)'!$C$8:$C$5152,\"*\",'1. 실태조사(위원회별)'!#REF!,\"*\")","v":{"$error":"#REF!"}},{"$f":"COUNTIFS('1. 실태조사(위원회별)'!#REF!,'1.총괄현황 집계표'!$B217,'1. 실태조사(위원회별)'!$C$8:$C$5152,\"*\",'1. 실태조사(위원회별)'!#REF!,\"*\")","v":{"$error":"#REF!"}},{"$f":"COUNTIFS('1. 실태조사(위원회별)'!#REF!,'1.총괄현황 집계표'!$B217,'1. 실태조사(위원회별)'!$C$8:$C$5152,\"*\",'1. 실태조사(위원회별)'!#REF!,\"*\")","v":{"$error":"#REF!"}},{"$f":"COUNTIFS('1. 실태조사(위원회별)'!#REF!,'1.총괄현황 집계표'!$B217,'1. 실태조사(위원회별)'!$C$8:$C$5152,\"*\",'1. 실태조사(위원회별)'!#REF!,\"*\")","v":{"$error":"#REF!"}},0]
["경북","경북경산시",90,{"$error":"#REF!"},{"$error":"#REF!"},{"$f":"COUNTIFS('1. 실태조사(위원회별)'!#REF!,'1.총괄현황 집계표'!$B218,'1. 실태조사(위원회별)'!$C$8:$C$5152,\"*\",'1. 실태조사(위원회별)'!#REF!,\"*\")","v":{"$error":"#REF!"}},{"$f":"COUNTIFS('1. 실태조사(위원회별)'!#REF!,'1.총괄현황 집계표'!$B218,'1. 실태조사(위원회별)'!$C$8:$C$5152,\"*\",'1. 실태조사(위원회별)'!#REF!,\"*\")","v":{"$error":"#REF!"}},{"$f":"COUNTIFS('1. 실태조사(위원회별)'!#REF!,'1.총괄현황 집계표'!$B218,'1. 실태조사(위원회별)'!$C$8:$C$5152,\"*\",'1. 실태조사(위원회별)'!#REF!,\"*\")","v":{"$error":"#REF!"}},{"$f":"COUNTIFS('1. 실태조사(위원회별)'!#REF!,'1.총괄현황 집계표'!$B218,'1. 실태조사(위원회별)'!$C$8:$C$5152,\"*\",'1. 실태조사(위원회별)'!#REF!,\"*\")","v":{"$error":"#REF!"}},0]
["경북","경북군위군",65,{"$error":"#REF!"},{"$error":"#REF!"},{"$f":"COUNTIFS('1. 실태조사(위원회별)'!#REF!,'1.총괄현황 집계표'!$B219,'1. 실태조사(위원회별)'!$C$8:$C$5152,\"*\",'1. 실태조사(위원회별)'!#REF!,\"*\")","v":{"$error":"#REF!"}},{"$f":"COUNTIFS('1. 실태조사(위원회별)'!#REF!,'1.총괄현황 집계표'!$B219,'1. 실태조사(위원회별)'!$C$8:$C$5152,\"*\",'1. 실태조사(위원회별)'!#REF!,\"*\")","v":{"$error":"#REF!"}},{"$f":"COUNTIFS('1. 실태조사(위원회별)'!#REF!,'1.총괄현황 집계표'!$B219,'1. 실태조사(위원회별)'!$C$8:$C$5152,\"*\",'1. 실태조사(위원회별)'!#REF!,\"*\")","v":{"$error":"#REF!"}},{"$f":"COUNTIFS('1. 실태조사(위원회별)'!#REF!,'1.총괄현황 집계표'!$B219,'1. 실태조사(위원회별)'!$C$8:$C$5152,\"*\",'1. 실태조사(위원회별)'!#REF!,\"*\")","v":{"$error":"#REF!"}},0]
["경북","경북의성군",90,{"$error":"#REF!"},{"$error":"#REF!"},{"$f":"COUNTIFS('1. 실태조사(위원회별)'!#REF!,'1.총괄현황 집계표'!$B220,'1. 실태조사(위원회별)'!$C$8:$C$5152,\"*\",'1. 실태조사(위원회별)'!#REF!,\"*\")","v":{"$error":"#REF!"}},{"$f":"COUNTIFS('1. 실태조사(위원회별)'!#REF!,'1.총괄현황 집계표'!$B220,'1. 실태조사(위원회별)'!$C$8:$C$5152,\"*\",'1. 실태조사(위원회별)'!#REF!,\"*\")","v":{"$error":"#REF!"}},{"$f":"COUNTIFS('1. 실태조사(위원회별)'!#REF!,'1.총괄현황 집계표'!$B220,'1. 실태조사(위원회별)'!$C$8:$C$5152,\"*\",'1. 실태조사(위원회별)'!#REF!,\"*\")","v":{"$error":"#REF!"}},{"$f":"COUNTIFS('1. 실태조사(위원회별)'!#REF!,'1.총괄현황 집계표'!$B220,'1. 실태조사(위원회별)'!$C$8:$C$5152,\"*\",'1. 실태조사(위원회별)'!#REF!,\"*\")","v":{"$error":"#REF!"}},0]
["경북","경북청송군",71,{"$error":"#REF!"},{"$error":"#REF!"},{"$f":"COUNTIFS('1. 실태조사(위원회별)'!#REF!,'1.총괄현황 집계표'!$B221,'1. 실태조사(위원회별)'!$C$8:$C$5152,\"*\",'1. 실태조사(위원회별)'!#REF!,\"*\")","v":{"$error":"#REF!"}},{"$f":"COUNTIFS('1. 실태조사(위원회별)'!#REF!,'1.총괄현황 집계표'!$B221,'1. 실태조사(위원회별)'!$C$8:$C$5152,\"*\",'1. 실태조사(위원회별)'!#REF!,\"*\")","v":{"$error":"#REF!"}},{"$f":"COUNTIFS('1. 실태조사(위원회별)'!#REF!,'1.총괄현황 집계표'!$B221,'1. 실태조사(위원회별)'!$C$8:$C$5152,\"*\",'1. 실태조사(위원회별)'!#REF!,\"*\")","v":{"$error":"#REF!"}},{"$f":"COUNTIFS('1. 실태조사(위원회별)'!#REF!,'1.총괄현황 집계표'!$B221,'1. 실태조사(위원회별)'!$C$8:$C$5152,\"*\",'1. 실태조사(위원회별)'!#REF!,\"*\")","v":{"$error":"#REF!"}},0]
["경북","경북영양군",73,{"$error":"#REF!"},{"$error":"#REF!"},{"$f":"COUNTIFS('1. 실태조사(위원회별)'!#REF!,'1.총괄현황 집계표'!$B222,'1. 실태조사(위원회별)'!$C$8:$C$5152,\"*\",'1. 실태조사(위원회별)'!#REF!,\"*\")","v":{"$error":"#REF!"}},{"$f":"COUNTIFS('1. 실태조사(위원회별)'!#REF!,'1.총괄현황 집계표'!$B222,'1. 실태조사(위원회별)'!$C$8:$C$5152,\"*\",'1. 실태조사(위원회별)'!#REF!,\"*\")","v":{"$error":"#REF!"}},{"$f":"COUNTIFS('1. 실태조사(위원회별)'!#REF!,'1.총괄현황 집계표'!$B222,'1. 실태조사(위원회별)'!$C$8:$C$5152,\"*\",'1. 실태조사(위원회별)'!#REF!,\"*\")","v":{"$error":"#REF!"}},{"$f":"COUNTIFS('1. 실태조사(위원회별)'!#REF!,'1.총괄현황 집계표'!$B222,'1. 실태조사(위원회별)'!$C$8:$C$5152,\"*\",'1. 실태조사(위원회별)'!#REF!,\"*\")","v":{"$error":"#REF!"}},0]
["경북","경북영덕군",65,{"$error":"#REF!"},{"$error":"#REF!"},{"$f":"COUNTIFS('1. 실태조사(위원회별)'!#REF!,'1.총괄현황 집계표'!$B223,'1. 실태조사(위원회별)'!$C$8:$C$5152,\"*\",'1. 실태조사(위원회별)'!#REF!,\"*\")","v":{"$error":"#REF!"}},{"$f":"COUNTIFS('1. 실태조사(위원회별)'!#REF!,'1.총괄현황 집계표'!$B223,'1. 실태조사(위원회별)'!$C$8:$C$5152,\"*\",'1. 실태조사(위원회별)'!#REF!,\"*\")","v":{"$error":"#REF!"}},{"$f":"COUNTIFS('1. 실태조사(위원회별)'!#REF!,'1.총괄현황 집계표'!$B223,'1. 실태조사(위원회별)'!$C$8:$C$5152,\"*\",'1. 실태조사(위원회별)'!#REF!,\"*\")","v":{"$error":"#REF!"}},{"$f":"COUNTIFS('1. 실태조사(위원회별)'!#REF!,'1.총괄현황 집계표'!$B223,'1. 실태조사(위원회별)'!$C$8:$C$5152,\"*\",'1. 실태조사(위원회별)'!#REF!,\"*\")","v":{"$error":"#REF!"}},0]
["경북","경북청도군",87,{"$error":"#REF!"},{"$error":"#REF!"},{"$f":"COUNTIFS('1. 실태조사(위원회별)'!#REF!,'1.총괄현황 집계표'!$B224,'1. 실태조사(위원회별)'!$C$8:$C$5152,\"*\",'1. 실태조사(위원회별)'!#REF!,\"*\")","v":{"$error":"#REF!"}},{"$f":"COUNTIFS('1. 실태조사(위원회별)'!#REF!,'1.총괄현황 집계표'!$B224,'1. 실태조사(위원회별)'!$C$8:$C$5152,\"*\",'1. 실태조사(위원회별)'!#REF!,\"*\")","v":{"$error":"#REF!"}},{"$f":"COUNTIFS('1. 실태조사(위원회별)'!#REF!,'1.총괄현황 집계표'!$B224,'1. 실태조사(위원회별)'!$C$8:$C$5152,\"*\",'1. 실태조사(위원회별)'!#REF!,\"*\")","v":{"$error":"#REF!"}},{"$f":"COUNTIFS('1. 실태조사(위원회별)'!#REF!,'1.총괄현황 집계표'!$B224,'1. 실태조사(위원회별)'!$C$8:$C$5152,\"*\",'1. 실태조사(위원회별)'!#REF!,\"*\")","v":{"$error":"#REF!"}},0]
["경북","경북고령군",80,{"$error":"#REF!"},{"$error":"#REF!"},{"$f":"COUNTIFS('1. 실태조사(위원회별)'!#REF!,'1.총괄현황 집계표'!$B225,'1. 실태조사(위원회별)'!$C$8:$C$5152,\"*\",'1. 실태조사(위원회별)'!#REF!,\"*\")","v":{"$error":"#REF!"}},{"$f":"COUNTIFS('1. 실태조사(위원회별)'!#REF!,'1.총괄현황 집계표'!$B225,'1. 실태조사(위원회별)'!$C$8:$C$5152,\"*\",'1. 실태조사(위원회별)'!#REF!,\"*\")","v":{"$error":"#REF!"}},{"$f":"COUNTIFS('1. 실태조사(위원회별)'!#REF!,'1.총괄현황 집계표'!$B225,'1. 실태조사(위원회별)'!$C$8:$C$5152,\"*\",'1. 실태조사(위원회별)'!#REF!,\"*\")","v":{"$error":"#REF!"}},{"$f":"COUNTIFS('1. 실태조사(위원회별)'!#REF!,'1.총괄현황 집계표'!$B225,'1. 실태조사(위원회별)'!$C$8:$C$5152,\"*\",'1. 실태조사(위원회별)'!#REF!,\"*\")","v":{"$error":"#REF!"}},0]
["경북","경북성주군",73,{"$error":"#REF!"},{"$error":"#REF!"},{"$f":"COUNTIFS('1. 실태조사(위원회별)'!#REF!,'1.총괄현황 집계표'!$B226,'1. 실태조사(위원회별)'!$C$8:$C$5152,\"*\",'1. 실태조사(위원회별)'!#REF!,\"*\")","v":{"$error":"#REF!"}},{"$f":"COUNTIFS('1. 실태조사(위원회별)'!#REF!,'1.총괄현황 집계표'!$B226,'1. 실태조사(위원회별)'!$C$8:$C$5152,\"*\",'1. 실태조사(위원회별)'!#REF!,\"*\")","v":{"$error":"#REF!"}},{"$f":"COUNTIFS('1. 실태조사(위원회별)'!#REF!,'1.총괄현황 집계표'!$B226,'1. 실태조사(위원회별)'!$C$8:$C$5152,\"*\",'1. 실태조사(위원회별)'!#REF!,\"*\")","v":{"$error":"#REF!"}},{"$f":"COUNTIFS('1. 실태조사(위원회별)'!#REF!,'1.총괄현황 집계표'!$B226,'1. 실태조사(위원회별)'!$C$8:$C$5152,\"*\",'1. 실태조사(위원회별)'!#REF!,\"*\")","v":{"$error":"#REF!"}},0]
["경북","경북칠곡군",91,{"$error":"#REF!"},{"$error":"#REF!"},{"$f":"COUNTIFS('1. 실태조사(위원회별)'!#REF!,'1.총괄현황 집계표'!$B227,'1. 실태조사(위원회별)'!$C$8:$C$5152,\"*\",'1. 실태조사(위원회별)'!#REF!,\"*\")","v":{"$error":"#REF!"}},{"$f":"COUNTIFS('1. 실태조사(위원회별)'!#REF!,'1.총괄현황 집계표'!$B227,'1. 실태조사(위원회별)'!$C$8:$C$5152,\"*\",'1. 실태조사(위원회별)'!#REF!,\"*\")","v":{"$error":"#REF!"}},{"$f":"COUNTIFS('1. 실태조사(위원회별)'!#REF!,'1.총괄현황 집계표'!$B227,'1. 실태조사(위원회별)'!$C$8:$C$5152,\"*\",'1. 실태조사(위원회별)'!#REF!,\"*\")","v":{"$error":"#REF!"}},{"$f":"COUNTIFS('1. 실태조사(위원회별)'!#REF!,'1.총괄현황 집계표'!$B227,'1. 실태조사(위원회별)'!$C$8:$C$5152,\"*\",'1. 실태조사(위원회별)'!#REF!,\"*\")","v":{"$error":"#REF!"}},0]
["경북","경북예천군",73,{"$error":"#REF!"},{"$error":"#REF!"},{"$f":"COUNTIFS('1. 실태조사(위원회별)'!#REF!,'1.총괄현황 집계표'!$B228,'1. 실태조사(위원회별)'!$C$8:$C$5152,\"*\",'1. 실태조사(위원회별)'!#REF!,\"*\")","v":{"$error":"#REF!"}},{"$f":"COUNTIFS('1. 실태조사(위원회별)'!#REF!,'1.총괄현황 집계표'!$B228,'1. 실태조사(위원회별)'!$C$8:$C$5152,\"*\",'1. 실태조사(위원회별)'!#REF!,\"*\")","v":{"$error":"#REF!"}},{"$f":"COUNTIFS('1. 실태조사(위원회별)'!#REF!,'1.총괄현황 집계표'!$B228,'1. 실태조사(위원회별)'!$C$8:$C$5152,\"*\",'1. 실태조사(위원회별)'!#REF!,\"*\")","v":{"$error":"#REF!"}},{"$f":"COUNTIFS('1. 실태조사(위원회별)'!#REF!,'1.총괄현황 집계표'!$B228,'1. 실태조사(위원회별)'!$C$8:$C$5152,\"*\",'1. 실태조사(위원회별)'!#REF!,\"*\")","v":{"$error":"#REF!"}},0]
["경북","경북봉화군",88,{"$error":"#REF!"},{"$error":"#REF!"},{"$f":"COUNTIFS('1. 실태조사(위원회별)'!#REF!,'1.총괄현황 집계표'!$B229,'1. 실태조사(위원회별)'!$C$8:$C$5152,\"*\",'1. 실태조사(위원회별)'!#REF!,\"*\")","v":{"$error":"#REF!"}},{"$f":"COUNTIFS('1. 실태조사(위원회별)'!#REF!,'1.총괄현황 집계표'!$B229,'1. 실태조사(위원회별)'!$C$8:$C$5152,\"*\",'1. 실태조사(위원회별)'!#REF!,\"*\")","v":{"$error":"#REF!"}},{"$f":"COUNTIFS('1. 실태조사(위원회별)'!#REF!,'1.총괄현황 집계표'!$B229,'1. 실태조사(위원회별)'!$C$8:$C$5152,\"*\",'1. 실태조사(위원회별)'!#REF!,\"*\")","v":{"$error":"#REF!"}},{"$f":"COUNTIFS('1. 실태조사(위원회별)'!#REF!,'1.총괄현황 집계표'!$B229,'1. 실태조사(위원회별)'!$C$8:$C$5152,\"*\",'1. 실태조사(위원회별)'!#REF!,\"*\")","v":{"$error":"#REF!"}},0]
["경북","경북울진군",80,{"$error":"#REF!"},{"$error":"#REF!"},{"$f":"COUNTIFS('1. 실태조사(위원회별)'!#REF!,'1.총괄현황 집계표'!$B230,'1. 실태조사(위원회별)'!$C$8:$C$5152,\"*\",'1. 실태조사(위원회별)'!#REF!,\"*\")","v":{"$error":"#REF!"}},{"$f":"COUNTIFS('1. 실태조사(위원회별)'!#REF!,'1.총괄현황 집계표'!$B230,'1. 실태조사(위원회별)'!$C$8:$C$5152,\"*\",'1. 실태조사(위원회별)'!#REF!,\"*\")","v":{"$error":"#REF!"}},{"$f":"COUNTIFS('1. 실태조사(위원회별)'!#REF!,'1.총괄현황 집계표'!$B230,'1. 실태조사(위원회별)'!$C$8:$C$5152,\"*\",'1. 실태조사(위원회별)'!#REF!,\"*\")","v":{"$error":"#REF!"}},{"$f":"COUNTIFS('1. 실태조사(위원회별)'!#REF!,'1.총괄현황 집계표'!$B230,'1. 실태조사(위원회별)'!$C$8:$C$5152,\"*\",'1. 실태조사(위원회별)'!#REF!,\"*\")","v":{"$error":"#REF!"}},0]
["경북","경북울릉군",58,{"$error":"#REF!"},{"$error":"#REF!"},{"$f":"COUNTIFS('1. 실태조사(위원회별)'!#REF!,'1.총괄현황 집계표'!$B231,'1. 실태조사(위원회별)'!$C$8:$C$5152,\"*\",'1. 실태조사(위원회별)'!#REF!,\"*\")","v":{"$error":"#REF!"}},{"$f":"COUNTIFS('1. 실태조사(위원회별)'!#REF!,'1.총괄현황 집계표'!$B231,'1. 실태조사(위원회별)'!$C$8:$C$5152,\"*\",'1. 실태조사(위원회별)'!#REF!,\"*\")","v":{"$error":"#REF!"}},{"$f":"COUNTIFS('1. 실태조사(위원회별)'!#REF!,'1.총괄현황 집계표'!$B231,'1. 실태조사(위원회별)'!$C$8:$C$5152,\"*\",'1. 실태조사(위원회별)'!#REF!,\"*\")","v":{"$error":"#REF!"}},{"$f":"COUNTIFS('1. 실태조사(위원회별)'!#REF!,'1.총괄현황 집계표'!$B231,'1. 실태조사(위원회별)'!$C$8:$C$5152,\"*\",'1. 실태조사(위원회별)'!#REF!,\"*\")","v":{"$error":"#REF!"}},0]
["경남","경상남도",152,{"$error":"#REF!"},{"$error":"#REF!"},{"$f":"COUNTIFS('1. 실태조사(위원회별)'!#REF!,'1.총괄현황 집계표'!$B232,'1. 실태조사(위원회별)'!$C$8:$C$5152,\"*\",'1. 실태조사(위원회별)'!#REF!,\"*\")","v":{"$error":"#REF!"}},{"$f":"COUNTIFS('1. 실태조사(위원회별)'!#REF!,'1.총괄현황 집계표'!$B232,'1. 실태조사(위원회별)'!$C$8:$C$5152,\"*\",'1. 실태조사(위원회별)'!#REF!,\"*\")","v":{"$error":"#REF!"}},{"$f":"COUNTIFS('1. 실태조사(위원회별)'!#REF!,'1.총괄현황 집계표'!$B232,'1. 실태조사(위원회별)'!$C$8:$C$5152,\"*\",'1. 실태조사(위원회별)'!#REF!,\"*\")","v":{"$error":"#REF!"}},{"$f":"COUNTIFS('1. 실태조사(위원회별)'!#REF!,'1.총괄현황 집계표'!$B232,'1. 실태조사(위원회별)'!$C$8:$C$5152,\"*\",'1. 실태조사(위원회별)'!#REF!,\"*\")","v":{"$error":"#REF!"}},0]
["경남","경남창원시",168,{"$error":"#REF!"},{"$error":"#REF!"},{"$f":"COUNTIFS('1. 실태조사(위원회별)'!#REF!,'1.총괄현황 집계표'!$B233,'1. 실태조사(위원회별)'!$C$8:$C$5152,\"*\",'1. 실태조사(위원회별)'!#REF!,\"*\")","v":{"$error":"#REF!"}},{"$f":"COUNTIFS('1. 실태조사(위원회별)'!#REF!,'1.총괄현황 집계표'!$B233,'1. 실태조사(위원회별)'!$C$8:$C$5152,\"*\",'1. 실태조사(위원회별)'!#REF!,\"*\")","v":{"$error":"#REF!"}},{"$f":"COUNTIFS('1. 실태조사(위원회별)'!#REF!,'1.총괄현황 집계표'!$B233,'1. 실태조사(위원회별)'!$C$8:$C$5152,\"*\",'1. 실태조사(위원회별)'!#REF!,\"*\")","v":{"$error":"#REF!"}},{"$f":"COUNTIFS('1. 실태조사(위원회별)'!#REF!,'1.총괄현황 집계표'!$B233,'1. 실태조사(위원회별)'!$C$8:$C$5152,\"*\",'1. 실태조사(위원회별)'!#REF!,\"*\")","v":{"$error":"#REF!"}},0]
["경남","경남진주시",95,{"$error":"#REF!"},{"$error":"#REF!"},{"$f":"COUNTIFS('1. 실태조사(위원회별)'!#REF!,'1.총괄현황 집계표'!$B234,'1. 실태조사(위원회별)'!$C$8:$C$5152,\"*\",'1. 실태조사(위원회별)'!#REF!,\"*\")","v":{"$error":"#REF!"}},{"$f":"COUNTIFS('1. 실태조사(위원회별)'!#REF!,'1.총괄현황 집계표'!$B234,'1. 실태조사(위원회별)'!$C$8:$C$5152,\"*\",'1. 실태조사(위원회별)'!#REF!,\"*\")","v":{"$error":"#REF!"}},{"$f":"COUNTIFS('1. 실태조사(위원회별)'!#REF!,'1.총괄현황 집계표'!$B234,'1. 실태조사(위원회별)'!$C$8:$C$5152,\"*\",'1. 실태조사(위원회별)'!#REF!,\"*\")","v":{"$error":"#REF!"}},{"$f":"COUNTIFS('1. 실태조사(위원회별)'!#REF!,'1.총괄현황 집계표'!$B234,'1. 실태조사(위원회별)'!$C$8:$C$5152,\"*\",'1. 실태조사(위원회별)'!#REF!,\"*\")","v":{"$error":"#REF!"}},0]
["경남","경남통영시",97,{"$error":"#REF!"},{"$error":"#REF!"},{"$f":"COUNTIFS('1. 실태조사(위원회별)'!#REF!,'1.총괄현황 집계표'!$B235,'1. 실태조사(위원회별)'!$C$8:$C$5152,\"*\",'1. 실태조사(위원회별)'!#REF!,\"*\")","v":{"$error":"#REF!"}},{"$f":"COUNTIFS('1. 실태조사(위원회별)'!#REF!,'1.총괄현황 집계표'!$B235,'1. 실태조사(위원회별)'!$C$8:$C$5152,\"*\",'1. 실태조사(위원회별)'!#REF!,\"*\")","v":{"$error":"#REF!"}},{"$f":"COUNTIFS('1. 실태조사(위원회별)'!#REF!,'1.총괄현황 집계표'!$B235,'1. 실태조사(위원회별)'!$C$8:$C$5152,\"*\",'1. 실태조사(위원회별)'!#REF!,\"*\")","v":{"$error":"#REF!"}},{"$f":"COUNTIFS('1. 실태조사(위원회별)'!#REF!,'1.총괄현황 집계표'!$B235,'1. 실태조사(위원회별)'!$C$8:$C$5152,\"*\",'1. 실태조사(위원회별)'!#REF!,\"*\")","v":{"$error":"#REF!"}},0]
["경남","경남사천시",87,{"$error":"#REF!"},{"$error":"#REF!"},{"$f":"COUNTIFS('1. 실태조사(위원회별)'!#REF!,'1.총괄현황 집계표'!$B236,'1. 실태조사(위원회별)'!$C$8:$C$5152,\"*\",'1. 실태조사(위원회별)'!#REF!,\"*\")","v":{"$error":"#REF!"}},{"$f":"COUNTIFS('1. 실태조사(위원회별)'!#REF!,'1.총괄현황 집계표'!$B236,'1. 실태조사(위원회별)'!$C$8:$C$5152,\"*\",'1. 실태조사(위원회별)'!#REF!,\"*\")","v":{"$error":"#REF!"}},{"$f":"COUNTIFS('1. 실태조사(위원회별)'!#REF!,'1.총괄현황 집계표'!$B236,'1. 실태조사(위원회별)'!$C$8:$C$5152,\"*\",'1. 실태조사(위원회별)'!#REF!,\"*\")","v":{"$error":"#REF!"}},{"$f":"COUNTIFS('1. 실태조사(위원회별)'!#REF!,'1.총괄현황 집계표'!$B236,'1. 실태조사(위원회별)'!$C$8:$C$5152,\"*\",'1. 실태조사(위원회별)'!#REF!,\"*\")","v":{"$error":"#REF!"}},0]
["경남","경남김해시",108,{"$error":"#REF!"},{"$error":"#REF!"},{"$f":"COUNTIFS('1. 실태조사(위원회별)'!#REF!,'1.총괄현황 집계표'!$B237,'1. 실태조사(위원회별)'!$C$8:$C$5152,\"*\",'1. 실태조사(위원회별)'!#REF!,\"*\")","v":{"$error":"#REF!"}},{"$f":"COUNTIFS('1. 실태조사(위원회별)'!#REF!,'1.총괄현황 집계표'!$B237,'1. 실태조사(위원회별)'!$C$8:$C$5152,\"*\",'1. 실태조사(위원회별)'!#REF!,\"*\")","v":{"$error":"#REF!"}},{"$f":"COUNTIFS('1. 실태조사(위원회별)'!#REF!,'1.총괄현황 집계표'!$B237,'1. 실태조사(위원회별)'!$C$8:$C$5152,\"*\",'1. 실태조사(위원회별)'!#REF!,\"*\")","v":{"$error":"#REF!"}},{"$f":"COUNTIFS('1. 실태조사(위원회별)'!#REF!,'1.총괄현황 집계표'!$B237,'1. 실태조사(위원회별)'!$C$8:$C$5152,\"*\",'1. 실태조사(위원회별)'!#REF!,\"*\")","v":{"$error":"#REF!"}},0]
["경남","경남밀양시",102,{"$error":"#REF!"},{"$error":"#REF!"},{"$f":"COUNTIFS('1. 실태조사(위원회별)'!#REF!,'1.총괄현황 집계표'!$B238,'1. 실태조사(위원회별)'!$C$8:$C$5152,\"*\",'1. 실태조사(위원회별)'!#REF!,\"*\")","v":{"$error":"#REF!"}},{"$f":"COUNTIFS('1. 실태조사(위원회별)'!#REF!,'1.총괄현황 집계표'!$B238,'1. 실태조사(위원회별)'!$C$8:$C$5152,\"*\",'1. 실태조사(위원회별)'!#REF!,\"*\")","v":{"$error":"#REF!"}},{"$f":"COUNTIFS('1. 실태조사(위원회별)'!#REF!,'1.총괄현황 집계표'!$B238,'1. 실태조사(위원회별)'!$C$8:$C$5152,\"*\",'1. 실태조사(위원회별)'!#REF!,\"*\")","v":{"$error":"#REF!"}},{"$f":"COUNTIFS('1. 실태조사(위원회별)'!#REF!,'1.총괄현황 집계표'!$B238,'1. 실태조사(위원회별)'!$C$8:$C$5152,\"*\",'1. 실태조사(위원회별)'!#REF!,\"*\")","v":{"$error":"#REF!"}},0]
["경남","경남거제시",106,{"$error":"#REF!"},{"$error":"#REF!"},{"$f":"COUNTIFS('1. 실태조사(위원회별)'!#REF!,'1.총괄현황 집계표'!$B239,'1. 실태조사(위원회별)'!$C$8:$C$5152,\"*\",'1. 실태조사(위원회별)'!#REF!,\"*\")","v":{"$error":"#REF!"}},{"$f":"COUNTIFS('1. 실태조사(위원회별)'!#REF!,'1.총괄현황 집계표'!$B239,'1. 실태조사(위원회별)'!$C$8:$C$5152,\"*\",'1. 실태조사(위원회별)'!#REF!,\"*\")","v":{"$error":"#REF!"}},{"$f":"COUNTIFS('1. 실태조사(위원회별)'!#REF!,'1.총괄현황 집계표'!$B239,'1. 실태조사(위원회별)'!$C$8:$C$5152,\"*\",'1. 실태조사(위원회별)'!#REF!,\"*\")","v":{"$error":"#REF!"}},{"$f":"COUNTIFS('1. 실태조사(위원회별)'!#REF!,'1.총괄현황 집계표'!$B239,'1. 실태조사(위원회별)'!$C$8:$C$5152,\"*\",'1. 실태조사(위원회별)'!#REF!,\"*\")","v":{"$error":"#REF!"}},0]
["경남","경남양산시",109,{"$error":"#REF!"},{"$error":"#REF!"},{"$f":"COUNTIFS('1. 실태조사(위원회별)'!#REF!,'1.총괄현황 집계표'!$B240,'1. 실태조사(위원회별)'!$C$8:$C$5152,\"*\",'1. 실태조사(위원회별)'!#REF!,\"*\")","v":{"$error":"#REF!"}},{"$f":"COUNTIFS('1. 실태조사(위원회별)'!#REF!,'1.총괄현황 집계표'!$B240,'1. 실태조사(위원회별)'!$C$8:$C$5152,\"*\",'1. 실태조사(위원회별)'!#REF!,\"*\")","v":{"$error":"#REF!"}},{"$f":"COUNTIFS('1. 실태조사(위원회별)'!#REF!,'1.총괄현황 집계표'!$B240,'1. 실태조사(위원회별)'!$C$8:$C$5152,\"*\",'1. 실태조사(위원회별)'!#REF!,\"*\")","v":{"$error":"#REF!"}},{"$f":"COUNTIFS('1. 실태조사(위원회별)'!#REF!,'1.총괄현황 집계표'!$B240,'1. 실태조사(위원회별)'!$C$8:$C$5152,\"*\",'1. 실태조사(위원회별)'!#REF!,\"*\")","v":{"$error":"#REF!"}},0]
["경남","경남의령군",83,{"$error":"#REF!"},{"$error":"#REF!"},{"$f":"COUNTIFS('1. 실태조사(위원회별)'!#REF!,'1.총괄현황 집계표'!$B241,'1. 실태조사(위원회별)'!$C$8:$C$5152,\"*\",'1. 실태조사(위원회별)'!#REF!,\"*\")","v":{"$error":"#REF!"}},{"$f":"COUNTIFS('1. 실태조사(위원회별)'!#REF!,'1.총괄현황 집계표'!$B241,'1. 실태조사(위원회별)'!$C$8:$C$5152,\"*\",'1. 실태조사(위원회별)'!#REF!,\"*\")","v":{"$error":"#REF!"}},{"$f":"COUNTIFS('1. 실태조사(위원회별)'!#REF!,'1.총괄현황 집계표'!$B241,'1. 실태조사(위원회별)'!$C$8:$C$5152,\"*\",'1. 실태조사(위원회별)'!#REF!,\"*\")","v":{"$error":"#REF!"}},{"$f":"COUNTIFS('1. 실태조사(위원회별)'!#REF!,'1.총괄현황 집계표'!$B241,'1. 실태조사(위원회별)'!$C$8:$C$5152,\"*\",'1. 실태조사(위원회별)'!#REF!,\"*\")","v":{"$error":"#REF!"}},0]
["경남","경남함안군",104,{"$error":"#REF!"},{"$error":"#REF!"},{"$f":"COUNTIFS('1. 실태조사(위원회별)'!#REF!,'1.총괄현황 집계표'!$B242,'1. 실태조사(위원회별)'!$C$8:$C$5152,\"*\",'1. 실태조사(위원회별)'!#REF!,\"*\")","v":{"$error":"#REF!"}},{"$f":"COUNTIFS('1. 실태조사(위원회별)'!#REF!,'1.총괄현황 집계표'!$B242,'1. 실태조사(위원회별)'!$C$8:$C$5152,\"*\",'1. 실태조사(위원회별)'!#REF!,\"*\")","v":{"$error":"#REF!"}},{"$f":"COUNTIFS('1. 실태조사(위원회별)'!#REF!,'1.총괄현황 집계표'!$B242,'1. 실태조사(위원회별)'!$C$8:$C$5152,\"*\",'1. 실태조사(위원회별)'!#REF!,\"*\")","v":{"$error":"#REF!"}},{"$f":"COUNTIFS('1. 실태조사(위원회별)'!#REF!,'1.총괄현황 집계표'!$B242,'1. 실태조사(위원회별)'!$C$8:$C$5152,\"*\",'1. 실태조사(위원회별)'!#REF!,\"*\")","v":{"$error":"#REF!"}},0]
["경남","경남창녕군",77,{"$error":"#REF!"},{"$error":"#REF!"},{"$f":"COUNTIFS('1. 실태조사(위원회별)'!#REF!,'1.총괄현황 집계표'!$B243,'1. 실태조사(위원회별)'!$C$8:$C$5152,\"*\",'1. 실태조사(위원회별)'!#REF!,\"*\")","v":{"$error":"#REF!"}},{"$f":"COUNTIFS('1. 실태조사(위원회별)'!#REF!,'1.총괄현황 집계표'!$B243,'1. 실태조사(위원회별)'!$C$8:$C$5152,\"*\",'1. 실태조사(위원회별)'!#REF!,\"*\")","v":{"$error":"#REF!"}},{"$f":"COUNTIFS('1. 실태조사(위원회별)'!#REF!,'1.총괄현황 집계표'!$B243,'1. 실태조사(위원회별)'!$C$8:$C$5152,\"*\",'1. 실태조사(위원회별)'!#REF!,\"*\")","v":{"$error":"#REF!"}},{"$f":"COUNTIFS('1. 실태조사(위원회별)'!#REF!,'1.총괄현황 집계표'!$B243,'1. 실태조사(위원회별)'!$C$8:$C$5152,\"*\",'1. 실태조사(위원회별)'!#REF!,\"*\")","v":{"$error":"#REF!"}},0]
["경남","경남고성군",82,{"$error":"#REF!"},{"$error":"#REF!"},{"$f":"COUNTIFS('1. 실태조사(위원회별)'!#REF!,'1.총괄현황 집계표'!$B244,'1. 실태조사(위원회별)'!$C$8:$C$5152,\"*\",'1. 실태조사(위원회별)'!#REF!,\"*\")","v":{"$error":"#REF!"}},{"$f":"COUNTIFS('1. 실태조사(위원회별)'!#REF!,'1.총괄현황 집계표'!$B244,'1. 실태조사(위원회별)'!$C$8:$C$5152,\"*\",'1. 실태조사(위원회별)'!#REF!,\"*\")","v":{"$error":"#REF!"}},{"$f":"COUNTIFS('1. 실태조사(위원회별)'!#REF!,'1.총괄현황 집계표'!$B244,'1. 실태조사(위원회별)'!$C$8:$C$5152,\"*\",'1. 실태조사(위원회별)'!#REF!,\"*\")","v":{"$error":"#REF!"}},{"$f":"COUNTIFS('1. 실태조사(위원회별)'!#REF!,'1.총괄현황 집계표'!$B244,'1. 실태조사(위원회별)'!$C$8:$C$5152,\"*\",'1. 실태조사(위원회별)'!#REF!,\"*\")","v":{"$error":"#REF!"}},0]
["경남","경남남해군",86,{"$error":"#REF!"},{"$error":"#REF!"},{"$f":"COUNTIFS('1. 실태조사(위원회별)'!#REF!,'1.총괄현황 집계표'!$B245,'1. 실태조사(위원회별)'!$C$8:$C$5152,\"*\",'1. 실태조사(위원회별)'!#REF!,\"*\")","v":{"$error":"#REF!"}},{"$f":"COUNTIFS('1. 실태조사(위원회별)'!#REF!,'1.총괄현황 집계표'!$B245,'1. 실태조사(위원회별)'!$C$8:$C$5152,\"*\",'1. 실태조사(위원회별)'!#REF!,\"*\")","v":{"$error":"#REF!"}},{"$f":"COUNTIFS('1. 실태조사(위원회별)'!#REF!,'1.총괄현황 집계표'!$B245,'1. 실태조사(위원회별)'!$C$8:$C$5152,\"*\",'1. 실태조사(위원회별)'!#REF!,\"*\")","v":{"$error":"#REF!"}},{"$f":"COUNTIFS('1. 실태조사(위원회별)'!#REF!,'1.총괄현황 집계표'!$B245,'1. 실태조사(위원회별)'!$C$8:$C$5152,\"*\",'1. 실태조사(위원회별)'!#REF!,\"*\")","v":{"$error":"#REF!"}},0]
["경남","경남하동군",68,{"$error":"#REF!"},{"$error":"#REF!"},{"$f":"COUNTIFS('1. 실태조사(위원회별)'!#REF!,'1.총괄현황 집계표'!$B246,'1. 실태조사(위원회별)'!$C$8:$C$5152,\"*\",'1. 실태조사(위원회별)'!#REF!,\"*\")","v":{"$error":"#REF!"}},{"$f":"COUNTIFS('1. 실태조사(위원회별)'!#REF!,'1.총괄현황 집계표'!$B246,'1. 실태조사(위원회별)'!$C$8:$C$5152,\"*\",'1. 실태조사(위원회별)'!#REF!,\"*\")","v":{"$error":"#REF!"}},{"$f":"COUNTIFS('1. 실태조사(위원회별)'!#REF!,'1.총괄현황 집계표'!$B246,'1. 실태조사(위원회별)'!$C$8:$C$5152,\"*\",'1. 실태조사(위원회별)'!#REF!,\"*\")","v":{"$error":"#REF!"}},{"$f":"COUNTIFS('1. 실태조사(위원회별)'!#REF!,'1.총괄현황 집계표'!$B246,'1. 실태조사(위원회별)'!$C$8:$C$5152,\"*\",'1. 실태조사(위원회별)'!#REF!,\"*\")","v":{"$error":"#REF!"}},0]
["경남","경남산청군",75,{"$error":"#REF!"},{"$error":"#REF!"},{"$f":"COUNTIFS('1. 실태조사(위원회별)'!#REF!,'1.총괄현황 집계표'!$B247,'1. 실태조사(위원회별)'!$C$8:$C$5152,\"*\",'1. 실태조사(위원회별)'!#REF!,\"*\")","v":{"$error":"#REF!"}},{"$f":"COUNTIFS('1. 실태조사(위원회별)'!#REF!,'1.총괄현황 집계표'!$B247,'1. 실태조사(위원회별)'!$C$8:$C$5152,\"*\",'1. 실태조사(위원회별)'!#REF!,\"*\")","v":{"$error":"#REF!"}},{"$f":"COUNTIFS('1. 실태조사(위원회별)'!#REF!,'1.총괄현황 집계표'!$B247,'1. 실태조사(위원회별)'!$C$8:$C$5152,\"*\",'1. 실태조사(위원회별)'!#REF!,\"*\")","v":{"$error":"#REF!"}},{"$f":"COUNTIFS('1. 실태조사(위원회별)'!#REF!,'1.총괄현황 집계표'!$B247,'1. 실태조사(위원회별)'!$C$8:$C$5152,\"*\",'1. 실태조사(위원회별)'!#REF!,\"*\")","v":{"$error":"#REF!"}},0]
["경남","경남함양군",81,{"$error":"#REF!"},{"$error":"#REF!"},{"$f":"COUNTIFS('1. 실태조사(위원회별)'!#REF!,'1.총괄현황 집계표'!$B248,'1. 실태조사(위원회별)'!$C$8:$C$5152,\"*\",'1. 실태조사(위원회별)'!#REF!,\"*\")","v":{"$error":"#REF!"}},{"$f":"COUNTIFS('1. 실태조사(위원회별)'!#REF!,'1.총괄현황 집계표'!$B248,'1. 실태조사(위원회별)'!$C$8:$C$5152,\"*\",'1. 실태조사(위원회별)'!#REF!,\"*\")","v":{"$error":"#REF!"}},{"$f":"COUNTIFS('1. 실태조사(위원회별)'!#REF!,'1.총괄현황 집계표'!$B248,'1. 실태조사(위원회별)'!$C$8:$C$5152,\"*\",'1. 실태조사(위원회별)'!#REF!,\"*\")","v":{"$error":"#REF!"}},{"$f":"COUNTIFS('1. 실태조사(위원회별)'!#REF!,'1.총괄현황 집계표'!$B248,'1. 실태조사(위원회별)'!$C$8:$C$5152,\"*\",'1. 실태조사(위원회별)'!#REF!,\"*\")","v":{"$error":"#REF!"}},0]
["경남","경남거창군",98,{"$error":"#REF!"},{"$error":"#REF!"},{"$f":"COUNTIFS('1. 실태조사(위원회별)'!#REF!,'1.총괄현황 집계표'!$B249,'1. 실태조사(위원회별)'!$C$8:$C$5152,\"*\",'1. 실태조사(위원회별)'!#REF!,\"*\")","v":{"$error":"#REF!"}},{"$f":"COUNTIFS('1. 실태조사(위원회별)'!#REF!,'1.총괄현황 집계표'!$B249,'1. 실태조사(위원회별)'!$C$8:$C$5152,\"*\",'1. 실태조사(위원회별)'!#REF!,\"*\")","v":{"$error":"#REF!"}},{"$f":"COUNTIFS('1. 실태조사(위원회별)'!#REF!,'1.총괄현황 집계표'!$B249,'1. 실태조사(위원회별)'!$C$8:$C$5152,\"*\",'1. 실태조사(위원회별)'!#REF!,\"*\")","v":{"$error":"#REF!"}},{"$f":"COUNTIFS('1. 실태조사(위원회별)'!#REF!,'1.총괄현황 집계표'!$B249,'1. 실태조사(위원회별)'!$C$8:$C$5152,\"*\",'1. 실태조사(위원회별)'!#REF!,\"*\")","v":{"$error":"#REF!"}},0]
["경남","경남합천군",106,{"$error":"#REF!"},{"$error":"#REF!"},{"$f":"COUNTIFS('1. 실태조사(위원회별)'!#REF!,'1.총괄현황 집계표'!$B250,'1. 실태조사(위원회별)'!$C$8:$C$5152,\"*\",'1. 실태조사(위원회별)'!#REF!,\"*\")","v":{"$error":"#REF!"}},{"$f":"COUNTIFS('1. 실태조사(위원회별)'!#REF!,'1.총괄현황 집계표'!$B250,'1. 실태조사(위원회별)'!$C$8:$C$5152,\"*\",'1. 실태조사(위원회별)'!#REF!,\"*\")","v":{"$error":"#REF!"}},{"$f":"COUNTIFS('1. 실태조사(위원회별)'!#REF!,'1.총괄현황 집계표'!$B250,'1. 실태조사(위원회별)'!$C$8:$C$5152,\"*\",'1. 실태조사(위원회별)'!#REF!,\"*\")","v":{"$error":"#REF!"}},{"$f":"COUNTIFS('1. 실태조사(위원회별)'!#REF!,'1.총괄현황 집계표'!$B250,'1. 실태조사(위원회별)'!$C$8:$C$5152,\"*\",'1. 실태조사(위원회별)'!#REF!,\"*\")","v":{"$error":"#REF!"}},0]
["제주","제주특별자치도",237,{"$error":"#REF!"},{"$error":"#REF!"},{"$f":"COUNTIFS('1. 실태조사(위원회별)'!#REF!,'1.총괄현황 집계표'!$B251,'1. 실태조사(위원회별)'!$C$8:$C$5152,\"*\",'1. 실태조사(위원회별)'!#REF!,\"*\")","v":{"$error":"#REF!"}},{"$f":"COUNTIFS('1. 실태조사(위원회별)'!#REF!,'1.총괄현황 집계표'!$B251,'1. 실태조사(위원회별)'!$C$8:$C$5152,\"*\",'1. 실태조사(위원회별)'!#REF!,\"*\")","v":{"$error":"#REF!"}},{"$f":"COUNTIFS('1. 실태조사(위원회별)'!#REF!,'1.총괄현황 집계표'!$B251,'1. 실태조사(위원회별)'!$C$8:$C$5152,\"*\",'1. 실태조사(위원회별)'!#REF!,\"*\")","v":{"$error":"#REF!"}},{"$f":"COUNTIFS('1. 실태조사(위원회별)'!#REF!,'1.총괄현황 집계표'!$B251,'1. 실태조사(위원회별)'!$C$8:$C$5152,\"*\",'1. 실태조사(위원회별)'!#REF!,\"*\")","v":{"$error":"#REF!"}},0]

{"sheet":"1. 실태조사(위원회별)","index":1,"n_rows":170,"n_cols":36,"rows_kept":170,"merged":[[0,1,0,7],[2,0,4,0],[2,1,4,1],[2,2,4,2],[2,3,3,4],[2,5,2,13],[2,14,2,17],[2,18,2,20],[2,21,2,35],[3,5,4,5],[3,6,4,6],[3,7,4,7],[3,8,4,8],[3,9,3,10],[3,11,3,13],[3,14,3,15],[3,16,3,17],[3,18,4,18],[3,19,4,19],[3,20,4,20],[3,21,3,23],[3,24,3,26],[3,27,3,34],[3,35,4,35],[5,3,5,4],[156,1,156,35],[157,1,157,35],[158,1,158,35],[159,1,159,35],[160,1,160,35],[161,1,161,35],[162,1,162,35],[163,1,163,35],[164,1,164,35],[166,1,166,35],[167,1,167,35],[168,1,168,35],[169,1,169,35]]}
[null,"2021년 여수시 각종 위원회 운영현황 ('21. 6. 30. 기준)"]
[]
["연번","소관부서","위원회명","위원장",null,"설치근거(A) ",{"$nulls":8},"유형(B)",{"$nulls":3},"적용범위(C)",null,null,"구성형태(D)"]
[{"$nulls":5},"설치\n년도","근거 법규\n유형","최상위 근거 법규명\n(법률, 시행령, 시행규칙)","하위 근거 법규명\n(자치조례, 자치규칙)","위임여부",null,"위임범위",null,null,"상설",null,"비상설",null,"광역","기초","광역+\n기초","총 위원수(명)",null,null,"위원 중 여성 위원수(명)",null,null,"위원 직업구성(명)    * 총위원수와 반드시 일치",{"$nulls":7},"위원\n임기(년)"]
[{"$nulls":3},"직위","성명",{"$nulls":4},"O","X","전부","위원","기능","강행","임의","강행","임의",{"$nulls":3},"계","당연직","위촉직","계","당연직","위촉직","계","여수시\n공무원","타기관\n공무원","시의원","기관장","전문가\n(교수 등)","민간인","기타"]
[null,null,{"$f":"SUBTOTAL(3,C8:C4525)","v":149},{"$nulls":3},"①, ②, ③, ④, ⑤, ⑥, ⑦ 중 택 1","예시)지방자치법 시행령 제28조\n행정규제기본법 제3조","예시)여수시규제개혁위원회설치및운영조례 제1조",{"$nulls":5},{"$f":"SUBTOTAL(3,O8:O4500)","v":117},{"$f":"SUBTOTAL(3,P8:P4500)","v":25},{"$f":"SUBTOTAL(3,Q8:Q4500)","v":3},{"$f":"SUBTOTAL(3,R8:R4500)","v":2},{"$nulls":3},{"$f":"SUM(W6:X6)","v":{"v":2064,"d":"2,064"}},{"$f":"SUM(W8:W156)","v":653},{"$f":"SUM(X8:X156)","v":{"v":1411,"d":"1,411"}},{"$f":"SUM(Z6:AA6)","v":472},{"$f":"SUBTOTAL(9,Z8:Z4525)","v":47},{"$f":"SUBTOTAL(9,AA8:AA4525)","v":425},{"$f":"SUM(AC6:AI6)","v":2064},{"$f":"SUM(AC8:AC156)","v":492},103,152,213,434,555,115]
[]
[1,"감사담당관실","공직자윤리위원회","위원장","장애신",1998,"①","공직자윤리법 제9조","여수시 공직자윤리위원회 구성과 운영에 관한 조례","O",null,"O",null,null,"O",{"$nulls":4},"O",null,{"$f":"W8+X8","v":5},2,3,{"$f":"Z8+AA8","v":2},null,2,{"$f":"SUM(AC8:AI8)","v":5},1,null,1,null,2,1,null,2]
[2,"감사담당관실","면책심의위원회","부시장","서은수",2009,"⑤",null,"여수시 적극행정 면책및 공무원경고 등 처분 규칙",{"$nulls":5},"O",{"$nulls":4},"O",null,7,7,null,{"$f":"Z9+AA9","v":0},null,null,{"$f":"SUM(AC9:AI9)","v":7},7,{"$nulls":6},"재직기간"]
[3,"총무과","북한이탈주민\n지원협의회","부시장","박현식",2010," ④",null,"여수시 북한이탈주민과 이북도민 지원에 관한 조례 제5조",{"$nulls":5},"○",{"$nulls":4},"○",null,15,7,8,5,null,5,15,3,3,1,null,null,8,null,2]
[4,"총무과","인사위원회","부시장","서은수",1998,"①","지방공무원법 제7조","지방공무원 임용령 제9조의2",null,"X",{"$nulls":3},"○",{"$nulls":4},"○",null,{"$f":"W11+X11","v":18},1,17,{"$f":"Z11+AA11","v":6},null,6,{"$f":"SUM(AC11:AI11)","v":18},6,{"$nulls":3},7,4,1]
[5,"총무과","적극행정위원회","부시장","박현식",2020,"②","지방공무원 적극행정 운영규정 제10조","여수시 적극행정 운영 조례 제6조","○",null,"○",null,null,"○",{"$nulls":4},"○",null,9,4,5,3,null,3,9,4,{"$nulls":3},4,1,null,3]
[6,"총무과","후생복지운영협의회","부시장","박현식",2011,"④","여수시 공무원 후생복지에 관한 조례 12조",null,null,"○",{"$nulls":3},"○",{"$nulls":4},"○",null,{"$f":"W13+X13","v":13},4,9,{"$f":"Z13+AA13","v":5},null,5,{"$f":"SUM(AC13:AI13)","v":13},11,null,2,{"$nulls":4},2]
[7,"총무과","산업안전보건위원회","행정지원국장","김용필",2019,"①","산업안전보건법 제24조","여수시청 근로자 안전보건관리 규정",null,"○",{"$nulls":3},"○",{"$nulls":4},"○",null,12,12,null,3,3,null,{"$f":"SUM(AC14:AI14)","v":12},4,{"$nulls":3},2,null,6,"재직기간"]
[8,"총무과","공무국외여행심사위원회","부시장","박현식",null,"⑥",null,"여수시 공무국외출장규정",{"$nulls":12},{"$f":"SUM(W15:X15)","v":9},8,1,{"$f":"SUM(Z15:AA15)","v":0},null,null,{"$f":"SUM(AC15:AI15)","v":9},8,{"$nulls":4},1]
[9,"총무과","공적심사위원회","부시장","박현식",null,"④",null,"여수시 포상 조례",{"$nulls":12},{"$f":"SUM(W16:X16)","v":11},11,null,{"$f":"SUM(Z16:AA16)","v":1},1,null,{"$f":"SUM(AC16:AI16)","v":11},11]
[10,"총무과","기록물평가심의회","위원장","한광민",2006,"①","공공기록물 관리에 관한 법률",null,null,"X",{"$nulls":3},"○",{"$nulls":4},"○",null,{"$f":"W17+X17","v":5},3,2,0,null,null,{"$f":"SUM(AC17:AI17)","v":5},3,{"$nulls":3},1,1,null,2]
[11,"총무과","여수·순천 10·19사건 지역민 희생자 지원사업 시민추진위원회","위원장","박정명",2019,"④",null,"여수시 여수순천 1019사건 지역민 희생자 위령사업 지원 등에 관한 조례",null,"○",{"$nulls":4},"○",{"$nulls":3},"○",null,22,1,21,1,null,1,22,1,null,2,{"$nulls":3},19,2]
[12,"총무과","안전하고아름다운여수만들기협의회","위원장","권오봉",2013,"④","안전하고아름다운여수만들기협의회설치및운영조례",null,null,"○",{"$nulls":3},"○",{"$nulls":4},"○",null,{"$f":"W19+X19","v":22},9,13,{"$f":"Z19+AA19","v":1},null,1,{"$f":"SUM(AC19:AI19)","v":22},1,9,1,4,1,1,5,2]
[13,"회계과","공유재산심의회","부시장","박현식",2016,"①","공유재산 및 물품관리법 제16조","여수시 공유재산 관리조례 제3조","○",null,null,"○",null,"○",{"$nulls":4},"○",null,10,2,8,0,null,null,10,3,{"$nulls":4},7,null,2]
[14,"회계과","계약심의위원회",null,"미정",null,"①","지방계약법","여수시 계약심의위원회 설치 및 주민참여감독제 운영에 관한 조례","○",null,null,"○",null,"○","○",{"$nulls":3},"○",null,9,1,8,1,0,1,9,1,{"$nulls":3},8]
[15,"체육지원과","문화예술\n체육진흥기금\n운용심의위원회","행정지원국장","김용필",1998,"①","문화예술진흥법 제3조 및 \n국민체육진흥법 제3조","여수시문화예술체육진흥기금 관리조례 제2조",null,"X",{"$nulls":3},"강행",{"$nulls":4},"○",null,{"$f":"W22+X22","v":8},8,null,{"$f":"Z22+AA22","v":0},null,null,{"$f":"SUM(AC22:AI22)","v":8},5,{"$nulls":4},3,null,"직위\n재직\n기간"]
[16,"체육지원과","체육진흥협의회","여수시장","권오봉",2019,"①","국민체육진흥법 제5조","여수시체육진흥조례 제5조",null,"X",{"$nulls":3},"강행",{"$nulls":4},"○",null,15,1,14,1,null,1,15,1,null,2,null,2,10,null,2]
[17,"세정과","지방세심의위원회","민간인","정영수",1998,"①","지방세기본법 제147조",null,null,"X",{"$nulls":3},"○",{"$nulls":4},"○",null,null,4,15,null,1,3,null,4,{"$nulls":3},14,1,null,2]
[18,"징수과","기부심사위원회","시장","권오봉",2006,"①","기부금품의 모집 및 사용에 관한 법률시행령 제12조","여수시 기부자 예우에 관한 조례 제6조","O",null,"O",null,null,1,{"$nulls":4},"O",null,{"$f":"W25+X25","v":10},4,6,{"$f":"Z25+AA25","v":3},null,3,{"$f":"SUM(AC25:AI25)","v":10},4,null,2,null,3,1]
[19,"민원지적과","행정서비스헌장\n심의위원회","부시장","박현식",2002,"③","행정서비스헌장제정지침\n(대통령 훈령제70호)","여수시행정서비스헌장\n제정및 운영규정\n제13조(행정서비스\n헌장 규정 제12조)",{"$nulls":12},11,11,0,{"$f":"SUM(Z26:AA26)","v":1},1,0,null,11]
[20,"민원지적과","정보공개\n심의위원회","부시장","박현식",2002,"①","공공기관의 정보공개에 관한 법률 ","여수시 행정정보공개 조례 제8조(공공기관의 정보공개에 관한 법률 제12조)",null,"X",{"$nulls":3},"○",{"$nulls":4},"○",null,7,3,4,2,0,2,7,3,0,2,null,1,1,null,2]
[21,"민원지적과","민원조정위원회","행정지원국장","김용필",1998,"①","민원처리에 관한 법률 제34조","여수시 민원조정위원회 운영 규칙 제2조",null,"X",{"$nulls":3},"○",{"$nulls":4},"○",null,10,5,5,2,0,2,10,5,{"$nulls":3},4,null,1,2]
[22,"민원지적과","도로명주소위원회","부시장","박현식",2008,"①","도로명주소법 제22조의2","여수시 도로명주소에 관한 조례 제24조","○",null,null,"○",null,"○",null,"○",null,null,"○",null,12,6,6,1,null,1,12,6,null,1,null,null,5,null,2]
[23,"민원지적과","부동산가격공시위원회","부시장","박현식",1998,"①","부동산 가격공시에 관한 법률 제25조","여수시부동산가격공시위원회 운영조례 제2조","○",null,null,"○",null,"○",{"$nulls":4},"○",null,15,6,9,3,1,2,15,5,1,1,null,5,3]
[24,"민원지적과","지적재조사위원회","시장","권오봉",2013,"①","지적재조사에 관한 특별법","여수시 지적재조사위원회 및 경계결정위원회 구성과 운영에 관한 조례","○",null,null,"○",null,null,"○",{"$nulls":3},"○",null,{"$f":"W31+X31","v":10},5,5,{"$f":"Z31+AA31","v":1},0,1,{"$f":"SUM(AC31:AI31)","v":10},4,null,1,1,4,null,null,2]
[25,"민원지적과","경계결정위원회","판사","유재현",2013,"①","지적재조사에 관한 특별법","여수시 지적재조사위원회 및 경계결정위원회 구성과 운영에 관한 조례","○",null,null,"○",null,"○",{"$nulls":4},"○",null,11,6,5,1,0,1,11,4,null,1,null,4,1,1,2]
[26,"기획예산과","조례규칙심의위원회","의장","권오봉",1998,"②","지방자치법 시행령 제28조","여수시 조례·규칙심의회 운영 규칙","O",{"$nulls":3},"O","O",{"$nulls":5},"O",12,12,0,2,2,0,12,12,{"$nulls":6},"해당 직위 재직기간"]
[27,"기획예산과","규제개혁위원회","부시장","박현식",1998,"①","행정규제기본법 제23조","여수시규제개혁위원회 설치및운영조례","○",null,"○",null,null,"○",{"$nulls":5},"○",20,6,14,3,0,3,20,6,null,1,null,null,13,null,2]
[28,"기획예산과","예산성과금\n심사위원회","부시장","박현식",2007,"①","지방재정법 제48조","여수시 예산성과금 운영 등에 관한 규칙 제6조",null,"X",{"$nulls":3},"○",{"$nulls":5},"○",{"$f":"W35+X35","v":10},6,4,{"$f":"Z35+AA35","v":0},0,0,{"$f":"SUM(AC35:AI35)","v":10},6,null,1,null,null,3,null,2]
[29,"기획예산과","지방재정계획심의위원회","위원장","이삼노",2018,"①","지방재정법 제33조","여수시  지방재정계획심의위원회 운영 조례","○",null,null,"○",null,"○",{"$nulls":5},"○",15,3,12,3,0,3,15,3,{"$nulls":4},12,null,2]
[30,"기획예산과","주민참여예산위원회","위원장",null,2007,"①","지방재정법 제39조","여수시  주민참여예산제 운영 조례 시행규칙 제4조","○",null,null,"○",null,"○",{"$nulls":5},"○",60,0,60,11,0,11,60,0,{"$nulls":4},60]
[31,"기획예산과","지방보조금 \n심의위원회","위원장","고재익",2015,"①","지방재정법 제32조의3","여수시  지방보조금 관리 조례 제6조","○",null,null,"○",null,"○",{"$nulls":5},"○",15,3,12,5,0,5,15,3,{"$nulls":4},12]
[32,"기획예산과","시정평가위원회","부시장","박현식",2003,"①","정부업무평가 기본법 제18조","여수시 주요업무등의 평가에 관한 규칙","○",null,null,"○",null,"○",{"$nulls":4},"○",null,15,1,14,3,0,3,15,1,null,1,null,null,13,null,2]
[33,"기획예산과","시정조정위원회","부시장","박현식",1998,"④","여수시 시정조정위원회조례 제1조, 제3조","여수시 시정조정위원회 조례 시행규칙 제1조, 제3조",null,"X",{"$nulls":3},"○",{"$nulls":4},"○",null,11,11,0,2,2,0,11,11,{"$nulls":6},"재직기간"]
[34,"기획예산과","미래발전위원회","위원장","서석주",2018,"④","지방자치법 제116조의2","여수시 미래발전위원회 등 설치 및 운영 조례 제2조",null,"X",{"$nulls":3},"○",{"$nulls":4},"○",null,40,3,37,9,0,9,40,3,0,3,0,34,0,0,2]
[35,"기획예산과","용역과제심의위원회","부시장","박현식",2019,"④","여수시 연구용역 관리조례","여수시 연구용역 관리 조례 제3조",null,"X",{"$nulls":3},"○",{"$nulls":4},"○",null,15,4,11,4,0,4,15,4,null,1,null,null,10,null,2]
[36,"기획예산과","통합재정안정화기금 운용심의위원회","부시장","박현식",2021,"④","여수시 통합재정안정화기금의 설치 및 운영 조례 제6조~제9조","여수시 통합재정안정화기금 설치 및 운용 조례 제6조",null,"X",{"$nulls":3},"○",{"$nulls":6},13,8,5,5,0,5,13,8,{"$nulls":4},5,null,2]
[37,"지역경제과","지역경제협의회","부시장","박현식",1999,"④","여수시 지역경제협의회 운영에 관한 조례","-",null,"O",{"$nulls":4},"O",{"$nulls":3},"O",null,19,2,17,4,0,4,19,2,0,1,14,2,0,0,2]
[38,"지역경제과","소비자정책심의위원회","시장","권오봉",2016,"④","여수시 소비자보호 조례 제6조","여수시 소비자보호 조례 제6조",null,"X",{"$nulls":3},"O",{"$nulls":4},"O",null,19,3,16,5,1,4,19,4,null,2,8,1,3,1,2]
[39,"지역경제과","유통분쟁조정위원회","부시장","박현식",2005,"①","유통산업발전법","여수시 유통분쟁조정위원회 설치 및 운영에 관한 조례","O",{"$nulls":3},"O",null,"O",{"$nulls":4},"O",11,3,8,2,0,2,11,3,0,1,5,2,0,0,2]
[40,"지역경제과","유통업상생발전협의회","부시장","박현식",2011,"①","유통산업발전법","여수시 유통업 상생발전 및 전통상업보존구역 지정 등에 관한 조례",null,"O",{"$nulls":3},"O",{"$nulls":4},"O",null,9,2,7,1,0,1,9,2,0,0,6,1,0,0,2]
[41,"지역경제과","에너지위원회","부시장","박현식",2005,"④","여수시 에너지 기본 조례 제7조","여수시 에너지 기본 조례 제7조","O",null,"O",{"$nulls":5},"O",null,"O",null,12,3,9,2,null,2,12,3,null,1,null,5,null,3,2]
[42,"지역경제과","중소기업발전기금운용위원회","부시장","박헌식",1998,"④","여수시 중소기업 발전기금 설치 및 운용조례 제3조","여수시 중소기업 발전기금 설치 및 운용조례 제3조",null,"O",{"$nulls":3},"O",{"$nulls":4},"O",null,11,2,10,1,0,1,11,2,0,4,4,1,0,0,2]
[43,"지역경제과","기업지원\n대책위원회","부시장","박헌식",2012,"④","여수시 기업사랑 및 기업활동 지원에 관한 조례 제16조","여수시 기업사랑 및 기업활동 지원에 관한 조례 제16조",null,"O",{"$nulls":3},"O",{"$nulls":4},"O",null,10,2,8,1,0,1,10,2,0,0,6,2,0,0,2]
[44,"지역경제과","여수시 소상공인지원심의위원회","부시장","박헌식",2020,"④","여수시 소상공인지원에관한조례 제9조","여수시 소상공인지원에관한조례 제9조",null,"O",{"$nulls":3},"O",{"$nulls":4},"O",null,9,2,7,1,0,1,9,2,0,1,0,6,0,0,2]
[45,"산업지원과","노사민정협의회","시장","권오봉",2000,"④","노사관계발전지원에관한법률제3조","여수시노사민정협의회설치및운영조례","○",{"$nulls":3},"○","○",{"$nulls":4},"○",null,15,1,14,0,0,0,15,2,1,1,6,5,null,null,2]
[46,"산업지원과","4차 산업혁명 촉진 및 신산업 육성 위원회","부시장","박현식",2019," ④",null,"여수시 4차 산업혁명 촉진 및 신산업 육성.지원조례 제8조",null,"X",{"$nulls":3},0,{"$nulls":4},0,null,15,2,13,5,null,5,15,2,null,1,null,6,6,null,2]
[47,"투자박람회과","여수시 투자유치위원회","부시장","박현식",2010,"④",null,"여수시 투자유치촉진을\n 위한 지원 조례 제26조",null,"X",{"$nulls":3},1,{"$nulls":4},0,null,{"$f":"W54+X54","v":15},2,13,{"$f":"Z54+AA54","v":6},0,6,{"$f":"SUM(AC54:AI54)","v":15},2,1,2,0,5,5,0,2]
[48,"투자박람회과","마이스산업지원위원회","부시장","박현식",2010,"④",null,"여수시 마이스산업 육성에 \n관한 조례 제8조",null,"X",{"$nulls":4},1,{"$nulls":3},0,null,15,2,13,1,null,1,15,2,0,2,0,11,0,0,2]
[49,"인구일자리과","생활임금위원회","상공회의소\n본부장","정병식",2017,"④","여수시 생활임금 조례",null,null,"X",{"$nulls":3},"O",{"$nulls":4},"O",null,8,2,6,{"$f":"Z56+AA56","v":0},0,0,{"$f":"SUM(AC56:AI56)","v":8},2,null,1,1,null,4,null,2]
[50,"인구일자리과","사회적경제육성위원회","위원장","박현식",2015," ④","여수시 사회적경제 육성과 지원에 관한 조례 제 7조",null,null,"X",{"$nulls":3},"O",{"$nulls":4},"O",null,15,5,10,4,null,4,15,5,null,1,null,1,8,null,2]
[51,"인구일자리과","청년정책 위원회","시장","권오봉",2016,"④",null,"여수시 청년발전 기본조례 제8조",null,"x",{"$nulls":3},"O",{"$nulls":4},"O",null,{"$f":"SUBTOTAL(9,W58:X58)","v":22},6,16,{"$f":"SUBTOTAL(9,Z58:AA58)","v":5},0,5,{"$f":"SUBTOTAL(9,AC58:AI58)","v":22},6,null,2,null,1,13,null,2]
[52,"인구일자리과","공유촉진위원회","공석","공석",2017,"④","여수시 공유촉진조례 제12조",null,null,"O",{"$nulls":3},"O",{"$nulls":4},"O",null,{"$f":"W59+X59","v":11},6,5,{"$f":"Z59+AA59","v":2},0,2,{"$f":"SUM(AC59:AI59)","v":11},6,0,1,0,1,0,3,2]
[53,"인구일자리과","인구정책위원회","부시장","박현식",2014,"④",null,"여수시 인구시책 지원조례 제8조",null,"X",{"$nulls":4},"○",{"$nulls":3},"○",null,20,2,18,9,0,9,20,2,1,2,8,2,5,0,"무기"]
[54,"인구일자리과","공공근로 및 지역공동체 일자리사업 추진위원회","기획경제국장","박은규",2014,"⑦",null,"지역공동체일자리사업 종합지침",null,"X",{"$nulls":4},0,{"$nulls":3},0,null,9,2,7,4,1,3,9,2,null,1,2,1,3,null,2]
[55,"인구일자리과","마을기업 육성 심의위원회","인구일자리과장","신영자",2021,"④","여수시 사회적경제 육성과\n 지원에 관한 조례 ","마을기업육성사업시행지침",null,"X",{"$nulls":4},"○",{"$nulls":3},"○",null,7,1,6,3,0,3,7,1,{"$nulls":3},3,1,2,1]
[56,"정보통신과","지역정보화협의회","부시장","박현식",1999,"①","지능정보화기본법","여수시 지역정보화 조례 제6조","O",null,"O",null,null,"○",{"$nulls":4},"○",null,10,2,8,2,null,2,10,2,null,2,null,5,1,null,2]
[57,"관광과","축제운영위원회","부시장","박현식",2006,"④","여수시 축제위원회 설치 및 운영 조례 제3조",null,null,"○",{"$nulls":3},"○",{"$nulls":4},"○",null,13,2,11,3,0,3,13,2,null,2,4,1,4,null,2]
[58,"문화예술과","시립합창단운영위원회","부시장","서은수",1998,"④",null,"여수시립예술단 설치 조례 제4조",null,"X",{"$nulls":3},"○",{"$nulls":5},"○",11,4,7,3,null,3,11,3,null,2,null,5,null,1,2]
[59,"문화예술과","시립국악단운영위원회","부시장","서은수",1998,"④",null,"여수시립예술단 설치 조례 제4조",null,"X",{"$nulls":3},"○",{"$nulls":5},"○",11,4,7,3,null,3,11,3,null,2,null,5,null,1]
[60,"문화예술과","문화유산위원회","여수지역사회연구소 이사장","김병호",2005,"④","문화재보호법","여수시 문화유산보호관리 조례제3조",null,"X",{"$nulls":3},"○",{"$nulls":4},"○",null,11,1,10,1,null,1,11,1,null,2,3,5,null,null,2]
[61,"문화예술과","여수시립박물관 건립 추진위원회","위원장","김병호",2019,"④",null,"여수시립박물관 건립 추진위원회 설치 및 운영 조례 제2조",null,"x",{"$nulls":3},"○",{"$nulls":4},"○",null,17,1,16,3,null,3,17,1,2,2,2,4,2,4,2]
[62,"문화예술과","문화예술위원회","부시장","서은수",2019,"④","문화예술진흥법","여수시문화예술 진흥 조례 제7조","O",null,"O",null,null,"○",{"$nulls":4},"○",null,20,2,18,5,null,5,20,2,null,2,null,13,3,null,2]
[63,"교육지원과","교육경비보조금심의위원회","부시장","박현식",2006,"④",null,"여수시교육경비보조에관한조례 제4조",null,"X",{"$nulls":3},"○",{"$nulls":4},"○",null,15,5,10,5,0,5,15,5,2,3,0,0,5,0,2]
[64,"교육지원과","교육발전협의회","위원장","김병호",2009,"④",null,"여수시 교육발전협의회 구성 및 운영 조례 제1조",null,"X",{"$nulls":3},"○",{"$nulls":4},"○",null,29,2,27,5,1,4,29,1,1,3,8,6,8,2,2]
[65,"교육지원과","평생교육협의회","여수시장","권오봉",2007,"①","평생교육법 제5조","여수시 평생학습 조례 제10조","○",null,"○",null,null,"○",{"$nulls":4},"○",null,9,2,7,4,0,4,9,1,2,1,3,2,0,0,2]
[66,"교육지원과","행복교육지원센터 운영위원회","관광문화교육국장","김학섭",2016,"④",null,"여수시 창의인성교육 활성화 및 지원에 관한 조례 제10조",null,"X",{"$nulls":3},"○",{"$nulls":4},"○",null,9,2,7,4,1,3,9,1,4,1,0,1,2,0,2]
[67,"교육지원과","지방대학지원사업심의위원회","위원장","박현식",2019,"①","지방대학 및 지역균형인재 육성에 관한 법률","여수시 지방대학 및 지역균형인재 육성에 관한 지원조례 제6조",null,"X",{"$nulls":3},"○",{"$nulls":4},"○",null,11,2,9,4,0,4,11,2,0,1,0,2,0,6,2]
[68,"시립도서관","시립도서관운영및독서문화진흥위원회","위원장","김양곤",1998,"①","도서관법 제30조","여수시립도서관 운영 및 독서문화 진흥 조례 제6조(구성)",null,"X",{"$nulls":3},"O",{"$nulls":4},"O",null,13,1,12,8,1,7,null,1,0,1,0,6,5,null,2]
[69,"사회복지과","지역사회\n보장협의체","시장\n공동위원장","권오봉\n장영",2005,"①","사회보장급여의 이용 제공 및 수급권자 발굴에 관한 법률 제41조","여수시지역사회보장협의체 설치 및 운영 조례","〇",{"$nulls":3},"〇","〇",{"$nulls":4},"〇",null,{"$f":"SUM(W76:X76)","v":30},7,23,{"$f":"SUM(Z76:AA76)","v":8},2,6,{"$f":"SUM(AC76:AI76)","v":30},3,3,2,3,8,3,8,2]
[70,"사회복지과","긴급지원\n심의위원회","시장 ","권오봉",2006,"①","긴급복지지원법 제12조","여수시 긴급복지 지원에 관한 조례 제4조",null,"x",{"$nulls":3},"○",{"$nulls":4},"○",null,8,3,5,2,0,2,8,3,0,1,1,2,1,0,0]
[71,"사회복지과","의료급여\n심의위원회","시장","권오봉",1998,"①","의료급여법제6조",null,null,"x",{"$nulls":3},"〇",{"$nulls":4},"〇",null,5,3,2,3,1,2,5,3,0,0,0,2,0,0,3]
[72,"사회복지과","생활\n보장위원회","시장","권오봉",2010,"①","국민기초생활보장법 제20조",null,null,"x",{"$nulls":3},"〇",{"$nulls":4},"〇",null,15,5,10,8,1,7,{"$f":"SUM(AC79:AI79)","v":15},5,0,2,5,3,0,0,2]
[73,"사회복지과","자원봉사\n발전위원회","부시장","박현식",2009,"①","자원봉사활동 기본법 제8조","여수시 자원봉사활동 지원 조례 제5조 및 시행규칙 제2조",null,"x",{"$nulls":4},"〇",{"$nulls":3},"〇",null,{"$f":"W80+X80","v":11},2,9,{"$f":"Z80+AA80","v":4},null,4,{"$f":"SUM(AC80:AI80)","v":11},2,null,1,null,2,6]
[74,"사회복지과","노숙인 입·퇴소심사위원회","환경복지국장","서정신",2010,"①","노숙인등의 복지 및 자립지원에관한법률 제17조",null,null,"x",{"$nulls":3},"〇",{"$nulls":4},"〇",null,6,3,3,1,0,1,{"$f":"SUM(AC81:AI81)","v":6},2,0,0,1,1,2,0]
[75,"노인장애인과","장애인복지위원회","시장","권오봉",2005,"①","장애인복지법 제13조","여수시 장애인복지위위원회 설치 및 운영 조례","○",null,"○",null,null,"○",{"$nulls":4},"○",null,{"$f":"W82+X82","v":12},6,6,{"$f":"Z82+AA82","v":2},2,0,{"$f":"SUM(AC82:AI82)","v":12},6,0,1,4,1,0,0,2]
[76,"노인장애인과","장애인활동지원\n수급자격심의위원회","가나헌시설장","김명례",2007,"①","장애인활동 지원에 관한 법률 제8조",null,null,"X",{"$nulls":4},"○",{"$nulls":3},"○",null,7,1,6,2,1,1,{"$f":"SUM(AC83:AI83)","v":7},1,null,null,2,2,2,null,3]
[77,"노인장애인과","여수시무장애도시추진위원회","부시장","박현식",2020,"④","장애인 등 편의법 제2조,3조,6조","여수시 무장애도시 조성조례 제9조",null,"x",{"$nulls":4},"○",{"$nulls":3},"○",null,15,4,11,5,0,5,15,4,null,2,1,2,6,null,2]
[78,"노인장애인과","여수시무장애도시실무위원회","노인장애인과장","조영화",2020,"④","장애인 등 편의법 제2조,3조,6조","여수시 무장애도시 조성조례 제9조",null,"x",{"$nulls":4},"○",{"$nulls":3},"○",null,20,8,12,8,3,5,20,8,{"$nulls":4},12,null,2]
[79,"노인장애인과","여수시 노인일자리 및 사회활동 지원사업 위원회","환경복지국장","서정신",2013,"⑦","노인일자리 및 사회활동 지원사업 지침",null,"O",{"$nulls":4},"O",{"$nulls":4},"O",null,6,2,4,3,1,2,6,2,null,null,3,1,null,null,2]
[80,"노인장애인과","여수시 장기요양기관 지정심사위원회","환경복지국장","서정신",2020,"④","노인장기요양보험법 제31조\n노인장기요양보험법 시행규칙 \n    제23조","여수시 장기요양기관 지정 심사위원회 구성 및 운영 규칙 제2조",null,"X",{"$nulls":3},"O",{"$nulls":4},"O",null,{"$f":"W87+X87","v":5},1,4,2,null,2,{"$f":"SUM(AC87:AI87)","v":5},1,null,null,1,null,3,null,2]
[81,"노인장애인과","노인맞춤돌봄서비스심의위원회","노인장애인과장","조영화",2020,"⑦",{"$nulls":3},"X",{"$nulls":3},"○",{"$nulls":4},"○",null,5,1,4,3,0,3,5,1,null,null,1,3,null,null,2]
[82,"여성가족과","양성평등위원회","부시장","서은수",2008,"①","양성평등기본법 제11조","여수시 양성평등 기본 조례 제23조",null,"X",{"$nulls":3},"O",{"$nulls":4},"O",null,{"$f":"SUM(W89:X89)","v":13},2,11,{"$f":"SUBTOTAL(9,Z89:AA89)","v":6},0,6,{"$f":"SUBTOTAL(9,AC89:AI89)","v":13},2,0,1,3,2,2,3,2]
[83,"여성가족과","여성친화도시조성 위원회","부시장","서은수",2011,"④","여수시 여성친화도시 조성에 관한 기본조례 제25조",null,null,"X",{"$nulls":3},"O",{"$nulls":4},"O",null,{"$f":"SUM(W90:X90)","v":15},3,12,{"$f":"SUBTOTAL(9,Z90:AA90)","v":10},0,10,{"$f":"SUBTOTAL(9,AC90:AI90)","v":15},3,0,2,2,1,7,0,2]
[84,"여성가족과","아동 여성안전 지역연대 운영위원회","부시장","서은수",2012,"④","여수시 아동.여성안전 지역연대 운영에 관한 조례 제6조",null,null,"X",{"$nulls":3},"O",{"$nulls":4},"O",null,16,3,13,{"$f":"SUBTOTAL(9,Z91:AA91)","v":9},0,9,16,3,3,2,7,1,0,0,2]
[85,"여성가족과","지역아동센터위원회","부시장","서은수",2011,"④",null,"여수시 지역아동센터 운영 및\n 지원에 관한 조례 제8조",null,"X",{"$nulls":3},"O",{"$nulls":4},"O",null,10,4,6,5,2,3,10,4,1,2,0,0,0,3,2]
[86,"여성가족과","아동급식위원회","환경복지국장","박은규",2015,"④","아동복지법 시행령 제36조","여수시 아동청소년 육성위원회 등 구성 및 운영에 관한 조례 제16조","O",null,"O",null,null,"O",{"$nulls":4},"O",null,11,1,10,8,0,8,11,1,2,2,0,5,1,0,3]
[87,"여성가족과","아동청소년육성위원회","부시장","서은수",2008,"①","청소년기본법 제11조","여수시 아동∙청소년육성위원회 등 구성 및 운영에 관한 조례 제2조","O",null,"O",null,null,"O",{"$nulls":4},"O",null,8,4,4,4,1,3,8,2,2,1,3,0,0,0,3]
[88,"여성가족과","보육정책위원회","환경복지국장","박은규",2003,"①","영유아보육법 제6조","여수시영유아보육조례 제2,3조",null,"X",{"$nulls":4},"O",{"$nulls":3},"O",null,15,1,14,10,0,10,15,1,1,0,0,6,7,0,2]
[89,"여성가족과","지역돌봄협의체","환경복지국장","박은규","2020.12.30.","④",null,"여수시 다함께 돌봄사업 지원에 관한 조례 제9조",null,"X",{"$nulls":4},"O",{"$nulls":3},"O",null,11,2,9,8,0,8,11,1,2,1,3,3,1,0,3]
[90,"여성가족과","건강가정.다문화가족.외국인주민 지원협의회","환경복지국장","서정신",2013,"④","건강가정기본법 제21조, 제35조\n 다문화가족지원법 제6조, 제12조\n 재한외국인 처우 기본법 제18조","여수시 건강가정.다문화가족.외국인주민 통합지원조례 제6조",null,"X",{"$nulls":4},"O",{"$nulls":3},"O",null,14,7,7,7,1,6,14,2,5,1,0,0,6,0,2]
[91,"여성가족과","드림스타트 운영위원회","부시장","서은수",2009,"⑥",null,"보건복지부 지침\n(2021년도 드림스타트 사업안내)",null,"X",{"$nulls":4},"O",{"$nulls":3},"O",null,10,4,6,6,0,6,10,2,null,1,5,1,0,1,2]
[92,"여성가족과","지역사회청소년통합지원체계운영위원회","환경복지국장","박은규",2006,"①","청소년복지 지원법 제10조",null,"○",null,null,"○",null,null,"O",{"$nulls":3},"O",null,14,4,10,4,0,4,14,2,5,0,5,1,1,0,2]
[93,"여성가족과","아동복지심의위원회","시장","권오봉",2016,"①","아동복지법 제12조","여수시 아동복지심의위원회구성및운영에관한조례제1조","○",null,null,"O",null,null,"O",{"$nulls":3},"O",null,14,3,11,6,0,6,14,3,4,1,0,6,0,0,2]
[94,"여성가족과","성별영향평가위원회","부시장","서은수",2018,"①","성별영향평가법 제13조의2","여수시 성별영향분석평가조례 제12조",null,"X",{"$nulls":3},"O",{"$nulls":4},"O",null,11,4,7,3,0,3,11,4,0,2,0,3,2,0,2]
[95,"여성가족과","학교폭력대책지역협의회","부시장","서은수",2012,"②","학교폭력예방 및 대책에 관한 법률 제10조의2",null,null,"X",{"$nulls":3},"O",{"$nulls":4},"O",null,13,3,10,5,1,4,{"$f":"SUM(AC102:AI102)","v":13},3,2,1,3,1,1,2,2]
[96,"여성가족과","여수시 아동청소년 친화도시 추진위원회","시장","권오봉",2020,"④","아동복지법 제12조","여수시 아동청소년 친화도시 조성에 관한 조례 제9조","O",null,null,"O",null,null,"O",{"$nulls":3},"O",null,15,1,14,8,0,8,15,1,2,2,7,3,0,0,2]
[97,"기후생태과","환경정책위원회","부시장","박현식",1998,"①","환경정책기본법 제58조","여수시환경기본조례 제17조","O",null,"O",null,null,"O",{"$nulls":4},"O",null,{"$f":"W104+X104","v":14},5,9,{"$f":"Z104+AA104","v":5},null,5,{"$f":"SUM(AC104:AI104)","v":14},5,null,2,null,2,null,5]
[98,"도시미화과","폐기물처리시설 주변지역 주민지원기금 운용심의위원회","부시장","서은수",2014,"①","지방자치단체 기금관리기본법 제13조","여수시 폐기물처리시설 설치운용 및 주변지역 지원등에 관한 조례 제21조","O",null,"O",null,null,"○",{"$nulls":5},"○",10,5,5,{"$nulls":3},10,5,null,2,null,2,1,null,2]
[99,"도시미화과","도시형폐기물종합처리시설 주민지원협의체","위원장","장봉익",2008,"①","폐기물처리시설 설치촉진 및 주변지역지원 등에 관한 법률 제17조2",null,null,"X",{"$nulls":3},"○",{"$nulls":5},"○",10,0,10,{"$nulls":3},10,null,null,1,null,2,7,null,2]
[100,"도시미화과","폐기물처리시설 설치기금운용심의위원회","부시장","서은수",2020,"①","지방자치단체 기금관리기본법 제13조","여수시 폐기물처리시설 설치비용 징수 및 기금운용 조례 제17조","O",null,"O",null,null,"○",{"$nulls":5},"○",10,4,6,1,0,1,10,4,null,1,null,1,4,null,2]
[101,"수산경영과","수산조정위원회","부시장","박현식",2008,"①","수산업법 제88조",null,null,"○",{"$nulls":3},"○",{"$nulls":5},"○",null,2,13,{"$nulls":4},2,2,null,5,null,6]
[102,"수산경영과","청정농수산물등록상표사용심의위원회","해양수산녹지국장","장인호",2011,"④","여수시 청정농수산물등록상표 사용 관리 조례 제8조","동 조례 시행규칙 제9조",null,"○",{"$nulls":3},"○",{"$nulls":4},"○",null,12,3,9,2,null,2,12,3,3,null,null,2,4,null,2]
[103,"어업생산과","적조대책위원회","부시장","박현식",2021,"⑥","해양수산부 훈령 제369호",null,0,null,null,0,null,"○",{"$nulls":4},"○",null,13,3,10,1,null,1,13,3,3,null,null,1,6,null,3]
[104,"해양항만레저과","마리나운영위원회","해양수산녹지국장","김병완",2019,"④","여수시 요트마리나 시설관리 운영조례 제28조",null,null,"X",{"$nulls":4},"O",{"$nulls":3},"O",null,7,2,5,{"$f":"Z111+AA111","v":0},null,null,7,2,0,1,0,1,3]
[105,"산림과","도시숲 등의 조성관리 심의위원회","해양수산녹지국장","김병완",2008,"①","도시숲 등의 조성 및 관리에 관한 법률 제13조","여수시 도시숲 등의 조성 및 관리에 관한 조례 제18조","O",null,"O",null,null,"○",{"$nulls":4},"○",null,12,5,7,3,0,3,12,5,null,2,null,5,null,null,2]
[106,"산림과","산사태취약지역지정위원회","해양수산녹지국장","김병완",2013,"①","산림보호법 제45조","산사태취약지역지정위원회 구성 및 운영에 관한 조례","O",null,"O",null,null,"○",{"$nulls":4},"○",null,{"$f":"W113+X113","v":8},3,5,null,null,1,{"$f":"AC113+AE113+AG113","v":8},3,null,2,0,3]
[107,"도시계획과","지명위원회","시장","권오봉",1998,"①","공간정보의 구축 및 관리 등에 관한 법률(제91조,시행령 제88조)               ","여수시 지명위원회 조례 제2조","O",null,"O",null,null,"O",{"$nulls":4},"O",null,{"$f":"W114+X114","v":7},2,5,{"$f":"Z114+AA114","v":1},null,1,{"$f":"SUM(AC114:AI114)","v":7},2,null,1,null,null,4,null,3]
[108,"도시계획과","지역건설산업활성화위원회","부시장","서은수",2011,"①","여수시 지역건설산업 활성화 촉진에 관한 조례 제11조","여수시 지역건설산업 활성화 촉진에 관한 조례 제9조","O",null,"O",{"$nulls":5},"O",{"$nulls":3},10,4,6,0,0,0,10,4,null,2,null,null,4,null,2]
[109,"도시계획과","도시계획위원회","위원장","박현식",2002,"①","국토의 계획 및 이용에 관한 법률 제113조",null,"O",null,"O",null,null,"O",{"$nulls":6},{"$f":"W116+X116","v":25},null,25,{"$f":"Z116+AA116","v":2},null,2,{"$f":"SUM(AC116:AI116)","v":25},3,null,1,null,19,null,2,2]
[110,"도시계획과","경관위원회","교수","정금호",2015,"①","경관법 제29조","여수시 경관조례 제23조","O",null,null,"O",null,"○",{"$nulls":5},"O",26,4,22,4,0,4,26,4,0,2,0,20,0,0,2]
[111,"건설과","소하천\n관리위원회","건설교통국장","임광건",2016,"①","소하천정비법 제26조",null,null,"○",{"$nulls":3},"○",{"$nulls":4},"○",null,10,2,8,0,null,null,10,2,null,1,null,4,3,null,3]
[112,"건설과","기술자문위원회 ","건설교통국장","임광건",2017,"①","건설기술진흥법6조, 시행령 19조","여수시 기술자문위원회 운영 조례제2조","○",null,null,"○",null,"○",{"$nulls":4},"○",null,97,88,9,6,null,6,97,9,null,2,null,23,63,null,2]
[113,"재난안전과","통합방위협의회","시장","권오봉",2010,"①","통합방위법 제5조","통합방위법 시행령,여수시  통합방위협의회 구성 및 운영 등에 관한 조례(제3조)","O",null,"O",null,null,"O",{"$nulls":5},"O",25,13,12,0,0,0,null,1,3,1,20]
[114,"재난안전과","안전관리위원회","시장","권오봉",2010,"①","재난 및 안전관리기본법","여수시 안전관리위원회 운영 조례","O",null,null,"O","O","O",null,"O",{"$nulls":3},"O",18,18,{"$nulls":4},18,3,7,{"$nulls":4},8]
[115,"재난안전과","재해영향평가심의위원회","시장","권오봉",2010,"①","통합방위법 제5조","통합방위법 시행령,여수시  통합방위협의회 구성 및 운영 등에 관한 조례(제3조)","O",null,"O",null,null,"O",{"$nulls":5},"O",25,13,12,0,0,0,null,1,3,1,20]
[116,"재난안전과","재난관리기금운용심의위원회","건설교통국장","임광건",1998,"④","재난 및 안전관리기본법","여수시재난관리기금운용관리조례","O",null,"O",null,null,"O",{"$nulls":4},"O",null,{"$f":"W123+X123","v":9},5,4,{"$f":"Z123+AA123","v":1},0,1,{"$f":"SUM(AC123:AI123)","v":9},5,null,1,null,3,null,null,2]
[117,"교통과","교통안전정책 심의위원회 ","시장","권오봉",null,"①","교통안전법 제13조교통안전법 시행령 제8조","여수시 교통안전정책심의위원회 \n구성 및 운영에 관한 조례 제1조",null,"O",{"$nulls":3},"O",{"$nulls":4},"O",null,20,7,13,0,0,0,20,6,2,1,3,0,8,0,3]
[118,"교통과","교통약자이동편의증진위원회","부시장","박현식",null,"①","교통약자의 이동편의 증진법 제16조","여수시 교통약자의 이동편의 증진 조례 제1조","O",null,"O",null,null,"O",{"$nulls":4},"O",null,15,7,8,6,1,5,{"$f":"SUM(AC125:AI125)","v":15},6,0,2,0,0,7,0,2]
[119,"교통과","택시감차위원회","교통과장","공주식",null,"①","택시운송사업의 발전에 관한 법률 제11조\n택시운송사업의 발전에 관한 법률 시행령 제11조",null,null,"O",{"$nulls":3},"O",{"$nulls":4},"O",null,9,2,7,1,0,1,9,2,0,1,0,1,5,0,2]
[120,"교통과","교통정책\n발전위원회","부시장","박현식",null,"④","여수시 교통정책발전위원회 구성 및 운영 조례 제1조",null,null,"O",{"$nulls":4},1,{"$nulls":3},"O",null,{"$f":"W127+X127","v":15},5,10,{"$f":"Z127+AA127","v":4},0,4,{"$f":"SUM(AC127:AI127)","v":15},4,1,2,0,5,0,3,2]
[121,"교통과","교통유발부담금 경감심의위원회","건설교통국장","임광건",null,"④","여수시 교통유발부담금 경감 등에 관한 조례 제12조",null,null,"O",{"$nulls":3},1,{"$nulls":4},"O",null,9,5,4,1,0,1,9,3,1,1,0,2,2,0,2]
[122,"허가민원과","건축위원회","건설교통국장","임광건",2019,"①","건축법 제4조, 건축법 시행령 제5조의5","여수시 건축조례",0,null,null,0,null,"○",{"$nulls":5},"○",28,4,24,3,0,3,28,3,1,0,0,3,21,0,3]
[123,"허가민원과","공동주택\n지원심의위원회","건섥통국장","임광건",2020,"④","여수시공동주택조례 제7조",null,null,"X","-","-","-","O",{"$nulls":4},"O",null,{"$f":"W130+X130","v":8},2,6,{"$f":"Z130+AA130","v":0},null,null,{"$f":"SUM(AC130:AI130)","v":8},2,null,2,null,3,null,1]
[124,"허가민원과","분양가심사\n위원회",null,null,2019,"①","주택법 제59조",null,null,"X","-","-","-","O",{"$nulls":4},"O",null,10,1,9,2,0,2,10,1,3,null,null,5,null,1]
[125,"허가민원과","공동주택\n(관리)분쟁조정위원회",null,"김정현",2020,"①","공동주택관리법 제71조",null,null,"X","-","-","-","O",{"$nulls":4},"O",null,8,2,6,4,1,3,8,2,{"$nulls":3},3,null,3]
[126,"보건행정과","보건의료심의위원회","부시장","박현식",1998,"③","지역보건법 시행령 제3조","여수시 보건의료심의위원회 설치 및 운영조례 제3조","○",null,null,"○",null,"○",{"$nulls":4},"○",null,12,2,10,6,1,5,{"$f":"SUM(AC133:AI133)","v":12},2,null,2,null,8,null,null,2]
[127,"식품위생과","식품진흥기금심의위원회","보건소장","이주리",2001,"④","식품위생법 제89조","여수시 식품진흥기금운용조례 제3호","ㅇ",null,null,"ㅇ",null,"ㅇ",{"$nulls":4},"ㅇ",null,{"$f":"SUM(W134:X134)","v":6},2,4,{"$f":"SUM(Z134:AA134)","v":3},2,1,{"$f":"SUM(AC134:AI134)","v":6},2,null,1,1,null,null,2]
[128,"식품위생과","위생업소 \n지원 심의위원회","보건소장","이주리",2017,"④","식품위생법 제36조, 제47조, 공중위생법 제2조, 식품위생법 시행령 제21조","여수시 위생업소 지원등에 관한 조례 제7조","ㅇ",null,null,"ㅇ",null,"ㅇ",{"$nulls":4},"ㅇ",null,{"$f":"SUM(W135:X135)","v":11},3,8,{"$f":"SUM(Z135:AA135)","v":5},2,3,{"$f":"SUM(AC135:AI135)","v":11},2,null,1,null,1,null,7]
[129,"식품위생과","관광숙박업 등의 등록심의위원회","부시장","서은수",2017,"④","관광진흥법 제17조",null,null,"ㅇ",{"$nulls":3},"○",{"$nulls":6},6,6,{"$nulls":4},{"$f":"SUM(AC136:AI136)","v":6},6]
[130,"건강증진과","건강생활\n실천 협의회","보건소장","이주리",1998,"①","국민건강증진법 제10조","여수시 건강생활실천협의회 설치 등에 관한 조례","O",null,"O",null,null,{"$f":"SUBTOTAL(3,O140:O4620)","v":12},{"$nulls":4},{"$f":"SUBTOTAL(3,T140:T4620)","v":13},null,{"$f":"W137+X137","v":12},3,9,{"$f":"Z137+AA137","v":7},2,5,{"$f":"SUM(AC137:AI137)","v":12},3,1,2,null,3,3,null,2]
[131,"건강증진과","정신건강사업 운영위원회","보건소장","이주리",1998,"①","정신건강증진 및 정신질환자 복지서비스 지원에 관한 법률 제 15조","여수시 정신건강복지센터 및 중독관리통합지원센터 설치 및 운영 조례 제 9조",null,"X",{"$nulls":3},"○",{"$nulls":4},"○",null,7,3,4,3,2,1,7,3,2,null,null,2,null,null,2]
[132,"농업정책과","농어민 공익수당 위원회","부시장","박현식",2020,"④","여수시 농어민 공익수당 지급에 관한 조례 제11조",null,null,"x",{"$nulls":3},"○",{"$nulls":4},"○",null,{"$f":"W139+X139","v":13},4,9,{"$f":"Z139+AA139","v":0},0,0,{"$f":"SUM(AC139:AI139)","v":13},4,2,0,5,null,2,null,2]
[133,"농업정책과","농업·농촌 및 식품산업정책심의회","시장","권오봉",2009,"①","농업농촌및식품산업기본법제15조,시행령제15조",null,null,"x",{"$nulls":3},"○",{"$nulls":4},"○",null,28,3,25,5,null,5,{"$f":"SUM(AC140:AI140)","v":28},3,1,null,7,1,16,null,2]
[134,"농업정책과","친환경무상급식지원심의위원회","소장","장인호",2010,"④","여수시 친환경무상급식 지원에 관한 조례 제8조",null,null,"x",{"$nulls":3},"○",{"$nulls":4},"○",null,{"$f":"W141+X141","v":17},2,15,{"$f":"Z141+AA141","v":10},null,10,{"$f":"SUM(AC141:AI141)","v":17},2,5,2,null,null,8,null,2]
[135,"농촌진흥과","귀농어·귀촌 지원위원회","1. 농업기술센터소장\n2. 해양수산녹지국장","윤혜옥\n장인호",2014,"④","귀농어·귀촌 활성화 및 지원에 관한 법률","여수시귀농어·귀촌 활성화 및 지원 조례 제 4조",null,"X",{"$nulls":3},"O",{"$nulls":4},"O",null,15,2,13,3,null,3,{"$f":"SUBTOTAL(9,AC142:AI142)","v":15},4,{"$nulls":3},4,7,null,2]
[136,"농촌진흥과","농업산학\n협동심의회","농업기술센터소장","윤혜옥",1971,"②","농업산학협동심의회 규정\n(대통령령 30368호)제2조",null,"O",null,null,"O",null,null,"O",{"$nulls":3},"○",null,20,1,19,5,0,5,{"$f":"SUBTOTAL(9,AC143:AI143)","v":20},2,1,1,4,2,10,null,2]
[137,"농촌진흥과","농기계 임대사업 및 \n농업인대학 운영위원회","농업기술센터소장","윤혜옥",2009,"④","농업기계화 촉진법","여수시농기계 임대사업 운영조례 제15조",null,"X",{"$nulls":3},"○",{"$nulls":4},"○",null,9,6,3,3,2,1,9,2,0,1,0,0,6,0,2]
[138,"특산품육성과","농산물공동상표\n사용심의위원회","농업기술센터소장","장인호",2014,"④","여수시 농산물 공동상표 사용에 관한 조례",null,null,"〇",{"$nulls":3},"〇",{"$nulls":4},"〇",null,{"$f":"W145+X145","v":9},4,5,{"$f":"Z145+AA145","v":4},1,3,{"$f":"SUM(AC145:AI145)","v":9},3,1,0,0,0,5,0,2]
[139,"특산품육성과","종자심의위원회","농업기술센터소장","장인호",2015,"④","여수시 종자산업육성 및 직무육성품종 지원 등에 관한 조례 제3조",null,null,"〇",{"$nulls":3},"〇",{"$nulls":4},"〇",null,{"$f":"W146+X146","v":11},3,8,{"$f":"Z146+AA146","v":5},1,4,{"$f":"SUM(AC146:AI146)","v":11},3,0,2,0,0,6,0,2]
[140,"도시재생과","옥외광고심의위원회","도시시설사업단장","신윤옥",1992,"①","옥외광고물 등의 관리와 옥외광고산업 진흥에 관한 법률 제7조","여수시 옥외광고물 등 관리 조례 제12조","○",null,"○",null,null,"○",{"$nulls":5},"○",12,3,9,1,null,1,{"$f":"SUM(AC147:AI147)","v":12},3,null,1,null,3,5,null,2]
[141,"도시재생과","도시재생위원회","도시시설사업단장","신윤옥",2014,"②","도시재생 활성화 및 지원에 관한 특별법 제8조 및 동법 시행령 제10조","여수시 도시재생 활성화 및 지원에 관한 조례 제6조",null,"X",{"$nulls":3},"○",{"$nulls":4},"○",null,22,5,17,1,null,1,{"$f":"SUM(AC148:AI148)","v":22},5,null,1,3,7,6,null,2]
[142,"도로시설관리과","도로관리심의회","부시장","박현식",null,"⑤","도로법 시행령 제63조","여수시 각종 위원회 구성 및 운영조례 제6조4항","O",{"$nulls":3},"O",null,"O",{"$nulls":3},"O",null,22,10,11,{"$f":"Z149+AA149","v":6},null,6,{"$f":"SUM(AC149:AI149)","v":22},9,1,1,null,1,9,1,2]
[143,"공원과","도시공원위원회","부시장","박현식",2013,"①","도시공원 및 녹지 등에 관한법률 제50조","여수시 도시공원 및 녹지 등에 관한 조례 제48조","O",null,"O",{"$nulls":3},"O",{"$nulls":3},"O",null,{"$f":"SUBTOTAL(9,W150:X150)","v":12},5,7,{"$f":"SUBTOTAL(9,Z150:AA150)","v":1},0,1,{"$f":"SUBTOTAL(9,AC150:AI150)","v":12},5,null,2,null,5,null,null,2]
[144,"상수도과","수돗물평가위원회","상하수도사업단장","김지선",1998,"①","수도법 제30조","여수시수돗물평가위원회 운영 조례제3조","○",null,null,"○",null,"○",{"$nulls":4},"○",null,11,2,9,{"$f":"SUM(Z151:AA151)","v":4},null,4,11,2,null,1,null,2,null,6,2]
[145,"하수도과","공공하수 처리시설 관리대행 성과평가위원회","교수","이병찬",2018,2,"하수도법 시행령 제15조의 4","공공하수도시설 관리업무 대행지침\n제14조",0,{"$nulls":3},0,null,null,0,null,null,0,null,{"$f":"W152+X152","v":5},null,5,{"$f":"Z152+AA152","v":1},null,1,{"$f":"SUM(AC152:AI152)","v":5},{"$nulls":4},5,null,null,2]
[146,"하수도과","2005년 BTL사업\n성과평가위원회","공무원","김지선",2005,1,"사회기반시설에 대한 민간투자법 제6조","여수시 민간투자사업심의의원회 운영 조례 제2조",0,{"$nulls":3},0,0,{"$nulls":6},9,2,7,0,null,null,9,2,{"$nulls":3},5,2,null,20]
[147,"하수도과","2008년 BTL사업\n성과평가위원회","공무원","김지선",2008,1,"사회기반시설에 대한 민간투자법 제6조","여수시 민간투자사업심의의원회 운영 조례 제2조",0,{"$nulls":3},0,0,{"$nulls":6},8,2,6,0,null,null,8,2,{"$nulls":3},5,1,null,20]
[148,"산단환경관리사업소","화학물질안전관리위원회","부시장","박현식",2017,"①","화학물질관리법 제7조의2","여수시 화학물질 안전관리 및 지역사회 알권리 조례 제6조","O",null,"전부",null,null,{"$f":"SUBTOTAL(3,O157:O4650)","v":0},{"$nulls":4},{"$f":"SUBTOTAL(3,T157:T4650)","v":0},null,null,4,11,null,0,1,null,3,1,2,null,3,3,3,2]
[149,"생활자원사업소","만흥위생매립장 주변마을 주민지원 협의체",null,null,1997,"①","폐기물처리시설 설치촉진 및 주변지역지원 등에 관한 법률 제17조의2","여수시 폐기물처리시설 설치·운영 및 주변지역 지원등에 관한 조례 제29조",null,"○",{"$nulls":3},"○",{"$nulls":4},"○",null,{"$f":"W156+X156","v":0},null,null,{"$f":"Z156+AA156","v":0},null,null,{"$f":"SUM(AC156:AI156)","v":0}]
[]
[null,"<작성방법> ※ 유의사항 : 위원회명 기재시 '자치단체명' 생략 ex)여수시보조금심의위원회 → 보조금심의위원회"]
[null,"(A) 근거 법규 유형 : ① 법률, ② 대통령령(시행령), ③ 부령 등(부처 시행규칙, 예규, 고시 등), ④ 조례, ⑤ 규칙, ⑥ 기타 규정(훈령, 예규 등), ⑦ 법적 근거 없는 경우  ※ '최상위 근거 법규명'을 기준으로 하며, ①, ②, ③, ④, ⑤, ⑥, ⑦ 중 택 1"]
[null,"   1) 최상위 근거 법규명 : 위원회 설치 근거가 되는  법규(법률, 대통령령, 조례, 규칙, 훈령, 예규, 지침 등) 중 가장 최상위 법규명 및 조항 기재 (ex.~법률 제○조)"]
[null,"   2) 하위 근거 법규명 : 법령에서 설치근거를 두었는데 조례 등 자치법규로 또 규정한 경우 해당 자치법규명 기재 (ex~조례 제○○조)"]
[null,"   3) 위임여부 : 법령에서 조례로 위임하는 규정이 명시되어 있는 경우 \"〇\", 명시되어 있지 않은 경우 \"×\""]
[null,"   4) 위임범위 : '위임여부' 칸에 'O' 표시한 경우만 작성하며, 법령에 위원회 설치근거만 두고 위원수, 자격, 임기, 기능 등을 모두 조례로 위임한 경우 \"전부\",\n                   일부만 위임한 경우 위원 임기·자격 등 위원 관련사항이면 \"위원\", 위원회 기능·기타 사항이면 \" 기능\" 칸에 'O' 표기"]
[null,"(B) 유형 : 위원회 구성 후 운영이 지속되면 \"상설\", 안건발생 시 위촉하고 종료 후 해촉하면 \"비상설\" 에 표기"]
[null,"     규정방식 : \"~를 둔다, 구성한다\"로 규정된 경우 \"강행\"/ \"~를 둘 수 있다\"로 규정된 경우 \"임의\" 에 표기"]
[null,"(C) 적용범위 : 위원회를 설치할 자치단체의 범위로서 \"시도(광역)\"/\"시군구(기초)\"/\"광역+기초\"(시도 및 시군구의 경우)로 구분 "]
[null,"(E) 회의개최 횟수 : 해당 위원회의 연도별 회의개최 횟수를 \"서면회의\"(불출석)와 \"대면회의\"(출석)로 구분 / 숫자로 입력"]
[null,"(F) 존속기한 등 : \"존속기한\" 칸에는 조례 등으로 위원회 존속기한을 명시한 경우 그 기한(ex.3년)을, 종료사유가 없는 한 계속 존속하는 경우 \"무기\"로 기재하고,\n                       \"연장횟수\" 칸에는 위원회 연장횟수 기재(신설되어 연장이 없는 경우 \"0\" 표기)"]
[null,"(H) 위원회 성격 : ① 지방자치법 제116조의 합의제행정기관(ex, 감사위원회, 지방노동위원회), ② 심의.의결 기능 등 내부에서 행정에 관한 의사 또는 판단을 결정할 수 있는 권한만을 가지는 위원회, ③ 단순 자문 또는 조언적 역할을 수행하는 위원회   ※ ①, ②, ③ 중 택 1"]
[null,"(I) 신설 및 정비결과 유형 : \"신설\"/\"폐지\"/\"통합\"/\"존치\"/\"누락\"로 구분하되, 해당되는 분야에 '○' 기재    ※ \"2019년 위원회 수\" = \"신설+누락+존치 위원회 수\"와 일치하도록 작성\n    1) 착오 등으로 인하여 전년에 누락된 위원회를 추가로 작성하는 경우에도, \"누락\" 칸에 '○' 표기하여 작성\n    2) \"폐지\"인 경우, \"사유\" 칸에 '① 목적달성, 행정여건 변화, ② 개최실적 저조 또는 형식적 운영 ,  ③ 기능 유사·중복으로 타 위원회에 통합, ④ 기타' 중 해당되는 하나의 번호를 기재하며, ③의 경우, 괄호안에 타 위원명을 기재\n    3) \"통합\"에는 통합되어 사라진 위원회를 명기, 통합되어 남은 위원회는 \"존치\"에 작성(통합되어 사라진 위원회와 남은 위원회 모두 사유 칸에 \"기존 00위원회와 통합\"이라고 기재)\n        (단, 2개 위원회가 통합되어 위원회명이 새로 바뀐 경우에는 기존 2개 위원회는 각각 \"통합\"에 작성하고, 통합된 새 위원회는 새로운 줄에 \"신설\"로 작성하며 사유 칸에 \"기존 00위원회와, xx위원회가 통합되었음\"이라고 기재 \n    4) \"임의\" 또는 \"비상설화\" : \"존치\" 칸에 '○' 표기를 한 경우에만 해당되며, 존치 위원회 중 강행규정을 임의규정으로 전환한 경우 \"임의\", 상설위원회를 비상설화한 경우 \"비상설화\"에 '○' 기재     ※ 해당없는 경우 미표기"]

{"sheet":"2. 작성방법","index":2,"n_rows":13,"n_cols":1,"rows_kept":13,"merged":[[0,0,0,58],[1,0,1,58],[2,0,2,58],[3,0,3,58],[4,0,4,58],[5,0,5,58],[6,0,6,58],[7,0,7,58],[9,0,9,58],[10,0,10,58],[11,0,11,58],[12,0,12,58]]}
["<작성방법> ※ 유의사항 : 위원회명 기재시 '자치단체명' 생략 ex)여수시보조금심의위원회 → 보조금심의위원회"]
["(A) 근거 법규 유형 : ① 법률, ② 대통령령(시행령), ③ 부령 등(부처 시행규칙, 예규, 고시 등), ④ 조례, ⑤ 규칙, ⑥ 기타 규정(훈령, 예규 등), ⑦ 법적 근거 없는 경우  ※ '최상위 근거 법규명'을 기준으로 하며, ①, ②, ③, ④, ⑤, ⑥, ⑦ 중 택 1"]
["   1) 최상위 근거 법규명 : 위원회 설치 근거가 되는  법규(법률, 대통령령, 조례, 규칙, 훈령, 예규, 지침 등) 중 가장 최상위 법규명 및 조항 기재 (ex.~법률 제○조)"]
["   2) 하위 근거 법규명 : 법령에서 설치근거를 두었는데 조례 등 자치법규로 또 규정한 경우 해당 자치법규명 기재 (ex~조례 제○○조)"]
["   3) 위임여부 : 법령에서 조례로 위임하는 규정이 명시되어 있는 경우 \"〇\", 명시되어 있지 않은 경우 \"×\""]
["   4) 위임범위 : '위임여부' 칸에 'O' 표시한 경우만 작성하며, 법령에 위원회 설치근거만 두고 위원수, 자격, 임기, 기능 등을 모두 조례로 위임한 경우 \"전부\",\n                   일부만 위임한 경우 위원 임기·자격 등 위원 관련사항이면 \"위원\", 위원회 기능·기타 사항이면 \" 기능\" 칸에 'O' 표기"]
["(B) 유형 : 위원회 구성 후 운영이 지속되면 \"상설\", 안건발생 시 위촉하고 종료 후 해촉하면 \"비상설\" 에 표기"]
["     규정방식 : \"~를 둔다, 구성한다\"로 규정된 경우 \"강행\"/ \"~를 둘 수 있다\"로 규정된 경우 \"임의\" 에 표기"]
["(C) 적용범위 : 위원회를 설치할 자치단체의 범위로서 \"시도(광역)\"/\"시군구(기초)\"/\"광역+기초\"(시도 및 시군구의 경우)로 구분 "]
["(E) 회의개최 횟수 : 해당 위원회의 연도별 회의개최 횟수를 \"서면회의\"(불출석)와 \"대면회의\"(출석)로 구분 / 숫자로 입력"]
["(F) 존속기한 등 : \"존속기한\" 칸에는 조례 등으로 위원회 존속기한을 명시한 경우 그 기한(ex.3년)을, 종료사유가 없는 한 계속 존속하는 경우 \"무기\"로 기재하고,\n                       \"연장횟수\" 칸에는 위원회 연장횟수 기재(신설되어 연장이 없는 경우 \"0\" 표기)"]
["(H) 위원회 성격 : ① 지방자치법 제116조의 합의제행정기관(ex, 감사위원회, 지방노동위원회), ② 심의.의결 기능 등 내부에서 행정에 관한 의사 또는 판단을 결정할 수 있는 권한만을 가지는 위원회, ③ 단순 자문 또는 조언적 역할을 수행하는 위원회   ※ ①, ②, ③ 중 택 1"]
["(I) 신설 및 정비결과 유형 : \"신설\"/\"폐지\"/\"통합\"/\"존치\"/\"누락\"로 구분하되, 해당되는 분야에 '○' 기재    ※ \"2019년 위원회 수\" = \"신설+누락+존치 위원회 수\"와 일치하도록 작성\n    1) 착오 등으로 인하여 전년에 누락된 위원회를 추가로 작성하는 경우에도, \"누락\" 칸에 '○' 표기하여 작성\n    2) \"폐지\"인 경우, \"사유\" 칸에 '① 목적달성, 행정여건 변화, ② 개최실적 저조 또는 형식적 운영 ,  ③ 기능 유사·중복으로 타 위원회에 통합, ④ 기타' 중 해당되는 하나의 번호를 기재하며, ③의 경우, 괄호안에 타 위원명을 기재\n    3) \"통합\"에는 통합되어 사라진 위원회를 명기, 통합되어 남은 위원회는 \"존치\"에 작성(통합되어 사라진 위원회와 남은 위원회 모두 사유 칸에 \"기존 00위원회와 통합\"이라고 기재)\n        (단, 2개 위원회가 통합되어 위원회명이 새로 바뀐 경우에는 기존 2개 위원회는 각각 \"통합\"에 작성하고, 통합된 새 위원회는 새로운 줄에 \"신설\"로 작성하며 사유 칸에 \"기존 00위원회와, xx위원회가 통합되었음\"이라고 기재 \n    4) \"임의\" 또는 \"비상설화\" : \"존치\" 칸에 '○' 표기를 한 경우에만 해당되며, 존치 위원회 중 강행규정을 임의규정으로 전환한 경우 \"임의\", 상설위원회를 비상설화한 경우 \"비상설화\"에 '○' 기재     ※ 해당없는 경우 미표기"]