{"text_format":"3","workbook":"xlsx","n_sheets":2,"sheets":["시군구","중앙부처"],"not_rendered":{"comments":1},"read":"whole","date_system":"1900"}

{"sheet":"시군구","index":0,"n_rows":30,"n_cols":13,"rows_kept":30,"merged":[[1,0,1,12],[2,11,2,12],[3,0,5,0],[3,1,5,1],[3,2,5,2],[3,3,3,4],[3,5,5,5],[3,6,5,6],[3,7,5,7],[3,8,3,12],[4,3,5,3],[4,4,5,4],[4,8,5,9],[4,10,4,11],[4,12,5,12],[6,8,6,9],[7,8,7,9],[8,8,8,9],[9,8,9,9],[10,8,10,9],[11,8,11,9],[12,8,12,9],[24,1,24,4]]}
[]
["ㅇㅇㅇ부( ㅇㅇㅇㅇ과 ) (담당자: 00-000-0000)\nㅇㅇㅇ시군구(ㅇㅇㅇ과)(담당자: 00-000-0000)"]
[]
["연번","전라남도","시군구","기관유형",null,"총\n기관수","교육\n대상자\n수","교육 이수\n인원(명)","이수 기관현황(1)"]
[{"$nulls":3},"긴급복지지원법 \n제7조3항\n대상 각호","세부유형",{"$nulls":3},"총인원",null,"이수자",null,"미이수자\n(명)"]
[{"$nulls":10},"집합교육","인터넷"]
["총괄"," "]
["(예시)1","여수시","여수시","1호","여천전남병원",null,700,{"$f":"SUM(K8:L8)","v":700},700,null,200,500,0]
[]
[]
[{"$nulls":6},{"$f":"SUM(I11,#REF!)","v":{"$error":"#REF!"}},{"$f":"SUM(K11:L11)","v":0},{"$f":"SUM(K11:M11)","v":0}]
[{"$nulls":5},{"$f":"SUM(#REF!,#REF!)","v":{"$error":"#REF!"}},{"$f":"SUM(I12,#REF!)","v":{"$error":"#REF!"}},0,{"$f":"SUM(K12:M12)","v":0}]
[{"$nulls":5},{"$f":"SUM(#REF!,#REF!)","v":{"$error":"#REF!"}},{"$f":"SUM(I13,#REF!)","v":{"$error":"#REF!"}},0,{"$f":"SUM(K13:M13)","v":0}]
[{"$nulls":5},{"$f":"SUM(I14,#REF!)","v":{"$error":"#REF!"}},{"$f":"SUM(J14,#REF!)","v":{"$error":"#REF!"}},0,null,{"$f":"SUM(K14:M14)","v":0}]
[{"$nulls":5},{"$f":"SUM(I15,#REF!)","v":{"$error":"#REF!"}},{"$f":"SUM(J15,#REF!)","v":{"$error":"#REF!"}},0,null,0]
[{"$nulls":5},{"$f":"SUM(I16,#REF!)","v":{"$error":"#REF!"}},{"$f":"SUM(J16,#REF!)","v":{"$error":"#REF!"}},0,null,0]
[{"$nulls":5},{"$f":"SUM(I17,#REF!)","v":{"$error":"#REF!"}},{"$f":"SUM(J17,#REF!)","v":{"$error":"#REF!"}},0,null,0]
[{"$nulls":5},{"$f":"SUM(I18,#REF!)","v":{"$error":"#REF!"}},{"$f":"SUM(J18,#REF!)","v":{"$error":"#REF!"}},0,null,0]
[{"$nulls":5},{"$f":"SUM(I19,#REF!)","v":{"$error":"#REF!"}},{"$f":"SUM(J19,#REF!)","v":{"$error":"#REF!"}},0,null,0]
[{"$nulls":5},{"$f":"SUM(I20,#REF!)","v":{"$error":"#REF!"}},{"$f":"SUM(J20,#REF!)","v":{"$error":"#REF!"}},0,null,0]
[{"$nulls":5},{"$f":"SUM(I21,#REF!)","v":{"$error":"#REF!"}},{"$f":"SUM(J21,#REF!)","v":{"$error":"#REF!"}},0,null,0]
[{"$nulls":5},{"$f":"SUM(I22,#REF!)","v":{"$error":"#REF!"}},{"$f":"SUM(J22,#REF!)","v":{"$error":"#REF!"}},0,null,0]
[{"$nulls":5},{"$f":"SUM(I23,#REF!)","v":{"$error":"#REF!"}},{"$f":"SUM(J23,#REF!)","v":{"$error":"#REF!"}},0,null,0]
[{"$nulls":5},{"$f":"SUM(I24,#REF!)","v":{"$error":"#REF!"}},{"$f":"SUM(J24,#REF!)","v":{"$error":"#REF!"}},0,null,0]
[null,"계",{"$nulls":3},{"$f":"SUM(F8:F24)","v":{"$error":"#REF!"}},{"$f":"SUM(G8:G24)","v":{"$error":"#REF!"}},700,700,0,200,500,0]
[]
["(1) 이수 기관현황 "]
["(2) 미이수 기관현황 : 기관 내 종사자 모두가 교육을 미이수한 경우를 말함"]
["* 기관수와 인원은 12월 31일 기준으로 함"]
["* 교육대상자수는 휴직자 등 교육대상이 아닌 자를 제외함"]

{"sheet":"중앙부처","index":1,"n_rows":30,"n_cols":13,"rows_kept":30,"hidden":true,"merged":[[1,0,1,12],[2,11,2,12],[3,0,4,0],[3,1,4,1],[3,2,3,3],[3,4,5,4],[3,5,5,5],[3,6,5,6],[3,7,3,10],[3,11,3,12],[4,7,5,7],[4,8,5,8],[4,9,5,9],[4,10,5,10],[4,11,5,11],[4,12,5,12],[23,1,23,3]]}
[]
["ㅇㅇㅇ부( ㅇㅇㅇㅇ과 ) (담당자 :00-000-0000)\nㅇㅇㅇ시도(ㅇㅇㅇ과) (담당자: 00-000-0000)"]
[{"$nulls":11},"2022.12.31.기준"]
["연번","부처명","기관유형",null,"총\n기관수","교육\n대상자\n수","교육 이수\n인원(명)","이수 기관현황(1)",{"$nulls":3},"미이수 기관현황(2)"]
[null,null,"긴급복지지원법 제7조3항","세부유형",{"$nulls":3},"교육 이수\n기관수\n(개소)","총인원","이수인원(명)","미이수\n인원(명)","미이수 \n기관 수\n(개소)","미이수\n인원(명)"]
["총괄"," "]
[1,"보건복지부","4호","국가공무원",{"$f":"SUM(H7,L7)","v":0},0,{"$f":"SUM(J7:J7)","v":0},null,{"$f":"SUM(J7:K7)","v":0}]
[2,{"$nulls":3},0,0,0,null,0]
[3,{"$nulls":3},0,0,0,null,0]
[4,{"$nulls":3},0,0,0,null,0]
[5,{"$nulls":3},0,0,0,null,0]
[6,{"$nulls":3},0,0,0,null,0]
[7,{"$nulls":3},0,0,0,null,0]
[8,{"$nulls":3},0,0,0,null,0]
[9,{"$nulls":3},0,0,0,null,0]
[10,{"$nulls":3},0,0,0,null,0]
[11,{"$nulls":3},0,0,0,null,0]
[12,{"$nulls":3},0,0,0,null,0]
[13,{"$nulls":3},0,0,0,null,0]
[14,{"$nulls":3},0,0,0,null,0]
[15,{"$nulls":3},0,0,0,null,0]
[16,{"$nulls":3},0,0,0,null,0]
[17,{"$nulls":3},0,0,0,null,0]
[null,"계",null,null,{"$f":"SUM(E7:E23)","v":0},{"$f":"SUM(F7:F23)","v":0},0,0,0,0,0]
[]
["(1) 이수 기관현황 "]
["(2) 미이수 기관현황 : 기관 내 종사자 모두가 교육을 미이수한 경우를 말함"]
["* 기관수와 인원은 12월 31일 기준으로 함"]
["* 교육대상자수는 휴직자 등 교육대상이 아닌 자를 제외함"]
["입력금지"]