Workbook

Sheet 표지
A2: 의안번호 | C2: 제 2025 - 호 | L2: 심 의 (의결) 사항
A3: 의 결 년 월 일 | C3: 2025. 11. 사회복지법인 희망
A9: 부 의 안 건 | C9: 2026년도 예산 세입.세출 예산(안) 심의.의결
A22: 사 회 복 지 법 인 희 망

Sheet 심의의결
A1: 2026년도 예산 세입.세출 예산(안) 심의․의결
A3: 1. 의결주문
A4: 사회복지법인 희망 2026년도 예산 세입. 세출 예산(안)을 심의·의결 한다.
A6: 2. 예산주요내용
A7: ○ 법인의 세입. 세출 예산은 사회복지법인 재무회계규칙을 준수하여
A8: 공정하고, 예산편성요령에 부합되게 편성하였음
A9: ○ 법인운영에 충실하고 각종 사업에 적합한 예산을 편성하였음
A10: ○ 2026년도 세입.세출 예산총액 : 세입.세출 각 8,371천원
A13: 3. 세입.세출 예산 총괄 (안)
A15: ○ 세 입 | T15: 단위 : 천원
A16: 구 분 | F16: 2025년 예산액 | K16: 2026년 예산액 | P16: 증 감
F17: (A) | K17: (B) | P17: (B-A) | T17: %
A18: 합 계 | F18: =SUM(F19:J22) -> 79601 | K18: =SUM(K19:O22) -> 8371 | P18: =K18-F18 -> -71230 | T18: =P18*100/F18 -> -89.4838
A19: 후원금수입 | F19: =총괄표!C15 -> 8500 | K19: =총괄표!D15 -> 7730 | P19: =K19-F19 -> -770 | T19: =P19*100/F19 -> -9.0588235
A20: 이 월 금 | F20: =총괄표!C16 -> 1100 | K20: =총괄표!D16 -> 640 | P20: =K20-F20 -> -460 | T20: =P20*100/F20 -> -41.818182
A21: 전 입 금 | F21: =총괄표!C17 -> 70000 | K21: =총괄표!D17 -> 0 | P21: =K21-F21 -> -70000 | T21: 0
A22: 기타/잡수입 | F22: =총괄표!C18 -> 1 | K22: =총괄표!D18 -> 1 | P22: =K22-F22 -> 0 | T22: 0
A24: ○ 세 출 | T24: 단위 : 원
A25: 구 분 | F25: 2025 예산액 | K25: 2026 예산액 | P25: 증 감
F26: (A) | K26: (B) | P26: (B-A) | T26: %
A27: 합 계 | F27: =F28+F31+F33+F35+F36 -> 79601 | K27: =K28+K31+K33+K35+K36 -> 8371 | P27: =K27-F27 -> -71230 | T27: =P27*100/F27 -> -89.4838
A28: ◈ 사무비 | F28: =총괄표!C25 -> 3370 | K28: =총괄표!D25 -> 3370 | P28: =K28-F28 -> 0 | T28: =P28*100/F28 -> 0
A29: 업무추진비 | F29: =세출결산서!E8 -> 0 | K29: =세출결산서!F8 -> 0 | P29: =K29-F29 -> 0 | T29: 0
A30: 운영비 | F30: =세출결산서!E11 -> 3370 | K30: =세출결산서!F11 -> 3370 | P30: =K30-F30 -> 0 | T30: =P30*100/F30 -> 0
A31: ◈ 재산조성비 | F31: =세출결산서!E20 -> 0 | K31: =세출결산서!F20 -> 0 | P31: =K31-F31 -> 0 | T31: 0
A32: 시설비 | F32: =세출결산서!E22 -> 0 | K32: =세출결산서!F22 -> 0 | P32: =K32-F32 -> 0 | T32: 0
A33: ◈ 사업비 | F33: =세출결산서!E23 -> 1000 | K33: =세출결산서!F23 -> 0 | P33: =K33-F33 -> -1000 | T33: =P33*100/F33 -> -100
A34: 일반사업비 | F34: =세출결산서!E25 -> 1000 | K34: =세출결산서!F25 -> 0 | P34: =K34-F34 -> -1000 | T34: =P34*100/F34 -> -100
A35: ◈ 전출금 | F35: =세출결산서!E26 -> 75000 | K35: =세출결산서!F26 -> 5000 | P35: =K35-F35 -> -70000 | T35: =P35*100/F35 -> -93.333333
A36: ◈ 예비비 및 기타 | F36: =세출결산서!E29 -> 231 | K36: =세출결산서!F29 -> 1 | P36: =K36-F36 -> -230 | T36: =P36*100/F36 -> -99.5671
A38: 4. 관련규정 : 사회복지법인 희망 정관 제4장 제24조의5
A40: 5. 2026년도 예산 세입.세출 예산(안) : 별첨

Sheet 예산총칙표지
A4: 2026년도 세입 . 세출 예산(안)
A12: 사회복지법인 희 망

Sheet 예산총칙
B3: 예 산 총 칙
C9: 제 1조 사회복지법인 희망 2026년도 세입.세출 예산은 다음과 같다.
C10: 제 2조 2026년도 세입.세출 예산총액은 각 8,371천원으로 한다.
C11: 제 3조 세입의 주요 재원 및 세출의 내용은 별첨 세입.세출 총괄표와 같다.
C12: 제 4조 그 밖의 예산의 원칙은 사회복지법인 재무회계규칙 시설회계예산 규정에 의한다.
C13: 제 5조 기타 필요한 사항

Sheet 총괄표
A1: 2026년도 예산 총괄표(희 망)
A3: 1 | B3: 세입 세출 예산 총괄표
F4: (단위:천원)
B5: 구 분 | C5: 2025 예산액 | D5: 2026 예산액 | E5: 증감 | F5: 비율(%)
B6: 세 입 | C6: =세입결산서!D6 -> 79601 | D6: =세입결산서!E6 -> 8371 | E6: =D6-C6 -> -71230 | F6: =E6/C6 -> -0.894838
B7: 세 출 | C7: =세출결산서!E6 -> 79601 | D7: =세출결산서!F6 -> 8371 | E7: =D7-C7 -> -71230 | F7: =E7/C7 -> -0.894838
B8: 잔 액 | C8: =C6-C7 -> 0 | D8: =D6-D7 -> 0
A10: 2 | B10: 세입 예산 총괄표
F11: (단위:천원)
B12: 관 별 | C12: 2025 예산액 | D12: 2026 예산액 | E12: 예산대비
E13: 증 | F13: 감
B14: 세입 합계 | C14: =SUM(C15:C18) -> 79601 | D14: =SUM(D15:D18) -> 8371 | F14: =C14-D14 -> 71230
B15: 후원금수입 | C15: =세입결산서!D7 -> 8500 | D15: =세입결산서!E7 -> 7730 | F15: =C15-D15 -> 770
B16: 이월금 | C16: =세입결산서!D11 -> 1100 | D16: =세입결산서!E11 -> 640 | F16: =C16-D16 -> 460
B17: 전입금 | C17: =세입결산서!D15 -> 70000 | D17: =세입결산서!E15 -> 0 | F17: 70000
B18: 잡수입 | C18: =세입결산서!D18 -> 1 | D18: =세입결산서!E18 -> 1
A20: 3 | B20: 세출 예산 총괄표
F21: (단위:천원)
B22: 관 별 | C22: 2025 예산액 | D22: 2026 예산액 | E22: 예산대비
E23: 증 | F23: 감
B24: 세출 합계 | C24: =SUM(C25:C29) -> 79601 | D24: =SUM(D25:D29) -> 8371 | F24: =C24-D24 -> 71230
B25: 사무비 | C25: =세출결산서!E7 -> 3370 | D25: =세출결산서!F7 -> 3370
B26: 재산조성비 | C26: =세출결산서!E20 -> 0 | D26: =세출결산서!F20 -> 0
B27: 사업비 | C27: =세출결산서!E23 -> 1000 | D27: =세출결산서!F23 -> 0 | F27: 1000
B28: 전출금 | C28: =세출결산서!E26 -> 75000 | D28: =세출결산서!F26 -> 5000 | F28: 70000
B29: 예비비 | C29: =세출결산서!E29 -> 231 | D29: =세출결산서!F29 -> 1 | F29: =C29-D29 -> 230

Sheet 세입결산서
A2: 세 입 명 세 서(희 망)
L3: (단위:천원)
A4: 과목 | D4: 2025년도 (A) | E4: 2026년도 (B) | F4: 증감(B)-(A) | H4: 재 원 | K4: 산 출 내 역
A5: 관 | B5: 항 | C5: 목 | F5: 금액 | G5: 비율(%) | H5: 보조금 | I5: 자부담금 | J5: 후원금 | L5: (단위:원)
A6: 세입 총계 | D6: =SUM(D7,D11,D15,D18) -> 79601 | E6: =SUM(E7,E11,E15,E18) -> 8371 | F6: =E6-D6 -> -71230 | G6: =F6/D6 -> -0.894838 | H6: =SUM(H7,H11,H15) -> 0 | I6: =SUM(I7,I11,I15) -> 0 | J6: =SUM(J7,J11,J15,J18) -> 8371
A7: 후원금수입 | D7: =SUM(D8) -> 8500 | E7: =SUM(E8) -> 7730 | F7: =E7-D7 -> -770 | G7: =F7/D7 -> -0.090588235 | H7: =H8 -> 0 | I7: =I8 -> 0 | J7: =J8 -> 7730
B8: 후원금수입 | D8: =SUM(D9:D10) -> 8500 | E8: =SUM(E9:E10) -> 7730 | F8: =E8-D8 -> -770 | G8: =F8/D8 -> -0.090588235 | H8: 0 | I8: 0 | J8: =SUM(J9:J10) -> 7730
C9: 지정후원금 | D9: 5000 | E9: 5000 | F9: =E9-D9 -> 0 | G9: 0 | H9: 0 | I9: 0 | J9: =E9 -> 5000 | K9: 지정후원금 | L9: =J9 -> 5000
C10: 비지정후원금 | D10: 3500 | E10: 2730 | F10: =E10-D10 -> -770 | G10: =F10/D10 -> -0.22 | H10: 0 | I10: 0 | J10: =E10 -> 2730 | K10: 비지정후원금 | L10: =J10 -> 2730
A11: 이월금 | D11: =SUM(D12) -> 1100 | E11: =SUM(E12) -> 640 | F11: =E11-D11 -> -460 | G11: =F11/D11 -> -0.41818182 | H11: =H12 -> 0 | I11: =I12 -> 0 | J11: =J12 -> 640
B12: 이월금 | D12: =SUM(D13:D14) -> 1100 | E12: =SUM(E13:E14) -> 640 | F12: =E12-D12 -> -460 | G12: =F12/D12 -> -0.41818182 | H12: =SUM(H13:H14) -> 0 | I12: =SUM(I13:I14) -> 0 | J12: =SUM(J13:J14) -> 640
C13: 전년도이월금 | D13: 0 | E13: 0 | F13: =E13-D13 -> 0 | G13: 0 | H13: 0 | I13: 0 | J13: 0
C14: 전년도이월금(후원금) | D14: 1100 | E14: 640 | F14: =E14-D14 -> -460 | G14: =F14/D14 -> -0.41818182 | H14: 0 | I14: 0 | J14: =E14 -> 640 | K14: 전년도 이월금(후원금) | L14: =J14 -> 640
A15: 전입금 | D15: =SUM(D16) -> 70000 | E15: =SUM(E16) -> 0 | F15: =E15-D15 -> -70000 | G15: =F15/D15 -> -1 | H15: 0 | I15: =I16 -> 0 | J15: =J16 -> 0
B16: 전입금 | D16: =SUM(D17:D17) -> 70000 | E16: =SUM(E17:E17) -> 0 | F16: =E16-D16 -> -70000 | G16: =F16/D16 -> -1 | H16: 0 | I16: =SUM(I17:I17) -> 0 | J16: =SUM(J17:J17) -> 0
C17: 법인 전입금 | D17: 70000 | E17: 0 | F17: =E17-D17 -> -70000 | G17: =F17/D17 -> -1 | H17: 0 | I17: 0 | J17: =E17 -> 0 | K17: 법인 전입금 | L17: 70000000
A18: 잡수입 | D18: =SUM(D19) -> 1 | E18: =SUM(E19) -> 1 | F18: =E18-D18 -> 0 | G18: 0 | H18: 0 | I18: =I19 -> 0 | J18: =J19 -> 1
B19: 잡수입 | D19: =SUM(D20:D20) -> 1 | E19: =SUM(E20:E20) -> 1 | F19: =E19-D19 -> 0 | G19: 0 | H19: 0 | I19: =SUM(I20:I20) -> 0 | J19: =SUM(J20:J20) -> 1
C20: 기타예금이자수입 | D20: 1 | E20: 1 | F20: =E20-D20 -> 0 | G20: 0 | H20: 0 | I20: 0 | J20: 1 | K20: 예금이자 | L20: 1000

Sheet 세출결산서
A2: 세 출 명 세 서(희 망)
M3: (단위:천원)
A4: 과목 | E4: 2025년도 (A) | F4: 2026년도 (B) | G4: 증감(B)-(A) | I4: 재 원 | L4: 산 출 내 역
A5: 관 | B5: 항 | C5: 목 | G5: 금액 | H5: 비율(%) | I5: 보조금 | J5: 자부담금 | K5: 후원금 | M5: (단위:원)
A6: 세출 총계 | E6: =SUM(E7,E20,E23,E26,E29) -> 79601 | F6: =SUM(F7,F20,F23,F26,F29) -> 8371 | G6: =F6-E6 -> -71230 | H6: =G6/E6 -> -0.894838 | I6: =SUM(I7,I20,I23,I29) -> 0 | J6: =SUM(J7,J20,J23,J29) -> 0 | K6: =K7+K23+K26+K29 -> 8371
A7: 사무비 | E7: =SUM(E8,E11) -> 3370 | F7: =SUM(F8,F11) -> 3370 | G7: =F7-E7 -> 0 | H7: =G7/E7 -> 0 | I7: =SUM(I8,I11) -> 0 | J7: =SUM(J8,J11) -> 0 | K7: =SUM(K8,K11) -> 3370
B8: 업무추진비 | E8: =SUM(E9:E10) -> 0 | F8: =SUM(F9:F10) -> 0 | G8: =F8-E8 -> 0 | I8: =SUM(I9) -> 0 | J8: =J9 -> 0 | K8: =SUM(K9:K10) -> 0
C9: 기관운영비 | E9: 0 | F9: 0 | G9: =F9-E9 -> 0 | I9: 0 | J9: 0 | K9: =F9 -> 0
C10: 회의비 | G10: =F10-E10 -> 0 | K10: =F10 -> 0
B11: 운영비 | E11: =SUM(E12:E18) -> 3370 | F11: =SUM(F12:F18) -> 3370 | G11: =F11-E11 -> 0 | H11: =G11/E11 -> 0 | I11: =SUM(I12:I18) -> 0 | J11: =SUM(J12:J18) -> 0 | K11: =SUM(K12:K18) -> 3370
C12: 여비 | G12: =F12-E12 -> 0 | I12: 0 | J12: 0 | K12: =F12 -> 0
C14: 수용비및 수수료 | E14: 1960 | F14: 1960 | G14: =F14-E14 -> 0 | H14: =G14/E14 -> 0 | I14: 0 | J14: 0 | K14: =F14 -> 1960
K15: 0 | L15: ■ 수용비 및 수수료 총액 1,960,000 - 각종 등기 및 수수료:880,000원*1회=880,000원 - 외부세무확인서 수수료:600,000원*1회=600,000원 - CMS후원금 수수료 : 38,000원*12=480,000원
C16: 제세공과금 | E16: 360 | F16: 360 | G16: =F16-E16 -> 0 | H16: =G16/E16 -> 0 | I16: 0 | J16: 0 | K16: =F16 -> 360
L17: ■ 제세공과금 총액 360,000원 - 각종 세금:175,000원*2회=350,000원 - 신원보장공제가입비 : 10,000원
C18: 기타운영비 | E18: 1050 | F18: 1050 | G18: =F18-E18 -> 0 | H18: =G18/E18 -> 0 | I18: 0 | J18: 0 | K18: =F18 -> 1050
L19: ■ 기타운영비 사업비 총액 1,050,000원 -이사회의참석수당:50,000원*7명*3회=1,050,000원
A20: 재산조성비 | E20: =SUM(E21) -> 0 | F20: =SUM(F21) -> 0 | G20: =F20-E20 -> 0 | H20: 0 | I20: =I21 -> 0 | J20: =J21 -> 0 | K20: =K21 -> 0
B21: 시설비 | E21: =SUM(E22:E22) -> 0 | F21: =SUM(F22:F22) -> 0 | G21: =F21-E21 -> 0 | H21: 0 | I21: =SUM(I22:I22) -> 0 | J21: =SUM(J22:J22) -> 0 | K21: =SUM(K22:K22) -> 0
C22: 자산취득비 | E22: 0 | F22: 0 | G22: =F22-E22 -> 0 | H22: 0 | I22: 0 | J22: 0 | K22: =F22 -> 0
A23: 사업비 | E23: =SUM(E24) -> 1000 | F23: =SUM(F24) -> 0 | G23: =F23-E23 -> -1000 | H23: =G23/E23 -> -1 | I23: =SUM(I24) -> 0 | J23: =SUM(J24) -> 0 | K23: =SUM(K24) -> 0
B24: 일반사업비 | E24: =SUM(E25:E25) -> 1000 | F24: =SUM(F25:F25) -> 0 | G24: =F24-E24 -> -1000 | H24: =G24/E24 -> -1 | I24: =SUM(I25:I25) -> 0 | J24: =SUM(J25:J25) -> 0 | K24: =SUM(K25:K25) -> 0
C25: 사업비 | E25: 1000 | G25: =F25-E25 -> -1000 | H25: =G25/E25 -> -1 | I25: 0 | J25: 0 | K25: =F25 -> 0
A26: 전출금 | E26: =SUM(E27) -> 75000 | F26: =SUM(F27) -> 5000 | G26: =F26-E26 -> -70000 | H26: =G26/E26 -> -0.93333333 | I26: =SUM(I27) -> 0 | J26: =SUM(J27) -> 0 | K26: =SUM(K27) -> 5000
B27: 전출금 | E27: =SUM(E28:E28) -> 75000 | F27: =SUM(F28:F28) -> 5000 | G27: =F27-E27 -> -70000 | H27: =G27/E27 -> -0.93333333 | I27: =SUM(I28:I28) -> 0 | J27: =SUM(J28:J28) -> 0 | K27: =SUM(K28:K28) -> 5000
C28: 시설전출금 (후원금) | E28: 75000 | F28: 5000 | G28: =F28-E28 -> -70000 | H28: =G28/E28 -> -0.93333333 | K28: =F28 -> 5000 | L28: ■ 시설전출금 총액 5,000,000원 - 여수노인요양원 전출금:5,000,000원
A29: 예비비 | E29: =SUM(E30) -> 231 | F29: =SUM(F30) -> 1 | G29: =F29-E29 -> -230 | H29: =G29/E29 -> -0.995671 | I29: =I30 -> 0 | J29: =J30 -> 0 | K29: =K30 -> 1
B30: 예비비 | E30: =SUM(E31:E31) -> 231 | F30: =SUM(F31:F31) -> 1 | G30: =F30-E30 -> -230 | H30: 0 | I30: =SUM(I31:I31) -> 0 | J30: =SUM(J31:J31) -> 0 | K30: =SUM(K31:K31) -> 1
C31: 예비비 | E31: 231 | F31: 1 | G31: =F31-E31 -> -230 | H31: =G31/E31 -> -0.995671 | I31: 0 | J31: 0 | K31: =F31 -> 1 | L31: ■ 예비비 총액 1,000원

Sheet 예산증감사유
A1: 2026년도 예산 증감사유
A4: □ 세입.세출예산 증감내역
A5: ○ 2025년 예산(총액) : 79,601천원
A6: ○ 2026년 예산(총액) : 8,371천원
A7: ○ (감 액) : 71,230천원
A9: □ 증 감 사 유
A11: <세입>
A12: ○ 후원금(비지정후원금)이 770천원(-22.00%) 감하였음.
A13: ○ 이월금(전년도이월금 후원금)이 460천원(-41.82%) 감하였음.
A14: ○ 전입금(법인전입금)이 70,000천원(100%) 감하였음.
A16: <세출>
A17: ○ 사업비(법인 송년회) 1,000천원(100%) 감하였음.
... A19: ○ 예비비 230천원 (99.57%) 감하였음.
